{"text_format":"3","workbook":"xlsx","n_sheets":3,"sheets":["报名表","报名统计表","格式"],"not_rendered":{"defined_names":3,"comments":1},"read":"whole","date_system":"1900"}

{"sheet":"报名表","index":0,"n_rows":35,"n_cols":17,"rows_kept":35,"merged":[[0,0,0,10],[2,1,2,3],[2,4,2,5],[2,6,2,8],[2,9,5,10],[3,1,3,2],[4,1,4,2],[4,4,4,5],[4,7,4,8],[5,1,5,3],[5,4,5,6],[5,7,5,8],[6,1,6,5],[6,6,6,7],[6,8,6,10],[7,0,10,0],[7,1,7,3],[7,5,7,6],[7,7,7,8],[8,5,8,6],[8,7,8,8],[9,5,9,6],[9,7,9,8],[10,5,10,6],[10,7,10,8],[11,1,11,2],[11,4,11,5],[11,6,11,7],[11,8,11,10],[12,0,16,0],[12,1,12,3],[12,4,12,6],[12,7,12,8],[12,9,12,10],[13,1,13,3],[13,4,13,6],[13,7,13,8],[13,9,13,10],[14,1,14,3],[14,4,14,6],[14,7,14,8],[14,9,14,10],[15,1,15,3],[15,4,15,6],[15,7,15,8],[15,9,15,10],[16,1,16,3],[16,4,16,6],[16,7,16,8],[16,9,16,10],[17,0,17,1],[17,2,17,10],[18,0,18,2],[18,3,18,7],[18,8,18,9],[19,1,19,10],[20,1,20,10],[21,1,21,3],[21,4,21,5],[21,6,21,10],[22,1,22,3],[22,4,22,5],[22,7,22,8],[22,9,22,10],[24,0,24,10],[25,1,25,3],[25,4,25,5],[25,6,25,8],[25,9,28,10],[26,1,26,2],[26,6,26,8],[27,1,27,3],[27,5,27,6],[28,1,28,3],[28,5,28,6],[29,0,29,1],[29,2,29,5],[29,7,29,8],[32,0,32,10],[33,0,33,10],[34,0,34,10]]}
["即墨区教育和体育局选聘2021届优秀高校毕业生报名表"]
[]
["应聘岗位","高中教师",null,null,"应聘学科",null,"语文",null,null,"请插入电子照片\n[近期免冠正面白底彩色证件照，显示头部和肩上部，不带帽子、墨镜等]"]
["姓名",null,null,"性别","男","出生年月","1998.12","民族","汉",{"$nulls":5},"报考岗位名称","应聘学科","性别"]
["政治面貌",null,null,"电子信箱",null,null,"生源地（省+市+区/县）",{"$nulls":7},"高中教师","语文","男"]
["身份证号",{"$nulls":3},"是否教育部直属大学2021届\n公费师范生",{"$nulls":9},"初中教师","数学","女"]
["户籍\n所在地",{"$nulls":5},"联系电话",{"$nulls":7},"小学教师","英语"]
["学习简历[填写全日制学历，从高中开始填写]","起止时间",null,null,"学历\n层次","学校及院系",null,"专业",null,"学位","是否\n师范类",{"$nulls":3},"职业学校（综合高中）教师（备案制）","政治"]
[null,null,"至",null,"高中",{"$nulls":5},"/",{"$nulls":3},"幼儿教师（备案制）","历史"]
[null,"例：2015.09","至","2019.07","本科","华中师范大学",null,"汉语言文学",null,"学士","是",{"$nulls":4},"地理"]
[null,null,"至",null,"研究生",{"$nulls":10},"物理"]
["英语\n水平",null,null,"普通话\n水平",null,null,"教师资格证书\n学段学科",null,"例：高中语文",{"$nulls":6},"化学"]
["获得表彰奖励情况[第1行填写奖学金情况，多次获取可在备注栏注明次数。其他奖项不超过3项]","奖励名称",null,null,"颁发单位",null,null,"获得时间",null,"备注",{"$nulls":5},"生物"]
[{"$nulls":15},"土木工程"]
[{"$nulls":15},"音乐"]
[{"$nulls":15},"体育"]
[{"$nulls":15},"美术"]
["专业学业成绩等其他需说明情况",{"$nulls":14},"信息技术"]
["大学期间曾担任职务及任职年限",null,null,"例：1.2017.8-2019.8 班长\n2.2017.8-2018.8 学院学生会主席",{"$nulls":4},"是否中共党员（含预备党员）",{"$nulls":6},"道德与法制"]
["应聘人员承诺书","    我已仔细阅读《青岛市即墨区教育和体育局选聘2021届优秀高校毕业生简章》，理解其内容，符合报考条件。我郑重承诺：\n    本人所提供的个人信息、证明资料、证件等真实、准确，并自觉遵守事业单位招聘的各项规定，诚实守信，严守纪律，认真履行报考人员的义务。对因提供有关信息证件不实或违反有关纪律规定所造成的后果，本人自愿承担相应的责任。\n\n                承诺人签名[手写]：               时间：2020年  月   日",{"$nulls":13},"科学"]
["资格审查意见","\n                                              2020年  月   日   ",{"$nulls":13},"心理"]
["通知书\n编号",{"$nulls":3},"面试时间",null,"2020年   月   日    时   分前报到",{"$nulls":8},"学前教育"]
["面试室",{"$nulls":3},"面试顺序号",null,null,"应聘人员\n面试签名"]
[]
["即墨区教育和体育局选聘2021届优秀高校毕业生面试通知书"]
["应聘岗位",{"$f":"B3","v":"高中教师"},null,null,{"$f":"E3","v":"应聘学科"},null,{"$f":"G3","v":"语文"},null,null,"电子照片同上表\n[近期免冠正面白底彩色证件照，显示头部和肩上部，不带帽子、墨镜等]"]
["姓名",{"$f":"B4","v":0},null,"性别",{"$f":"E4","v":"男"},"通知书\n编号"]
["身份证号",{"$f":"B6","v":0},null,null,"户籍",{"$f":"B7","v":0},null,"是否公费师范生",{"$f":"H6","v":0}]
["学校",{"$f":"IF(F11=\"\",F10,F11)","v":"华中师范大学"},null,null,"专业",{"$f":"IF(F11=\"\",H10,H11)","v":"汉语言文学"},null,"学历",{"$f":"IF(F11=\"\",E10,E11)","v":"本科"}]
["面试时间：",null,"2020年  月  日   时  分前报到",{"$nulls":3},"面试室",null,null,"面试顺序号"]
[]
[]
["    说明：1.本通知书请妥善保存，面试、体检、选岗等都需持本通知书和身份证。根据现场资格审查情况，结合招聘简章相关条件，择优选拔人员参加面试，给予通知书编号。    "]
["    2.请不要修改表格结构（不要增加或删除行、列），仅填写内容，同一单元格换行用ALT+回车。请将《报名表》（即本工作簿含报名统计表等）以excel形式发送至邮箱jmqjszp@163.com,邮件标题和《报名表》电子版文件名均为“报考岗位名称（必须与《计划表》中岗位名称一致）+姓名“，如 高中语文教师张三。"]
["    3.本次招聘期间，相关招聘政策信息均在即墨政务网教育体育局专页（http://www.jimo.gov.cn/n28356033/index.html）公告公示栏目公布，应聘人员应及时了解招聘网站发布的招聘信息，保持通讯畅通，因本人原因错过重要信息而影响考试聘用的，责任自负。"]

{"sheet":"报名统计表","index":1,"n_rows":6,"n_cols":28,"rows_kept":6,"merged":[[0,0,0,27],[1,0,2,0],[1,1,2,1],[1,2,2,2],[1,3,2,3],[1,4,2,4],[1,5,2,5],[1,6,2,6],[1,7,2,7],[1,8,2,8],[1,9,2,9],[1,10,2,10],[1,11,2,11],[1,12,1,17],[1,18,1,23],[1,24,2,24],[1,25,2,25],[1,26,2,26],[1,27,2,27]]}
["即墨区教育和体育局选聘2021届优秀高校毕业生报名统计表"]
["序号","应聘岗位",{"$f":"报名表!E3","v":"应聘学科"},"姓名","性别","出生时间","民族","身份证号码","生源地","户籍所在地","是否公费师范生","是否党员","本科学历情况",{"$nulls":5},"研究生学历情况",{"$nulls":5},"教师资格证书","手机号码","电子信箱","备注"]
[{"$nulls":12},"毕业时间","学历层次","学位","毕业学校","所学专业","是否师范","毕业时间","学历层次","学位","毕业学校","所学专业","是否师范"]
[1,{"$f":"报名表!B3","v":"高中教师"},{"$f":"报名表!G3","v":"语文"},{"$f":"报名表!B4","v":0},{"$f":"报名表!E4","v":"男"},{"$f":"报名表!G4","v":"1998.12"},{"$f":"报名表!I4","v":"汉"},{"$f":"报名表!B6","v":0},{"$f":"报名表!H5","v":0},{"$f":"报名表!B7","v":0},{"$f":"报名表!H6","v":0},{"$f":"报名表!K19","v":0},{"$f":"报名表!D10","v":"2019.07"},"本科",{"$f":"报名表!J10","v":"学士"},{"$f":"报名表!F10","v":"华中师范大学"},{"$f":"报名表!H10","v":"汉语言文学"},{"$f":"报名表!K10","v":"是"},{"$f":"报名表!D11","v":0},"研究生",{"$f":"报名表!J11","v":0},{"$f":"报名表!F11","v":0},{"$f":"报名表!H11","v":0},{"$f":"报名表!K11","v":0},{"$f":"报名表!I12","v":"例：高中语文"},{"$f":"报名表!I7","v":0},{"$f":"报名表!E5","v":0}]
[]
["本表内容由公式从报名表获取数据自动生成，请与报名表一并发送至报名邮箱jmqjszp@163.com"]

{"sheet":"格式","index":2,"n_rows":19,"n_cols":3,"rows_kept":19}
["报考岗位名称",{"$f":"报名表!E3","v":"应聘学科"},"性别"]
["高中教师","语文","男"]
["初中教师","数学","女"]
["小学教师","英语"]
["职业学校（综合高中）教师（备案制）","政治"]
["幼儿教师（备案制）","历史"]
[null,"地理"]
[null,"物理"]
[null,"化学"]
[null,"生物"]
[null,"土木工程"]
[null,"音乐"]
[null,"体育"]
[null,"美术"]
[null,"信息技术"]
[null,"道德与法制"]
[null,"科学"]
[null,"心理"]
[null,"学前教育"]