{"text_format":"3","workbook":"xlsx","n_sheets":2,"sheets":["报名登记表","报名统计表"],"not_rendered":{"comments":1},"read":"whole","date_system":"1900"}

{"sheet":"报名登记表","index":0,"n_rows":34,"n_cols":11,"rows_kept":34,"merged":[[0,0,0,10],[2,1,2,2],[2,6,2,8],[2,9,5,10],[3,1,3,2],[3,4,3,5],[3,7,3,8],[4,1,4,6],[5,1,5,2],[5,3,5,4],[5,5,5,6],[6,1,6,2],[6,4,6,5],[6,8,8,8],[7,1,7,7],[8,1,8,7],[9,0,10,0],[9,2,9,6],[9,7,9,8],[9,9,9,10],[10,2,10,5],[10,9,10,10],[11,0,12,0],[11,2,11,6],[11,7,11,8],[11,9,11,10],[12,2,12,5],[12,9,12,10],[13,1,13,3],[13,5,13,6],[13,7,13,8],[13,9,13,10],[14,0,18,0],[14,1,14,4],[14,7,14,10],[15,1,15,4],[15,7,15,10],[16,1,16,4],[16,7,16,10],[17,1,17,4],[17,7,17,10],[18,1,18,4],[18,7,18,10],[19,1,19,10],[20,0,24,0],[20,5,20,7],[21,5,21,7],[22,5,22,7],[23,5,23,7],[24,5,24,7],[25,1,25,10],[26,1,26,10],[28,0,28,10],[29,0,29,8],[29,9,32,10],[30,1,30,2],[30,6,30,8],[31,1,31,3],[31,5,31,8],[32,1,32,3],[32,5,32,6],[33,0,33,10]]}
["2021年青岛市即墨区公开选聘优秀教师报名登记表"]
[]
["姓  名",null,null,"性别",null,"报考岗位","如：初中语文教师",null,null,"请插入电子照片\n[近期免冠正面白底彩色证件照，显示头部和肩上部，不带帽子、墨镜等]"]
["出生时间","格式：19900101",null,"政治面貌","中共党员/群众",null,"籍贯"]
["现工作单位",{"$nulls":6},"是否为全额事业单位"]
["参加工作时间","格式：19900101",null,"现任教学段学科",null,"例：初中语文",null,"是否为全额事业在编人员"]
["现专业技术任职资格","一级教师",null,"现聘专业技术岗位等级","一级教师 9级",null,"普通话等级",null,"近三年度考核结果","2018"]
["身份证号",{"$nulls":8},"2019"]
["家庭详细住址",{"$nulls":8},"2020"]
["最高全日制学历信息","毕业院校",{"$nulls":5},"毕业时间",null,"格式：19900101"]
[null,"专  业",{"$nulls":4},"学位","例：学士","学历层次","本科"]
["最高学历教育情况","毕业院校",{"$nulls":5},"毕业时间",null,"格式：19900101"]
[null,"专  业",{"$nulls":4},"学位","例：硕士","学历层次","研究生"]
["教师资格\n证书学段学科","高中数学",null,null,"电子信箱",null,null,"手机（如变动请及时通知，否则发生后果自负）"]
["荣誉或奖项","名称（根据引进条件由高到低填写）",{"$nulls":3},"等次","获得年份","授予部门"]
[]
[]
[]
[null,"行数不够可只写主要称号或一行2个以上称号，但不要再插入行"]
["工作简历","说明：从高中开始填写，工作阶段中学毕业班教学和班主任工作要在工作简历中说明\n    2012.08-2013.07 XX市第一中学  高中学生 \n    2012.08-2017.07 XX     大学   大学本科学生\n    2012.08-2013.07 XX市第一中学 任教高三数学 担任班主任\n    2012.08-2017.07 XX市第一中学 任教高中数学（其中高三毕业班1年，任班主任2年）"]
["家庭\n主要\n成员\n基本\n情况","姓名","性别","关系","出生时间","工作单位",null,null,"职务","是否全额事业编","最高全日制学历"]
[null,"王菲","女","妻子","19890101",{"$nulls":3},"高中语文教师","是","本科"]
[null,null,"男","丈夫"]
[null,null,"男","儿子"]
[null,null,"女","女儿"]
["应聘人员承诺书","    我已仔细阅读《2021年青岛市即墨区公开选聘优秀教师公告》，理解其内容，符合报考条件。我郑重承诺：\n    本人所提供的个人信息、证明资料、证件等真实、准确，并自觉遵守事业单位招聘的各项规定，诚实守信，严守纪律，认真履行报考人员的义务。对因提供有关信息证件不实或违反有关纪律规定所造成的后果，本人自愿承担相应的责任。\n                承诺人签名[手写]：               时间：2021年  月   日"]
["资格审查意见","\n                                              2021年  月   日   "]
[]
["2021年青岛市即墨区公开选聘优秀教师现场报名确认通知书"]
["现场资格初审时携带，将给予编写报名序号，请务必妥善保存",{"$nulls":8},"电子照片：请将报名登记表的电子照片再插入该处\n"]
["姓名",{"$f":"B3","v":0},null,"性别",{"$f":"E3","v":0},"报名序号"]
["身份证号",{"$f":"B8","v":0},null,null,"报考\n岗位",{"$f":"G3","v":"如：初中语文教师"}]
["现工作单位",{"$f":"B5","v":0},null,null,"现任教学段学科",{"$f":"F6","v":"例：初中语文"},null,"是否全额事业在编",{"$f":"I6","v":0}]
["说明：请将本文件发送至报名邮箱：jmqjszp@163.com。邮件主题和《报名表》电子版文件名均为“报考岗位名称（必须与《计划表》中岗位名称一致） 姓名”，如 小学语文教师张三。\n    "]

{"sheet":"报名统计表","index":1,"n_rows":6,"n_cols":33,"rows_kept":6,"merged":[[0,0,0,32],[1,0,2,0],[1,1,2,1],[1,2,2,2],[1,3,2,3],[1,4,2,4],[1,5,2,5],[1,6,2,6],[1,7,2,7],[1,8,2,8],[1,9,2,9],[1,10,2,10],[1,11,2,11],[1,12,2,12],[1,13,2,13],[1,14,2,14],[1,15,2,15],[1,16,2,16],[1,17,1,21],[1,22,2,22],[1,23,2,23],[1,24,2,24],[1,25,2,25],[1,26,2,26],[1,27,2,27],[1,28,2,28],[1,29,2,29],[1,30,2,30],[1,31,2,31],[1,32,2,32],[5,0,5,10]]}
["2021年青岛市即墨区公开选聘优秀教师报名统计表"]
["序号","报考职位","姓名","性别","出生时间","政治面貌","籍贯","家庭住址","身份证号码","参加工作时间","现工作单位","现任教学段学科","是否全额事业在编","教师资格证学段学科","现专业技术任职资格","现聘专业技术岗位","近三年年度考核结果","最高全日制学历情况",{"$nulls":4},"教师资格证书情况","荣誉奖项1","荣誉奖项2","荣誉奖项3","荣誉奖项4","手机号码","电子信箱","配偶情况","配偶身份","现场资格审查情况","备注"]
[{"$nulls":17},"毕业时间","学历","学位","毕业学校","所学专业"]
[1,{"$f":"报名登记表!G3","v":"如：初中语文教师"},{"$f":"报名登记表!B3","v":0},{"$f":"报名登记表!E3","v":0},{"$f":"报名登记表!B4","v":"格式：19900101"},{"$f":"报名登记表!E4","v":"中共党员/群众"},{"$f":"报名登记表!H4","v":0},{"$f":"报名登记表!B9","v":0},{"$f":"报名登记表!B8","v":0},{"$f":"报名登记表!B6","v":"格式：19900101"},{"$f":"报名登记表!B5","v":0},{"$f":"报名登记表!F6","v":"例：初中语文"},{"$f":"报名登记表!I6","v":0},{"$f":"报名登记表!B14","v":"高中数学"},{"$f":"报名登记表!B7","v":"一级教师"},{"$f":"报名登记表!E7","v":"一级教师 9级"},{"$f":"报名登记表!K7&报名登记表!K8&报名登记表!K9","v":""},{"$f":"报名登记表!J12","v":"格式：19900101"},{"$f":"报名登记表!J13","v":"研究生"},{"$f":"报名登记表!H13","v":"例：硕士"},{"$f":"报名登记表!C12","v":0},{"$f":"报名登记表!C13","v":0},{"$f":"报名登记表!B14","v":"高中数学"},{"$f":"报名登记表!B16&报名登记表!F16&报名登记表!G16&报名登记表!H16","v":""},{"$f":"报名登记表!B17&报名登记表!F17&报名登记表!G17&报名登记表!H17","v":""},{"$f":"报名登记表!B18&报名登记表!F18&报名登记表!G18&报名登记表!H18","v":""},{"$f":"报名登记表!B19&报名登记表!F19&报名登记表!G19&报名登记表!H19","v":"行数不够可只写主要称号或一行2个以上称号，但不要再插入行"},{"$f":"报名登记表!J14","v":0},{"$f":"报名登记表!F14","v":0},{"$f":"报名登记表!B22&报名登记表!F22","v":"王菲"},{"$f":"报名登记表!J22","v":"是"}]
[]
["本表数据根据报名登记表自动生成，无需填写"]