{"text_format":"3","workbook":"xlsx","n_sheets":25,"sheets":["教师分布现状汇总表","B  全省统招300人","C  中央特岗50人","D  全省选调80人","D 全省选调选岗拟录人员","E  县内选调70人","E 县内选调拟录人员名单","F  2015定向师范生50人","G 2016定向师范生75人（实习）","H 2015公费师范生2人","I 2017公费师范实习生11人（实习） ","补充渠道统筹表","补充计划测算表","急需学科排序汇总表","教师补充结构统筹表","统招（小学）","附B 全省统招300人（分解）整合九年一贯制","统招（初中）","统招（高中）","附D 全省选调录用63人（分解）","附E 县内选调录用66人（分解）","附F  2015定向师范生50人（分解）","附G 2016定向师范实习生78人（分解）","附I 2017公费师范实习生11人（分解）","2.2《急需排序表》说明"],"not_rendered":{"external_links":1,"defined_names":27,"comments":7},"read":"whole","date_system":"1900"}

{"sheet":"教师分布现状汇总表","index":0,"n_rows":93,"n_cols":98,"rows_kept":93,"hidden":true,"merged":[[0,1,0,86],[2,1,3,1],[2,2,3,2],[2,3,3,3],[2,4,3,4],[2,5,3,5],[2,6,3,6],[2,7,3,7],[2,8,3,8],[2,9,3,9],[2,10,3,10],[2,11,3,11],[2,12,3,12],[2,13,3,13],[2,14,3,14],[2,15,3,15],[2,16,3,16],[2,17,3,17],[2,18,3,18],[2,19,3,19],[2,20,3,20],[2,21,3,21],[2,22,3,22],[2,23,3,23],[2,24,3,24],[2,25,3,25],[2,26,3,26],[2,27,3,27],[2,28,3,28],[2,30,2,56],[2,57,3,57],[2,58,2,59],[2,60,2,61],[2,62,2,63],[2,64,3,64],[2,65,3,65],[2,66,3,66],[2,67,3,67],[2,68,3,68],[2,69,3,69],[2,70,3,70],[2,71,3,71],[2,72,3,72],[2,73,3,73],[2,74,3,74],[2,75,3,75],[2,76,3,76],[2,77,3,77],[2,78,3,78],[2,79,3,79],[2,80,3,80],[2,81,3,81],[2,82,3,82],[2,83,3,83],[2,84,3,84],[2,86,3,86],[2,87,3,87],[2,88,3,88],[2,89,3,89],[2,90,3,90],[2,91,3,91],[2,92,3,92],[2,93,3,93],[2,94,3,94],[2,95,3,95],[2,96,3,96],[2,97,3,97],[91,1,91,2]]}
[null,"南昌县2020年中小学教师补充计划测算表"]
[{"$nulls":3},2,2,2,null,5,null,2,{"$nulls":8},2,null,null,2,null,null,2,2,{"$nulls":14},3,3,3,3,3,3,{"$nulls":18},7,7,null,2,4,{"$nulls":3},2,4,7,null,null,2,4,7,null,2,4,7,{"$nulls":6},8,8,8,8,8,8]
[null,"序号","学校名称","序号\n（合并九年一贯制学校）","学校名称\n（合并九年一贯制学校）","学段\n（合并九年一贯制学校）","学段","类别","2019年秋季学生数（统计表）","2019年秋季学生数\n（合并九年一贯制学校）","2019年秋季学生数","2019年秋季班级数（统计表）","2019年秋季班级数\n（统计表2）\n（扣除教学点班级数）","2019年秋季班级数","其中：教学点个数（统计表）","其中：教学点个数","其中：教学点班级数（统计表）","其中：教学点班级数","行政教辅人员\n（合并九年一贯制学校）","行政教辅人员\n（未计入村小计算机管理员）\n","教师需求数\n（已计入村小计算机管理员，不含行政教辅人员）","教师需求数\n（已计入村小计算机管理员，不含行政教辅人员）\n（合并九年一贯制学校）","教师需求数\n（据统计表数据计算）\n（函数结果）","教师需求数\n（据统计表数据计算）","教师需求数\n（函数）\n（合并九年一贯制学校）","教师需求数\n（合并九年一贯制学校）","教师需求数","在编教师数（编制册）","在编教师数（各校上报数据）",null,"待上下编教师数",{"$nulls":26},"编外幼儿园转岗任教小学教师人数","轮岗交流人数",null,"请假人数",null,"退休人数",null,"现有教师数","现有教师数\n（合并九年一贯制学校）","现有教师数","现有教师数\n（合并九年一贯制学校）","现有教师数\n（合并九年一贯制学校）","教师补充计划数1","教师缺额","教师缺额\n（编制册）","教师缺额\n（合并九年一贯制学校）","教师缺额\n（合并九年一贯制学校）","教师缺额\n（合并九年一贯制学校）","教师缺额（超额清零处理）","教师缺额（超额清零处理）","教师缺额\n（超额清零处理）\n（合并九年一贯制学校）","教师缺额\n（超额清零处理）\n（合并九年一贯制学校）","教师缺额\n（超额清零处理）\n（合并九年一贯制学校）","教师缺额（超额清零处理）\n（粘贴为数值）","教师缺额\n（超额清零处理）\n（粘贴为数值）\n（合并九年一贯制学校）","教师缺额\n（超额清零处理）\n（粘贴为数值）\n（合并九年一贯制学校）","教师缺额\n（超额清零处理）\n（粘贴为数值）\n（合并九年一贯制学校）","2020教师补充计划数2",null,"2019年调整后编制数2","聘用教师控制数","备注",null,"申报补充\n（小学）","申报补充\n（初中）","申报补充\n（高中）","申报补充\n总计\n（小学+初中）","备注","最终结果","考虑增加\n班级问题\n后的\n最终结果","增加实录"]
[{"$nulls":29},"2019全省选调91人（邓）","全省选调","2019全省统招312人（邓）","全省统招","2016特岗教师51人（邓）","2017特岗教师76人（邓）","2018特岗教师48人（邓）","2019特岗教师127人（邓）","特岗教师","其中：2016年特岗","2019定向师范毕业48人（邓）","2015招录定向师范毕业生50人（邓）","2016招录定向师范毕业生76人（邓）","2017招录定向师范毕业生77人（邓）","2018招录定向师范毕业生73人（邓）","2019招录定向师范毕业生79人（邓）","2015-2019年招录定向师范毕业生355人（邓）","定向师范毕业生","2019公费师范毕业生23人（邓）","免（公）费师范毕业生","2016三支一扶介绍信6人（邓）","2017三支一扶介绍信9人（邓）","2018三支一扶介绍信10人（邓）","2019三支一扶介绍信15人（邓）","三支一扶","其中：2017年三支一扶","2019县内选调（邓）","县内选调（出为负数，入为正数）",null,"交流接收人数","交流流出人数","长期病假且已执行病假工资人数","停职领办创办企业未到返岗期人数（2021年8月31日）","2020年1月1日至2020年12月31日退休人数","2021年1月1日至2020年8月31日退休人数"]
[1,1,"南新中小",1,"南新中小","小学","小学","乡镇中心小学",1722,1722,2040,78,{"$f":"L5-Q5","v":73},86,2,5,5,5,3,3,{"$f":"W5-T5","v":155.5},155.5,{"$f":"M5*2+Q5*1.5+O5+T5","v":158.5},{"v":158.5,"d":"159"},{"$f":"S5+V5","v":158.5},{"v":158.5,"d":"159"},180,192,192,3,{"$nulls":3},5,6,2,5,17,4,9,8,8,14,10,9,{"$f":"SUM(AO5:AS5)","v":49},9,null,null,1,2,1,1,2,2,-2,-2,0,1,-34,-1,-1,-6,-9,{"$f":"AB5+AD5+AF5+AH5+AI5+AJ5+AK5+AN5+AO5+AV5+AZ5+BA5+BD5+BF5+BG5+BH5+BI5+BJ5+BK5+BL5","v":180},180,{"$f":"AB5+AE5+AG5+AL5-AM5+AU5+AW5+BB5-BC5+BE5+BF5+BG5+BH5+BI5+BJ5+BK5+BL5","v":162},162,162,9,{"$f":"AA5-BO5","v":18},{"$f":"X5-BO5","v":{"v":-3.5,"d":"-4"}},{"$f":"Z5-BP5","v":{"v":-3.5,"d":"-4"}},{"$f":"Z5-BQ5","v":{"v":-3.5,"d":"-4"}},{"$f":"Z5-BN5","v":{"v":-21.5,"d":"-22"}},{"$f":"BS5","v":18},0,0,0,0,0,0,0,0,6,null,150,null,"3人外借",null,9]
[2,2,"蒋巷中小",2,"蒋巷中小","小学","小学","乡镇中心小学",5113,5113,5113,127,120,127,4,7,7,7,7,7,254.5,254.5,261.5,{"v":261.5,"d":"262"},261.5,{"v":261.5,"d":"262"},276,235,241,6,{"$nulls":3},7,null,5,16,29,7,10,8,11,15,11,12,57,10,null,null,1,null,2,5,7,null,-2,-1,0,2,-22,0,0,-12,-2,258,258,239,239,239,24,37,{"v":22.5,"d":"23"},{"v":22.5,"d":"23"},{"v":22.5,"d":"23"},{"v":3.5,"d":"4"},37,{"$f":"BT6","v":{"v":22.5,"d":"23"}},{"v":22.5,"d":"23"},{"v":22.5,"d":"23"},{"v":3.5,"d":"4"},23,23,23,4,20,13,252,{"$nulls":3},24]
[3,3,"塘南中小",3,"塘南中小","小学","小学","乡镇中心小学",1682,1682,1786,101,96,96,2,5,5,5,3,3,201.5,201.5,204.5,{"v":204.5,"d":"205"},204.5,{"v":204.5,"d":"205"},197,172,173,3,{"$nulls":3},8,12,2,9,31,8,10,8,10,13,9,9,49,10,{"$nulls":3},2,{"$nulls":3},2,-3,-3,null,2,-25,null,-1,-1,-3,193,193,172,172,172,23,25,{"v":32.5,"d":"33"},{"v":32.5,"d":"33"},{"v":32.5,"d":"33"},{"v":11.5,"d":"12"},25,{"v":32.5,"d":"33"},{"v":32.5,"d":"33"},{"v":32.5,"d":"33"},{"v":11.5,"d":"12"},33,33,33,12,6,null,162,{"$nulls":3},23]
[4,4,"泾口中小",4,"泾口中小","小学","小学","乡镇中心小学",1565,1565,1639,71,64,72,4,7,7,7,3,3,142.5,142.5,145.5,{"v":145.5,"d":"146"},145.5,{"v":145.5,"d":"146"},162,177,177,3,0,null,0,5,5,2,2,14,5,9,8,10,15,12,9,54,9,null,0,1,1,null,null,0,1,-3,-3,1,1,-31,0,0,-6,-2,171,171,154,154,154,6,8,{"v":-8.5,"d":"-9"},{"v":-8.5,"d":"-9"},{"v":-8.5,"d":"-9"},{"v":-25.5,"d":"-26"},8,0,0,0,0,0,0,0,0,6,null,139,{"$nulls":3},6]
[5,5,"塔城中小",5,"塔城中小","小学","小学","乡镇中心小学",832,832,1089,24,24,27,null,6,null,6,3,3,48,48,51,51,51,51,74,87,86,null,0,null,0,1,null,null,2,3,1,{"$nulls":7},0,null,0,{"$nulls":4},0,null,-2,-2,0,0,-10,-2,0,-7,-4,65,65,64,64,64,5,10,-13,-13,-13,-14,10,0,0,0,0,0,0,0,0,null,null,48]
[6,6,"武阳中小",6,"武阳中小","小学","小学","乡镇中心小学",2263,2263,2263,54,54,64,null,0,null,64,5,5,108,108,113,113,113,113,133,147,147,null,0,2,2,3,10,1,3,17,3,null,null,2,{"$nulls":3},{"$f":"SUM(AO10:AS10)","v":2},0,null,0,null,2,1,null,1,2,null,0,3,3,-27,0,-1,-5,-3,137,137,132,132,132,0,1,-19,-19,-19,-24,1,0,0,0,0,0,0,0,0,null,null,108,null,"交流流出中含借调1人",null,0]
[7,7,"向塘中小",7,"向塘中小","小学","小学","乡镇中心小学",3256,3256,3252,115,115,121,null,0,null,0,7,7,230,230,237,237,237,237,249,211,208,3,1,2,2,4,null,6,2,12,4,null,null,8,null,null,5,13,0,null,0,{"$nulls":3},2,2,null,-1,-1,8,3,-18,-2,-1,-5,-4,210,210,204,204,204,44,45,33,33,33,27,45,33,33,33,27,33,33,33,27,16,7,212,{"$nulls":3},44]
[8,8,"黄马中小",8,"黄马中小","小学","小学","乡镇中心小学",856,856,581,53,27,22,6,32,26,32,3,3,99,99,102,102,102,102,47,138,138,null,0,null,0,null,5,2,3,10,null,null,4,9,null,10,6,29,0,null,0,{"$nulls":4},0,null,-3,-3,0,2,-18,0,0,-4,-2,127,127,123,123,123,0,-76,-21,-21,-21,-25,null,0,0,0,0,0,0,0,0,null,null,99,{"$nulls":3},0]
[9,9,"三江中小",9,"三江中小","小学","小学","乡镇中心小学",1500,1500,1497,42,18,24,8,24,24,24,3,3,80,80,83,83,83,83,95,118,118,2,{"$nulls":4},2,4,5,11,null,null,3,6,10,8,8,35,{"$nulls":9},-1,null,null,1,-21,null,null,-7,-7,99,99,95,95,95,0,0,-12,-12,-12,-16,{"$f":"BS13","v":0},0,0,0,0,0,0,0,0,null,null,75,{"$nulls":3},0]
[10,10,"冈上中小",10,"冈上中小","小学","小学","乡镇中心小学",1658,1658,1620,63,63,63,null,0,null,63,3,3,126,126,129,129,129,129,131,133,133,null,0,null,null,1,5,3,7,16,1,{"$nulls":5},5,5,0,null,0,{"$nulls":4},1,null,-1,-1,0,1,-22,0,0,-3,-3,121,121,121,121,121,8,10,8,8,8,8,10,{"$f":"BT14","v":8},8,8,8,8,8,8,8,5,5,126,{"$nulls":3},8]
[11,11,"广福中小",11,"广福中小","小学","小学","乡镇中心小学",2154,2154,2235,92,92,107,null,0,null,18,5,5,184,184,189,189,189,189,214,157,157,5,5,null,0,null,14,3,16,33,null,null,3,3,10,10,8,34,0,null,0,null,2,null,4,4,2,-4,-4,3,3,-29,0,-1,-5,-4,165,165,160,160,160,22,54,29,29,29,24,54,29,29,29,24,29,29,29,24,13,13,175,null,"编外幼儿教师9人",null,22]
[12,12,"富山中小",12,"富山中小","小学","小学","乡镇中心小学",2000,2000,2031,84,84,85,{"$nulls":3},0,5,5,168,168,173,173,173,173,175,131,131,null,null,7,7,3,8,5,6,22,3,{"$nulls":16},-3,-3,2,1,-20,null,null,-8,-5,127,127,124,124,124,48,51,49,49,49,46,51,49,49,49,46,49,49,49,46,19,12,168,{"$nulls":3},48]
[13,13,"东新中小",13,"东新中小","小学","小学","乡镇中心小学",1769,1769,2200,45,45,45,{"$nulls":3},0,3,3,90,90,93,93,93,93,97,92,92,null,null,15,15,3,3,4,3,13,3,{"$nulls":18},0,4,-7,null,-2,-4,-1,110,110,107,107,107,20,-10,-14,-14,-14,-17,null,0,0,0,0,0,0,0,0,5,null,90,{"$nulls":3},20]
[14,14,"八一中小",14,"八一中小","小学","小学","乡镇中心小学",1410,1410,1407,64,54,53,2,10,10,10,3,3,125,125,128,128,128,128,126,135,135,null,0,null,0,2,null,2,5,8,2,{"$nulls":7},0,null,0,{"$nulls":4},0,null,null,0,1,2,-18,0,0,-4,-2,123,123,120,120,120,4,6,8,8,8,5,{"$f":"BS18","v":6},{"$f":"BT18","v":8},8,8,5,8,8,8,5,2,null,121,{"$nulls":3},4]
[15,15,"莲塘中小",15,"莲塘中小","小学","小学","县直学校",1848,1848,1846,40,40,45,{"$nulls":3},0,5,3,80,80,83,83,85,85,95,73,73,null,0,10,10,{"$nulls":4},0,0,{"$nulls":7},0,null,0,{"$nulls":4},0,null,null,0,0,6,-6,0,0,-1,-1,81,81,81,81,81,14,14,2,4,4,4,14,{"$f":"BT19","v":2},4,4,4,2,4,4,4,14,9,80,{"$nulls":3},14]
[16,16,"莲塘一小",16,"莲塘一小","小学","小学","县直学校",3961,3961,3962,69,69,69,{"$nulls":3},0,9,9,138,138,147,147,147,147,147,161,161,null,null,2,2,{"$nulls":25},14,-16,null,null,-1,-3,157,157,157,157,157,6,-10,-10,-10,-10,-10,null,0,0,0,0,0,0,0,0,null,6,null,36,null,null,6]
[17,17,"莲塘二小",17,"莲塘二小","小学","小学","县直学校",3446,3446,3497,54,54,57,null,0,null,0,9,9,108,108,117,117,117,117,123,116,116,null,0,4,4,{"$nulls":4},0,0,{"$nulls":7},0,null,0,{"$nulls":4},0,null,null,0,0,19,-2,0,-1,-2,-3,131,131,131,131,131,-8,-8,-14,-14,-14,-14,null,0,0,0,0,0,0,0,0,{"$nulls":3},32,null,null,0]
[18,18,"莲塘三小",18,"莲塘三小","小学","小学","县直学校",5250,5250,5358,82,82,82,{"$nulls":3},0,9,9,164,164,173,173,173,173,173,202,202,null,null,1,1,{"$nulls":24},1,26,-25,{"$nulls":4},205,205,205,205,205,-32,-32,-32,-32,-32,-32,null,0,0,0,0,0,0,0,0,0,null,null,87,null,null,0]
[19,19,"莲塘四小",19,"莲塘四小","小学","小学","县直学校",2851,2851,2809,44,44,57,null,0,null,0,7,7,88,88,95,95,95,95,121,71,71,null,0,2,3,{"$nulls":4},0,{"$nulls":8},0,null,0,{"$nulls":4},0,null,null,0,0,36,-10,0,-1,0,0,98,98,99,99,99,22,22,-4,-4,-4,-3,22,0,0,0,0,0,0,0,0,0,null,null,19,null,null,22]
[20,20,"特殊教育学校",20,"特殊教育学校","特殊教育","特殊教育","县直学校",null,76,76,null,0,7,null,1,null,0,3,3,{"$nulls":4},3,0,19,18,18,null,0,null,0,{"$nulls":4},0,{"$nulls":8},0,null,0,{"$nulls":4},0,null,null,0,0,4,-6,0,0,-1,-1,14,14,14,14,14,2,5,null,-14,-14,-14,5,null,0,0,0,null,0,0,0,8,1,{"$nulls":9},"+1",1,1]
[21,25,"莲塘实验学校（小学）",25,"莲塘实验学校","县直九年一贯制学校","小学","县直学校",402,554,438,7,7,10,null,0,null,0,3,3,{"$f":"W25-T25","v":14},22.4,{"$f":"M25*2+Q25*1.5+O25+T25","v":17},17,25.4,{"v":25.4,"d":"25"},23,19,19,null,0,null,0,{"$nulls":4},0,{"$nulls":8},0,null,0,{"$nulls":4},0,null,null,0,0,2,0,0,0,0,0,21,31,21,31,31,2,2,{"$f":"X25-BO25","v":-4},{"v":-5.6,"d":"-6"},{"v":-5.6,"d":"-6"},{"v":-5.6,"d":"-6"},2,0,0,0,0,0,0,0,0,0]
[23,26,"昌南实验学校（小学）",26,"昌南实验学校","县直九年一贯制学校","小学","县直学校",378,603,407,7,7,13,{"$nulls":3},0,3,3,14,30.8,17,17,33.8,{"v":33.8,"d":"34"},26,22,22,null,null,2,3,{"$nulls":5},0,{"$nulls":9},1,{"$nulls":9},2,-5,{"$nulls":4},21,37,23,38,38,3,3,-6,{"v":-4.2,"d":"-4"},{"v":-4.2,"d":"-4"},{"v":-3.2,"d":"-3"},3,0,0,0,0,0,0,0,0,{"$nulls":6},4,2]
[25,27,"黄马凤凰沟实验学校（小学）",27,"黄马凤凰沟实验学校","乡镇九年一贯制学校","小学","乡镇中心小学",219,311,221,6,6,6,null,0,null,0,3,3,12,20.4,15,15,23.4,{"v":23.4,"d":"23"},15,13,12,{"$nulls":7},1,1,{"$nulls":17},-1,-1,{"$nulls":7},13,25,13,25,25,null,2,2,{"v":-1.6,"d":"-2"},{"v":-1.6,"d":"-2"},{"v":-1.6,"d":"-2"},2,{"$f":"BT27","v":2},0,0,0,2,0,0,0,22,1,{"$nulls":5},2]
[27,28,"银三角实验学校（小学）",28,"银三角实验学校","县直九年一贯制学校","小学","县直学校",863,1240,947,18,18,21,null,0,null,0,5,3,36,61.2,39,39,66.2,{"v":66.2,"d":"66"},45,33,33,2,0,10,9,{"$nulls":4},0,0,{"$nulls":7},0,null,0,{"$nulls":4},0,null,null,0,0,2,-1,0,0,-3,0,43,68,40,82,66,5,5,-1,{"v":-15.8,"d":"-16"},{"v":0.200000000000003,"d":"0"},{"v":-1.8,"d":"-2"},null,0,0,{"v":0.200000000000003,"d":"0"},0,0,0,{"v":0.200000000000003,"d":"0"},0,3,5]
[29,29,"县中专",29,"县中专","县中专","县中专","县直学校",null,2348,2348,null,0,47,{"$nulls":3},0,7,7,{"$nulls":4},7,0,120,26,26,{"$nulls":29},18,-2,0,0,-1,-1,40,40,40,48,40,8,80,null,-48,-40,-40,{"$f":"BS29","v":80},null,0,0,0,null,0,0,0,15]
[30,30,"金沙路小学",30,"金沙路小学","小学","小学","县直学校",3606,3606,3587,58,58,78,{"$nulls":3},0,9,9,{"$f":"W30-T30","v":116},116,{"$f":"M30*2+Q30*1.5+O30+T30","v":125},125,125,125,165,126,126,4,null,6,6,{"$nulls":22},2,2,null,5,-6,null,null,-1,null,136,136,132,132,132,33,33,{"$f":"X30-BO30","v":-7},-7,-7,-11,33,0,0,0,0,0,0,0,0,15,12,null,31,null,null,33,{"$nulls":4},"+10",10,10]
[31,31,"振兴路小学",31,"振兴路小学","小学","小学","县直学校",3882,3882,3882,59,59,59,{"$nulls":3},"未交材料1的报告",9,9,118,118,127,127,127,127,127,109,104,4,null,2,2,{"$nulls":24},1,15,-5,0,0,-2,-3,121,121,117,117,117,21,10,10,10,10,6,10,10,10,10,6,10,10,10,6,3,null,null,33,null,null,21,{"$nulls":5},6,0]
[32,32,"墨山街小学",32,"墨山街小学","小学","小学","县直学校",719,719,736,17,17,17,null,0,null,0,3,3,34,34,37,37,37,37,37,35,35,2,0,3,4,{"$nulls":4},0,0,{"$nulls":7},0,null,0,{"$nulls":4},0,null,1,1,0,4,-7,0,0,-2,-1,35,35,34,34,34,3,3,3,3,3,2,3,3,3,3,2,3,3,3,2,3,{"$nulls":5},3,{"$nulls":5},2,0]
[33,33,"南昌县斗柏路小学",33,"南昌县斗柏路小学","小学","小学","县直学校",2729,2729,2731,48,48,54,null,2,null,2,7,7,96,96,103,103,103,103,115,63,63,null,0,1,1,{"$nulls":4},0,0,{"$nulls":7},0,null,0,{"$nulls":4},0,null,null,0,0,72,-10,0,0,-1,0,125,125,125,125,125,4,-10,-22,-22,-22,-22,null,0,0,0,0,0,0,0,0,{"$nulls":3},18,null,null,4,{"$nulls":4},"+1",1,1]
[34,34,"南新中学",34,"南新中学","初中","初中","农村初级中学",938,938,978,18,18,18,null,0,null,0,3,3,50.4,50.4,{"$f":"M34*2.8+T34","v":53.4},{"v":53.4,"d":"53"},53.4,{"v":53.4,"d":"53"},54,84,82,null,0,null,0,{"$nulls":3},2,2,0,{"$nulls":7},0,null,0,null,null,1,2,3,null,null,0,0,0,-2,0,0,-2,0,85,85,85,93,85,1,-31,{"v":-31.6,"d":"-32"},{"v":-39.6,"d":"-40"},{"v":-31.6,"d":"-32"},{"v":-31.6,"d":"-32"},null,0,0,0,0,0,0,0,0,12,{"$nulls":3},"我校无音乐教师。",null,null,1,null,null,"我校无音乐教师，因结构比例原因，申请补充1名初中音乐教师","+1",1,1]
[35,35,"蒋巷二中",35,"蒋巷二中","初中","初中","农村初级中学",2588,2588,2585,42,42,50,{"$nulls":3},0,7,7,117.6,117.6,124.6,{"v":124.6,"d":"125"},124.6,{"v":124.6,"d":"125"},140,127,127,3,3,{"$nulls":5},7,7,0,{"$nulls":10},1,{"$nulls":5},-1,null,null,1,-7,-2,null,-2,null,126,126,127,127,127,13,13,{"v":-2.40000000000001,"d":"-2"},{"v":-2.40000000000001,"d":"-2"},{"v":-2.40000000000001,"d":"-2"},{"v":-1.40000000000001,"d":"-1"},{"$f":"BS35","v":13},0,0,0,0,0,0,0,0,4,5,null,31,null,null,9,4]
[36,36,"塘南中学",36,"塘南中学","初中","初中","农村初级中学",702,702,704,12,12,15,null,0,null,0,3,3,33.6,33.6,36.6,{"v":36.6,"d":"37"},36.6,{"v":36.6,"d":"37"},45,55,56,null,0,null,0,{"$nulls":4},0,{"$nulls":8},0,null,0,null,null,2,null,2,null,null,-1,0,1,-5,0,0,0,0,53,53,52,52,52,3,-7,{"v":-15.4,"d":"-15"},{"v":-15.4,"d":"-15"},{"v":-15.4,"d":"-15"},{"v":-16.4,"d":"-16"},null,0,0,0,0,0,0,0,0,"28",null,null,5,"学校教师结构性缺员",null,null,3,null,null,"我校因教师结构性缺员，严重缺少初中数学、初中英语、初中体育等专业教师，导致很难按需求开展正常班级授课","+3",2,2]
[37,37,"新联学校（小学）",37,"新联学校","乡镇九年一贯制学校","小学","乡镇中心小学",344,651,281,20,20,10,null,8,null,18,3,3,40,65.2,{"$f":"M37*2+Q37*1.5+O37+T37","v":43},43,68.2,{"v":68.2,"d":"68"},36,39,39,null,0,null,0,null,6,1,8,6,{"$nulls":5},3,5,{"$f":"SUM(AO37:AS37)","v":8},0,null,0,{"$nulls":4},0,null,null,0,0,0,-4,0,0,-2,0,48,72,39,57,57,9,-3,4,{"v":11.2,"d":"11"},{"v":11.2,"d":"11"},{"v":-3.8,"d":"-4"},null,{"$f":"BT37","v":4},{"v":11.2,"d":"11"},{"v":11.2,"d":"11"},0,4,11,11,0,8,{"$nulls":6},6]
[39,38,"泾口中学",38,"泾口中学","初中","初中","农村初级中学",551,1064,592,12,12,12,{"$nulls":3},0,5,3,33.6,33.6,{"$f":"M38*2.8+T38","v":36.6},{"v":36.6,"d":"37"},38.6,{"v":38.6,"d":"39"},37,83,83,{"$nulls":22},1,null,1,{"$nulls":4},1,-6,null,null,-1,null,78,78,78,78,78,-41,-41,{"v":-41.4,"d":"-41"},{"v":-39.4,"d":"-39"},{"v":-39.4,"d":"-39"},{"v":-39.4,"d":"-39"},null,0,0,0,0,0,0,0,0,19,{"$nulls":6},5]
[40,39,"幽兰学校（小学）",39,"幽兰学校","乡镇九年一贯制学校","小学","乡镇中心小学",513,868,514,20,20,20,{"$nulls":3},0,3,3,40,62.4,43,43,65.4,{"v":65.4,"d":"65"},43,107,97,{"$nulls":4},9,{"$nulls":3},4,4,5,4,9,{"$nulls":3},13,5,{"$nulls":8},-1,-1,null,2,-16,null,null,-5,-1,104,148,91,135,135,-43,-48,-48,{"v":-69.6,"d":"-70"},{"v":-69.6,"d":"-70"},{"v":-82.6,"d":"-83"},null,0,0,0,0,0,0,0,0,19,{"$nulls":6},0]
[42,40,"渡头学校（小学）",40,"渡头学校","乡镇九年一贯制学校","小学","乡镇中心小学",603,886,595,23,17,17,5,0,6,0,3,3,48,67.6,51,51,70.6,{"v":70.6,"d":"71"},38,75,75,null,0,null,0,{"$nulls":4},5,5,5,4,{"$nulls":4},4,1,null,0,{"$nulls":4},0,null,-3,-3,0,0,-21,0,0,0,0,60,105,52,101,101,-11,-14,-1,{"v":-30.4,"d":"-30"},{"v":-30.4,"d":"-30"},{"v":-34.4,"d":"-34"},null,0,0,0,0,0,0,0,0,24,{"$nulls":6},0]
[44,41,"塔城中学",41,"塔城中学","初中","初中","农村初级中学",350,350,341,9,9,9,null,0,null,0,3,3,25.2,25.2,28.2,{"v":28.2,"d":"28"},28.2,{"v":28.2,"d":"28"},{"$f":"ROUNDUP(N41*2.8+3,0)","v":29},50,50,{"$nulls":9},0,{"$nulls":10},1,{"$nulls":5},-1,-1,null,null,-10,null,-2,-1,null,36,36,36,36,36,{"$f":"AA41-(AB41+AE41+AG41+AL41+AU41+AW41+BB41+BE41+BF41+BG41-BH41-BI41-BJ41-BK41-BL41)","v":-33},-7,{"v":-7.8,"d":"-8"},{"v":-7.8,"d":"-8"},{"v":-7.8,"d":"-8"},{"v":-7.8,"d":"-8"},null,0,0,0,0,0,0,0,0,52,{"$nulls":6},1,null,null,"因农村中学教师年龄结构偏大，学校数学教师结构性缺少。因此2020年申请补充初中数学教师1人。","+1",1,1]
[45,42,"武阳中学",42,"武阳中学","初中","初中","农村初级中学",1489,1489,1492,28,28,29,{"$nulls":3},0,5,5,78.4,78.4,83.4,{"v":83.4,"d":"83"},83.4,{"v":83.4,"d":"83"},89,76,76,1,null,5,6,{"$nulls":18},1,{"$nulls":3},-1,-1,null,2,-4,null,null,-1,-1,78,78,77,77,77,12,12,{"v":6.40000000000001,"d":"6"},{"v":6.40000000000001,"d":"6"},{"v":6.40000000000001,"d":"6"},{"v":5.40000000000001,"d":"5"},{"$f":"BS42","v":12},{"$f":"BT42","v":{"v":6.40000000000001,"d":"6"}},{"v":6.40000000000001,"d":"6"},{"v":6.40000000000001,"d":"6"},{"v":5.40000000000001,"d":"5"},6,6,6,6,2,5,null,5,{"$nulls":3},12]
[46,43,"向塘二中",43,"向塘二中","初中","初中","农村初级中学",1324,1324,1326,26,26,27,null,0,null,0,5,5,72.8,72.8,77.8,{"v":77.8,"d":"78"},77.8,{"v":77.8,"d":"78"},76,131,130,null,0,null,0,{"$nulls":4},0,0,{"$nulls":7},0,null,0,{"$nulls":4},0,null,null,0,0,0,-7,0,-1,-6,-3,114,114,114,114,114,null,-38,{"v":-36.2,"d":"-36"},{"v":-36.2,"d":"-36"},{"v":-36.2,"d":"-36"},{"v":-36.2,"d":"-36"},null,0,0,0,0,0,0,0,0,1,{"$nulls":6},0]
[47,44,"向塘实验学校（小学）",44,"向塘实验学校","乡镇九年一贯制学校","小学","乡镇中心小学",2243,3595,2608,34,34,42,null,0,null,0,7,5,68,126.8,{"$f":"M44*2+Q44*1.5+O44+T44","v":73},73,133.8,{"v":133.8,"d":"134"},90,98,98,null,0,6,4,null,null,5,2,9,{"$nulls":8},0,null,0,{"$nulls":4},0,null,null,0,0,3,-2,0,0,0,-3,109,192,109,190,190,8,-19,-36,{"v":-56.2,"d":"-56"},{"v":-56.2,"d":"-56"},{"v":-58.2,"d":"-58"},null,0,0,0,0,0,0,0,0,13,2,null,33,null,null,8,12]
[49,45,"向塘向阳学校(小学）",45,"向塘向阳学校","乡镇九年一贯制学校","小学","乡镇中心小学",204,379,205,14,4,15,3,3,10,11,3,3,26,42.8,{"$f":"M45*2+Q45*1.5+O45+T45","v":29},29,45.8,{"v":45.8,"d":"46"},29,32,32,null,0,null,0,null,null,1,1,2,{"$nulls":6},3,{"$f":"SUM(AO45:AS45)","v":3},0,null,0,{"$nulls":4},0,null,null,0,0,0,-5,0,0,0,0,29,51,29,64,52,0,0,0,{"v":-18.2,"d":"-18"},{"v":-6.2,"d":"-6"},{"v":-5.2,"d":"-5"},null,0,0,0,0,0,0,0,0,6,{"$nulls":6},0]
[51,46,"黄马中学",46,"黄马中学","初中","初中","农村初级中学",494,494,509,11,11,10,null,1,null,10,3,3,30.8,30.8,{"$f":"M46*2.8+T46","v":33.8},{"v":33.8,"d":"34"},33.8,{"v":33.8,"d":"34"},31,52,52,{"$nulls":7},1,1,{"$nulls":17},-1,-1,null,1,-1,null,null,-1,-1,50,50,50,50,50,1,-19,{"v":-16.2,"d":"-16"},{"v":-16.2,"d":"-16"},{"v":-16.2,"d":"-16"},{"v":-16.2,"d":"-16"},null,0,0,0,0,0,0,0,0,0,{"$nulls":6},1]
[52,47,"三江中学",47,"三江中学","初中","初中","农村初级中学",839,839,835,15,15,18,null,1,null,0,3,3,42,42,45,45,45,45,56,68,62,null,3,{"$nulls":5},1,null,0,{"$nulls":20},-3,-2,-1,-2,-2,59,59,61,61,61,5,-5,-16,-16,-16,-14,null,0,0,0,0,0,0,0,0,0,{"$nulls":6},5]
[53,48,"广福一中",48,"广福一中","初中","初中","农村初级中学",559,559,608,12,12,12,null,1,null,0,3,3,33.6,33.6,36.6,{"v":36.6,"d":"37"},36.6,{"v":36.6,"d":"37"},37,48,49,1,0,1,1,{"$nulls":3},1,1,{"$nulls":8},0,null,0,null,null,1,1,2,null,null,0,0,1,-10,0,0,0,0,44,44,43,43,43,6,-6,{"v":-6.4,"d":"-6"},{"v":-6.4,"d":"-6"},{"v":-6.4,"d":"-6"},{"v":-7.4,"d":"-7"},null,0,0,0,0,0,0,0,0,0,{"$nulls":6},6]
[54,49,"广福二中",49,"广福二中","初中","初中","农村初级中学",1041,1041,1037,17,17,17,null,0,null,0,5,5,47.6,47.6,52.6,{"v":52.6,"d":"53"},52.6,{"v":52.6,"d":"53"},53,53,53,2,2,4,4,{"$nulls":3},7,7,0,{"$nulls":7},0,null,0,{"$nulls":4},0,null,-6,-6,0,1,-7,0,0,0,-1,53,53,53,69,53,5,0,{"v":-0.399999999999999,"d":"-0"},{"v":-16.4,"d":"-16"},{"v":-0.399999999999999,"d":"-0"},{"v":-0.399999999999999,"d":"-0"},null,0,0,0,0,0,0,0,0,10,{"$nulls":6},5,null,null,"因结构性缺编，特申报2020年补充教师5人。具体学科分别为:初中语文2人，初中物理2人，初中地理1人。","+5",3,3]
[55,50,"冈上中学",50,"冈上中学","初中","初中","农村初级中学",533,533,547,11,11,12,{"$nulls":3},0,3,3,30.8,30.8,33.8,{"v":33.8,"d":"34"},33.8,{"v":33.8,"d":"34"},37,58,57,null,0,null,0,{"$nulls":4},0,0,{"$nulls":7},0,null,0,{"$nulls":4},0,null,null,0,0,0,-5,0,0,-1,0,52,52,52,52,52,2,-15,{"v":-18.2,"d":"-18"},{"v":-18.2,"d":"-18"},{"v":-18.2,"d":"-18"},{"v":-18.2,"d":"-18"},null,0,0,0,0,0,0,0,0,{"$nulls":4},"缺少英语教师2名",null,null,2]
[56,51,"富山中学",51,"富山中学","初中","初中","农村初级中学",1451,1451,1453,23,23,28,null,0,null,0,5,5,64.4,64.4,69.4,{"v":69.4,"d":"69"},69.4,{"v":69.4,"d":"69"},78,97,97,{"$nulls":3},1,{"$nulls":5},0,{"$nulls":19},1,-14,0,-1,0,-2,81,81,82,82,82,-4,-4,{"v":-12.6,"d":"-13"},{"v":-12.6,"d":"-13"},{"v":-12.6,"d":"-13"},{"v":-11.6,"d":"-12"},null,0,0,0,0,0,0,0,0,12,{"$nulls":6},2]
[57,52,"东新中学",52,"东新中学","初中","初中","农村初级中学",1134,1134,1153,21,21,24,null,1,null,0,5,5,58.8,58.8,63.8,{"v":63.8,"d":"64"},63.8,{"v":63.8,"d":"64"},72,66,66,null,0,null,0,{"$nulls":4},0,{"$nulls":8},0,null,0,{"$nulls":4},0,null,null,0,0,3,-3,0,0,-1,0,65,65,65,73,65,7,7,{"v":-1.2,"d":"-1"},{"v":-9.2,"d":"-9"},{"v":-1.2,"d":"-1"},{"v":-1.2,"d":"-1"},null,0,0,0,0,0,0,0,0,0,{"$nulls":6},7]
[58,53,"八一中学",53,"八一中学","初中","初中","农村初级中学",668,668,662,14,14,14,null,0,null,0,3,3,39.2,39.2,42.2,{"v":42.2,"d":"42"},42.2,{"v":42.2,"d":"42"},42,97,98,null,0,null,0,{"$nulls":4},0,0,{"$nulls":7},0,null,0,{"$nulls":4},0,{"$nulls":3},0,0,-11,0,-1,-8,-5,72,72,72,72,72,0,-30,{"v":-29.8,"d":"-30"},{"v":-29.8,"d":"-30"},{"v":-29.8,"d":"-30"},{"v":-29.8,"d":"-30"},null,0,0,0,0,0,0,0,0,1,{"$nulls":3},"超编",null,null,0]
[59,54,"莲塘一中",54,"莲塘一中","高中","高中","县直学校",4956,4956,5400,86,86,101,{"$nulls":3},0,9,9,396.48,396.48,{"$f":"I54/12.5+T54","v":405.48},{"v":405.48,"d":"405"},405.48,{"v":405.48,"d":"405"},404,393,387,{"$nulls":9},0,{"$nulls":8},5,5,{"$nulls":9},2,-3,null,null,-1,-5,391,391,391,391,391,17,13,{"v":14.48,"d":"14"},{"v":14.48,"d":"14"},{"v":14.48,"d":"14"},{"v":14.48,"d":"14"},{"$f":"BS54","v":13},{"$f":"BT54","v":{"v":14.48,"d":"14"}},{"v":14.48,"d":"14"},{"v":14.48,"d":"14"},{"v":14.48,"d":"14"},14,14,14,14,2,17,null,{"$f":"'[1]11'!M67-'[1]11'!W67","v":{"v":13.48,"d":"13"}},{"$nulls":4},17]
[60,55,"莲塘二中",55,"莲塘二中","高中","高中","县直学校",3367,3367,4500,63,63,71,{"$nulls":3},0,9,9,269.36,269.36,278.36,{"v":278.36,"d":"278"},278.36,{"v":278.36,"d":"278"},284,230,230,{"$nulls":18},9,9,{"$nulls":10},-4,null,-1,-1,-1,232,232,232,232,232,14,52,{"v":46.36,"d":"46"},{"v":46.36,"d":"46"},{"v":46.36,"d":"46"},{"v":46.36,"d":"46"},52,{"v":46.36,"d":"46"},{"v":46.36,"d":"46"},{"v":46.36,"d":"46"},{"v":46.36,"d":"46"},46,46,46,46,0,7,null,21,{"$nulls":4},14]
[61,56,"莲塘三中",56,"莲塘三中","高中","高中","县直学校",3309,3309,3511,52,52,61,{"$nulls":3},0,9,9,264.72,264.72,273.72,{"v":273.72,"d":"274"},273.72,{"v":273.72,"d":"274"},246,241,241,{"$nulls":9},0,{"$nulls":8},5,5,{"$nulls":7},1,null,1,{"$nulls":3},-2,-4,241,241,242,242,242,47,4,{"v":31.72,"d":"32"},{"v":31.72,"d":"32"},{"v":31.72,"d":"32"},{"v":32.72,"d":"33"},4,{"v":31.72,"d":"32"},{"v":31.72,"d":"32"},{"v":31.72,"d":"32"},{"v":32.72,"d":"33"},32,32,32,33,3,6,{"$nulls":6},47]
[62,57,"莲塘四中",57,"莲塘四中","初中","初中","县直学校",5069,5069,5085,76,76,85,{"$nulls":3},0,9,9,212.8,212.8,{"$f":"M57*2.8+T57","v":221.8},{"v":221.8,"d":"222"},221.8,{"v":221.8,"d":"222"},247,151,151,null,null,18,18,{"$nulls":22},1,1,null,30,-3,null,null,-2,-2,193,193,193,193,193,55,55,{"v":28.8,"d":"29"},{"v":28.8,"d":"29"},{"v":28.8,"d":"29"},{"v":28.8,"d":"29"},55,{"v":28.8,"d":"29"},{"v":28.8,"d":"29"},{"v":28.8,"d":"29"},{"v":28.8,"d":"29"},29,29,29,29,2,19,null,76,"补充计划数需+1（1人被判刑待办理下编手续）",null,null,55,null,null,"补充计划数需+1（1人被判刑待办理下编手续）","+1",30,1]
[63,58,"莲塘五中",58,"莲塘五中","初中","初中","县直学校",2606,2606,2611,42,42,42,{"$nulls":3},0,7,7,117.6,117.6,124.6,{"v":124.6,"d":"125"},124.6,{"v":124.6,"d":"125"},125,133,133,null,null,3,3,{"$nulls":25},7,-5,null,null,-3,null,135,135,135,135,135,12,{"$f":"AA58-BO58","v":-10},{"v":-10.4,"d":"-10"},{"v":-10.4,"d":"-10"},{"v":-10.4,"d":"-10"},{"v":-10.4,"d":"-10"},null,0,0,0,0,0,0,0,0,0,null,null,30,{"$nulls":3},12]
[64,59,"莲塘六中",59,"莲塘六中","初中","初中","县直学校",2770,2770,2904,44,44,41,{"$nulls":3},0,7,7,123.2,123.2,130.2,{"v":130.2,"d":"130"},130.2,{"v":130.2,"d":"130"},122,136,136,null,5,5,{"$nulls":26},9,-1,null,null,-3,-3,143,143,143,143,143,4,-21,{"v":-12.8,"d":"-13"},{"v":-12.8,"d":"-13"},{"v":-12.8,"d":"-13"},{"v":-12.8,"d":"-13"},null,0,0,0,0,0,0,0,0,7,null,null,27,{"$nulls":3},4]
[65,60,"莲塘七中",60,"莲塘七中","初中","初中","县直学校",1877,1877,1878,30,30,30,null,0,null,0,5,5,84,84,89,89,89,89,89,109,109,null,0,3,3,{"$nulls":4},0,{"$nulls":8},0,null,0,{"$nulls":4},0,{"$nulls":4},1,-8,0,0,-2,-2,101,101,101,101,101,7,-12,-12,-12,-12,-12,null,0,0,0,0,0,0,0,0,0,{"$nulls":6},7]
[66,61,"银河学校（小学）",61,"银河学校","县直九年一贯制学校","小学","县直学校",2980,4340,2983,48,48,48,null,1,null,0,9,7,96,163.2,{"$f":"M61*2+Q61*1.5+O61+T61","v":103},103,172.2,{"v":172.2,"d":"172"},101,92,92,2,3,15,15,{"$nulls":22},1,1,null,12,-19,{"$nulls":4},103,191,104,192,192,0,-3,-1,{"v":-19.8,"d":"-20"},{"v":-19.8,"d":"-20"},{"v":-18.8,"d":"-19"},null,0,0,0,0,0,0,0,0,1,null,null,39,null,null,10,2,null,null,"虽现有教师数大于需求数，但因学科人数不平衡，还需申报2020年补充教师12人。","+12",8,8]
[68,62,"洪州学校(小学含莲六小）",62,"洪州学校","县直九年一贯制学校","小学","县直学校",3549,5281,3545,57,57,57,null,4,null,4,9,9,114,192.4,123,123,201.4,{"v":201.4,"d":"201"},114,69,69,null,0,5,5,{"$nulls":4},0,{"$nulls":8},0,null,0,{"$nulls":4},0,null,null,0,0,49,-2,0,-1,0,0,120,228,120,228,228,56,-6,3,{"v":-26.6,"d":"-27"},{"v":-26.6,"d":"-27"},{"v":-26.6,"d":"-27"},null,{"$f":"BT62","v":3},0,0,0,3,0,0,0,0,13,null,76,"化解大班额问题",null,56,5,null,null,"由于化解大班额问题，故教师需求数61人。","+34",34,34]
[70,63,"新城学校（小学）",63,"新城学校","县直九年一贯制学校","小学","县直学校",1743,3106,1750,31,31,31,{"$nulls":3},0,9,5,62,126.4,67,67,135.4,{"v":135.4,"d":"135"},71,53,53,3,0,6,12,{"$nulls":4},0,{"$nulls":8},0,null,0,{"$nulls":4},0,null,2,2,0,1,-1,0,0,0,0,64,137,67,132,132,4,4,0,{"v":3.40000000000001,"d":"3"},{"v":3.40000000000001,"d":"3"},{"v":-1.59999999999999,"d":"-2"},{"$f":"BS63","v":4},0,{"v":3.40000000000001,"d":"3"},{"v":3.40000000000001,"d":"3"},0,0,3,3,0,null,4,null,36,null,null,4,{"$nulls":3},"小学增加9个班，初中增加4个班","+29",28,27]
[72,64,"诚义学校（小学）",64,"诚义学校","县直九年一贯制学校","小学","县直学校",2622,3655,2556,44,44,52,null,0,null,0,9,7,88,138.4,95,95,147.4,{"v":147.4,"d":"147"},111,61,61,5,null,12,15,{"$nulls":5},0,{"$nulls":7},0,null,0,{"$nulls":4},0,null,2,3,0,11,-2,0,0,0,0,89,167,88,159,159,28,23,7,{"v":-11.6,"d":"-12"},{"v":-11.6,"d":"-12"},{"v":-19.6,"d":"-20"},23,7,0,0,0,7,0,0,0,null,15,null,36,null,null,28,9,{"$nulls":3},"3",3,3]
[74,65,"芳草学校（小学）",65,"芳草学校","县直九年一贯制学校","小学","县直学校",2222,2934,2069,42,42,41,{"$nulls":3},0,7,7,84,120.4,91,91,127.4,{"v":127.4,"d":"127"},82,72,72,3,2,10,11,{"$nulls":22},1,null,null,8,{"$nulls":5},94,149,93,148,148,8,-11,-2,{"v":-20.6,"d":"-21"},{"v":-20.6,"d":"-21"},{"v":-21.6,"d":"-22"},null,0,0,0,0,0,0,0,0,18,8,null,30,null,null,8,18,{"$nulls":3},"3",3,3]
[76,66,"洪州汇仁学校(小学）",66,"洪州汇仁学校","县直九年一贯制学校","小学","县直学校",1658,2337,1657,26,26,26,{"$nulls":3},0,7,5,52,85.6,57,57,92.6,{"v":92.6,"d":"93"},57,40,40,2,2,{"$nulls":24},1,1,null,16,{"$nulls":3},-1,null,58,97,58,97,97,21,-1,-1,{"v":-4.40000000000001,"d":"-4"},{"v":-4.40000000000001,"d":"-4"},{"v":-4.40000000000001,"d":"-4"},null,0,0,0,0,0,0,0,0,9,10,null,18,"产假人数5人",null,21,10,null,null,"预计一年级净增9个班需教师21人，七年级净增3个班需教师10人。","+27",23,23]
[78,67,"洪燕学校（小学）",67,"洪燕学校","县直九年一贯制学校","小学","县直学校",2474,3281,2436,41,41,49,{"$nulls":3},0,9,7,82,121.2,89,89,130.2,{"v":130.2,"d":"130"},101,51,51,3,3,13,13,{"$nulls":22},3,null,null,5,-2,{"$nulls":4},73,128,70,125,125,31,31,19,{"v":5.19999999999999,"d":"5"},{"v":5.19999999999999,"d":"5"},{"v":2.19999999999999,"d":"2"},31,19,{"v":5.19999999999999,"d":"5"},{"v":5.19999999999999,"d":"5"},{"v":2.19999999999999,"d":"2"},19,5,5,2,10,10,null,31,null,null,19,10,{"$nulls":3},"+27",29,27]
[80,68,"洪亿学校（小学）",68,"洪亿学校","县直九年一贯制学校","小学","县直学校",618,746,622,15,15,15,{"$nulls":3},0,3,3,30,38.4,33,33,41.4,{"v":41.4,"d":"41"},59,22,20,2,5,1,2,{"$nulls":5},0,{"$nulls":16},2,3,null,10,0,{"$nulls":4},37,51,42,55,55,19,17,-9,{"v":-13.6,"d":"-14"},{"v":-13.6,"d":"-14"},{"v":-9.6,"d":"-10"},17,0,0,0,0,0,0,0,0,9,10,{"$nulls":4},19,9,null,null,"预计接收新生一年级6个班，七年级4个班，转学生200人左右4个班。申报2020年补充教师28人。","+24",14,14]
[82,69,"洪科小学",69,"洪科小学","小学","小学","县直学校",781,781,784,20,{"$f":"L69-Q69","v":20},20,null,0,null,0,3,3,40,40,43,43,{"$f":"S69+V69","v":43},43,45,10,10,2,2,12,13,{"$nulls":4},0,{"$nulls":8},0,null,0,{"$nulls":4},0,null,1,2,0,14,0,0,0,0,0,{"$f":"AB69+AD69+AF69+AH69+AI69+AJ69+AK69+AN69+AO69+AV69+AZ69+BA69+BD69+BF69+BG69+BH69+BI69+BJ69+BK69+BL69","v":39},39,{"$f":"AB69+AE69+AG69+AL69-AM69+AU69+AW69+BB69-BC69+BE69+BF69+BG69+BH69+BI69+BJ69+BK69+BL69","v":41},41,41,4,4,2,{"$f":"Z69-BP69","v":2},{"$f":"Z69-BQ69","v":2},{"$f":"Z69-BN69","v":4},4,{"$f":"BT69","v":2},2,2,4,2,2,2,4,30,4,null,null,"2020年秋季学校扩班11个，共需求教师26名。",null,26,{"$nulls":3},"鉴于万科楼盘入住率不断提高，2020年学校秋季计划扩班招生，故申报2020年补充教师26人。","+22",26,22]
[83,70,"八一分校（小学）",70,"八一分校","县直九年一贯制学校","小学","县直学校",1317,1731,1322,22,22,27,{"$nulls":3},0,5,5,44,63.6,49,49,68.6,{"v":68.6,"d":"69"},58,4,4,2,2,8,14,{"$nulls":22},2,2,null,11,{"$nulls":3},-1,null,26,54,32,54,54,{"$f":"AA70-(AB70+AE70+AG70+AL70+AU70+AW70+BB70+BE70+BF70-BI70-BJ70-BK70-BL70+BG70-BH70)","v":24},26,17,{"v":14.6,"d":"15"},{"v":14.6,"d":"15"},{"v":14.6,"d":"15"},26,17,{"v":14.6,"d":"15"},{"v":14.6,"d":"15"},{"v":14.6,"d":"15"},17,15,15,15,1,12,null,10,"2020年预计一年级净增200人（减六年级毕业生）",null,26,17,null,null,"预计初中新增6个年级，学生300名；小学新增5个班级学生200名。","+27",42,27]
[85,71,"洪范学校（小学）",71,"洪范学校","县直九年一贯制学校","小学","县直学校",595,965,600,14,14,14,null,0,null,0,3,3,28,50.4,31,31,53.4,{"v":53.4,"d":"53"},63,null,0,null,0,9,9,{"$nulls":4},0,{"$nulls":8},0,null,4,{"$nulls":4},0,null,12,12,0,12,0,0,0,0,0,33,59,37,59,59,26,26,-6,{"v":-5.6,"d":"-6"},{"v":-5.6,"d":"-6"},{"v":-5.6,"d":"-6"},26,0,0,0,0,0,0,0,0,17,13,null,27,null,null,26,30,null,null,"预计初中新增10个班级，小学新增12个班级","+52",46,46]
[87,72,"洪新小学",72,"洪新小学","小学","小学","县直学校",null,null,413,9,9,9,{"$nulls":4},3,3,18,18,21,21,21,21,21,{"$nulls":37},21,21,21,21,21,null,52,0,0,0,0,52,0,0,0,0,0,0,0,0,6]
[22,25,"莲塘实验学校（初中）",{"$nulls":3},"初中","县直学校",152,null,120,3,3,3,null,0,null,0,null,3,8.4,null,{"$f":"M73*2.8+T73","v":11.4},{"v":11.4,"d":"11"},null,null,8,10,12,null,0,null,0,{"$nulls":4},0,0,{"$nulls":7},0,null,0,{"$nulls":4},0,null,null,0,0,0,0,0,0,0,0,{"$f":"AB73+AD73+AF73+AH73+AI73+AJ73+AK73+AN73+AO73+AV73+AZ73+BA73+BD73+BF73+BG73+BH73+BI73+BJ73+BK73+BL73","v":10},null,{"$f":"AB73+AE73+AG73+AL73-AM73+AU73+AW73+BB73-BC73+BE73+BF73+BG73+BH73+BI73+BJ73+BK73+BL73","v":10},null,null,2,{"$f":"AA73-BO73","v":-2},{"v":1.4,"d":"1"},{"$nulls":4},{"v":1.4,"d":"1"},{"$nulls":3},1,{"$nulls":3},6]
[24,26,"昌南实验学校（初中）",{"$nulls":3},"初中","县直学校",225,null,224,6,6,6,{"$nulls":3},0,null,3,16.8,null,19.8,{"v":19.8,"d":"20"},null,null,17,14,14,null,null,3,2,{"$nulls":26},-1,{"$nulls":4},16,null,15,null,null,2,2,{"v":4.8,"d":"5"},{"$nulls":4},{"v":4.8,"d":"5"},{"$nulls":3},5]
[26,27,"黄马凤凰沟实验学校（初中）",{"$nulls":3},"初中","农村初级中学",92,null,92,3,3,3,null,0,null,0,null,3,8.4,null,11.4,{"v":11.4,"d":"11"},null,null,8,14,14,{"$nulls":9},0,{"$nulls":19},1,-3,{"$nulls":4},12,null,12,null,null,2,-4,{"v":-0.6,"d":"-1"},{"$nulls":4},0,{"$nulls":3},0,{"$nulls":3},1,{"$nulls":3},"在编教师数含3名教辅人员"]
[28,28,"银三角实验学校（初中）",{"$nulls":3},"初中","县直学校",377,null,378,9,9,9,null,0,null,0,null,3,25.2,null,28.2,{"v":28.2,"d":"28"},null,null,28,25,25,1,0,3,5,{"$nulls":4},0,{"$nulls":8},0,null,0,{"$nulls":4},0,null,null,0,0,0,-2,0,0,-2,0,25,null,26,null,null,0,2,{"v":2.2,"d":"2"},{"$nulls":4},0,{"$nulls":3},0,{"$nulls":3},5]
[38,37,"新联学校（初中）",{"$nulls":3},"初中","农村初级中学",307,null,382,9,9,21,null,0,null,0,null,3,25.2,null,28.2,{"v":28.2,"d":"28"},null,null,34,30,30,null,0,null,0,{"$nulls":3},7,1,{"$nulls":8},0,null,0,{"$nulls":4},0,null,-5,-5,0,0,-8,0,0,0,0,24,null,18,null,null,16,16,{"v":10.2,"d":"10"},{"$nulls":3},{"$f":"BS77","v":16},{"$f":"BT77","v":{"v":10.2,"d":"10"}},{"$nulls":3},10,{"$nulls":3},21]
[41,39,"幽兰学校（初中）",{"$nulls":3},"初中","农村初级中学",355,null,356,8,8,9,{"$nulls":3},0,null,3,22.4,null,25.4,{"v":25.4,"d":"25"},null,null,28,52,42,{"$nulls":20},1,{"$nulls":8},1,-6,null,-1,-1,-1,44,null,44,null,null,-7,-16,{"v":-18.6,"d":"-19"},{"$nulls":4},0,{"$nulls":3},0,{"$nulls":3},4]
[43,40,"渡头学校（初中）",{"$nulls":3},"初中","农村初级中学",283,null,285,7,7,7,null,0,null,0,null,3,19.6,null,22.6,{"v":22.6,"d":"23"},null,null,23,46,46,null,0,null,0,{"$nulls":4},0,{"$nulls":8},4,null,0,{"$nulls":4},0,null,null,0,0,0,-1,0,0,0,0,45,null,49,null,null,-26,-26,{"v":-26.4,"d":"-26"},{"$nulls":4},0,{"$nulls":3},0,{"$nulls":3},26]
[48,44,"向塘实验学校（初中）",{"$nulls":3},"初中","农村初级中学",1352,null,1471,21,21,24,null,0,null,0,null,5,58.8,null,63.8,{"v":63.8,"d":"64"},null,null,72,92,92,2,0,4,6,{"$nulls":3},3,1,{"$nulls":8},0,null,0,{"$nulls":4},0,null,-1,-1,0,0,-5,0,0,-7,-5,83,null,81,null,null,12,-9,{"v":-17.2,"d":"-17"},{"$nulls":4},0,{"$nulls":3},0,{"$nulls":3},3,3]
[50,45,"向塘向阳学校(初中）",{"$nulls":3},"初中","农村初级中学",175,null,176,6,6,6,null,0,null,0,null,3,16.8,null,19.8,{"v":19.8,"d":"20"},null,null,23,23,23,null,0,null,1,{"$nulls":3},2,2,{"$nulls":8},0,null,0,{"$nulls":4},0,null,-2,-2,0,0,-1,0,0,0,0,22,null,23,null,null,0,0,{"v":-3.2,"d":"-3"},{"$nulls":4},0,{"$nulls":3},0,{"$nulls":3},0]
[67,61,"银河学校（初中）",{"$nulls":3},"初中","县直学校",1360,null,1363,24,24,24,null,1,null,0,null,5,67.2,null,72.2,{"v":72.2,"d":"72"},null,null,74,73,73,1,1,19,19,{"$nulls":5},0,{"$nulls":16},1,1,null,1,-7,{"$nulls":4},88,null,88,null,null,-13,-14,{"v":-15.8,"d":"-16"},{"$nulls":4},0,{"$nulls":3},0,{"$nulls":3},2]
[69,62,"洪州学校(初中）",{"$nulls":3},"初中","县直学校",1732,null,1717,28,28,28,null,0,null,0,null,5,78.4,null,83.4,{"v":83.4,"d":"83"},null,null,79,81,81,null,0,6,6,{"$nulls":4},0,{"$nulls":8},0,null,0,{"$nulls":4},0,null,null,0,0,21,null,0,0,0,0,108,null,108,null,null,5,-29,{"v":-24.6,"d":"-25"},{"$nulls":4},0,{"$nulls":3},0,{"$nulls":3},29,{"$nulls":3},"缺科老师"]
[71,63,"新城学校（初中）",{"$nulls":3},"初中","县直学校",1363,null,1365,23,23,23,{"$nulls":3},0,null,5,64.4,null,69.4,{"v":69.4,"d":"69"},null,null,65,60,60,2,0,10,4,{"$nulls":4},0,0,{"$nulls":7},0,null,0,{"$nulls":4},0,null,2,2,0,2,-3,0,0,0,0,73,null,65,null,null,0,0,{"v":4.40000000000001,"d":"4"},{"$nulls":3},{"$f":"BS84","v":0},{"$f":"BT84","v":{"v":4.40000000000001,"d":"4"}},{"$nulls":3},4]
[73,64,"诚义学校（初中）",{"$nulls":3},"初中","县直学校",1033,null,1100,18,18,20,null,0,null,0,null,5,50.4,null,55.4,{"v":55.4,"d":"55"},null,null,105,62,62,3,null,15,12,{"$nulls":13},0,null,0,{"$nulls":4},0,null,1,0,null,1,-4,0,0,0,0,78,null,71,null,null,9,34,{"v":-15.6,"d":"-16"},{"$nulls":3},34,0,{"$nulls":3},0,{"$nulls":4},5]
[75,65,"芳草学校（初中）",{"$nulls":3},"初中","县直学校",712,null,937,13,13,20,{"$nulls":3},0,null,3,36.4,null,39.4,{"v":39.4,"d":"39"},null,null,56,36,36,3,3,11,10,{"$nulls":22},1,2,null,4,{"$nulls":5},55,null,55,null,null,18,1,{"v":-15.6,"d":"-16"},{"$nulls":3},1,0,{"$nulls":3},0,{"$nulls":3},0,9]
[77,66,"洪州汇仁学校(中学）",{"$nulls":3},"初中","县直学校",679,null,677,12,12,12,{"$nulls":3},0,null,3,33.6,null,36.6,{"v":36.6,"d":"37"},null,null,37,30,30,2,2,1,1,{"$nulls":22},2,2,null,4,{"$nulls":5},39,null,39,null,null,10,-2,{"v":-2.4,"d":"-2"},{"$nulls":4},0,{"$nulls":3},0,{"$nulls":3},18,5,null,null,"产假人数3人"]
[79,67,"洪燕学校（初中）",{"$nulls":3},"初中","县直学校",807,null,802,14,14,16,{"$nulls":3},0,null,3,39.2,null,42.2,{"v":42.2,"d":"42"},null,null,49,38,38,4,4,9,11,{"$nulls":5},0,{"$nulls":16},2,null,null,2,{"$nulls":5},55,null,55,null,null,-6,-6,{"v":-12.8,"d":"-13"},{"$nulls":4},0,{"$nulls":3},0,{"$nulls":3},10,5]
[81,68,"洪亿学校（初中）",{"$nulls":3},"初中","县直学校",128,null,129,3,3,3,{"$nulls":3},0,null,3,8.4,null,11.4,{"v":11.4,"d":"11"},null,null,20,8,6,2,2,2,1,{"$nulls":22},1,1,null,2,-1,{"$nulls":4},14,null,13,null,null,9,7,{"v":-1.6,"d":"-2"},{"$nulls":3},{"$f":"BS89","v":7},0,{"$nulls":3},0,{"$nulls":3},17,5,null,null,"见批注"]
[84,70,"八一分校（初中）",{"$nulls":3},"初中","县直学校",414,null,414,7,7,13,{"$nulls":3},0,null,3,19.6,null,22.6,{"v":22.6,"d":"23"},null,null,39,6,6,3,3,15,9,{"$nulls":25},4,{"$nulls":5},28,null,22,null,null,{"$f":"AA90-(AB90+AE90+AG90+AL90+AU90+AW90+BB90+BE90+BF90-BI90-BJ90-BK90-BL90+BG90-BH90)","v":17},17,{"v":0.600000000000001,"d":"1"},{"$nulls":3},17,{"$f":"BT90","v":{"v":0.600000000000001,"d":"1"}},{"$nulls":3},1,{"$nulls":4},9,null,null,"2020年预计七年级新增300人"]
[86,71,"洪范学校（初中）",{"$nulls":3},"初中","县直学校",370,null,370,8,8,8,null,0,null,0,null,3,22.4,null,25.4,{"v":25.4,"d":"25"},null,null,52,null,0,null,0,9,9,{"$nulls":4},0,{"$nulls":8},0,4,0,{"$nulls":4},0,null,7,7,0,6,0,0,0,0,0,26,null,22,null,null,30,30,{"v":3.4,"d":"3"},{"$nulls":3},30,{"$f":"BT91","v":{"v":3.4,"d":"3"}},{"$nulls":3},3,{"$nulls":3},7,15]
[null,"合计",{"$nulls":6},{"$f":"SUM(I5:I91)","v":132931},null,137183,{"$f":"SUM(L5:L91)","v":2888},null,3016,null,120,null,{"$f":"SUM(R5:R91)","v":286},{"$nulls":8},{"$f":"SUM(AA5:AA91)","v":7836},7275,7237,91,53,{"$f":"SUM(AF5:AF91)","v":312},289,51,76,48,127,285,50,{"$f":"SUM(AN5:AN91)","v":48},50,76,77,73,79,355,48,{"$f":"SUM(AV5:AV91)","v":23},19,6,9,10,15,25,9,{"$f":"SUM(BD5:BD91)","v":0},-3,20,503,-592,-9,-18,-143,-102,{"$f":"SUM(BM5:BM91)","v":7761},7761,7350,7670,7602,null,486,{"$nulls":4},912,{"$f":"SUM(BY5:BY91)","v":403.56},{"$nulls":3},403,363,{"v":363.2,"d":"363"},287,{"$nulls":13},{"$f":"SUM(CT5:CT91)","v":254}]
[{"$nulls":17},{"$f":"R92-R10-R14-R41","v":159},{"$nulls":8},7836,7034,7114]

{"sheet":"B  全省统招300人","index":1,"n_rows":43,"n_cols":11,"rows_kept":43,"hidden":true,"merged":[[0,0,0,10],[1,0,1,10],[2,1,2,2],[2,3,2,4],[2,5,2,6],[3,1,3,2],[3,3,3,4],[3,5,3,6],[4,1,10,4],[4,5,4,6],[5,5,5,6],[6,5,6,6],[7,5,7,6],[8,5,8,6],[9,5,9,6],[10,5,10,6],[11,1,17,4],[11,5,11,6],[12,5,12,6],[13,5,13,6],[14,5,14,6],[15,5,15,6],[16,5,16,6],[17,5,17,6],[18,1,24,4],[18,5,18,6],[19,5,19,6],[20,5,20,6],[21,5,21,6],[22,5,22,6],[23,5,23,6],[24,5,24,6],[25,1,25,4],[25,5,25,6],[26,1,31,4],[26,5,26,6],[27,5,27,6],[28,5,28,6],[29,5,29,6],[30,5,30,6],[31,5,31,6],[32,1,38,4],[32,5,32,6],[33,5,33,6],[34,5,34,6],[35,5,35,6],[36,5,36,6],[37,5,37,6],[38,5,38,6],[39,1,41,4],[39,5,39,6],[40,5,40,6],[41,5,41,6],[42,0,42,6]]}
["南昌县2020年中小学教师招聘（教师控制数）计划申报表"]
["县（区）教体局：(盖章)            县（区）人社局：(盖章)            县（区）编办：（盖章）            填表人：丁小省            联系电话：0791-85714049"]
["县（区）核\n定聘用教师\n控制数",845,null,"已使用聘\n用教师控\n制数",null,0,null,"聘用教师控制数剩余数",845,"拟招聘聘用教师控制数",300]
["序号","招聘县、\n乡镇全称",null,"招聘学校\n全称",null,"招聘岗位",null,"岗位条件","拟招聘\n人数","备注","联系电话"]
[1,"南昌县初中",{"$nulls":3},"初中语文教师A岗",null,"普通高校师范类专业本科学历或普通高校研究生及以上学历，初级中学及以上语文学科教师资格证，1984年3月1日及以后出生。",11,"本岗位采用“聘用教师控制数”方式招聘，属编制外聘用教师。招聘人员在薪酬待遇、住房公积金、岗位设置、职称评定、竞争上岗、岗位交流等方面享受在编人员同等待遇，按城镇企业职工标准参加社会保险。考生按照考试总成绩由高到低选择岗位，总分相同的面试成绩高者优先。","0791-85714049"]
[2,{"$nulls":4},"初中语文教师B岗",null,"应届普通高校师范类专业本科学历或普通高校研究生及以上学历，初级中学及以上语文学科教师资格证，1984年3月1日及以后出生。",5,"本岗位采用“聘用教师控制数”方式招聘，属编制外聘用教师。招聘人员在薪酬待遇、住房公积金、岗位设置、职称评定、竞争上岗、岗位交流等方面享受在编人员同等待遇，按城镇企业职工标准参加社会保险。考生按照考试总成绩由高到低选择岗位，总分相同的面试成绩高者优先。","0791-85714049"]
[3,{"$nulls":4},"初中数学教师A岗",null,"普通高校师范类专业本科学历或普通高校研究生及以上学历，初级中学及以上数学学科教师资格证，1984年3月1日及以后出生。",9,"本岗位采用“聘用教师控制数”方式招聘，属编制外聘用教师。招聘人员在薪酬待遇、住房公积金、岗位设置、职称评定、竞争上岗、岗位交流等方面享受在编人员同等待遇，按城镇企业职工标准参加社会保险。考生按照考试总成绩由高到低选择岗位，总分相同的面试成绩高者优先。","0791-85714049"]
[4,{"$nulls":4},"初中数学教师B岗",null,"应届普通高校师范类专业本科学历或普通高校研究生及以上学历，初级中学及以上数学学科教师资格证，1984年3月1日及以后出生。",4,"本岗位采用“聘用教师控制数”方式招聘，属编制外聘用教师。招聘人员在薪酬待遇、住房公积金、岗位设置、职称评定、竞争上岗、岗位交流等方面享受在编人员同等待遇，按城镇企业职工标准参加社会保险。考生按照考试总成绩由高到低选择岗位，总分相同的面试成绩高者优先。","0791-85714049"]
[5,{"$nulls":4},"初中英语教师A岗",null,"普通高校师范类专业本科学历或普通高校研究生及以上学历，初级中学及以上英语学科教师资格证，1984年3月1日及以后出生。",9,"本岗位采用“聘用教师控制数”方式招聘，属编制外聘用教师。招聘人员在薪酬待遇、住房公积金、岗位设置、职称评定、竞争上岗、岗位交流等方面享受在编人员同等待遇，按城镇企业职工标准参加社会保险。考生按照考试总成绩由高到低选择岗位，总分相同的面试成绩高者优先。","0791-85714049"]
[6,{"$nulls":4},"初中英语教师B岗",null,"应届普通高校师范类专业本科学历或普通高校研究生及以上学历，初级中学及以上英语学科教师资格证，1984年3月1日及以后出生。",3,"本岗位采用“聘用教师控制数”方式招聘，属编制外聘用教师。招聘人员在薪酬待遇、住房公积金、岗位设置、职称评定、竞争上岗、岗位交流等方面享受在编人员同等待遇，按城镇企业职工标准参加社会保险。考生按照考试总成绩由高到低选择岗位，总分相同的面试成绩高者优先。","0791-85714049"]
[7,{"$nulls":4},"初中物理教师A岗",null,"普通高校师范类专业本科学历或普通高校研究生及以上学历，初级中学及以上物理学科教师资格证，1984年3月1日及以后出生。",6,"本岗位采用“聘用教师控制数”方式招聘，属编制外聘用教师。招聘人员在薪酬待遇、住房公积金、岗位设置、职称评定、竞争上岗、岗位交流等方面享受在编人员同等待遇，按城镇企业职工标准参加社会保险。考生按照考试总成绩由高到低选择岗位，总分相同的面试成绩高者优先。","0791-85714049"]
[8,"南昌县初中",{"$nulls":3},"初中物理教师B岗",null,"应届普通高校师范类专业本科学历或普通高校研究生及以上学历，初级中学及以上物理学科教师资格证，1984年3月1日及以后出生。",2,"本岗位采用“聘用教师控制数”方式招聘，属编制外聘用教师。招聘人员在薪酬待遇、住房公积金、岗位设置、职称评定、竞争上岗、岗位交流等方面享受在编人员同等待遇，按城镇企业职工标准参加社会保险。考生按照考试总成绩由高到低选择岗位，总分相同的面试成绩高者优先。","0791-85714049"]
[9,{"$nulls":4},"初中化学教师A岗",null,"普通高校师范类专业本科学历或普通高校研究生及以上学历，初级中学及以上化学学科教师资格证，1984年3月1日及以后出生。",6,"本岗位采用“聘用教师控制数”方式招聘，属编制外聘用教师。招聘人员在薪酬待遇、住房公积金、岗位设置、职称评定、竞争上岗、岗位交流等方面享受在编人员同等待遇，按城镇企业职工标准参加社会保险。考生按照考试总成绩由高到低选择岗位，总分相同的面试成绩高者优先。","0791-85714049"]
[10,{"$nulls":4},"初中化学教师B岗",null,"应届普通高校师范类专业本科学历或普通高校研究生及以上学历，初级中学及以上化学学科教师资格证，1984年3月1日及以后出生。",1,"本岗位采用“聘用教师控制数”方式招聘，属编制外聘用教师。招聘人员在薪酬待遇、住房公积金、岗位设置、职称评定、竞争上岗、岗位交流等方面享受在编人员同等待遇，按城镇企业职工标准参加社会保险。考生按照考试总成绩由高到低选择岗位，总分相同的面试成绩高者优先。","0791-85714049"]
[11,{"$nulls":4},"初中思想品德教师A岗",null,"普通高校师范类专业本科学历或普通高校研究生及以上学历，初级中学及以上政治学科或思想品德学科教师资格证，1984年3月1日及以后出生。",5,"本岗位采用“聘用教师控制数”方式招聘，属编制外聘用教师。招聘人员在薪酬待遇、住房公积金、岗位设置、职称评定、竞争上岗、岗位交流等方面享受在编人员同等待遇，按城镇企业职工标准参加社会保险。考生按照考试总成绩由高到低选择岗位，总分相同的面试成绩高者优先。","0791-85714049"]
[12,{"$nulls":4},"初中思想品德教师B岗",null,"应届普通高校师范类专业本科学历或普通高校研究生及以上学历，初级中学及以上政治学科或思想品德学科教师资格证，1984年3月1日及以后出生。",1,"本岗位采用“聘用教师控制数”方式招聘，属编制外聘用教师。招聘人员在薪酬待遇、住房公积金、岗位设置、职称评定、竞争上岗、岗位交流等方面享受在编人员同等待遇，按城镇企业职工标准参加社会保险。考生按照考试总成绩由高到低选择岗位，总分相同的面试成绩高者优先。","0791-85714049"]
[13,{"$nulls":4},"初中历史教师A岗",null,"普通高校师范类专业本科学历或普通高校研究生及以上学历，初级中学及以上历史学科教师资格证，1984年3月1日及以后出生。",6,"本岗位采用“聘用教师控制数”方式招聘，属编制外聘用教师。招聘人员在薪酬待遇、住房公积金、岗位设置、职称评定、竞争上岗、岗位交流等方面享受在编人员同等待遇，按城镇企业职工标准参加社会保险。考生按照考试总成绩由高到低选择岗位，总分相同的面试成绩高者优先。","0791-85714049"]
[14,{"$nulls":4},"初中历史教师B岗",null,"应届普通高校师范类专业本科学历或普通高校研究生及以上学历，初级中学及以上历史学科教师资格证，1984年3月1日及以后出生。",1,"本岗位采用“聘用教师控制数”方式招聘，属编制外聘用教师。招聘人员在薪酬待遇、住房公积金、岗位设置、职称评定、竞争上岗、岗位交流等方面享受在编人员同等待遇，按城镇企业职工标准参加社会保险。考生按照考试总成绩由高到低选择岗位，总分相同的面试成绩高者优先。","0791-85714049"]
[15,"南昌县初中",{"$nulls":3},"初中地理教师",null,"普通高校师范类专业本科学历或普通高校研究生及以上学历，初级中学及以上地理学科教师资格证，1984年3月1日及以后出生。",2,"本岗位采用“聘用教师控制数”方式招聘，属编制外聘用教师。招聘人员在薪酬待遇、住房公积金、岗位设置、职称评定、竞争上岗、岗位交流等方面享受在编人员同等待遇，按城镇企业职工标准参加社会保险。考生按照考试总成绩由高到低选择岗位，总分相同的面试成绩高者优先。","0791-85714049"]
[16,{"$nulls":4},"初中生物教师",null,"普通高校师范类专业本科学历或普通高校研究生及以上学历，初级中学及以上生物学科教师资格证，1984年3月1日及以后出生。",2,"本岗位采用“聘用教师控制数”方式招聘，属编制外聘用教师。招聘人员在薪酬待遇、住房公积金、岗位设置、职称评定、竞争上岗、岗位交流等方面享受在编人员同等待遇，按城镇企业职工标准参加社会保险。考生按照考试总成绩由高到低选择岗位，总分相同的面试成绩高者优先。","0791-85714049"]
[17,{"$nulls":4},"初中信息技术教师",null,"普通高校师范类专业本科学历或普通高校研究生及以上学历，初级中学及以上信息技术或计算机学科教师资格证，1984年3月1日及以后出生。",2,"本岗位采用“聘用教师控制数”方式招聘，属编制外聘用教师。招聘人员在薪酬待遇、住房公积金、岗位设置、职称评定、竞争上岗、岗位交流等方面享受在编人员同等待遇，按城镇企业职工标准参加社会保险。考生按照考试总成绩由高到低选择岗位，总分相同的面试成绩高者优先。","0791-85714049"]
[18,{"$nulls":4},"初中体育教师A岗",null,"普通高校师范类专业本科学历或普通高校研究生及以上学历，初级中学及以上体育（或体育与健康）学科教师资格证，1984年3月1日及以后出生。",6,"本岗位采用“聘用教师控制数”方式招聘，属编制外聘用教师。招聘人员在薪酬待遇、住房公积金、岗位设置、职称评定、竞争上岗、岗位交流等方面享受在编人员同等待遇，按城镇企业职工标准参加社会保险。考生按照考试总成绩由高到低选择岗位，总分相同的面试成绩高者优先。","0791-85714049"]
[19,{"$nulls":4},"初中体育教师B岗",null,"应届普通高校师范类专业本科学历或普通高校研究生及以上学历，初级中学及以上体育（或体育与健康）学科教师资格证，1984年3月1日及以后出生。",2,"本岗位采用“聘用教师控制数”方式招聘，属编制外聘用教师。招聘人员在薪酬待遇、住房公积金、岗位设置、职称评定、竞争上岗、岗位交流等方面享受在编人员同等待遇，按城镇企业职工标准参加社会保险。考生按照考试总成绩由高到低选择岗位，总分相同的面试成绩高者优先。","0791-85714049"]
[20,{"$nulls":4},"初中美术教师",null,"普通高校师范类专业本科学历或普通高校研究生及以上学历，初级中学及以上美术学科教师资格证，1984年3月1日及以后出生。",3,"本岗位采用“聘用教师控制数”方式招聘，属编制外聘用教师。招聘人员在薪酬待遇、住房公积金、岗位设置、职称评定、竞争上岗、岗位交流等方面享受在编人员同等待遇，按城镇企业职工标准参加社会保险。考生按照考试总成绩由高到低选择岗位，总分相同的面试成绩高者优先。","0791-85714049"]
[21,{"$nulls":4},"初中音乐教师",null,"普通高校师范类专业本科学历或普通高校研究生及以上学历，初级中学及以上音乐学科教师资格证，1984年3月1日及以后出生。",3,"本岗位采用“聘用教师控制数”方式招聘，属编制外聘用教师。招聘人员在薪酬待遇、住房公积金、岗位设置、职称评定、竞争上岗、岗位交流等方面享受在编人员同等待遇，按城镇企业职工标准参加社会保险。考生按照考试总成绩由高到低选择岗位，总分相同的面试成绩高者优先。","0791-85714049"]
[22,"南昌县初中",{"$nulls":3},"初中心理健康教师",null,"普通高校师范类专业本科学历或普通高校研究生及以上学历，初级中学及以上心理健康学科教师资格证，1984年3月1日及以后出生。",2,"本岗位采用“聘用教师控制数”方式招聘，属编制外聘用教师。招聘人员在薪酬待遇、住房公积金、岗位设置、职称评定、竞争上岗、岗位交流等方面享受在编人员同等待遇，按城镇企业职工标准参加社会保险。考生按照考试总成绩由高到低选择岗位，总分相同的面试成绩高者优先。","0791-85714049"]
[23,"南昌县小学",{"$nulls":3},"小学语文教师A岗",null,"普通高校师范类专业大专学历或普通高校本科及以上学历，小学及以上语文学科教师资格证，1984年3月1日及以后出生。",57,"本岗位采用“聘用教师控制数”方式招聘，属编制外聘用教师。招聘人员在薪酬待遇、住房公积金、岗位设置、职称评定、竞争上岗、岗位交流等方面享受在编人员同等待遇，按城镇企业职工标准参加社会保险。考生按照考试总成绩由高到低选择岗位，总分相同的面试成绩高者优先。","0791-85714049"]
[24,{"$nulls":4},"小学语文教师B岗",null,"应届普通高校师范类专业大专学历或普通高校本科及以上学历，小学及以上语文学科教师资格证，1984年3月1日及以后出生。",16,"本岗位采用“聘用教师控制数”方式招聘，属编制外聘用教师。招聘人员在薪酬待遇、住房公积金、岗位设置、职称评定、竞争上岗、岗位交流等方面享受在编人员同等待遇，按城镇企业职工标准参加社会保险。考生按照考试总成绩由高到低选择岗位，总分相同的面试成绩高者优先。","0791-85714049"]
[25,{"$nulls":4},"小学数学教师A岗",null,"普通高校师范类专业大专学历或普通高校本科及以上学历，小学及以上数学学科教师资格证，1984年3月1日及以后出生。",51,"本岗位采用“聘用教师控制数”方式招聘，属编制外聘用教师。招聘人员在薪酬待遇、住房公积金、岗位设置、职称评定、竞争上岗、岗位交流等方面享受在编人员同等待遇，按城镇企业职工标准参加社会保险。考生按照考试总成绩由高到低选择岗位，总分相同的面试成绩高者优先。","0791-85714049"]
[26,{"$nulls":4},"小学数学教师B岗",null,"应届普通高校师范类专业大专学历或普通高校本科及以上学历，小学及以上数学学科教师资格证，1984年3月1日及以后出生。",12,"本岗位采用“聘用教师控制数”方式招聘，属编制外聘用教师。招聘人员在薪酬待遇、住房公积金、岗位设置、职称评定、竞争上岗、岗位交流等方面享受在编人员同等待遇，按城镇企业职工标准参加社会保险。考生按照考试总成绩由高到低选择岗位，总分相同的面试成绩高者优先。","0791-85714049"]
[27,{"$nulls":4},"小学英语教师A岗",null,"普通高校师范类专业大专学历或普通高校本科及以上学历，小学及以上英语学科教师资格证，1984年3月1日及以后出生。",21,"本岗位采用“聘用教师控制数”方式招聘，属编制外聘用教师。招聘人员在薪酬待遇、住房公积金、岗位设置、职称评定、竞争上岗、岗位交流等方面享受在编人员同等待遇，按城镇企业职工标准参加社会保险。考生按照考试总成绩由高到低选择岗位，总分相同的面试成绩高者优先。","0791-85714049"]
[28,{"$nulls":4},"小学英语教师B岗",null,"应届普通高校师范类专业大专学历或普通高校本科及以上学历，小学及以上英语学科教师资格证，1984年3月1日及以后出生。",6,"本岗位采用“聘用教师控制数”方式招聘，属编制外聘用教师。招聘人员在薪酬待遇、住房公积金、岗位设置、职称评定、竞争上岗、岗位交流等方面享受在编人员同等待遇，按城镇企业职工标准参加社会保险。考生按照考试总成绩由高到低选择岗位，总分相同的面试成绩高者优先。","0791-85714049"]
[29,"南昌县小学",{"$nulls":3},"小学音乐教师A岗",null,"普通高校师范类专业大专学历或普通高校本科及以上学历，小学及以上音乐学科教师资格证，1984年3月1日及以后出生。",10,"本岗位采用“聘用教师控制数”方式招聘，属编制外聘用教师。招聘人员在薪酬待遇、住房公积金、岗位设置、职称评定、竞争上岗、岗位交流等方面享受在编人员同等待遇，按城镇企业职工标准参加社会保险。考生按照考试总成绩由高到低选择岗位，总分相同的面试成绩高者优先。","0791-85714049"]
[30,{"$nulls":4},"小学音乐教师B岗",null,"应届普通高校师范类专业大专学历或普通高校本科及以上学历，小学及以上音乐学科教师资格证，1984年3月1日及以后出生。",3,"本岗位采用“聘用教师控制数”方式招聘，属编制外聘用教师。招聘人员在薪酬待遇、住房公积金、岗位设置、职称评定、竞争上岗、岗位交流等方面享受在编人员同等待遇，按城镇企业职工标准参加社会保险。考生按照考试总成绩由高到低选择岗位，总分相同的面试成绩高者优先。","0791-85714049"]
[31,{"$nulls":4},"小学美术教师A岗",null,"普通高校师范类专业大专学历或普通高校本科及以上学历，小学及以上美术学科教师资格证，1984年3月1日及以后出生。",9,"本岗位采用“聘用教师控制数”方式招聘，属编制外聘用教师。招聘人员在薪酬待遇、住房公积金、岗位设置、职称评定、竞争上岗、岗位交流等方面享受在编人员同等待遇，按城镇企业职工标准参加社会保险。考生按照考试总成绩由高到低选择岗位，总分相同的面试成绩高者优先。","0791-85714049"]
[32,{"$nulls":4},"小学美术教师B岗",null,"应届普通高校师范类专业大专学历或普通高校本科及以上学历，小学及以上美术学科教师资格证，1984年3月1日及以后出生。",2,"本岗位采用“聘用教师控制数”方式招聘，属编制外聘用教师。招聘人员在薪酬待遇、住房公积金、岗位设置、职称评定、竞争上岗、岗位交流等方面享受在编人员同等待遇，按城镇企业职工标准参加社会保险。考生按照考试总成绩由高到低选择岗位，总分相同的面试成绩高者优先。","0791-85714049"]
[33,{"$nulls":4},"小学体育教师A岗",null,"普通高校师范类专业大专学历或普通高校本科及以上学历，小学及以上体育（或体育与健康）学科教师资格证，1984年3月1日及以后出生。",9,"本岗位采用“聘用教师控制数”方式招聘，属编制外聘用教师。招聘人员在薪酬待遇、住房公积金、岗位设置、职称评定、竞争上岗、岗位交流等方面享受在编人员同等待遇，按城镇企业职工标准参加社会保险。考生按照考试总成绩由高到低选择岗位，总分相同的面试成绩高者优先。","0791-85714049"]
[34,{"$nulls":4},"小学体育教师B岗",null,"应届普通高校师范类专业大专学历或普通高校本科及以上学历，小学及以上体育（或体育与健康）学科教师资格证，1984年3月1日及以后出生。",2,"本岗位采用“聘用教师控制数”方式招聘，属编制外聘用教师。招聘人员在薪酬待遇、住房公积金、岗位设置、职称评定、竞争上岗、岗位交流等方面享受在编人员同等待遇，按城镇企业职工标准参加社会保险。考生按照考试总成绩由高到低选择岗位，总分相同的面试成绩高者优先。","0791-85714049"]
[35,{"$nulls":4},"小学思想品德教师",null,"普通高校师范类专业大专学历或普通高校本科及以上学历，小学及以上政治学科或思想品德学科教师资格证，1984年3月1日及以后出生。",2,"本岗位采用“聘用教师控制数”方式招聘，属编制外聘用教师。招聘人员在薪酬待遇、住房公积金、岗位设置、职称评定、竞争上岗、岗位交流等方面享受在编人员同等待遇，按城镇企业职工标准参加社会保险。考生按照考试总成绩由高到低选择岗位，总分相同的面试成绩高者优先。","0791-85714049"]
[36,"南昌县小学",{"$nulls":3},"小学科学教师A岗",null,"普通高校师范类专业大专学历或普通高校本科及以上学历，小学及以上科学学科教师资格证，1984年3月1日及以后出生。",5,"本岗位采用“聘用教师控制数”方式招聘，属编制外聘用教师。招聘人员在薪酬待遇、住房公积金、岗位设置、职称评定、竞争上岗、岗位交流等方面享受在编人员同等待遇，按城镇企业职工标准参加社会保险。考生按照考试总成绩由高到低选择岗位，总分相同的面试成绩高者优先。","0791-85714049"]
[37,{"$nulls":4},"小学科学教师B岗",null,"应届普通高校师范类专业大专学历或普通高校本科及以上学历，小学及以上科学学科教师资格证，1984年3月1日及以后出生。",1,"本岗位采用“聘用教师控制数”方式招聘，属编制外聘用教师。招聘人员在薪酬待遇、住房公积金、岗位设置、职称评定、竞争上岗、岗位交流等方面享受在编人员同等待遇，按城镇企业职工标准参加社会保险。考生按照考试总成绩由高到低选择岗位，总分相同的面试成绩高者优先。","0791-85714049"]
[38,{"$nulls":4},"小学信息技术教师",null,"普通高校师范类专业大专学历或普通高校本科及以上学历，小学及以上信息技术或计算机学科教师资格证，1984年3月1日及以后出生。",3,"本岗位采用“聘用教师控制数”方式招聘，属编制外聘用教师。招聘人员在薪酬待遇、住房公积金、岗位设置、职称评定、竞争上岗、岗位交流等方面享受在编人员同等待遇，按城镇企业职工标准参加社会保险。考生按照考试总成绩由高到低选择岗位，总分相同的面试成绩高者优先。","0791-85714049"]
["合计",{"$nulls":7},{"$f":"SUM(I5:I42)","v":300}]

{"sheet":"C  中央特岗50人","index":2,"n_rows":12,"n_cols":4,"rows_kept":12,"hidden":true,"merged":[[0,0,0,3],[1,0,1,3],[3,0,10,0],[11,0,11,1]]}
["江西省2020年中小学教师招聘计划申报表（特岗）"]
["市、县（区）教育局：(盖章)              市、县（区）人事、编制部门：(盖章)            填表人：丁小省             联系电话：85714049 "]
["招聘县区全称","招聘岗位","岗位条件","招聘人数"]
["南昌县小学                    （特岗）","小学语文","普通高校本科以上毕业生、师范类专业专科毕业生,小学及以上语文学科教师资格证，1989年3月1日及以后出生。",7]
[null,"小学数学","普通高校本科以上毕业生、师范类专业专科毕业生,小学及以上数学学科教师资格证，1989年3月1日及以后出生。",6]
[null,"小学英语","普通高校本科以上毕业生、师范类专业专科毕业生,小学及以上英语学科教师资格证，1989年3月1日及以后出生。",5]
[null,"小学美术","普通高校本科以上毕业生、师范类专业专科毕业生,小学及以上美术学科教师资格证，1989年3月1日及以后出生。",7]
[null,"小学音乐","普通高校本科以上毕业生、师范类专业专科毕业生,小学及以上音乐学科教师资格证，1989年3月1日及以后出生。",8]
[null,"小学体育","普通高校本科以上毕业生、师范类专业专科毕业生,小学及以上体育（或体育与健康）学科教师资格证，1989年3月1日及以后出生。",7]
[null,"小学科学","普通高校本科以上毕业生、师范类专业专科毕业生,小学及以上科学学科教师资格证，1989年3月1日及以后出生。",3]
[null,"小学信息技术","普通高校本科以上毕业生、师范类专业专科毕业生,小学及以上信息技术或计算机学科教师资格证，1989年3月1日及以后出生。",7]
["合计",null,null,{"$f":"SUM(D4:D11)","v":50}]

{"sheet":"D  全省选调80人","index":3,"n_rows":23,"n_cols":4,"rows_kept":23,"hidden":true,"merged":[[0,0,0,3]]}
["南昌县2020年面向全省选调中小学在编教师岗位表"]
["招聘岗位","岗位代码","招聘人数","岗位条件"]
["初中思想品德",2007201,3,"1.45周岁以下。2.具有国家承认的本科及以上学历。3.持有初级中学及以上政治学科或思想品德学科教师资格证。4.具有在公办学校任教初中政治学科或思想品德学科3年及以上工作经历。"]
["初中语文",2007202,5,"1.45周岁以下。2.具有国家承认的本科及以上学历。3.持有初级中学及以上语文学科教师资格证。4.具有在公办学校任教初中语文学科3年及以上工作经历。"]
["初中数学",2007203,6,"1.45周岁以下。2.具有国家承认的本科及以上学历。3.持有初级中学及以上数学学科教师资格证。4.具有在公办学校任教初中数学学科3年及以上工作经历。"]
["初中英语",2007204,2,"1.45周岁以下。2.具有国家承认的本科及以上学历。3.持有初级中学及以上英语学科教师资格证。4.具有在公办学校任教初中英语学科3年及以上工作经历。"]
["初中音乐",2007205,1,"1.45周岁以下。2.具有国家承认的本科及以上学历。3.持有初级中学及以上音乐学科教师资格证。4.具有在公办学校任教初中音乐学科3年及以上工作经历。"]
["初中体育",2007206,2,"1.45周岁以下。2.具有国家承认的本科及以上学历。3.持有初级中学及以上体育（或体育与健康）学科教师资格证。4.具有在公办学校任教初中体育（或体育与健康）学科3年及以上工作经历。"]
["初中美术",2007207,1,"1.45周岁以下。2.具有国家承认的本科及以上学历。3.持有初级中学及以上美术学科教师资格证。4.具有在公办学校任教初中美术学科3年及以上工作经历。"]
["初中物理",2007208,3,"1.45周岁以下。2.具有国家承认的本科及以上学历。3.持有初级中学及以上物理学科教师资格证。4.具有在公办学校任教初中物理学科3年及以上工作经历。"]
["初中化学",2007209,2,"1.45周岁以下。2.具有国家承认的本科及以上学历。3.持有初级中学及以上化学学科教师资格证。4.具有在公办学校任教初中化学学科3年及以上工作经历。"]
["初中历史",2007210,2,"1.45周岁以下。2.具有国家承认的本科及以上学历。3.持有初级中学及以上历史学科教师资格证。4.具有在公办学校任教初中历史学科3年及以上工作经历。"]
["初中地理",2007211,1,"1.45周岁以下。2.具有国家承认的本科及以上学历。3.持有初级中学及以上地理学科教师资格证。4.具有在公办学校任教初中地理学科3年及以上工作经历。"]
["小学思想品德",2007212,2,"1.45周岁以下。2.具有国家承认的大专及以上学历。3.持有小学及以上政治学科或思想品德学科教师资格证。4.具有在公办学校任教小学政治学科或思想品德学科3年及以上工作经历。"]
["小学语文",2007213,16,"1.45周岁以下。2.具有国家承认的大专及以上学历。3.持有小学及以上语文学科教师资格证。4.具有在公办学校任教小学语文学科3年及以上工作经历。"]
["小学数学",2007214,21,"1.45周岁以下。2.具有国家承认的大专及以上学历。3.持有小学及以上数学学科教师资格证。4.具有在公办学校任教小学数学学科3年及以上工作经历。"]
["小学英语",2007215,5,"1.45周岁以下。2.具有国家承认的大专及以上学历。3.持有小学及以上英语学科教师资格证。4.具有在公办学校任教小学英语学科3年及以上工作经历。"]
["小学音乐",2007216,2,"1.45周岁以下。2.具有国家承认的大专及以上学历。3.持有小学及以上音乐学科教师资格证。4.具有在公办学校任教小学音乐学科3年及以上工作经历。"]
["小学体育",2007217,2,"1.45周岁以下。2.具有国家承认的大专及以上学历。3.持有小学及以上体育（或体育与健康）学科教师资格证。4.具有在公办学校任教小学体育（或体育与健康）学科3年及以上工作经历。"]
["小学美术",2007218,2,"1.45周岁以下。2.具有国家承认的大专及以上学历。3.持有小学及以上美术学科教师资格证。4.具有在公办学校任教小学美术学科3年及以上工作经历。"]
["小学科学",2007219,1,"1.45周岁以下。2.具有国家承认的大专及以上学历。3.持有小学及以上科学学科教师资格证。4.具有在公办学校任教小学科学学科3年及以上工作经历。"]
["小学信息技术",2007220,1,"1.45周岁以下。2.具有国家承认的大专及以上学历。3.持有小学及以上信息技术或计算机学科教师资格证。4.具有在公办学校任教小学信息技术或计算机学科3年及以上工作经历。"]
["合计",null,{"$f":"SUM(C3:C22)","v":80}]

{"sheet":"D 全省选调选岗拟录人员","index":4,"n_rows":65,"n_cols":5,"rows_kept":65,"hidden":true,"merged":[[0,0,0,4]]}
["南昌县2020年面向全省公开选调在编中小学教师\n拟录人员名单"]
["序号","岗位名称","姓名","准考证号","选岗学校"]
[1,"全省选调初中思想品德","邓金花",20208010110,"莲塘四中"]
[2,"全省选调初中思想品德","李纯",20208010102,"洪亿学校"]
[3,"全省选调初中思想品德","朱慧娟",20208010101,"新城学校"]
[4,"全省选调初中语文","谌文芳",20208010202,"洪范学校"]
[5,"全省选调初中语文","谢琳",20208010127,"洪范学校"]
[6,"全省选调初中语文","吴陈陈",20208010123,"莲塘四中"]
[7,"全省选调初中语文","谢芸",20208010126,"莲塘一中八一分校"]
[8,"全省选调初中语文","程书丹",20208010131,"武阳中学"]
[9,"全省选调初中数学","刘昇",20208010213,"洪亿学校"]
[10,"全省选调初中数学","周燕妮",20208010304,"洪范学校"]
[11,"全省选调初中英语","肖茵茵",20208010321,"洪范学校"]
[12,"全省选调初中音乐","胡菁",20208010433,"洪州汇仁学校"]
[13,"全省选调初中体育","陈龙",20208010440,"洪燕学校"]
[14,"全省选调初中体育","吴志宗",20208010443,"新城学校"]
[15,"全省选调初中美术","盛兰",20208010503,"洪州汇仁学校"]
[16,"全省选调初中物理","张钱",20208010524,"洪范学校"]
[17,"全省选调初中物理","余智萍",20208010515,"洪范学校"]
[18,"全省选调初中化学","章毛女",20208010530,"向塘实验学校"]
[19,"全省选调初中历史","吴琼",20208010534,"莲塘四中"]
[20,"全省选调初中历史","温家盛",20208010535,"新城学校"]
[21,"全省选调初中地理","洪文欢",20208010545,"洪燕学校"]
[22,"全省选调小学思想品德","赵文燕",20208011344,"洪燕学校"]
[23,"全省选调小学思想品德","刘微",20208011401,"莲塘一中八一分校"]
[24,"全省选调小学语文","刘婷",20208011422,"洪州学校"]
[25,"全省选调小学语文","蒋大胆",20208011436,"洪亿学校"]
[26,"全省选调小学语文","付文芳",20208011635,"洪州学校"]
[27,"全省选调小学语文","徐晓云",20208012037,"洪范学校"]
[28,"全省选调小学语文","杨艳",20208011945,"振兴路小学"]
[29,"全省选调小学语文","吴雅芳",20208011624,"洪燕学校"]
[30,"全省选调小学语文","熊娇",20208011629,"新城学校"]
[31,"全省选调小学语文","吴芳",20208011530,"洪范学校"]
[32,"全省选调小学语文","江思",20208011442,"洪范学校"]
[33,"全省选调小学语文","陈小专",20208011501,"金沙路小学"]
[34,"全省选调小学语文","龚吴花",20208011708,"洪州汇仁学校"]
[35,"全省选调小学语文","刘建琴",20208011737,"洪州汇仁学校"]
[36,"全省选调小学语文","柯芸",20208011731,"银河学校"]
[37,"全省选调小学数学","张赟莹",20208012319,"洪亿学校"]
[38,"全省选调小学数学","聂笼笼",20208012617,"洪州学校"]
[39,"全省选调小学数学","江归荣",20208012201,"洪州学校"]
[40,"全省选调小学数学","黄津",20208012716,"洪范学校"]
[41,"全省选调小学数学","苏晓霞",20208012442,"洪范学校"]
[42,"全省选调小学数学","陈莹英",20208012439,"洪亿学校"]
[43,"全省选调小学数学","余贵娇",20208012738,"洪州汇仁学校"]
[44,"全省选调小学数学","姜贞露",20208012529,"洪范学校"]
[45,"全省选调小学数学","袁美秀",20208012121,"洪燕学校"]
[46,"全省选调小学数学","付会娟",20208012217,"洪范学校"]
[47,"全省选调小学数学","万彩云",20208012603,"洪科小学"]
[48,"全省选调小学数学","辛婷婷",20208012314,"洪州汇仁学校"]
[49,"全省选调小学数学","徐业妹",20208012302,"新城学校"]
[50,"全省选调小学数学","吴思程",20208012721,"新城学校"]
[51,"全省选调小学数学","邓近梅",20208012433,"银河学校"]
[52,"全省选调小学数学","万琼",20208012320,"金沙路小学"]
[53,"全省选调小学数学","顾海燕",20208012123,"银河学校"]
[54,"全省选调小学数学","范晓",20208012401,"洪科小学"]
[55,"全省选调小学数学","彭丹敏",20208012539,"莲塘一中八一分校"]
[56,"全省选调小学英语","胡小玲",20208012922,"洪范学校"]
[57,"全省选调小学英语","杨娟",20208012930,"洪燕学校"]
[58,"全省选调小学英语","沈秀秀",20208013203,"振兴路小学"]
[59,"全省选调小学音乐","陈海婷",20208013226,"墨山街小学"]
[60,"全省选调小学体育","唐苏琴",20208013242,"墨山街小学"]
[61,"全省选调小学体育","江淑云",20208013244,"莲塘镇中心小学（城东学校）"]
[62,"全省选调小学美术","赵玉磊",20208013317,"洪范学校"]
[63,"全省选调小学科学","温萍",20208013336,"莲塘一中八一分校"]

{"sheet":"E  县内选调70人","index":5,"n_rows":19,"n_cols":4,"rows_kept":19,"hidden":true,"merged":[[0,0,0,5],[1,3,1,5],[2,3,2,5],[3,3,3,5],[4,3,4,5],[5,3,5,5],[6,3,6,5],[7,3,7,5],[8,3,8,5],[9,3,9,5],[10,3,10,5],[11,3,11,5],[12,3,12,5],[13,3,13,5],[14,3,14,5],[15,3,15,5],[16,3,16,5],[17,3,17,5],[18,0,18,1],[18,3,18,5]]}
["南昌县2020年面向全县选调在编中小学教师岗位表"]
["招聘岗位","岗位代码","招聘人数","岗位条件"]
["初中语文",2007101,7,"1.在南昌县乡镇学校工作满5年的中小学教师（即2015年12月31日及以前系我县在编在岗乡镇中小学教师，含我县2015年及以前通过“三支一扶”招募的支教人员）；2.本科及以上学历，初级中学及以上语文学科教师资格证；3.具有三年及以上初中阶段语文学科教学经历。"]
["初中数学",2007102,7,"1.在南昌县乡镇学校工作满5年的中小学教师（即2015年12月31日及以前系我县在编在岗乡镇中小学教师，含我县2015年及以前通过“三支一扶”招募的支教人员）；2.本科及以上学历，初级中学及以上数学学科教师资格证；3.具有三年及以上初中阶段数学学科教学经历。"]
["初中英语",2007103,6,"1.在南昌县乡镇学校工作满5年的中小学教师（即2015年12月31日及以前系我县在编在岗乡镇中小学教师，含我县2015年及以前通过“三支一扶”招募的支教人员）；2.本科及以上学历，初级中学及以上英语学科教师资格证；3.具有三年及以上初中阶段英语学科教学经历。"]
["初中物理",2007104,2,"1.在南昌县乡镇学校工作满5年的中小学教师（即2015年12月31日及以前系我县在编在岗乡镇中小学教师，含我县2015年及以前通过“三支一扶”招募的支教人员）；2.本科及以上学历，初级中学及以上物理学科教师资格证；3.具有三年及以上初中阶段物理学科教学经历。"]
["初中化学",2007105,2,"1.在南昌县乡镇学校工作满5年的中小学教师（即2015年12月31日及以前系我县在编在岗乡镇中小学教师，含我县2015年及以前通过“三支一扶”招募的支教人员）；2.本科及以上学历，初级中学及以上化学学科教师资格证；3.具有三年及以上初中阶段化学学科教学经历。"]
["初中历史",2007106,1,"1.在南昌县乡镇学校工作满5年的中小学教师（即2015年12月31日及以前系我县在编在岗乡镇中小学教师，含我县2015年及以前通过“三支一扶”招募的支教人员）；2.本科及以上学历，初级中学及以上历史学科教师资格证；3.具有三年及以上初中阶段历史学科教学经历。"]
["初中思品",2007107,3,"1.在南昌县乡镇学校工作满5年的中小学教师（即2015年12月31日及以前系我县在编在岗乡镇中小学教师，含我县2015年及以前通过“三支一扶”招募的支教人员）；2.本科及以上学历，初级中学及以上思品（政治）学科教师资格证；3.具有三年及以上初中阶段思品（政治）学科教学经历。"]
["初中体育",2007108,2,"1.在南昌县乡镇学校工作满5年的中小学教师（即2015年12月31日及以前系我县在编在岗乡镇中小学教师，含我县2015年及以前通过“三支一扶”招募的支教人员）；2.本科及以上学历，初级中学及以上体育学科相关教师资格证；3.具有三年及以上初中阶段体育学科教学经历。"]
["小学语文",2007109,12,"1.在南昌县乡镇学校工作满5年的中小学教师（即2015年12月31日及以前系我县在编在岗乡镇中小学教师，含我县2015年及以前通过“三支一扶”招募的支教人员）；2.大专及以上学历，小学及以上语文学科教师资格证；3.具有三年及以上小学阶段语文学科教学经历。"]
["小学数学",2007110,15,"1.在南昌县乡镇学校工作满5年的中小学教师（即2015年12月31日及以前系我县在编在岗乡镇中小学教师，含我县2015年及以前通过“三支一扶”招募的支教人员）；2.大专及以上学历，小学及以上数学学科教师资格证；3.具有三年及以上小学阶段数学学科教学经历。"]
["小学英语",2007111,6,"1.在南昌县乡镇学校工作满5年的中小学教师（即2015年12月31日及以前系我县在编在岗乡镇中小学教师，含我县2015年及以前通过“三支一扶”招募的支教人员）；2.大专及以上学历，小学及以上英语学科教师资格证；3.具有三年及以上小学阶段英语学科教学经历。"]
["小学思品",2007112,1,"1.在南昌县乡镇学校工作满5年的中小学教师（即2015年12月31日及以前系我县在编在岗乡镇中小学教师，含我县2015年及以前通过“三支一扶”招募的支教人员）；2.大专及以上学历，小学及以上思品（政治）学科教师资格证；3.具有三年及以上小学阶段思品（政治）学科教学经历。"]
["小学科学",2007113,1,"1.在南昌县乡镇学校工作满5年的中小学教师（即2015年12月31日及以前系我县在编在岗乡镇中小学教师，含我县2015年及以前通过“三支一扶”招募的支教人员）；2.大专及以上学历，小学及以上科学学科教师资格证；3.具有三年及以上小学阶段科学学科教学经历。"]
["小学体育",2007114,1,"1.在南昌县乡镇学校工作满5年的中小学教师（即2015年12月31日及以前系我县在编在岗乡镇中小学教师，含我县2015年及以前通过“三支一扶”招募的支教人员）；2.大专及以上学历，小学及以上体育学科相关教师资格证；3.具有三年及以上小学阶段体育学科教学经历。"]
["小学音乐",2007115,2,"1.在南昌县乡镇学校工作满5年的中小学教师（即2015年12月31日及以前系我县在编在岗乡镇中小学教师，含我县2015年及以前通过“三支一扶”招募的支教人员）；2.大专及以上学历，小学及以上音乐学科相关教师资格证；3.具有三年及以上小学阶段音乐学科教学经历。"]
["小学美术",2007116,2,"1.在南昌县乡镇学校工作满5年的中小学教师（即2015年12月31日及以前系我县在编在岗乡镇中小学教师，含我县2015年及以前通过“三支一扶”招募的支教人员）；2.大专及以上学历，小学及以上美术学科教师资格证；3.具有三年及以上小学阶段美术学科教学经历。"]
["合计",null,{"$f":"SUM(C3:C18)","v":70}]

{"sheet":"E 县内选调拟录人员名单","index":6,"n_rows":68,"n_cols":5,"rows_kept":68,"hidden":true,"merged":[[0,0,0,4]]}
["南昌县2020年县内选调中小学在编教师\n拟录人员名单"]
["序号","岗位名称","姓名","准考证号","选岗学校"]
[1,"县内选调初中语文","饶丽丽",20208010606,"洪范学校"]
[2,"县内选调初中语文","蔡贤芳",20208010615,"洪范学校"]
[3,"县内选调初中语文","蔡小芳",20208010612,"莲塘四中"]
[4,"县内选调初中语文","魏文亭",20208010605,"莲塘四中"]
[5,"县内选调初中语文","黄桂花",20208010608,"洪州汇仁学校"]
[6,"县内选调初中语文","罗胜",20208010609,"莲塘一中八一分校"]
[7,"县内选调初中语文","赵婧",20208010604,"莲塘一中八一分校"]
[8,"县内选调初中数学","宗丽",20208010622,"洪范学校"]
[9,"县内选调初中数学","邱增伟",20208010632,"洪范学校"]
[10,"县内选调初中数学","万星",20208010620,"莲塘四中"]
[11,"县内选调初中数学","吴芳菲",20208010629,"莲塘四中"]
[12,"县内选调初中数学","万蕾",20208010618,"洪州汇仁学校"]
[13,"县内选调初中数学","胡文轩",20208010617,"洪亿学校"]
[14,"县内选调初中数学","匡桂平",20208010626,"莲塘一中八一分校"]
[15,"县内选调初中英语","章倩",20208010705,"莲塘四中"]
[16,"县内选调初中英语","涂小宁",20208010709,"洪范学校"]
[17,"县内选调初中英语","乐淑莹",20208010704,"洪亿学校"]
[18,"县内选调初中英语","吴星星",20208010643,"洪范学校"]
[19,"县内选调初中英语","肖木兰",20208010703,"洪州汇仁学校"]
[20,"县内选调初中物理","龚良军",20208010715,"洪州学校"]
[21,"县内选调初中物理","唐尖尖",20208010711,"洪范学校"]
[22,"县内选调初中化学","杨艳",20208010717,"银河学校"]
[23,"县内选调初中化学","李道贞",20208010718,"莲塘一中八一分校"]
[24,"县内选调初中历史","张慧慧",20208010720,"洪范学校"]
[25,"县内选调初中思想品德","万景瑶",20208010722,"洪范学校"]
[26,"县内选调初中思想品德","曾美慧",20208010723,"洪燕学校"]
[27,"县内选调初中体育","王英福",20208010727,"莲塘四中"]
[28,"县内选调初中体育","朱秀君",20208010726,"洪燕学校"]
[29,"县内选调小学语文","万思倩",20208010819,"洪州学校"]
[30,"县内选调小学语文","黄琳",20208011002,"金沙路小学"]
[31,"县内选调小学语文","傅忠忠",20208010843,"洪范学校"]
[32,"县内选调小学语文","周瑞芳",20208010813,"洪州汇仁学校"]
[33,"县内选调小学语文","陈芳",20208010811,"芳草学校"]
[34,"县内选调小学语文","祝蕾",20208010930,"诚义学校"]
[35,"县内选调小学语文","黄梦婷",20208010915,"洪科小学"]
[36,"县内选调小学语文","李文秀",20208010814,"洪燕学校"]
[37,"县内选调小学语文","王婷",20208010808,"银河学校"]
[38,"县内选调小学语文","伍紫薇",20208010928,"新城学校"]
[39,"县内选调小学语文","龚丽",20208010945,"洪亿学校"]
[40,"县内选调小学语文","罗红",20208010803,"莲塘一中八一分校"]
[41,"县内选调小学数学","王金梅",20208011011,"洪州学校"]
[42,"县内选调小学数学","郑日娜",20208011205,"洪科小学"]
[43,"县内选调小学数学","袁海红",20208011104,"洪范学校"]
[44,"县内选调小学数学","余冲",20208011012,"洪范学校"]
[45,"县内选调小学数学","魏琴",20208011034,"洪亿学校"]
[46,"县内选调小学数学","徐媛媛",20208011107,"洪科小学"]
[47,"县内选调小学数学","万琮琮",20208011131,"银河学校"]
[48,"县内选调小学数学","罗敏",20208011137,"洪州汇仁学校"]
[49,"县内选调小学数学","万以琴",20208011110,"芳草学校"]
[50,"县内选调小学数学","熊宜",20208011036,"诚义学校"]
[51,"县内选调小学数学","黄荣梅",20208011140,"金沙路小学"]
[52,"县内选调小学数学","陈飘飘",20208011041,"洪燕学校"]
[53,"县内选调小学数学","余刚琴",20208011132,"洪亿学校"]
[54,"县内选调小学数学","熊艺",20208011017,"新城学校"]
[55,"县内选调小学数学","章佳慧",20208011024,"莲塘一中八一分校"]
[56,"县内选调小学英语","廖芳凌",20208011230,"振兴路小学"]
[57,"县内选调小学英语","胡超",20208011218,"斗柏路小学"]
[58,"县内选调小学英语","李如婷",20208011228,"洪科小学"]
[59,"县内选调小学英语","舒云",20208011222,"金沙路小学"]
[60,"县内选调小学英语","冯平平",20208011221,"新城学校"]
[61,"县内选调小学英语","何珊",20208011223,"莲塘一中八一分校"]
[62,"县内选调小学体育","孙景锋",20208011245,"金沙路小学"]
[63,"县内选调小学音乐","邓丁丁",20208011318,"洪科小学"]
[64,"县内选调小学音乐","田李云",20208011323,"洪燕学校"]
[65,"县内选调小学美术","陈玉莹",20208011328,"洪燕学校"]
[66,"县内选调小学美术","刘格利",20208011337,"莲塘一中八一分校"]

{"sheet":"F  2015定向师范生50人","index":7,"n_rows":52,"n_cols":18,"rows_kept":52,"hidden":true,"merged":[[0,0,0,17]]}
["南昌县2015级豫章师范定向师范生"]
["序号","姓名","性别","考生类别","毕业学校","实习学校","报考乡镇","总等级分",{"$nulls":5},"联系电话","家庭住址","指导教师","联系电话","备注"]
[7,"罗娇","女","应届","广福中学","诚义学校","广福镇",86.2,"罗娇","女","小教","广福镇","515小学教育班",18770917309,"江西省南昌市南昌县广福镇北头村后屋小组36号","陈婧婷",15970635576]
[24,"陈欢欢","女","英语","莲塘六中","洪燕学校","广福镇",90.7,null,"女","小教","泾口乡","未入读",13576286367,"江西省南昌市南昌县莲塘镇锦绣365","雷虹",13767039857,"2014级休学"]
[25,"李茹","女","应届","广福二中","洪燕学校","广福镇",84.7,"李茹","女","小教","广福镇","515小学教育班",17779131213,"江西省南昌市南昌县广福镇溪山村88号","陈婧婷",15970635576]
[27,"黄冬娇","女","应届","黄马中学","洪亿学校","黄马乡",84.45,"黄冬娇","女","小教","黄马乡","515小学教育班",15270011683,"江西省南昌市南昌县黄马乡华标庙下村","陈婧婷",15970635576]
[28,"周能","女","应届","三江中学","洪州学校","黄马乡",85.4,"周能","女","小教","黄马乡","515小学教育班",18270910850,"江西省南昌市西湖区下塘塍街75号202室","陈婧婷",15970635576]
[29,"饶美娟","女","应届","莲塘六中","洪州学校","黄马乡",84.4,"饶美娟","女","小教","黄马乡","515小学教育班",13517086539,"江西省南昌市南昌县黄马乡鹏飞大道34号","陈婧婷",15970635576]
[44,"王斯颖","女","应届","莲塘四中","向塘实验","黄马乡",86,"王斯颖","女","小教","黄马乡","515小学教育班",18720930312,"江西省南昌市南昌县向塘镇顺达路一支路七号","陈婧婷",15970635576]
[1,"高红","女","应届","莲塘四中","八一分校","蒋巷镇",79.55,"高红","女","小教","蒋巷镇","515小学教育班",18720053161,"南昌县莲塘镇汇仁阳光花园","陈婧婷",15970635576]
[2,"饶禄梦","女","应届","黄马中学","八一分校","蒋巷镇",78.5,"饶禄梦","女","小教","蒋巷镇","515小学教育班",15270820759,"南昌县黄马乡徐家村曹门自然村7号","陈婧婷",15970635576]
[3,"徐洋洋","男","应届","莲塘六中","八一分校","蒋巷镇",76.8,"徐洋洋","男","小教","蒋巷镇","515小学教育班",18579114995,"江西省南昌市南昌县蒋巷镇","陈婧婷",15970635576]
[8,"王腊根","男","应届","蒋巷二中","芳草学校","蒋巷镇",77.8,"王腊根","男","小教","蒋巷镇","515小学教育班",17307091120,"江西省南昌市南昌县蒋巷镇高梧村","陈婧婷",15970635576]
[18,"应思云","女","应届","蒋巷二中","洪燕学校","蒋巷镇",76.4,"应思云","女","小教","蒋巷镇","515小学教育班",15179153759,"江西省南昌市南昌县蒋巷镇蒋巷街","陈婧婷",15970635576]
[48,"龚子薇","女","应届","广福二中","新城学校","蒋巷镇",87.25,"龚子薇","女","小教","蒋巷镇","515小学教育班",18270847856,"南昌县莲塘镇煌盛中央公园7栋","陈婧婷",15970635576]
[49,"万云凤","女","应届","广福中学","振兴路小学","蒋巷镇",85.45,"万云凤","女","小教","蒋巷镇","515小学教育班",18270877896,"江西省南昌市南昌县广福镇广福街","陈婧婷",15970635576]
[50,"罗薇","女","应届","广福中学","振兴路小学","蒋巷镇",79.9,"罗薇","女","小教","蒋巷镇","515小学教育班",18579193719,"江西省南昌市南昌县广福镇广福街","陈婧婷",15970635576]
[9,"舒伟森","男","应届","泾口中学","芳草学校","泾口乡",79.85,"舒伟森","男","小教","泾口乡","515小学教育班","15879155428\n","江西省南昌市南昌县泾口乡","陈婧婷",15970635576]
[10,"付诺诚","男","应届","武阳中学","芳草学校","泾口乡",73.35,"付诺诚","男","小教","泾口乡","515小学教育班",17770822053,"江西省南昌市南昌县武阳镇","陈婧婷",15970635576]
[19,"罗梦","女","应届","广福二中","洪燕学校","泾口乡",74.4,"罗梦","女","小教","泾口乡","515小学教育班",13517096192,"南昌县莲塘振兴大道正荣大湖之都凌湖峰","陈婧婷",15970635576]
[20,"舒志勇","男","应届","泾口中学","洪燕学校","泾口乡",73,"舒志勇","男","小教","泾口乡","515小学教育班",15979023342,"南昌县泾口乡康庄村黄港自然村14附1号","陈婧婷",15970635576]
[30,"万芳芳","女","应届","泾口中学","金沙路小学","泾口乡",72.95,"万芳芳","女","小教","泾口乡","515小学教育班",13576956205,"江西省南昌市南昌县莲塘镇莲水巷43栋3单元","陈婧婷",15970635576]
[31,"熊雨欣","女","应届","广福二中  ","金沙路小学","泾口乡",82.3,"熊雨欣","女","小教","泾口乡","515小学教育班",15170453893,"南昌县莲塘镇万科城市花园小区12栋1单元2404","陈婧婷",15970635576]
[42,"姜乐彤","女","应届","泾口中学","莲塘四中","泾口乡",75.5,"姜乐彤","女","小教","泾口乡","515小学教育班",15070866935,"江西省南昌市南昌县泾口乡泾口新街","陈婧婷",15970635576]
[43,"陶蕾","女","应届","泾口中学","莲塘四中","泾口乡",74.4,"陶蕾","女","小教","泾口乡","515小学教育班",15170429261,"江西省南昌市南昌县高新开发区","陈婧婷",15970635576]
[14,"宋家棋","女","应届","莲塘五中","洪新学校","南新乡",82.8,"宋家棋","女","小教","南新乡","515小学教育班",15727640590,"南昌县向塘镇顺达路一支路七号","陈婧婷",15970635576]
[15,"罗蓓","女","应届","三江中学","洪新学校","南新乡",82.7,"罗蓓","女","小教","南新乡","515小学教育班",13677000726,"南昌县莲塘镇凤凰晴源","陈婧婷",15970635576]
[16,"刘敏","女","应届","南新中学","洪新学校","南新乡",82.6,"刘敏","女","小教","南新乡","515小学教育班",15879020902,"南昌县南新乡楼前街","陈婧婷",15970635576]
[17,"刘洁","女","应届","蒋巷二中","洪新学校","南新乡",81.75,"刘洁","女","小教","南新乡","515小学教育班",1570497172,"南昌县蒋巷镇三洞村赤江新村","陈婧婷",15970635576]
[33,"胡佳煜","女","应届","莲塘六中","莲塘四小","南新乡",79.1,"胡佳煜","女","小教","南新乡","515小学教育班",13657914237,"南昌县莲塘镇力高君御国际","陈婧婷",15970635576]
[45,"张佳丽","女","应届","广福中学","新城学校","南新乡",78.75,"张佳丽","女","小教","南新乡","515小学教育班",13576076457,"江西省南昌市南昌县广福镇广福街","陈婧婷",15970635576]
[46,"江娴","女","应届","凤凰沟","新城学校","南新乡",77.6,"江娴","女","小教","南新乡","515小学教育班",18279189118,"江西省南昌市南昌县莲塘镇锦绣江南","陈婧婷",15970635576]
[47,"杨丰华","男","应届","武阳中学","新城学校","南新乡",76.6,"杨丰华","男","小教","南新乡","515小学教育班",13627004376,"江西省南昌市南昌县武阳镇","陈婧婷",15970635576]
[6,"杜颖","女","应届","莲塘五中","诚义学校","三江镇",82.85,"杜颖","女","小教","三江镇","515小学教育班",13576024518,"南昌县莲塘镇民星集团1栋1单元","陈婧婷",15970635576]
[23,"万丽晨","女","应届","武阳中学","洪燕学校","三江镇",78.9,"万丽晨","女","小教","三江镇","515小学教育班",15179176024,"江西省南昌市南昌县象湖新城幸福时光二期","陈婧婷",15970635576]
[26,"徐笑","女","应届","武阳中学","洪亿学校","三江镇",85.65,"徐笑","女","小教","三江镇","515小学教育班",17370851310,"南昌县莲塘镇农贸街安居小区11栋二单元101","陈婧婷",15970635576]
[11,"熊樱","女","应届","莲塘六中","洪范学校","塘南镇",84.2,"熊樱","女","小教","塘南镇","515小学教育班",18870012758,"江西省南昌市南昌县莲塘桃源丰景","陈婧婷",15970635576]
[34,"骆欣宇","女","应届","武阳中学","莲塘四小","塘南镇",84,"骆欣宇","女","小教","塘南镇","515小学教育班",13627098364,"南昌县武阳镇保丰后骆自然村","陈婧婷",15970635576]
[36,"李科镓","女","应届","塘南中学","莲塘四中","塘南镇",90,"李科镓","女","小教","塘南镇","515小学教育班",15170451796,"江西省南昌市南昌县塘南镇西联村","陈婧婷",15970635576]
[37,"梅梦丹","女","应届","莲塘六中","莲塘四中","塘南镇",86.45,"梅梦丹","女","小教","塘南镇","515小学教育班",15270825731,"南昌县小蓝经开区金沙四路","陈婧婷",15970635576]
[38,"杨文兰","女","应届","蒋巷二中","莲塘四中","塘南镇",84.6,"杨文兰","女","小教","塘南镇","515小学教育班",13870686920,"江西省南昌市南昌县蒋巷镇蒋巷街东路","陈婧婷",15970635576]
[39,"宗欣","女","应届","莲塘五中","莲塘四中","塘南镇",81.25,"宗欣","女","小教","塘南镇","515小学教育班",18296155970,"江西省南昌县莲塘镇莲塘二中","陈婧婷",15970635576]
[40,"周雯蕙","女","应届","莲塘六中","莲塘四中","塘南镇",79.1,"周雯蕙","女","小教","塘南镇","515小学教育班",15907001720,"江西省南昌市莲塘镇体育馆小区四栋","陈婧婷",15970635576]
[41,"陶然然","女","应届","塘南中学","莲塘四中","塘南镇",78.4,"陶然然","女","小教","塘南镇","515小学教育班",15797652724,"江西省南昌市南昌县塘南镇近港村","陈婧婷",15970635576]
[4,"万思琦","女","应届","武阳中学","诚义学校","幽兰镇",82.3,"万思琦","女","小教","幽兰镇","515小学教育班",15180485696,"江西省南昌市南昌县武阳镇谌山自然村","陈婧婷",15970635576]
[5,"杨帅","女","应届","广福中学","诚义学校","幽兰镇",78.25,"杨帅","女","小教","幽兰镇","515小学教育班",15170415057,"江西省南昌市南昌县莲塘镇锦绣365","陈婧婷",15970635576]
[12,"詹诗颖","女","应届","黄马中学","洪范学校","幽兰镇",79.55,"詹诗颖","女","小教","幽兰镇","515小学教育班",18296150636,"南昌县莲塘北大道1588号仁兴现代城10栋2单元302室","陈婧婷",15970635576]
[13,"刘阳","男","应届","幽兰中学","洪范学校","幽兰镇",75.2,"刘阳","男","小教","幽兰镇","515小学教育班",15979143556,"江西省南昌市南昌县幽兰镇胡陶刘村","陈婧婷",15970635576]
[21,"刘思敏","女","应届","蒋巷二中","洪燕学校","幽兰镇",89.2,"刘思敏","女","小教","幽兰镇","515小学教育班",13027205602,"江西省南昌市南昌县蒋巷镇中心小学老师小区","陈婧婷",15970635576]
[22,"张笑","女","应届","武阳中学","洪燕学校","幽兰镇",83.85,"张笑","女","小教","幽兰镇","515小学教育班",15979178433,"江西省南昌市南昌县武阳镇聚龙小区","陈婧婷",15970635576]
[32,"喻璜莹","女","应届","莲塘六中","莲塘三小","幽兰镇",80.75,"喻璜莹","女","小教","幽兰镇","515小学教育班",18970960009,"南昌县莲塘镇澄湖北大道都市晴园8栋","陈婧婷",15970635576]
[35,"陶佳琪","女","应届","莲塘六中","莲塘四小","幽兰镇",79.65,"陶佳琪","女","小教","幽兰镇","515小学教育班",15270906858,"江西省南昌市南昌县莲塘镇莲糖中大道","陈婧婷",15970635576]

{"sheet":"G 2016定向师范生75人（实习）","index":8,"n_rows":21,"n_cols":3,"rows_kept":21,"hidden":true,"merged":[[0,0,0,2],[20,0,20,1]]}
["2016定向师范实习生分配至实习学校情况表"]
["序号","实习学校名称","实习人数"]
[1,"诚义学校",9]
[2,"斗柏路小学",2]
[3,"芳草学校",8]
[4,"洪范学校",6]
[5,"洪科小学",1]
[6,"洪燕学校",9]
[7,"洪州汇仁学校",2]
[8,"洪州学校",3]
[9,"金沙路小学",4]
[10,"莲塘四小",3]
[11,"莲塘四中",5]
[12,"莲塘一中八一分校",4]
[13,"新城学校",9]
[14,"银河实验",6]
[15,"振兴路小学",1]
[16,"洪亿学校",2]
[17,"城东学校",2]
[18,"莲塘三小",2]
["合计",null,{"$f":"SUM(C3:C20)","v":78}]

{"sheet":"H 2015公费师范生2人","index":9,"n_rows":6,"n_cols":11,"rows_kept":6,"hidden":true,"merged":[[0,0,0,3],[1,0,1,9],[2,0,2,3],[2,9,2,10]]}
["附件4"]
["江西省2020届江西师范大学公费师范毕业生就业情况表"]
["单位：南昌县教育体育局",{"$nulls":8},"2020 年 6 月 1 日"]
["序号","姓名","性别","身份证号","生源地","毕业院校","就业单位","就业单位所在县市区","就业单位类型","任教学科","进入单位"]
[1,"赵丽芳","女","360121199801074641","江西省南昌市南昌县","江西师范大学","教体局下属县城学校","南昌县","初中","思想政治教育","莲塘二中"]
[2,"刘丹","女 ","360121199609261922","江西省南昌市南昌县","江西师范大学","教体局下属县城学校","南昌县","初中","英语","洪范学校"]

{"sheet":"I 2017公费师范实习生11人（实习） ","index":10,"n_rows":7,"n_cols":3,"rows_kept":7,"hidden":true,"merged":[[0,0,0,2],[6,0,6,1]]}
["2017公费师范实习生分配至实习学校情况表"]
["序号","实习学校名称","实习人数"]
[1,"莲塘四中",6]
[2,"莲塘二中",2]
[3,"洪州学校",1]
[4,"诚义学校",2]
["合计",null,{"$f":"SUM(C3:C6)","v":11}]

{"sheet":"补充渠道统筹表","index":11,"n_rows":93,"n_cols":62,"rows_kept":93,"hidden":true,"merged":[[0,0,0,52],[0,54,1,56],[0,58,1,61],[1,0,1,2],[1,4,1,6],[1,7,1,14],[1,15,1,18],[1,19,1,45],[1,46,1,47],[1,48,1,52],[2,0,3,0],[2,1,3,1],[2,2,3,2],[2,3,3,3],[2,4,3,4],[2,5,3,5],[2,6,3,6],[2,7,2,8],[2,9,2,10],[2,11,2,12],[2,13,2,14],[2,15,3,15],[2,16,3,16],[2,17,3,17],[2,18,3,18],[2,22,2,25],[2,26,2,32],[2,34,2,37],[2,40,2,41],[2,42,2,43],[2,44,2,45],[2,46,3,46],[2,47,3,47],[2,48,3,48],[2,49,3,49],[2,50,3,50],[2,51,3,51],[2,52,3,52],[2,53,3,53],[2,54,3,54],[2,55,3,55],[2,56,3,56],[2,58,3,58],[2,59,3,59],[2,60,3,60],[2,61,3,61],[92,0,92,3]]}
["南昌县2020年中小学教师补充计划测算表",{"$nulls":53},"新开班及特殊情况增派人数",{"$nulls":3},"教师缺额+新开班及特殊情况增派人数"]
["序号",null,null,"学校名称","类别",null,null,"参数（计算：教师需求数）",{"$nulls":7},"教师需求数",{"$nulls":3},"参数（计算：现有教师数）",{"$nulls":26},"现有教师数",null,"教师需求数-现有教师数=教师缺额"]
["总排序","排序\n\n（合并九年一贯制）","学校编号","学校名称","学段\n\n（合并九年一贯制）","学段","类别","学生数",null,"班级数",null,"其中：\n教学点班级数",null,"行政教辅人员",null,"教师需求数\n\n（已计入村小计算机管理员，不含行政教辅人员）","教师需求数\n\n（合并九年一贯制）","教师需求数\n\n（加行政教辅人员）","教师需求数\n\n（去除函数）","编制册","全省选调","全省统招","中央特岗",{"$nulls":3},"定向师范",{"$nulls":6},"公费师范生","三支一扶",{"$nulls":3},"县内选调","幼儿园转岗任教","轮岗交流人数",null,"请假人数",null,"退休人数",null,"现有教师数","现有教师数\n（合并九年一贯制）","教师缺额\n\n（合并九年一贯制）","教师缺额\n\n（负数清零）","教师缺额\n\n（粘贴为数值）","教师缺额\n\n（剔除高中）","教师缺额\n\n（人工微调）",null,"情况说明","拟增加","新开班及特殊情况实际增派人数",null,"申报补充\n\n（小学）","申报补充\n\n（初中）","申报补充总计\n\n（小学+初中）","缺额+新开班"]
[{"$nulls":7},"2019年秋季学生数\n\n（统计表）","2019年秋季学生数\n\n（合并九年一贯制）","2019年秋季班级数\n\n（统计表）","2019年秋季班级数\n\n（扣除教学点班级数）","教学点个数\n\n（统计表）","教学点班级数\n\n（统计表）","行政教辅人员","行政教辅人员\n\n（合并九年一贯制）",{"$nulls":4},"在编教师数\n\n（编制册）","2019全省选调91人（邓）","2019全省统招312人（邓）","2016特岗教师51人（邓）","2017特岗教师76人（邓）","2018特岗教师48人（邓）","2019特岗教师127人（邓）","2019定向师范毕业48人（邓）","2015招录定向师范毕业生50人（邓）","2016招录定向师范毕业生76人（邓）","2017招录定向师范毕业生77人（邓）","2018招录定向师范毕业生73人（邓）","2019招录定向师范毕业生79人（邓）","2015-2019年招录定向师范毕业生355人（邓）","2019公费师范毕业生23人（邓）","2016三支一扶介绍信6人（邓）","2017三支一扶介绍信9人（邓）","2018三支一扶介绍信10人（邓）","2019三支一扶介绍信15人（邓）","2019县内选调（邓）","编外幼儿园转岗任教小学教师人数","交流接收人数","交流流出人数","长期病假且已执行病假工资人数","停职领办创办企业未到返岗期人数（2021年8月31日）","2020年1月1日至2020年12月31日退休人数","2021年1月1日至2020年8月31日退休人数"]
[{"$nulls":19},1,7,2,3,4,5,6,10,11,{"$nulls":5},9,null,null,12,13,8]
[1,1,1,"南新中小","小学","小学","乡镇中心小学",1722,1722,78,{"$f":"J6-M6","v":73},2,5,3,3,{"$f":"K6*2+M6*1.5+L6","v":155.5},155.5,{"$f":"O6+Q6","v":158.5},{"v":158.5,"d":"159"},192,3,null,5,6,2,5,9,8,8,14,10,9,{"$f":"SUM(AB6:AF6)","v":49},null,1,2,1,1,-2,0,1,-34,-1,-1,-6,-9,{"$f":"T6+U6+V6+W6+X6+Y6+Z6+AA6+AB6+AH6+AK6+AL6+AM6+AN6+AO6+AP6+AQ6+AR6+AS6+AT6","v":180},180,{"$f":"S6-AV6","v":{"v":-21.5,"d":"-22"}},0,0,0,0,{"$nulls":5},9,null,{"$f":"BG6+BH6","v":9},{"$f":"BA6+BE6","v":0}]
[2,2,2,"蒋巷中小","小学","小学","乡镇中心小学",5113,5113,127,120,4,7,7,7,{"$f":"K7*2+M7*1.5+L7","v":254.5},254.5,261.5,{"v":261.5,"d":"262"},235,6,null,7,null,5,16,10,8,11,15,11,12,57,null,1,null,2,5,-2,0,2,-22,0,0,-12,-2,{"$f":"T7+U7+V7+W7+X7+Y7+Z7+AA7+AB7+AH7+AK7+AL7+AM7+AN7+AO7+AP7+AQ7+AR7+AS7+AT7","v":258},258,{"v":3.5,"d":"4"},{"v":3.5,"d":"4"},4,4,4,{"$nulls":5},24,null,24,{"$f":"BA7+BE7","v":4}]
[3,3,3,"塘南中小","小学","小学","乡镇中心小学",1682,1682,101,96,2,5,3,3,201.5,201.5,204.5,{"v":204.5,"d":"205"},172,3,null,8,12,2,9,10,8,10,13,9,9,49,null,null,2,null,null,-3,null,2,-25,null,-1,-1,-3,193,193,{"v":11.5,"d":"12"},{"v":11.5,"d":"12"},12,12,6,{"$nulls":5},23,null,23,6]
[4,4,4,"泾口中小","小学","小学","乡镇中心小学",1565,1565,71,64,4,7,3,3,142.5,142.5,145.5,{"v":145.5,"d":"146"},177,3,null,5,5,2,2,9,8,10,15,12,9,54,null,1,1,null,null,-3,1,1,-31,0,0,-6,-2,171,171,{"v":-25.5,"d":"-26"},0,0,0,0,{"$nulls":5},6,null,6,0]
[5,5,5,"塔城中小","小学","小学","乡镇中心小学",832,832,24,24,null,null,3,3,48,48,51,51,87,null,null,1,null,null,2,{"$nulls":12},-2,0,0,-10,-2,0,-7,-4,65,65,-14,0,0,0,0,{"$nulls":7},0,0]
[6,6,6,"武阳中小","小学","小学","乡镇中心小学",2263,2263,54,54,null,null,5,5,108,108,113,113,147,null,2,3,10,1,3,null,null,2,{"$nulls":3},{"$f":"SUM(AB11:AF11)","v":2},null,null,2,1,null,null,3,3,-27,0,-1,-5,-3,137,137,-24,0,0,0,0,{"$nulls":5},0,null,0,0]
[7,7,7,"向塘中小","小学","小学","乡镇中心小学",3256,3256,115,115,null,null,7,7,230,230,237,237,211,3,2,4,null,6,2,null,null,8,null,null,5,13,{"$nulls":4},2,-1,8,3,-18,-2,-1,-5,-4,210,210,27,27,27,27,11,{"$nulls":5},44,null,44,11]
[8,8,8,"黄马中小","小学","小学","乡镇中心小学",856,856,53,27,6,26,3,3,99,99,102,102,138,{"$nulls":3},5,2,3,null,4,9,null,10,6,29,{"$nulls":5},-3,0,2,-18,0,0,-4,-2,127,127,-25,0,0,0,0,{"$nulls":5},0,null,0,0]
[9,9,9,"三江中小","小学","小学","乡镇中心小学",1500,1500,42,18,8,24,3,3,80,80,83,83,118,2,null,null,2,4,5,null,3,6,10,8,8,35,{"$nulls":5},-1,null,1,-21,null,null,-7,-7,99,99,-16,0,0,0,0,{"$nulls":5},0,null,0,0]
[10,10,10,"冈上中小","小学","小学","乡镇中心小学",1658,1658,63,63,null,null,3,3,126,126,129,129,133,null,null,1,5,3,7,{"$nulls":5},5,5,{"$nulls":5},-1,0,1,-22,0,0,-3,-3,121,121,8,8,8,8,8,{"$nulls":5},8,null,8,8]
[11,11,11,"广福中小","小学","小学","乡镇中心小学",2154,2154,92,92,null,null,5,5,184,184,189,189,157,5,null,null,14,3,16,null,3,3,10,10,8,34,null,null,2,null,4,-4,3,3,-29,0,-1,-5,-4,165,165,24,24,24,24,9,{"$nulls":5},22,null,22,9]
[12,12,12,"富山中小","小学","小学","乡镇中心小学",2000,2000,84,84,null,null,5,5,168,168,173,173,131,null,7,3,8,5,6,{"$nulls":12},-3,2,1,-20,null,null,-8,-5,127,127,46,46,46,46,10,{"$nulls":5},48,null,48,10]
[13,13,13,"东新中小","小学","小学","乡镇中心小学",1769,1769,45,45,null,null,3,3,90,90,93,93,92,null,15,3,3,4,3,{"$nulls":13},0,4,-7,null,-2,-4,-1,110,110,-17,0,0,0,0,{"$nulls":5},20,null,20,0]
[14,14,14,"八一中小","小学","小学","乡镇中心小学",1410,1410,64,54,2,10,3,3,125,125,128,128,135,null,null,2,null,2,5,{"$nulls":13},1,2,-18,0,0,-4,-2,123,123,5,5,5,5,3,{"$nulls":5},4,null,4,3]
[15,15,15,"莲塘中小","小学","小学","县直学校",1848,1848,40,40,null,null,3,5,80,80,85,85,73,null,10,{"$nulls":17},0,6,-6,0,0,-1,-1,81,81,4,4,4,4,4,{"$nulls":5},14,null,14,4]
[16,16,16,"莲塘一小","小学","小学","县直学校",3961,3961,69,69,null,null,9,9,138,138,147,147,161,null,2,{"$nulls":18},14,-16,null,null,-1,-3,157,157,-10,0,0,0,0,{"$nulls":5},6,null,6,0]
[17,17,17,"莲塘二小","小学","小学","县直学校",3446,3446,54,54,null,null,9,9,108,108,117,117,116,null,4,{"$nulls":17},0,19,-2,0,-1,-2,-3,131,131,-14,0,0,0,0,{"$nulls":5},0,null,0,0]
[18,18,18,"莲塘三小","小学","小学","县直学校",5250,5250,82,82,null,null,9,9,164,164,173,173,202,null,1,{"$nulls":17},1,26,-25,{"$nulls":4},205,205,-32,0,0,0,0,{"$nulls":5},0,null,0,0]
[19,19,19,"莲塘四小","小学","小学","县直学校",2851,2851,44,44,null,null,7,7,88,88,95,95,71,null,2,{"$nulls":17},0,36,-10,0,-1,0,0,98,98,-3,0,0,0,0,{"$nulls":5},22,null,22,0]
[20,20,20,"特殊教育学校","特殊教育","特殊教育","县直学校",76,76,7,7,null,null,3,3,14,14,17,17,18,{"$nulls":19},0,4,-6,0,0,-1,-1,14,14,3,0,0,0,0,null,null,1,1,{"$nulls":3},0,1]
[21,25,25,"莲塘实验学校（小学）","县直九年一贯制学校","小学","县直学校",402,554,7,7,null,null,3,3,14,22.4,25.4,{"v":25.4,"d":"25"},19,{"$nulls":19},0,2,0,0,0,0,0,21,31,{"v":-5.6,"d":"-6"},0,0,0,0,{"$nulls":7},0,0]
[23,26,26,"昌南实验学校（小学）","县直九年一贯制学校","小学","县直学校",378,603,7,7,null,null,3,3,14,30.8,33.8,{"v":33.8,"d":"34"},22,null,2,{"$nulls":18},2,-5,{"$nulls":4},21,37,{"v":-3.2,"d":"-3"},0,0,0,0,{"$nulls":5},4,2,6,0]
[25,27,27,"黄马凤凰沟实验学校（小学）","乡镇九年一贯制学校","小学","乡镇中心小学",219,311,6,6,null,null,3,3,12,20.4,23.4,{"v":23.4,"d":"23"},13,{"$nulls":5},1,{"$nulls":12},-1,{"$nulls":7},13,25,{"v":-1.6,"d":"-2"},0,0,0,0,{"$nulls":6},2,2,0]
[27,28,28,"银三角实验学校（小学）","县直九年一贯制学校","小学","县直学校",863,1240,18,18,null,null,3,5,36,61.2,66.2,{"v":66.2,"d":"66"},33,2,10,{"$nulls":17},0,2,-1,0,0,-3,0,43,68,{"v":-1.8,"d":"-2"},0,0,0,0,{"$nulls":7},0,0]
[29,29,29,"县中专","县中专","县中专","县直学校",2348,2348,null,0,null,null,7,7,0,null,7,0,26,{"$nulls":20},18,-2,0,0,-1,-1,40,40,-40,0,0,0,0,{"$nulls":7},0,0]
[30,30,30,"金沙路小学","小学","小学","县直学校",3606,3606,58,58,null,null,9,9,116,116,125,125,126,4,6,{"$nulls":16},2,null,5,-6,null,null,-1,null,136,136,-11,0,0,0,0,null,null,9,9,null,33,null,33,9]
[31,31,31,"振兴路小学","小学","小学","县直学校",3882,3882,59,59,null,null,9,9,118,118,127,127,109,4,2,{"$nulls":17},1,15,-5,0,0,-2,-3,121,121,6,6,6,6,6,{"$nulls":5},21,null,21,6]
[32,32,32,"墨山街小学","小学","小学","县直学校",719,719,17,17,null,null,3,3,34,34,37,37,35,2,3,{"$nulls":16},1,0,4,-7,0,0,-2,-1,35,35,2,2,2,2,2,{"$nulls":5},3,null,3,2]
[33,33,33,"斗柏路小学","小学","小学","县直学校",2729,2729,48,48,null,null,7,7,96,96,103,103,63,null,1,{"$nulls":17},0,72,-10,0,0,-1,0,125,125,-22,0,0,0,0,null,null,1,1,null,4,null,4,1]
[34,34,34,"南新中学","初中","初中","农村初级中学",938,938,18,18,null,null,3,3,{"$f":"K35*2.8","v":50.4},50.4,53.4,{"v":53.4,"d":"53"},84,{"$nulls":5},2,{"$nulls":10},1,2,null,0,0,-2,0,0,-2,0,85,85,{"v":-31.6,"d":"-32"},0,0,0,0,null,"我校无音乐教师，因结构比例原因，申请补充1名初中音乐教师",1,1,null,null,1,1,1]
[35,35,35,"蒋巷二中","初中","初中","农村初级中学",2588,2588,42,42,null,null,7,7,117.6,117.6,124.6,{"v":124.6,"d":"125"},127,3,{"$nulls":4},7,{"$nulls":8},1,{"$nulls":3},-1,null,1,-7,-2,null,-2,null,126,126,{"v":-1.40000000000001,"d":"-1"},0,0,0,0,{"$nulls":5},9,4,13,0]
[36,36,36,"塘南中学","初中","初中","农村初级中学",702,702,12,12,null,null,3,3,33.6,33.6,36.6,{"v":36.6,"d":"37"},55,{"$nulls":16},2,null,null,0,1,-5,0,0,0,0,53,53,{"v":-16.4,"d":"-16"},0,0,0,0,null,"我校因教师结构性缺员，严重缺少初中数学、初中英语、初中体育等专业教师，导致很难按需求开展正常班级授课",3,2,null,null,3,3,2]
[37,37,37,"新联学校（小学）","乡镇九年一贯制学校","小学","乡镇中心小学",344,651,20,20,null,null,3,3,{"$f":"K38*2+M38*1.5+L38","v":40},65.2,68.2,{"v":68.2,"d":"68"},39,{"$nulls":3},6,1,8,{"$nulls":4},3,5,{"$f":"SUM(AB38:AF38)","v":8},{"$nulls":6},0,0,-4,0,0,-2,0,48,72,{"v":-3.8,"d":"-4"},0,0,0,0,{"$nulls":6},6,6,0]
[39,38,38,"泾口中学","初中","初中","农村初级中学",551,551,12,12,null,null,3,3,{"$f":"K39*2.8","v":33.6},33.6,36.6,37,83,{"$nulls":16},1,{"$nulls":3},1,-6,null,null,-1,null,78,78,-41,0,0,0,0,{"$nulls":6},5,5,{"$f":"BA39+BE39","v":0}]
[40,39,39,"幽兰学校（小学）","乡镇九年一贯制学校","小学","乡镇中心小学",513,868,20,20,null,null,3,3,40,62.4,65.4,{"v":65.4,"d":"65"},107,null,null,9,{"$nulls":3},5,4,9,{"$nulls":3},13,{"$nulls":5},-1,null,2,-16,null,null,-5,-1,104,148,{"v":-82.6,"d":"-83"},0,0,0,0,{"$nulls":6},0,0,0]
[42,40,40,"渡头学校（小学）","乡镇九年一贯制学校","小学","乡镇中心小学",603,886,23,17,5,6,3,3,48,67.6,70.6,{"v":70.6,"d":"71"},75,{"$nulls":6},5,4,{"$nulls":4},4,{"$nulls":5},-3,0,0,-21,0,0,0,0,60,105,{"v":-34.4,"d":"-34"},0,0,0,0,{"$nulls":6},0,0,0]
[44,41,41,"塔城中学","初中","初中","农村初级中学",350,350,9,9,null,null,3,3,25.2,25.2,28.2,{"v":28.2,"d":"28"},50,{"$nulls":14},1,{"$nulls":3},-1,null,null,-10,null,-2,-1,null,36,36,{"v":-7.8,"d":"-8"},0,0,0,0,null,"因农村中学教师年龄结构偏大，学校数学教师结构性缺少。因此2020年申请补充初中数学教师1人。",1,1,null,null,1,1,1]
[45,42,42,"武阳中学","初中","初中","农村初级中学",1489,1489,28,28,null,null,5,5,78.4,78.4,83.4,{"v":83.4,"d":"83"},76,1,5,{"$nulls":14},1,null,-1,null,2,-4,null,null,-1,-1,78,78,{"v":5.40000000000001,"d":"5"},{"v":5.40000000000001,"d":"5"},6,6,6,{"$nulls":6},12,12,6]
[46,43,43,"向塘二中","初中","初中","农村初级中学",1324,1324,26,26,null,null,5,5,72.8,72.8,77.8,{"v":77.8,"d":"78"},131,{"$nulls":19},0,0,-7,0,-1,-6,-3,114,114,{"v":-36.2,"d":"-36"},0,0,0,0,{"$nulls":6},0,0,0]
[47,44,44,"向塘实验学校（小学）","乡镇九年一贯制学校","小学","乡镇中心小学",2243,3595,34,34,null,null,5,7,{"$f":"K45*2+M45*1.5+L45","v":68},126.8,133.8,{"v":133.8,"d":"134"},98,null,6,null,null,5,2,{"$nulls":13},0,3,-2,0,0,0,-3,109,192,{"v":-58.2,"d":"-58"},0,0,0,0,{"$nulls":3},3,null,8,12,20,3]
[49,45,45,"向塘向阳学校(小学）","乡镇九年一贯制学校","小学","乡镇中心小学",204,379,14,4,3,10,3,3,{"$f":"K46*2+M46*1.5+L46","v":26},42.8,45.8,{"v":45.8,"d":"46"},32,{"$nulls":4},1,1,{"$nulls":5},3,{"$f":"SUM(AB46:AF46)","v":3},{"$nulls":6},0,0,-5,0,0,0,0,29,51,{"v":-5.2,"d":"-5"},0,0,0,0,{"$nulls":6},0,0,0]
[51,46,46,"黄马中学","初中","初中","农村初级中学",494,494,11,11,null,null,3,3,{"$f":"K47*2.8","v":30.8},30.8,33.8,{"v":33.8,"d":"34"},52,{"$nulls":5},1,{"$nulls":12},-1,null,1,-1,null,null,-1,-1,50,50,{"v":-16.2,"d":"-16"},0,0,0,0,{"$nulls":6},1,1,0]
[52,47,47,"三江中学","初中","初中","农村初级中学",839,839,15,15,null,null,3,3,42,42,45,45,68,{"$nulls":5},1,{"$nulls":15},-3,-2,-1,-2,-2,59,59,-14,0,0,0,0,{"$nulls":6},5,5,0]
[53,48,48,"广福一中","初中","初中","农村初级中学",559,559,12,12,null,null,3,3,33.6,33.6,36.6,{"v":36.6,"d":"37"},48,1,1,{"$nulls":3},1,{"$nulls":10},1,1,null,0,1,-10,0,0,0,0,44,44,{"v":-7.4,"d":"-7"},0,0,0,0,{"$nulls":6},6,6,0]
[54,49,49,"广福二中","初中","初中","农村初级中学",1041,1041,17,17,null,null,5,5,47.6,47.6,52.6,{"v":52.6,"d":"53"},53,2,4,{"$nulls":3},7,{"$nulls":12},-6,0,1,-7,0,0,0,-1,53,53,{"v":-0.399999999999999,"d":"-0"},0,0,0,0,null,"因结构性缺编，特申报2020年补充教师5人。具体学科分别为:初中语文2人，初中物理2人，初中地理1人。",5,1,null,null,5,5,1]
[55,50,50,"冈上中学","初中","初中","农村初级中学",533,533,11,11,null,null,3,3,30.8,30.8,33.8,{"v":33.8,"d":"34"},58,{"$nulls":19},0,0,-5,0,0,-1,0,52,52,{"v":-18.2,"d":"-18"},0,0,0,0,{"$nulls":6},2,2,0]
[56,51,51,"富山中学","初中","初中","农村初级中学",1451,1451,23,23,null,null,5,5,64.4,64.4,69.4,{"v":69.4,"d":"69"},97,{"$nulls":20},1,-14,0,-1,0,-2,81,81,{"v":-11.6,"d":"-12"},0,0,0,0,{"$nulls":6},2,2,0]
[57,52,52,"东新中学","初中","初中","农村初级中学",1134,1134,21,21,null,null,5,5,58.8,58.8,63.8,{"v":63.8,"d":"64"},66,{"$nulls":19},0,3,-3,0,0,-1,0,65,65,{"v":-1.2,"d":"-1"},0,0,0,0,{"$nulls":6},7,7,0]
[58,53,53,"八一中学","初中","初中","农村初级中学",668,668,14,14,null,null,3,3,39.2,39.2,42.2,{"v":42.2,"d":"42"},97,{"$nulls":19},0,0,-11,0,-1,-8,-5,72,72,{"v":-29.8,"d":"-30"},0,0,0,0,{"$nulls":6},0,0,0]
[59,54,54,"莲塘一中","高中","高中","县直学校",4956,4956,86,86,null,null,9,9,{"$f":"H55/12.5","v":396.48},396.48,405.48,{"v":405.48,"d":"405"},393,{"$nulls":13},5,{"$nulls":6},2,-3,null,null,-1,-5,391,391,{"v":14.48,"d":"14"},{"v":14.48,"d":"14"},14,{"$nulls":9},0,0]
[60,55,55,"莲塘二中","高中","高中","县直学校",3367,3367,63,63,null,null,9,9,269.36,269.36,278.36,{"v":278.36,"d":"278"},230,{"$nulls":13},9,{"$nulls":7},-4,null,-1,-1,-1,232,232,{"v":46.36,"d":"46"},{"v":46.36,"d":"46"},46,{"$nulls":9},0,0]
[61,56,56,"莲塘三中","高中","高中","县直学校",3309,3309,52,52,null,null,9,9,264.72,264.72,273.72,{"v":273.72,"d":"274"},241,{"$nulls":13},5,{"$nulls":6},1,{"$nulls":3},-2,-4,241,241,{"v":32.72,"d":"33"},{"v":32.72,"d":"33"},33,{"$nulls":9},0,0]
[62,57,57,"莲塘四中","初中","初中","县直学校",5069,5069,76,76,null,null,9,9,{"$f":"K58*2.8","v":212.8},212.8,221.8,{"v":221.8,"d":"222"},151,null,18,{"$nulls":16},1,null,30,-3,null,null,-2,-2,193,193,{"v":28.8,"d":"29"},{"v":28.8,"d":"29"},29,29,25,null,"补充计划数需+1（1人被判刑待办理下编手续）",1,1,null,null,55,55,26]
[63,58,58,"莲塘五中","初中","初中","县直学校",2606,2606,42,42,null,null,7,7,117.6,117.6,124.6,{"v":124.6,"d":"125"},133,null,3,{"$nulls":18},7,-5,null,null,-3,null,135,135,{"v":-10.4,"d":"-10"},0,0,0,0,{"$nulls":6},12,12,0]
[64,59,59,"莲塘六中","初中","初中","县直学校",2770,2770,44,44,null,null,7,7,123.2,123.2,130.2,{"v":130.2,"d":"130"},136,null,5,{"$nulls":18},9,-1,null,null,-3,-3,143,143,{"v":-12.8,"d":"-13"},0,0,0,0,{"$nulls":6},4,4,0]
[65,60,60,"莲塘七中","初中","初中","县直学校",1877,1877,30,30,null,null,5,5,84,84,89,89,109,null,3,{"$nulls":18},1,-8,0,0,-2,-2,101,101,-12,0,0,0,0,{"$nulls":6},7,7,0]
[66,61,61,"银河学校（小学）","县直九年一贯制学校","小学","县直学校",2980,4340,48,48,null,null,7,9,{"$f":"K62*2+M62*1.5+L62","v":96},163.2,172.2,{"v":172.2,"d":"172"},92,2,15,{"$nulls":16},1,null,12,-19,{"$nulls":4},103,191,{"v":-18.8,"d":"-19"},0,0,0,0,null,"虽现有教师数大于需求数，但因学科人数不平衡，还需申报2020年补充教师12人。",12,11,null,10,2,12,11]
[68,62,62,"洪州学校(小学含莲六小）","县直九年一贯制学校","小学","县直学校",3549,5281,57,57,null,null,9,9,114,192.4,201.4,{"v":201.4,"d":"201"},69,null,5,{"$nulls":17},0,49,-2,0,-1,0,0,120,228,{"v":-26.6,"d":"-27"},0,0,0,0,null,"由于化解大班额问题，故教师需求数61人。",34,28,null,56,5,61,28]
[70,63,63,"新城学校（小学）","县直九年一贯制学校","小学","县直学校",1743,3106,31,31,null,null,5,9,62,126.4,135.4,{"v":135.4,"d":"135"},53,3,6,{"$nulls":16},2,0,1,-1,0,0,0,0,64,137,{"v":-1.59999999999999,"d":"-2"},0,0,0,0,null,"小学增加9个班，初中增加4个班",29,27,null,4,null,4,27]
[72,64,64,"诚义学校（小学）","县直九年一贯制学校","小学","县直学校",2622,3655,44,44,null,null,7,9,88,138.4,147.4,{"v":147.4,"d":"147"},61,5,12,{"$nulls":16},2,0,11,-2,0,0,0,0,89,167,{"v":-19.6,"d":"-20"},0,0,0,0,{"$nulls":5},28,9,37,0]
[74,65,65,"芳草学校（小学）","县直九年一贯制学校","小学","县直学校",2222,2934,42,42,null,null,7,7,84,120.4,127.4,{"v":127.4,"d":"127"},72,3,10,{"$nulls":16},1,null,8,{"$nulls":5},94,149,{"v":-21.6,"d":"-22"},0,0,0,0,{"$nulls":5},8,18,26,0]
[76,66,66,"洪州汇仁学校(小学）","县直九年一贯制学校","小学","县直学校",1658,2337,26,26,null,null,5,7,52,85.6,92.6,{"v":92.6,"d":"93"},40,2,{"$nulls":17},1,null,16,{"$nulls":3},-1,null,58,97,{"v":-4.40000000000001,"d":"-4"},0,0,0,0,null,"预计一年级净增9个班需教师21人，七年级净增3个班需教师10人。",27,23,null,21,10,31,23]
[78,67,67,"洪燕学校（小学）","县直九年一贯制学校","小学","县直学校",2474,3281,41,41,null,null,7,9,82,121.2,130.2,{"v":130.2,"d":"130"},51,3,13,{"$nulls":16},3,null,5,-2,{"$nulls":4},73,128,{"v":2.19999999999999,"d":"2"},{"v":2.19999999999999,"d":"2"},2,2,2,null,null,27,29,null,19,10,29,31]
[80,68,68,"洪亿学校（小学）","县直九年一贯制学校","小学","县直学校",618,746,15,15,null,null,3,3,30,38.4,41.4,{"v":41.4,"d":"41"},22,2,1,{"$nulls":16},2,null,10,0,{"$nulls":4},37,51,{"v":-9.6,"d":"-10"},0,0,0,0,null,"预计接收新生一年级6个班，七年级4个班，转学生200人左右4个班。申报2020年补充教师28人。",24,21,null,19,9,28,21]
[82,69,69,"洪科小学","小学","小学","县直学校",781,781,20,{"$f":"J70-M70","v":20},null,null,3,3,40,40,{"$f":"O70+Q70","v":43},43,10,2,12,{"$nulls":16},1,0,14,0,0,0,0,0,{"$f":"T70+U70+V70+W70+X70+Y70+Z70+AA70+AB70+AH70+AK70+AL70+AM70+AN70+AO70+AP70+AQ70+AR70+AS70+AT70","v":39},39,{"$f":"S70-AV70","v":4},4,4,4,4,null,"鉴于万科楼盘入住率不断提高，2020年学校秋季计划扩班招生，故申报2020年补充教师26人。",22,8,null,26,null,{"$f":"BG70+BH70","v":26},12]
[83,70,70,"八一分校（小学）","县直九年一贯制学校","小学","县直学校",1317,1731,22,22,null,null,5,5,44,63.6,68.6,{"v":68.6,"d":"69"},4,2,8,{"$nulls":16},2,null,11,{"$nulls":3},-1,null,26,54,{"v":14.6,"d":"15"},{"v":14.6,"d":"15"},15,15,15,null,"预计初中新增6个年级，学生300名；小学新增5个班级学生200名。",22,24,null,24,13,37,39]
[85,71,71,"洪范学校（小学）","县直九年一贯制学校","小学","县直学校",595,965,14,14,null,null,3,3,28,50.4,53.4,{"v":53.4,"d":"53"},null,null,9,{"$nulls":16},12,0,12,0,0,0,0,0,33,59,{"v":-5.6,"d":"-6"},0,0,0,0,null,"预计初中新增10个班级，小学新增12个班级",52,46,null,26,30,56,46]
[87,72,72,"洪新小学","小学","小学","县直学校",null,null,9,9,null,null,3,3,18,18,21,21,{"$nulls":27},21,21,0,0,0,0,0]
[22,null,25,"莲塘实验学校（初中）","县直九年一贯制学校","初中","县直学校",152,null,3,3,null,null,3,null,{"$f":"K74*2.8","v":8.4},{"$nulls":3},10,{"$nulls":19},0,0,0,0,0,0,0,{"$f":"T74+U74+V74+W74+X74+Y74+Z74+AA74+AB74+AH74+AK74+AL74+AM74+AN74+AO74+AP74+AQ74+AR74+AS74+AT74","v":10}]
[24,null,26,"昌南实验学校（初中）","县直九年一贯制学校","初中","县直学校",225,null,6,6,null,null,3,null,16.8,{"$nulls":3},14,null,3,{"$nulls":19},-1,{"$nulls":4},16]
[26,null,27,"黄马凤凰沟实验学校（初中）","县直九年一贯制学校","初中","农村初级中学",92,null,3,3,null,null,3,null,8.4,{"$nulls":3},14,{"$nulls":20},1,-3,{"$nulls":4},12]
[28,null,28,"银三角实验学校（初中）","县直九年一贯制学校","初中","县直学校",377,null,9,9,null,null,3,null,25.2,{"$nulls":3},25,1,3,{"$nulls":17},0,0,-2,0,0,-2,0,25]
[38,null,37,"新联学校（初中）","县直九年一贯制学校","初中","农村初级中学",307,null,9,9,null,null,3,null,25.2,{"$nulls":3},30,{"$nulls":5},7,{"$nulls":12},-5,0,0,-8,0,0,0,0,24]
[41,null,39,"幽兰学校（初中）","县直九年一贯制学校","初中","农村初级中学",355,null,8,8,null,null,3,null,22.4,{"$nulls":3},52,{"$nulls":14},1,{"$nulls":5},1,-6,null,-1,-1,-1,44]
[43,null,40,"渡头学校（初中）","县直九年一贯制学校","初中","农村初级中学",283,null,7,7,null,null,3,null,19.6,{"$nulls":3},46,{"$nulls":19},0,0,-1,0,0,0,0,45]
[48,null,44,"向塘实验学校（初中）","县直九年一贯制学校","初中","农村初级中学",1352,null,21,21,null,null,5,null,58.8,{"$nulls":3},92,2,4,{"$nulls":3},3,{"$nulls":12},-1,0,0,-5,0,0,-7,-5,83]
[50,null,45,"向塘向阳学校(初中）","县直九年一贯制学校","初中","农村初级中学",175,null,6,6,null,null,3,null,16.8,{"$nulls":3},23,{"$nulls":5},2,{"$nulls":12},-2,0,0,-1,0,0,0,0,22]
[67,null,61,"银河学校（初中）","县直九年一贯制学校","初中","县直学校",1360,null,24,24,null,null,5,null,67.2,{"$nulls":3},73,1,19,{"$nulls":16},1,null,1,-7,{"$nulls":4},88]
[69,null,62,"洪州学校(初中）","县直九年一贯制学校","初中","县直学校",1732,null,28,28,null,null,5,null,78.4,{"$nulls":3},81,null,6,{"$nulls":17},0,21,null,0,0,0,0,108]
[71,null,63,"新城学校（初中）","县直九年一贯制学校","初中","县直学校",1363,null,23,23,null,null,5,null,64.4,{"$nulls":3},60,2,10,{"$nulls":16},2,0,2,-3,0,0,0,0,73]
[73,null,64,"诚义学校（初中）","县直九年一贯制学校","初中","县直学校",1033,null,18,18,null,null,5,null,50.4,{"$nulls":3},62,3,15,{"$nulls":16},1,null,1,-4,0,0,0,0,78]
[75,null,65,"芳草学校（初中）","县直九年一贯制学校","初中","县直学校",712,null,13,13,null,null,3,null,36.4,{"$nulls":3},36,3,11,{"$nulls":16},1,null,4,{"$nulls":5},55]
[77,null,66,"洪州汇仁学校(中学）","县直九年一贯制学校","初中","县直学校",679,null,12,12,null,null,3,null,33.6,{"$nulls":3},30,2,1,{"$nulls":16},2,null,4,{"$nulls":5},39]
[79,null,67,"洪燕学校（初中）","县直九年一贯制学校","初中","县直学校",807,null,14,14,null,null,3,null,39.2,{"$nulls":3},38,4,9,{"$nulls":16},2,null,2,{"$nulls":5},55]
[81,null,68,"洪亿学校（初中）","县直九年一贯制学校","初中","县直学校",128,null,3,3,null,null,3,null,8.4,{"$nulls":3},8,2,2,{"$nulls":16},1,null,2,-1,{"$nulls":4},14]
[84,null,70,"八一分校（初中）","县直九年一贯制学校","初中","县直学校",414,null,7,7,null,null,3,null,19.6,{"$nulls":3},6,3,15,{"$nulls":18},4,{"$nulls":5},28]
[86,null,71,"洪范学校（初中）","县直九年一贯制学校","初中","县直学校",370,null,8,8,null,null,3,null,22.4,{"$nulls":5},9,{"$nulls":11},4,{"$nulls":4},7,0,6,0,0,0,0,0,26]
["合计",{"$nulls":6},{"$f":"SUM(H6:H92)","v":135355},135355,2895,{"$f":"SUM(K6:K92)","v":2795},36,100,null,{"$f":"SUM(O6:O92)","v":356},{"$nulls":3},{"v":7201.96,"d":"7202"},7275,{"$f":"SUM(U6:U92)","v":91},312,51,76,48,127,48,50,76,77,73,79,355,23,{"$f":"SUM(AI6:AI92)","v":6},9,10,15,0,20,{"$f":"SUM(AO6:AO92)","v":516},-638,-9,-18,-151,-106,7761,7761,{"$nulls":4},{"$f":"SUM(BA6:BA92)","v":115},{"$nulls":3},{"$f":"SUM(BE6:BE92)","v":237},{"$nulls":4},{"$f":"SUM(BJ6:BJ92)","v":352}]

{"sheet":"补充计划测算表","index":12,"n_rows":93,"n_cols":62,"rows_kept":93,"hidden":true,"merged":[[0,0,0,52],[0,54,1,56],[0,58,1,61],[1,0,1,2],[1,4,1,6],[1,7,1,14],[1,15,1,18],[1,19,1,45],[1,46,1,47],[1,48,1,52],[2,0,3,0],[2,1,3,1],[2,2,3,2],[2,3,3,3],[2,4,3,4],[2,5,3,5],[2,6,3,6],[2,7,2,8],[2,9,2,10],[2,11,2,12],[2,13,2,14],[2,15,3,15],[2,16,3,16],[2,17,3,17],[2,18,3,18],[2,22,2,25],[2,26,2,32],[2,34,2,37],[2,40,2,41],[2,42,2,43],[2,44,2,45],[2,46,3,46],[2,47,3,47],[2,48,3,48],[2,49,3,49],[2,50,3,50],[2,51,3,51],[2,52,3,52],[2,53,3,53],[2,54,3,54],[2,55,3,55],[2,56,3,56],[2,58,3,58],[2,59,3,59],[2,60,3,60],[2,61,3,61],[92,0,92,3]]}
["南昌县2020年中小学教师补充计划测算表",{"$nulls":53},"新开班及特殊情况增派人数",{"$nulls":3},"教师缺额+新开班及特殊情况增派人数"]
["序号",null,null,"学校名称","类别",null,null,"参数（计算：教师需求数）",{"$nulls":7},"教师需求数",{"$nulls":3},"参数（计算：现有教师数）",{"$nulls":26},"现有教师数",null,"教师需求数-现有教师数=教师缺额"]
["总排序","排序\n\n（合并九年一贯制）","学校编号","学校名称","学段\n\n（合并九年一贯制）","学段","类别","学生数",null,"班级数",null,"其中：\n教学点班级数",null,"行政教辅人员",null,"教师需求数\n\n（已计入村小计算机管理员，不含行政教辅人员）","教师需求数\n\n（合并九年一贯制）","教师需求数\n\n（加行政教辅人员）","教师需求数\n\n（去除函数）","编制册","全省选调","全省统招","中央特岗",{"$nulls":3},"定向师范",{"$nulls":6},"公费师范生","三支一扶",{"$nulls":3},"县内选调","幼儿园转岗任教","轮岗交流人数",null,"请假人数",null,"退休人数",null,"现有教师数","现有教师数\n（合并九年一贯制）","教师缺额\n\n（合并九年一贯制）","教师缺额\n\n（负数清零）","教师缺额\n\n（粘贴为数值）","教师缺额\n\n（剔除高中）","教师缺额\n\n（人工微调）",null,"情况说明","拟增加","新开班及特殊情况实际增派人数",null,"申报补充\n\n（小学）","申报补充\n\n（初中）","申报补充总计\n\n（小学+初中）","缺额+新开班"]
[{"$nulls":7},"2019年秋季学生数\n\n（统计表）","2019年秋季学生数\n\n（合并九年一贯制）","2019年秋季班级数\n\n（统计表）","2019年秋季班级数\n\n（扣除教学点班级数）","教学点个数\n\n（统计表）","教学点班级数\n\n（统计表）","行政教辅人员","行政教辅人员\n\n（合并九年一贯制）",{"$nulls":4},"在编教师数\n\n（编制册）","2019全省选调91人（邓）","2019全省统招312人（邓）","2016特岗教师51人（邓）","2017特岗教师76人（邓）","2018特岗教师48人（邓）","2019特岗教师127人（邓）","2019定向师范毕业48人（邓）","2015招录定向师范毕业生50人（邓）","2016招录定向师范毕业生76人（邓）","2017招录定向师范毕业生77人（邓）","2018招录定向师范毕业生73人（邓）","2019招录定向师范毕业生79人（邓）","2015-2019年招录定向师范毕业生355人（邓）","2019公费师范毕业生23人（邓）","2016三支一扶介绍信6人（邓）","2017三支一扶介绍信9人（邓）","2018三支一扶介绍信10人（邓）","2019三支一扶介绍信15人（邓）","2019县内选调（邓）","编外幼儿园转岗任教小学教师人数","交流接收人数","交流流出人数","长期病假且已执行病假工资人数","停职领办创办企业未到返岗期人数（2021年8月31日）","2020年1月1日至2020年12月31日退休人数","2021年1月1日至2020年8月31日退休人数"]
[{"$nulls":19},1,7,2,3,4,5,6,10,11,{"$nulls":5},9,null,null,12,13,8]
[1,1,1,"南新中小","小学","小学","乡镇中心小学",1722,1722,78,{"$f":"J6-M6","v":73},2,5,3,3,{"$f":"K6*2+M6*1.5+L6","v":155.5},155.5,{"$f":"O6+Q6","v":158.5},{"v":158.5,"d":"159"},192,3,null,5,6,2,5,9,8,8,14,10,9,{"$f":"SUM(AB6:AF6)","v":49},null,1,2,1,1,-2,0,1,-34,-1,-1,-6,-9,{"$f":"T6+U6+V6+W6+X6+Y6+Z6+AA6+AB6+AH6+AK6+AL6+AM6+AN6+AO6+AP6+AQ6+AR6+AS6+AT6","v":180},180,{"$f":"S6-AV6","v":{"v":-21.5,"d":"-22"}},0,0,0,0,{"$nulls":5},9,null,{"$f":"BG6+BH6","v":9},{"$f":"BA6+BE6","v":0}]
[2,2,2,"蒋巷中小","小学","小学","乡镇中心小学",5113,5113,127,120,4,7,7,7,254.5,254.5,261.5,{"v":261.5,"d":"262"},235,6,null,7,null,5,16,10,8,11,15,11,12,57,null,1,null,2,5,-2,0,2,-22,0,0,-12,-2,258,258,{"v":3.5,"d":"4"},{"v":3.5,"d":"4"},4,4,4,{"$nulls":5},24,null,24,4]
[3,3,3,"塘南中小","小学","小学","乡镇中心小学",1682,1682,101,96,2,5,3,3,201.5,201.5,204.5,{"v":204.5,"d":"205"},172,3,null,8,12,2,9,10,8,10,13,9,9,49,null,null,2,null,null,-3,null,2,-25,null,-1,-1,-3,193,193,{"v":11.5,"d":"12"},{"v":11.5,"d":"12"},12,12,6,{"$nulls":5},23,null,23,6]
[4,4,4,"泾口中小","小学","小学","乡镇中心小学",1565,1565,71,64,4,7,3,3,142.5,142.5,145.5,{"v":145.5,"d":"146"},177,3,null,5,5,2,2,9,8,10,15,12,9,54,null,1,1,null,null,-3,1,1,-31,0,0,-6,-2,171,171,{"v":-25.5,"d":"-26"},0,0,0,0,{"$nulls":5},6,null,6,0]
[5,5,5,"塔城中小","小学","小学","乡镇中心小学",832,832,24,24,null,null,3,3,48,48,51,51,87,null,null,1,null,null,2,{"$nulls":12},-2,0,0,-10,-2,0,-7,-4,65,65,-14,0,0,0,0,{"$nulls":7},0,0]
[6,6,6,"武阳中小","小学","小学","乡镇中心小学",2263,2263,54,54,null,null,5,5,108,108,113,113,147,null,2,3,10,1,3,null,null,2,{"$nulls":3},{"$f":"SUM(AB11:AF11)","v":2},null,null,2,1,null,null,3,3,-27,0,-1,-5,-3,137,137,-24,0,0,0,0,{"$nulls":5},0,null,0,0]
[7,7,7,"向塘中小","小学","小学","乡镇中心小学",3256,3256,115,115,null,null,7,7,230,230,237,237,211,3,2,4,null,6,2,null,null,8,null,null,5,13,{"$nulls":4},2,-1,8,3,-18,-2,-1,-5,-4,210,210,27,27,27,27,11,{"$nulls":5},44,null,44,11]
[8,8,8,"黄马中小","小学","小学","乡镇中心小学",856,856,53,27,6,26,3,3,99,99,102,102,138,{"$nulls":3},5,2,3,null,4,9,null,10,6,29,{"$nulls":5},-3,0,2,-18,0,0,-4,-2,127,127,-25,0,0,0,0,{"$nulls":5},0,null,0,0]
[9,9,9,"三江中小","小学","小学","乡镇中心小学",1500,1500,42,18,8,24,3,3,80,80,83,83,118,2,null,null,2,4,5,null,3,6,10,8,8,35,{"$nulls":5},-1,null,1,-21,null,null,-7,-7,99,99,-16,0,0,0,0,{"$nulls":5},0,null,0,0]
[10,10,10,"冈上中小","小学","小学","乡镇中心小学",1658,1658,63,63,null,null,3,3,126,126,129,129,133,null,null,1,5,3,7,{"$nulls":5},5,5,{"$nulls":5},-1,0,1,-22,0,0,-3,-3,121,121,8,8,8,8,8,{"$nulls":5},8,null,8,8]
[11,11,11,"广福中小","小学","小学","乡镇中心小学",2154,2154,92,92,null,null,5,5,184,184,189,189,157,5,null,null,14,3,16,null,3,3,10,10,8,34,null,null,2,null,4,-4,3,3,-29,0,-1,-5,-4,165,165,24,24,24,24,9,{"$nulls":5},22,null,22,9]
[12,12,12,"富山中小","小学","小学","乡镇中心小学",2000,2000,84,84,null,null,5,5,168,168,173,173,131,null,7,3,8,5,6,{"$nulls":12},-3,2,1,-20,null,null,-8,-5,127,127,46,46,46,46,10,{"$nulls":5},48,null,48,10]
[13,13,13,"东新中小","小学","小学","乡镇中心小学",1769,1769,45,45,null,null,3,3,90,90,93,93,92,null,15,3,3,4,3,{"$nulls":13},0,4,-7,null,-2,-4,-1,110,110,-17,0,0,0,0,{"$nulls":5},20,null,20,0]
[14,14,14,"八一中小","小学","小学","乡镇中心小学",1410,1410,64,54,2,10,3,3,125,125,128,128,135,null,null,2,null,2,5,{"$nulls":13},1,2,-18,0,0,-4,-2,123,123,5,5,5,5,3,{"$nulls":5},4,null,4,3]
[15,15,15,"莲塘中小","小学","小学","县直学校",1848,1848,40,40,null,null,3,5,80,80,85,85,73,null,10,{"$nulls":17},0,6,-6,0,0,-1,-1,81,81,4,4,4,4,4,{"$nulls":5},14,null,14,4]
[16,16,16,"莲塘一小","小学","小学","县直学校",3961,3961,69,69,null,null,9,9,138,138,147,147,161,null,2,{"$nulls":18},14,-16,null,null,-1,-3,157,157,-10,0,0,0,0,{"$nulls":5},6,null,6,0]
[17,17,17,"莲塘二小","小学","小学","县直学校",3446,3446,54,54,null,null,9,9,108,108,117,117,116,null,4,{"$nulls":17},0,19,-2,0,-1,-2,-3,131,131,-14,0,0,0,0,{"$nulls":5},0,null,0,0]
[18,18,18,"莲塘三小","小学","小学","县直学校",5250,5250,82,82,null,null,9,9,164,164,173,173,202,null,1,{"$nulls":17},1,26,-25,{"$nulls":4},205,205,-32,0,0,0,0,{"$nulls":5},0,null,0,0]
[19,19,19,"莲塘四小","小学","小学","县直学校",2851,2851,44,44,null,null,7,7,88,88,95,95,71,null,2,{"$nulls":17},0,36,-10,0,-1,0,0,98,98,-3,0,0,0,0,{"$nulls":5},22,null,22,0]
[20,20,20,"特殊教育学校","特殊教育","特殊教育","县直学校",76,76,7,7,null,null,3,3,14,14,17,17,18,{"$nulls":19},0,4,-6,0,0,-1,-1,14,14,3,0,0,0,0,null,null,1,1,{"$nulls":3},0,1]
[21,25,25,"莲塘实验学校（小学）","县直九年一贯制学校","小学","县直学校",402,554,7,7,null,null,3,3,14,22.4,25.4,{"v":25.4,"d":"25"},19,{"$nulls":19},0,2,0,0,0,0,0,21,31,{"v":-5.6,"d":"-6"},0,0,0,0,{"$nulls":7},0,0]
[23,26,26,"昌南实验学校（小学）","县直九年一贯制学校","小学","县直学校",378,603,7,7,null,null,3,3,14,30.8,33.8,{"v":33.8,"d":"34"},22,null,2,{"$nulls":18},2,-5,{"$nulls":4},21,37,{"v":-3.2,"d":"-3"},0,0,0,0,{"$nulls":5},4,2,6,0]
[25,27,27,"黄马凤凰沟实验学校（小学）","乡镇九年一贯制学校","小学","乡镇中心小学",219,311,6,6,null,null,3,3,12,20.4,23.4,{"v":23.4,"d":"23"},13,{"$nulls":5},1,{"$nulls":12},-1,{"$nulls":7},13,25,{"v":-1.6,"d":"-2"},0,0,0,0,{"$nulls":6},2,2,0]
[27,28,28,"银三角实验学校（小学）","县直九年一贯制学校","小学","县直学校",863,1240,18,18,null,null,3,5,36,61.2,66.2,{"v":66.2,"d":"66"},33,2,10,{"$nulls":17},0,2,-1,0,0,-3,0,43,68,{"v":-1.8,"d":"-2"},0,0,0,0,{"$nulls":7},0,0]
[29,29,29,"县中专","县中专","县中专","县直学校",2348,2348,null,0,null,null,7,7,0,null,7,0,26,{"$nulls":20},18,-2,0,0,-1,-1,40,40,-40,0,0,0,0,{"$nulls":7},0,0]
[30,30,30,"金沙路小学","小学","小学","县直学校",3606,3606,58,58,null,null,9,9,116,116,125,125,126,4,6,{"$nulls":16},2,null,5,-6,null,null,-1,null,136,136,-11,0,0,0,0,null,null,9,9,null,33,null,33,9]
[31,31,31,"振兴路小学","小学","小学","县直学校",3882,3882,59,59,null,null,9,9,118,118,127,127,109,4,2,{"$nulls":17},1,15,-5,0,0,-2,-3,121,121,6,6,6,6,6,{"$nulls":5},21,null,21,6]
[32,32,32,"墨山街小学","小学","小学","县直学校",719,719,17,17,null,null,3,3,34,34,37,37,35,2,3,{"$nulls":16},1,0,4,-7,0,0,-2,-1,35,35,2,2,2,2,2,{"$nulls":5},3,null,3,2]
[33,33,33,"斗柏路小学","小学","小学","县直学校",2729,2729,48,48,null,null,7,7,96,96,103,103,63,null,1,{"$nulls":17},0,72,-10,0,0,-1,0,125,125,-22,0,0,0,0,null,null,1,1,null,4,null,4,1]
[34,34,34,"南新中学","初中","初中","农村初级中学",938,938,18,18,null,null,3,3,{"$f":"K35*2.8","v":50.4},50.4,53.4,{"v":53.4,"d":"53"},84,{"$nulls":5},2,{"$nulls":10},1,2,null,0,0,-2,0,0,-2,0,85,85,{"v":-31.6,"d":"-32"},0,0,0,0,null,"我校无音乐教师，因结构比例原因，申请补充1名初中音乐教师",1,1,null,null,1,1,1]
[35,35,35,"蒋巷二中","初中","初中","农村初级中学",2588,2588,42,42,null,null,7,7,117.6,117.6,124.6,{"v":124.6,"d":"125"},127,3,{"$nulls":4},7,{"$nulls":8},1,{"$nulls":3},-1,null,1,-7,-2,null,-2,null,126,126,{"v":-1.40000000000001,"d":"-1"},0,0,0,0,{"$nulls":5},9,4,13,0]
[36,36,36,"塘南中学","初中","初中","农村初级中学",702,702,12,12,null,null,3,3,33.6,33.6,36.6,{"v":36.6,"d":"37"},55,{"$nulls":16},2,null,null,0,1,-5,0,0,0,0,53,53,{"v":-16.4,"d":"-16"},0,0,0,0,null,"我校因教师结构性缺员，严重缺少初中数学、初中英语、初中体育等专业教师，导致很难按需求开展正常班级授课",3,2,null,null,3,3,2]
[37,37,37,"新联学校（小学）","乡镇九年一贯制学校","小学","乡镇中心小学",344,651,20,20,null,null,3,3,{"$f":"K38*2+M38*1.5+L38","v":40},65.2,68.2,{"v":68.2,"d":"68"},39,{"$nulls":3},6,1,8,{"$nulls":4},3,5,{"$f":"SUM(AB38:AF38)","v":8},{"$nulls":6},0,0,-4,0,0,-2,0,48,72,{"v":-3.8,"d":"-4"},0,0,0,0,{"$nulls":6},6,6,0]
[39,38,38,"泾口中学","初中","初中","农村初级中学",551,551,12,12,null,null,3,3,{"$f":"K39*2.8","v":33.6},33.6,36.6,37,83,{"$nulls":16},1,{"$nulls":3},1,-6,null,null,-1,null,78,78,-41,0,0,0,0,{"$nulls":6},5,5,0]
[40,39,39,"幽兰学校（小学）","乡镇九年一贯制学校","小学","乡镇中心小学",513,868,20,20,null,null,3,3,40,62.4,65.4,{"v":65.4,"d":"65"},107,null,null,9,{"$nulls":3},5,4,9,{"$nulls":3},13,{"$nulls":5},-1,null,2,-16,null,null,-5,-1,104,148,{"v":-82.6,"d":"-83"},0,0,0,0,{"$nulls":6},0,0,0]
[42,40,40,"渡头学校（小学）","乡镇九年一贯制学校","小学","乡镇中心小学",603,886,23,17,5,6,3,3,48,67.6,70.6,{"v":70.6,"d":"71"},75,{"$nulls":6},5,4,{"$nulls":4},4,{"$nulls":5},-3,0,0,-21,0,0,0,0,60,105,{"v":-34.4,"d":"-34"},0,0,0,0,{"$nulls":6},0,0,0]
[44,41,41,"塔城中学","初中","初中","农村初级中学",350,350,9,9,null,null,3,3,25.2,25.2,28.2,{"v":28.2,"d":"28"},50,{"$nulls":14},1,{"$nulls":3},-1,null,null,-10,null,-2,-1,null,36,36,{"v":-7.8,"d":"-8"},0,0,0,0,null,"因农村中学教师年龄结构偏大，学校数学教师结构性缺少。因此2020年申请补充初中数学教师1人。",1,1,null,null,1,1,1]
[45,42,42,"武阳中学","初中","初中","农村初级中学",1489,1489,28,28,null,null,5,5,78.4,78.4,83.4,{"v":83.4,"d":"83"},76,1,5,{"$nulls":14},1,null,-1,null,2,-4,null,null,-1,-1,78,78,{"v":5.40000000000001,"d":"5"},{"v":5.40000000000001,"d":"5"},6,6,6,{"$nulls":6},12,12,6]
[46,43,43,"向塘二中","初中","初中","农村初级中学",1324,1324,26,26,null,null,5,5,72.8,72.8,77.8,{"v":77.8,"d":"78"},131,{"$nulls":19},0,0,-7,0,-1,-6,-3,114,114,{"v":-36.2,"d":"-36"},0,0,0,0,{"$nulls":6},0,0,0]
[47,44,44,"向塘实验学校（小学）","乡镇九年一贯制学校","小学","乡镇中心小学",2243,3595,34,34,null,null,5,7,{"$f":"K45*2+M45*1.5+L45","v":68},126.8,133.8,{"v":133.8,"d":"134"},98,null,6,null,null,5,2,{"$nulls":13},0,3,-2,0,0,0,-3,109,192,{"v":-58.2,"d":"-58"},0,0,0,0,{"$nulls":3},3,null,8,12,20,3]
[49,45,45,"向塘向阳学校(小学）","乡镇九年一贯制学校","小学","乡镇中心小学",204,379,14,4,3,10,3,3,{"$f":"K46*2+M46*1.5+L46","v":26},42.8,45.8,{"v":45.8,"d":"46"},32,{"$nulls":4},1,1,{"$nulls":5},3,{"$f":"SUM(AB46:AF46)","v":3},{"$nulls":6},0,0,-5,0,0,0,0,29,51,{"v":-5.2,"d":"-5"},0,0,0,0,{"$nulls":6},0,0,0]
[51,46,46,"黄马中学","初中","初中","农村初级中学",494,494,11,11,null,null,3,3,{"$f":"K47*2.8","v":30.8},30.8,33.8,{"v":33.8,"d":"34"},52,{"$nulls":5},1,{"$nulls":12},-1,null,1,-1,null,null,-1,-1,50,50,{"v":-16.2,"d":"-16"},0,0,0,0,{"$nulls":6},1,1,0]
[52,47,47,"三江中学","初中","初中","农村初级中学",839,839,15,15,null,null,3,3,42,42,45,45,68,{"$nulls":5},1,{"$nulls":15},-3,-2,-1,-2,-2,59,59,-14,0,0,0,0,{"$nulls":6},5,5,0]
[53,48,48,"广福一中","初中","初中","农村初级中学",559,559,12,12,null,null,3,3,33.6,33.6,36.6,{"v":36.6,"d":"37"},48,1,1,{"$nulls":3},1,{"$nulls":10},1,1,null,0,1,-10,0,0,0,0,44,44,{"v":-7.4,"d":"-7"},0,0,0,0,{"$nulls":6},6,6,0]
[54,49,49,"广福二中","初中","初中","农村初级中学",1041,1041,17,17,null,null,5,5,47.6,47.6,52.6,{"v":52.6,"d":"53"},53,2,4,{"$nulls":3},7,{"$nulls":12},-6,0,1,-7,0,0,0,-1,53,53,{"v":-0.399999999999999,"d":"-0"},0,0,0,0,null,"因结构性缺编，特申报2020年补充教师5人。具体学科分别为:初中语文2人，初中物理2人，初中地理1人。",5,1,null,null,5,5,1]
[55,50,50,"冈上中学","初中","初中","农村初级中学",533,533,11,11,null,null,3,3,30.8,30.8,33.8,{"v":33.8,"d":"34"},58,{"$nulls":19},0,0,-5,0,0,-1,0,52,52,{"v":-18.2,"d":"-18"},0,0,0,0,{"$nulls":6},2,2,0]
[56,51,51,"富山中学","初中","初中","农村初级中学",1451,1451,23,23,null,null,5,5,64.4,64.4,69.4,{"v":69.4,"d":"69"},97,{"$nulls":20},1,-14,0,-1,0,-2,81,81,{"v":-11.6,"d":"-12"},0,0,0,0,{"$nulls":6},2,2,0]
[57,52,52,"东新中学","初中","初中","农村初级中学",1134,1134,21,21,null,null,5,5,58.8,58.8,63.8,{"v":63.8,"d":"64"},66,{"$nulls":19},0,3,-3,0,0,-1,0,65,65,{"v":-1.2,"d":"-1"},0,0,0,0,{"$nulls":6},7,7,0]
[58,53,53,"八一中学","初中","初中","农村初级中学",668,668,14,14,null,null,3,3,39.2,39.2,42.2,{"v":42.2,"d":"42"},97,{"$nulls":19},0,0,-11,0,-1,-8,-5,72,72,{"v":-29.8,"d":"-30"},0,0,0,0,{"$nulls":6},0,0,0]
[59,54,54,"莲塘一中","高中","高中","县直学校",4956,4956,86,86,null,null,9,9,{"$f":"H55/12.5","v":396.48},396.48,405.48,{"v":405.48,"d":"405"},393,{"$nulls":13},5,{"$nulls":6},2,-3,null,null,-1,-5,391,391,{"v":14.48,"d":"14"},{"v":14.48,"d":"14"},14,{"$nulls":9},0,0]
[60,55,55,"莲塘二中","高中","高中","县直学校",3367,3367,63,63,null,null,9,9,269.36,269.36,278.36,{"v":278.36,"d":"278"},230,{"$nulls":13},9,{"$nulls":7},-4,null,-1,-1,-1,232,232,{"v":46.36,"d":"46"},{"v":46.36,"d":"46"},46,{"$nulls":9},0,0]
[61,56,56,"莲塘三中","高中","高中","县直学校",3309,3309,52,52,null,null,9,9,264.72,264.72,273.72,{"v":273.72,"d":"274"},241,{"$nulls":13},5,{"$nulls":6},1,{"$nulls":3},-2,-4,241,241,{"v":32.72,"d":"33"},{"v":32.72,"d":"33"},33,{"$nulls":9},0,0]
[62,57,57,"莲塘四中","初中","初中","县直学校",5069,5069,76,76,null,null,9,9,{"$f":"K58*2.8","v":212.8},212.8,221.8,{"v":221.8,"d":"222"},151,null,18,{"$nulls":16},1,null,30,-3,null,null,-2,-2,193,193,{"v":28.8,"d":"29"},{"v":28.8,"d":"29"},29,29,25,null,"补充计划数需+1（1人被判刑待办理下编手续）",1,1,null,null,55,55,26]
[63,58,58,"莲塘五中","初中","初中","县直学校",2606,2606,42,42,null,null,7,7,117.6,117.6,124.6,{"v":124.6,"d":"125"},133,null,3,{"$nulls":18},7,-5,null,null,-3,null,135,135,{"v":-10.4,"d":"-10"},0,0,0,0,{"$nulls":6},12,12,0]
[64,59,59,"莲塘六中","初中","初中","县直学校",2770,2770,44,44,null,null,7,7,123.2,123.2,130.2,{"v":130.2,"d":"130"},136,null,5,{"$nulls":18},9,-1,null,null,-3,-3,143,143,{"v":-12.8,"d":"-13"},0,0,0,0,{"$nulls":6},4,4,0]
[65,60,60,"莲塘七中","初中","初中","县直学校",1877,1877,30,30,null,null,5,5,84,84,89,89,109,null,3,{"$nulls":18},1,-8,0,0,-2,-2,101,101,-12,0,0,0,0,{"$nulls":6},7,7,0]
[66,61,61,"银河学校（小学）","县直九年一贯制学校","小学","县直学校",2980,4340,48,48,null,null,7,9,{"$f":"K62*2+M62*1.5+L62","v":96},163.2,172.2,{"v":172.2,"d":"172"},92,2,15,{"$nulls":16},1,null,12,-19,{"$nulls":4},103,191,{"v":-18.8,"d":"-19"},0,0,0,0,null,"虽现有教师数大于需求数，但因学科人数不平衡，还需申报2020年补充教师12人。",12,11,null,10,2,12,11]
[68,62,62,"洪州学校(小学含莲六小）","县直九年一贯制学校","小学","县直学校",3549,5281,57,57,null,null,9,9,114,192.4,201.4,{"v":201.4,"d":"201"},69,null,5,{"$nulls":17},0,49,-2,0,-1,0,0,120,228,{"v":-26.6,"d":"-27"},0,0,0,0,null,"由于化解大班额问题，故教师需求数61人。",34,28,null,56,5,61,28]
[70,63,63,"新城学校（小学）","县直九年一贯制学校","小学","县直学校",1743,3106,31,31,null,null,5,9,62,126.4,135.4,{"v":135.4,"d":"135"},53,3,6,{"$nulls":16},2,0,1,-1,0,0,0,0,64,137,{"v":-1.59999999999999,"d":"-2"},0,0,0,0,null,"小学增加9个班，初中增加4个班",29,27,null,4,null,4,27]
[72,64,64,"诚义学校（小学）","县直九年一贯制学校","小学","县直学校",2622,3655,44,44,null,null,7,9,88,138.4,147.4,{"v":147.4,"d":"147"},61,5,12,{"$nulls":16},2,0,11,-2,0,0,0,0,89,167,{"v":-19.6,"d":"-20"},0,0,0,0,{"$nulls":5},28,9,37,0]
[74,65,65,"芳草学校（小学）","县直九年一贯制学校","小学","县直学校",2222,2934,42,42,null,null,7,7,84,120.4,127.4,{"v":127.4,"d":"127"},72,3,10,{"$nulls":16},1,null,8,{"$nulls":5},94,149,{"v":-21.6,"d":"-22"},0,0,0,0,{"$nulls":5},8,18,26,0]
[76,66,66,"洪州汇仁学校(小学）","县直九年一贯制学校","小学","县直学校",1658,2337,26,26,null,null,5,7,52,85.6,92.6,{"v":92.6,"d":"93"},40,2,{"$nulls":17},1,null,16,{"$nulls":3},-1,null,58,97,{"v":-4.40000000000001,"d":"-4"},0,0,0,0,null,"预计一年级净增9个班需教师21人，七年级净增3个班需教师10人。",27,23,null,21,10,31,23]
[78,67,67,"洪燕学校（小学）","县直九年一贯制学校","小学","县直学校",2474,3281,41,41,null,null,7,9,82,121.2,130.2,{"v":130.2,"d":"130"},51,3,13,{"$nulls":16},3,null,5,-2,{"$nulls":4},73,128,{"v":2.19999999999999,"d":"2"},{"v":2.19999999999999,"d":"2"},2,2,2,null,null,27,29,null,19,10,29,31]
[80,68,68,"洪亿学校（小学）","县直九年一贯制学校","小学","县直学校",618,746,15,15,null,null,3,3,30,38.4,41.4,{"v":41.4,"d":"41"},22,2,1,{"$nulls":16},2,null,10,0,{"$nulls":4},37,51,{"v":-9.6,"d":"-10"},0,0,0,0,null,"预计接收新生一年级6个班，七年级4个班，转学生200人左右4个班。申报2020年补充教师28人。",24,21,null,19,9,28,21]
[82,69,69,"洪科小学","小学","小学","县直学校",781,781,20,{"$f":"J70-M70","v":20},null,null,3,3,40,40,{"$f":"O70+Q70","v":43},43,10,2,12,{"$nulls":16},1,0,14,0,0,0,0,0,{"$f":"T70+U70+V70+W70+X70+Y70+Z70+AA70+AB70+AH70+AK70+AL70+AM70+AN70+AO70+AP70+AQ70+AR70+AS70+AT70","v":39},39,{"$f":"S70-AV70","v":4},4,4,4,4,null,"鉴于万科楼盘入住率不断提高，2020年学校秋季计划扩班招生，故申报2020年补充教师26人。",22,8,null,26,null,{"$f":"BG70+BH70","v":26},{"$f":"BA70+BE70","v":12}]
[83,70,70,"八一分校（小学）","县直九年一贯制学校","小学","县直学校",1317,1731,22,22,null,null,5,5,44,63.6,68.6,{"v":68.6,"d":"69"},4,2,8,{"$nulls":16},2,null,11,{"$nulls":3},-1,null,26,54,{"v":14.6,"d":"15"},{"v":14.6,"d":"15"},15,15,15,null,"预计初中新增6个年级，学生300名；小学新增5个班级学生200名。",22,24,null,24,13,37,39]
[85,71,71,"洪范学校（小学）","县直九年一贯制学校","小学","县直学校",595,965,14,14,null,null,3,3,28,50.4,53.4,{"v":53.4,"d":"53"},null,null,9,{"$nulls":16},12,0,12,0,0,0,0,0,33,59,{"v":-5.6,"d":"-6"},0,0,0,0,null,"预计初中新增10个班级，小学新增12个班级",52,46,null,26,30,56,46]
[87,72,72,"洪新小学","小学","小学","县直学校",null,null,9,9,null,null,3,3,18,18,21,21,{"$nulls":27},21,21,0,0,0,0,0]
[22,null,25,"莲塘实验学校（初中）","县直九年一贯制学校","初中","县直学校",152,null,3,3,null,null,3,null,{"$f":"K74*2.8","v":8.4},{"$nulls":3},10,{"$nulls":19},0,0,0,0,0,0,0,{"$f":"T74+U74+V74+W74+X74+Y74+Z74+AA74+AB74+AH74+AK74+AL74+AM74+AN74+AO74+AP74+AQ74+AR74+AS74+AT74","v":10}]
[24,null,26,"昌南实验学校（初中）","县直九年一贯制学校","初中","县直学校",225,null,6,6,null,null,3,null,16.8,{"$nulls":3},14,null,3,{"$nulls":19},-1,{"$nulls":4},16]
[26,null,27,"黄马凤凰沟实验学校（初中）","县直九年一贯制学校","初中","农村初级中学",92,null,3,3,null,null,3,null,8.4,{"$nulls":3},14,{"$nulls":20},1,-3,{"$nulls":4},12]
[28,null,28,"银三角实验学校（初中）","县直九年一贯制学校","初中","县直学校",377,null,9,9,null,null,3,null,25.2,{"$nulls":3},25,1,3,{"$nulls":17},0,0,-2,0,0,-2,0,25]
[38,null,37,"新联学校（初中）","县直九年一贯制学校","初中","农村初级中学",307,null,9,9,null,null,3,null,25.2,{"$nulls":3},30,{"$nulls":5},7,{"$nulls":12},-5,0,0,-8,0,0,0,0,24]
[41,null,39,"幽兰学校（初中）","县直九年一贯制学校","初中","农村初级中学",355,null,8,8,null,null,3,null,22.4,{"$nulls":3},52,{"$nulls":14},1,{"$nulls":5},1,-6,null,-1,-1,-1,44]
[43,null,40,"渡头学校（初中）","县直九年一贯制学校","初中","农村初级中学",283,null,7,7,null,null,3,null,19.6,{"$nulls":3},46,{"$nulls":19},0,0,-1,0,0,0,0,45]
[48,null,44,"向塘实验学校（初中）","县直九年一贯制学校","初中","农村初级中学",1352,null,21,21,null,null,5,null,58.8,{"$nulls":3},92,2,4,{"$nulls":3},3,{"$nulls":12},-1,0,0,-5,0,0,-7,-5,83]
[50,null,45,"向塘向阳学校(初中）","县直九年一贯制学校","初中","农村初级中学",175,null,6,6,null,null,3,null,16.8,{"$nulls":3},23,{"$nulls":5},2,{"$nulls":12},-2,0,0,-1,0,0,0,0,22]
[67,null,61,"银河学校（初中）","县直九年一贯制学校","初中","县直学校",1360,null,24,24,null,null,5,null,67.2,{"$nulls":3},73,1,19,{"$nulls":16},1,null,1,-7,{"$nulls":4},88]
[69,null,62,"洪州学校(初中）","县直九年一贯制学校","初中","县直学校",1732,null,28,28,null,null,5,null,78.4,{"$nulls":3},81,null,6,{"$nulls":17},0,21,null,0,0,0,0,108]
[71,null,63,"新城学校（初中）","县直九年一贯制学校","初中","县直学校",1363,null,23,23,null,null,5,null,64.4,{"$nulls":3},60,2,10,{"$nulls":16},2,0,2,-3,0,0,0,0,73]
[73,null,64,"诚义学校（初中）","县直九年一贯制学校","初中","县直学校",1033,null,18,18,null,null,5,null,50.4,{"$nulls":3},62,3,15,{"$nulls":16},1,null,1,-4,0,0,0,0,78]
[75,null,65,"芳草学校（初中）","县直九年一贯制学校","初中","县直学校",712,null,13,13,null,null,3,null,36.4,{"$nulls":3},36,3,11,{"$nulls":16},1,null,4,{"$nulls":5},55]
[77,null,66,"洪州汇仁学校(中学）","县直九年一贯制学校","初中","县直学校",679,null,12,12,null,null,3,null,33.6,{"$nulls":3},30,2,1,{"$nulls":16},2,null,4,{"$nulls":5},39]
[79,null,67,"洪燕学校（初中）","县直九年一贯制学校","初中","县直学校",807,null,14,14,null,null,3,null,39.2,{"$nulls":3},38,4,9,{"$nulls":16},2,null,2,{"$nulls":5},55]
[81,null,68,"洪亿学校（初中）","县直九年一贯制学校","初中","县直学校",128,null,3,3,null,null,3,null,8.4,{"$nulls":3},8,2,2,{"$nulls":16},1,null,2,-1,{"$nulls":4},14]
[84,null,70,"八一分校（初中）","县直九年一贯制学校","初中","县直学校",414,null,7,7,null,null,3,null,19.6,{"$nulls":3},6,3,15,{"$nulls":18},4,{"$nulls":5},28]
[86,null,71,"洪范学校（初中）","县直九年一贯制学校","初中","县直学校",370,null,8,8,null,null,3,null,22.4,{"$nulls":5},9,{"$nulls":11},4,{"$nulls":4},7,0,6,0,0,0,0,0,26]
["合计",{"$nulls":6},{"$f":"SUM(H6:H92)","v":135355},135355,2895,2795,36,100,null,{"$f":"SUM(O6:O92)","v":356},{"$nulls":3},{"v":7201.96,"d":"7202"},7275,91,312,51,76,48,127,48,50,76,77,73,79,355,23,6,9,10,15,0,20,516,-638,-9,-18,-151,-106,7761,7761,{"$nulls":4},{"$f":"SUM(BA6:BA92)","v":115},{"$nulls":3},{"$f":"SUM(BE6:BE92)","v":237},{"$nulls":4},{"$f":"SUM(BJ6:BJ92)","v":352}]

{"sheet":"急需学科排序汇总表","index":13,"n_rows":75,"n_cols":65,"rows_kept":75,"hidden":true,"merged":[[0,0,0,1],[1,0,1,22],[74,0,76,22]]}
["附件4："]
["南昌县申报2020年补充教师急需学科排序表（2020年2月上报）"]
["序号","学校名称","学段","摸底核准\n补充教师数","新增班级\n补充教师数","合计\n补充教师数","合计","县内\n选调","第1急需","第2急需","第3急需","第4急需","第5急需","第6急需","第7急需","第8急需","第9急需","第10急需","第11急需","第12急需","第13急需","第14急需","第15急需","第16急需","第17急需","第18急需","第19急需","第20急需","第21急需","第22急需","第23急需","第24急需","第25急需","第26急需","第27急需","第28急需","第29急需","第30急需","第31急需","第32急需","第33急需","第34急需","第35急需","第36急需","第37急需","第38急需","第39急需","第40急需","第41急需","第42急需","第43急需","第44急需","第45急需","第46急需","第47急需","第48急需","第49急需","第50急需","第51急需","第52急需","第53急需","第54急需","第55急需","第56急需","第57急需"]
[1,"南新中小","小学",null,null,{"$f":"IF(D4+E4>0,D4+E4,\"\")","v":""},9,null,"小学语文","小学数学","小学语文","小学数学","小学语文","小学数学","小学英语","小学英语","小学英语"]
[2,"蒋巷中小","小学",4,null,4,24,null,"小学语文","小学数学","小学英语","小学语文","小学数学","小学英语","小学语文","小学数学","小学英语","小学语文","小学数学","小学英语","小学语文","小学数学","小学英语","小学语文","小学数学","小学英语","小学语文","小学数学","小学英语","小学音乐","小学体育","小学美术"]
[3,"塘南中小","小学",6,null,6,23,null,"小学语文","小学语文","小学语文","小学数学","小学数学","小学数学","小学英语","小学语文","小学语文","小学语文","小学数学","小学数学","小学数学","小学英语","小学体育","小学音乐","小学科学","小学美术","小学思品","小学音乐","小学科学","小学美术","小学体育"]
[4,"泾口中小","小学",null,null,"",6,null,"小学语文","小学体育","小学数学","小学音乐","小学体育","小学音乐"]
[7,"向塘中小","小学",12,null,12,44,null,"小学语文","小学数学","小学语文","小学数学","小学语文","小学数学","小学语文","小学数学","小学英语","小学英语","小学语文","小学数学","小学语文","小学数学","小学语文","小学数学","小学语文","小学数学","小学英语","小学英语","小学语文","小学数学","小学语文","小学数学","小学语文","小学数学","小学语文","小学数学","小学英语","小学英语","小学语文","小学数学","小学语文","小学数学","小学语文","小学数学","小学语文","小学数学","小学英语","小学英语","小学英语","小学英语","小学音乐","小学音乐"]
[10,"冈上中小","小学",8,null,8,8,null,"小学语文","小学数学","小学英语","小学体育","小学音乐","小学美术","小学语文","小学英语"]
[11,"广福中小","小学",9,null,9,24,null,"小学数学","小学语文","小学数学","小学语文","小学数学","小学语文","小学数学","小学语文","小学数学","小学语文","小学数学","小学语文","小学数学","小学语文","小学数学","小学语文","小学美术","小学音乐","小学体育","小学信息技术"]
[12,"富山中小","小学",16,null,{"$f":"IF(D11+E11>0,D11+E11,\"\")","v":16},48,null,"小学语文","小学数学","小学语文","小学数学","小学语文","小学数学","小学语文","小学数学","小学语文","小学数学","小学语文","小学数学","小学语文","小学数学","小学语文","小学数学","小学语文","小学数学","小学语文","小学数学","小学语文","小学数学","小学语文","小学数学","小学语文","小学数学","小学语文","小学数学","小学语文","小学数学","小学英语","小学英语","小学英语","小学英语","小学英语","小学英语","小学科学","小学音乐","小学美术","小学体育","小学科学","小学音乐","小学美术","小学体育","小学科学","小学音乐","小学美术","小学体育"]
[13,"东新中小","小学",null,null,"",20,null,"小学语文","小学语文","小学语文","小学语文","小学数学","小学数学","小学数学","小学数学","小学英语","小学英语","小学思品","小学音乐","小学音乐","小学体育","小学体育","小学美术","小学美术","小学科学","小学心理健康","小学信息技术",{"$nulls":16},3,3,3,3]
[14,"八一中小","小学",3,null,3,5,null,"小学体育","小学美术","小学音乐","小学体育"]
[15,"莲塘中小","小学",4,null,4,14,null,"小学音乐","小学美术","小学音乐","小学体育","小学语文","小学数学","小学语文","小学数学","小学语文","小学数学","小学语文","小学数学","小学语文","小学数学"]
[16,"莲塘一小","小学",null,null,"",4,null,"小学英语","小学英语","小学数学","小学语文"]
[19,"莲塘四小","小学",null,null,"",22,null,"小学数学","小学语文","小学英语","小学体育","小学数学","小学语文","小学英语","小学体育","小学数学","小学语文","小学英语","小学音乐","小学音乐","小学美术","小学美术","小学科学","小学科学","小学信息技术","小学信息技术","小学心理健康","小学心理健康","小学思品"]
[20,"县特教","小学",null,1,1,2,null,"小学语文","小学数学"]
[26,"昌南实验（小学）","小学",null,null,"",3,null,"小学语文","小学数学","小学语文"]
[26,"昌南实验（初中）","初中",null,null,"",2,null,"初中语文","初中数学"]
[27,"凤凰沟实验（初中）","初中",null,null,"",2,null,"初中化学","初中数学"]
[28,"银三角实验（小学）","小学",null,null,"",6,null,"小学语文","小学语文","小学数学","小学数学","小学美术","小学科学"]
[28,"银三角实验（初中）","初中",null,null,"",14,null,"初中数学","初中语文","初中思品","初中数学","初中化学","初中物理","初中数学","初中历史","初中地理","初中信息技术","初中历史","初中地理","初中思品","初中美术"]
[30,"金沙路小学","小学",null,9,9,3,3,"小学语文","小学数学","小学英语","小学体育","小学语文","小学数学","小学英语","小学体育","小学语文","小学数学","小学英语","小学体育","小学语文","小学数学","小学英语","小学语文","小学数学","小学语文","小学数学","小学语文","小学数学","小学语文","小学数学","小学语文","小学数学","小学语文","小学数学","小学语文","小学数学","小学语文","小学数学","小学语文","小学数学"]
[31,"振兴路小学","小学",6,null,6,21,3,"小学英语","小学英语","小学英语","小学英语","小学英语","小学语文","小学语文","小学语文","小学语文","小学数学","小学数学","小学数学","小学数学","小学信息技术","小学体育","小学体育","小学美术","小学美术","小学美术","小学音乐","小学音乐"]
[32,"墨山街小学","小学",2,null,2,3,1,"小学体育","小学音乐","小学美术"]
[33,"斗柏路小学","小学",null,1,1,null,1,"小学英语"]
[34,"南新中学","初中",null,1,1,1,null,"初中音乐"]
[35,"蒋巷二中","初中",null,null,"",13,null,"初中物理","初中数学","初中物理","初中英语","初中数学","初中思品","初中语文","初中信息技术","初中地理","初中生物","初中音乐","初中美术","初中心理健康"]
[36,"塘南中学","初中",null,2,2,3,null,"初中数学","初中英语","初中体育"]
[37,"新联学校（小学）","小学",null,null,"",4,null,"小学语文","小学数学","小学英语","小学信息技术"]
[37,"新联学校（初中）","初中",null,null,"",9,null,"初中物理","初中物理","初中化学","初中化学","初中数学","初中英语","初中数学","初中体育","初中美术"]
[38,"泾口中学","初中",null,null,"",5,null,"初中音乐","初中英语","初中体育","初中数学","初中物理"]
[41,"塔城中学","初中",null,1,1,1,null,"初中数学"]
[42,"武阳中学","初中",6,null,6,12,null,"初中数学","初中数学","初中物理","初中化学","初中语文","初中语文","初中英语","初中英语","初中思品","初中历史","初中地理","初中生物"]
[44,"向塘实验（小学）","小学",null,null,"",8,null,"小学音乐","小学语文","小学语文","小学数学","小学数学","小学英语","小学英语","小学体育"]
[44,"向塘实验（初中）","初中",null,null,"",12,null,"初中语文","初中语文","初中物理","初中物理","初中化学","初中数学","初中数学","初中历史","初中历史","初中体育","初中思品","初中思品"]
[46,"黄马中学","初中",null,null,"",1,null,"初中美术"]
[47,"三江中学","初中",null,null,"",5,null,"初中语文","初中体育","初中英语","初中语文","初中英语"]
[48,"广福一中","初中",null,null,"",6,null,"初中物理","初中体育","初中数学","初中英语","初中语文","初中历史"]
[49,"广福二中","初中",null,3,3,5,null,"初中语文","初中语文","初中物理","初中物理","初中地理"]
[50,"冈上中学","初中",null,null,"",2,null,"初中英语","初中英语"]
[51,"富山中学","初中",null,null,"",2,null,"初中化学","初中思品"]
[52,"东新中学","初中",null,null,"",7,null,"初中思品","初中物理","初中化学","初中历史","初中英语","初中音乐","初中体育"]
[54,"莲塘一中","高中",14,null,null,17,null,"高中语文","高中物理","高中数学","高中政治","高中英语","高中心理","高中体育","高中美术"]
[55,"莲塘二中","高中",46,null,null,14,null,"高中思品","高中语文","高中化学","高中数学","高中信息技术","高中美术","高中音乐","高中物理","高中地理","高中历史","高中体育"]
[55,"莲塘二中",{"$nulls":6},2,3,1,1,1,1,1,1,1,1,1]
[56,"莲塘三中","高中",33,null,null,47,null,"高中语文","高中历史","高中数学","高中生物","高中地理","高中化学","高中英语","高中物理","高中政治","高中心理健康","高中信息技术","高中体育"]
[56,"莲塘三中",{"$nulls":6},8,6,6,4,4,3,5,3,2,3,2,1]
[57,"莲塘四中","初中",29,1,{"$f":"IF(D49+E49>0,D49+E49,\"\")","v":30},55,5,"初中化学","初中化学","初中体育","初中体育","初中道法","初中道法","初中语文","初中英语","初中数学","初中语文","初中数学","初中英语","初中物理","初中语文","初中数学","初中英语","初中物理","初中道法","初中历史","初中语文","初中数学","初中英语","初中物理","初中道法","初中化学","初中历史","初中语文","初中数学","初中英语","初中物理","初中道法","初中化学","初中历史","初中语文","初中数学","初中英语","初中道法","初中化学","初中历史","初中语文","初中数学","初中英语","初中物理","初中道法","初中历史","初中语文","初中数学","初中英语","初中体育","初中音乐","初中体育","初中地理","初中生物","初中计算机","初中音乐"]
[58,"莲塘五中","初中",null,null,"",12,null,"初中物理","初中物理","初中语文","初中语文","初中历史","初中历史","初中政治","初中政治","初中生物","初中信息","初中地理","初中化学"]
[59,"莲塘六中","初中",null,null,"",4,null,"初中数学","初中政治","初中语文","初中历史"]
[60,"莲塘七中","初中",null,null,"",7,null,"初中数学","初中语文","初中英语","初中化学","初中数学","初中英语","初中语文"]
[61,"银河学校（小学）","小学",null,6,6,12,2,"小学数学","小学数学","小学数学","小学数学","小学语文","小学语文","小学语文","小学英语","小学英语","小学科学","小学思品","小学心理健康"]
[61,"银河学校（初中）","初中",null,2,2,7,null,"初中历史","初中思品","初中化学","初中物理","初中地理","初中生物","初中心理健康"]
[62,"洪州学校（小学）","小学",null,29,29,57,null,"小学语文","小学数学","小学语文","小学数学","小学语文","小学数学","小学语文","小学数学","小学语文","小学数学","小学语文","小学数学","小学语文","小学数学","小学语文","小学数学","小学语文","小学数学","小学语文","小学数学","小学语文","小学数学","小学语文","小学数学","小学语文","小学数学","小学语文","小学数学","小学语文","小学数学","小学语文","小学数学","小学语文","小学数学","小学语文","小学数学","小学语文","小学数学","小学语文","小学数学","小学语文","小学数学","小学语文","小学数学","小学语文","小学数学","小学语文","小学数学","小学语文","小学数学","小学语文","小学数学","小学语文","小学数学","小学语文","小学英语","小学科学"]
[62,"洪州学校（初中）","初中",null,5,5,5,1,"初中物理","初中生物","初中思品","初中思品","初中历史"]
[63,"新城学校（小学）","小学",null,19,19,2,4,"小学语文","小学数学","小学语文","小学数学","小学语文","小学数学","小学语文","小学数学","小学英语","小学语文","小学数学","小学语文","小学数学","小学语文","小学数学","小学数学","小学数学","小学英语","小学数学"]
[63,"新城学校（初中）","初中",null,8,{"$f":"IF(D58+E58>0,D58+E58,\"\")","v":8},2,1,"初中政治","初中历史","初中政治","初中历史","初中体育","初中政治","初中历史","初中体育"]
[64,"诚义学校（小学）","小学",null,2,2,28,2,"小学语文","小学数学","小学语文","小学数学","小学语文","小学数学","小学语文","小学数学","小学语文","小学数学","小学语文","小学数学","小学语文","小学语文","小学数学","小学语文","小学数学","小学英语","小学语文","小学语文","小学英语","小学语文","小学英语","小学体育","小学信息技术","小学科学","小学音乐","小学美术"]
[64,"诚义学校（初中）","初中",null,1,1,9,1,"初中思品","初中物理","初中历史","初中语文","初中英语","初中数学","初中英语","初中语文","初中生物"]
[65,"芳草学校（小学）","小学",null,2,2,9,2,"小学语文","小学数学","小学语文","小学语文","小学数学","小学语文","小学语文","小学数学","小学美术"]
[65,"芳草学校（初中）","初中",null,1,1,20,1,"初中历史","初中语文","初中语文","初中语文","初中历史","初中政治","初中语文","初中体育","初中语文","初中数学","初中数学","初中体育","初中音乐","初中信息","初中体育","初中音乐","初中美术","初中心理","初中体育","初中音乐"]
[66,"洪州汇仁学校（小学）","小学",null,16,16,21,2,"小学语文","小学语文","小学语文","小学语文","小学语文","小学语文","小学语文","小学语文","小学语文","小学数学","小学数学","小学数学","小学数学","小学数学","小学数学","小学数学","小学数学","小学数学","小学音乐","小学体育","小学信息技术"]
[66,"洪州汇仁学校（初中）","初中",null,7,7,10,3,"初中语文","初中数学","初中英语","初中思品","初中历史","初中地理","初中物理","初中音乐","初中体育","初中美术"]
[67,"洪燕学校（小学）","小学",1,18,19,19,5,"小学语文","小学语文","小学语文","小学语文","小学语文","小学语文","小学数学","小学数学","小学数学","小学英语","小学英语","小学英语","小学思品","小学思品","小学音乐","小学音乐","小学美术","小学美术","小学心理健康"]
[67,"洪燕学校（初中）","初中",1,9,10,10,1,"初中体育","初中体育","初中体育","初中英语","初中语文","初中数学","初中地理","初中思品","初中历史","初中化学"]
[68,"洪亿学校（小学）","小学",null,8,8,19,1,"小学语文","小学数学","小学语文","小学数学","小学语文","小学数学","小学语文","小学数学","小学语文","小学数学","小学语文","小学数学","小学语文","小学数学","小学数学","小学体育","小学美术","小学信息技术","小学音乐"]
[68,"洪亿学校（初中）","初中",null,6,6,9,1,"初中语文","初中数学","初中英语","初中语文","初中数学","初中思品","初中生物","初中地理","初中历史"]
[69,"洪科小学","小学",4,22,26,26,3,"小学语文","小学语文","小学语文","小学语文","小学语文","小学语文","小学语文","小学语文","小学语文","小学语文","小学语文","小学数学","小学数学","小学数学","小学数学","小学数学","小学数学","小学数学","小学数学","小学数学","小学数学","小学信息技术","小学美术","小学体育","小学音乐","小学英语"]
[70,"莲一中八一分校（小学）","小学",9,16,25,26,3,"小学语文","小学数学","小学英语","小学语文","小学数学","小学英语","小学语文","小学数学","小学英语","小学语文","小学数学","小学语文","小学数学","小学语文","小学数学","小学语文","小学数学","小学思品","小学科学","小学体育","小学美术","小学音乐","小学科学","小学信息","小学美术","小学音乐"]
[70,"莲一中八一分校（初中）","初中",6,11,17,17,4,"初中化学","初中语文","初中英语","初中数学","初中语文","初中英语","初中数学","初中物理","初中生物","初中历史","初中地理","初中语文","初中英语","初中数学","初中语文","初中英语","初中体育"]
[71,"洪范学校（小学）","小学",null,21,21,26,3,"小学语文","小学数学","小学体育","小学音乐","小学美术","小学体育","小学数学","小学数学","小学数学","小学数学","小学语文","小学数学","小学语文","小学数学","小学语文","小学数学","小学语文","小学数学","小学语文","小学数学","小学语文","小学数学","小学语文","小学数学","小学语文","小学数学","小学英语"]
[71,"洪范学校（初中）","初中",null,25,25,30,7,"初中语文","初中思品","初中历史","初中物理","初中数学","初中思品","初中语文","初中英语","初中数学","初中物理","初中语文","初中数学","初中英语","初中语文","初中数学","初中英语","初中语文","初中数学","初中英语","初中体育","初中历史","初中生物","初中地理","初中体育","初中语文","初中音乐","初中美术","初中音乐","初中思品","初中历史","初中物理"]
[null,"总计（不含高中）",null,{"$f":"SUM(D4:D43,D49:D73)","v":126},253,379,845,60]
["说明：1.请各学校根据已完成的《南昌县申报2020年补充教师学科统计表（附件3）》人数填报《南昌县申报2020年补充教师急需学科排序表（附件4）》，附件4所填学科数及人数须与附件3上报学科数及人数一致。\n      2.请各学校按所需学科的急需程度由重到轻依次排列。\n      3.此表于2020年2月16日之前发电子稿至人事科邮箱rsk20010@126.com。\n      4.咨询电话85714049,13657090307。"]

{"sheet":"教师补充结构统筹表","index":14,"n_rows":96,"n_cols":209,"rows_kept":96,"hidden":true,"merged":[[0,0,0,1],[0,21,0,22],[0,42,0,43],[0,63,0,64],[0,84,0,85],[0,105,0,106],[0,126,0,127],[0,147,0,148],[0,168,0,169],[0,189,0,190],[1,0,1,19],[1,21,1,40],[1,42,1,61],[1,63,1,82],[1,84,1,103],[1,105,1,124],[1,126,1,145],[1,147,1,166],[1,168,1,187],[1,189,1,208]]}
[]
["南昌县申报2020年补充教师摸底核准表（115人）",{"$nulls":20},"新开班预计补充教师（238人）",{"$nulls":20},"县内选调考试新增缺额（36人）",{"$nulls":20},"各学校报告缺额（138人）",{"$nulls":20},"农村特岗（50人，最后环节，用于填补县内选调所造成部分农村学校缺额）",{"$nulls":20},"小学、初中全省统招（300人）",{"$nulls":20},"县内选调（预计解决70个县城缺额，造成的农村缺口由特岗填补）",{"$nulls":20},"全省选调（80人，农村少补充，县直多补充）",{"$nulls":20},"拟使用交流人员或定向实习生填补（小学6人，初中21人）",{"$nulls":20},"待补充人数"]
["序号","学校名称","类别","学段","思品","语文","数学","英语","音乐","体育","美术","科学","物理","化学","生物","历史","地理","心理健康教育","信息技术","总计",null,"序号","学校名称","类别","学段","思品","语文","数学","英语","音乐","体育","美术","科学","物理","化学","生物","历史","地理","心理健康教育","信息技术","总计",null,"序号","学校名称","类别","学段","思品","语文","数学","英语","音乐","体育","美术","科学","物理","化学","生物","历史","地理","心理健康教育","信息技术","总计",null,"序号","学校名称","类别","学段","思品","语文","数学","英语","音乐","体育","美术","科学","物理","化学","生物","历史","地理","心理健康教育","信息技术","总计",null,"序号","学校名称","类别","学段","思品","语文","数学","英语","音乐","体育","美术","科学","物理","化学","生物","历史","地理","心理健康教育","信息技术","总计",null,"序号","学校名称","类别","学段","思品","语文","数学","英语","音乐","体育","美术","科学","物理","化学","生物","历史","地理","心理健康教育","信息技术","总计",null,"序号","学校名称","类别","学段","思品","语文","数学","英语","音乐","体育","美术","科学","物理","化学","生物","历史","地理","心理健康教育","信息技术","总计",null,"序号","学校名称","类别","学段","思品","语文","数学","英语","音乐","体育","美术","科学","物理","化学","生物","历史","地理","心理健康教育","信息技术","总计",null,"序号","学校名称","类别","学段","思品","语文","数学","英语","音乐","体育","美术","科学","物理","化学","生物","历史","地理","心理健康教育","信息技术","总计",null,"序号","学校名称","类别","学段","思品","语文","数学","英语","音乐","体育","美术","科学","物理","化学","生物","历史","地理","心理健康教育","信息技术","总计"]
[null,"小学初中总计",{"$nulls":17},{"$f":"T96","v":81},null,null,"小学初中总计",{"$nulls":17},{"$f":"AO96","v":237},null,null,"小学初中总计",{"$nulls":17},{"$f":"BJ96","v":33},null,null,"小学初中总计",{"$nulls":17},{"$f":"CE96","v":141},null,null,"小学初中总计",{"$nulls":17},{"$f":"CZ96","v":47},null,null,"小学初中总计",{"$nulls":17},{"$f":"DU96","v":300},null,null,"小学初中总计",{"$nulls":17},{"$f":"EP96","v":70},null,null,"小学初中总计",{"$nulls":17},{"$f":"FK96","v":80},null,null,"小学初中总计",{"$nulls":17},{"$f":"GF96","v":27},null,null,"小学初中总计",{"$nulls":17},{"$f":"HA96","v":-32}]
[{"$nulls":85},"特岗可分配人数",null,"小学",null,7,6,5,8,7,7,3,{"$nulls":6},7,{"$f":"SUM(CK5:CY5)","v":50},null,null,"小学统招可分配人数",null,"小学",2,73,63,27,13,11,11,6,{"$nulls":6},3,{"$f":"SUM(DF5:DT5)","v":209}]
[{"$nulls":85},"已分配人数",null,"小学",{"$f":"IF(CK51=0,\"\",CK51)","v":""},7,6,5,7,7,6,3,"","","","","","",6,47,null,null,"已分配人数",null,"小学",{"$f":"IF(DF51=0,\"\",DF51)","v":2},{"$f":"IF(DG51=0,\"\",DG51)","v":73},63,27,13,11,11,6,"","","","","","",3,209]
[1,"南新中小","乡镇","小学",{"$nulls":15},{"$f":"SUM(E7:S7)","v":0},null,1,"南新中小","乡镇","小学",{"$nulls":15},{"$f":"SUM(Z7:AN7)","v":0},null,1,"南新中小","乡镇","小学",{"$nulls":15},{"$f":"SUM(AU7:BI7)","v":0},null,1,"南新中小","乡镇","小学",{"$nulls":15},{"$f":"SUM(BP7:CD7)","v":0},null,1,"南新中小","乡镇","小学",{"$nulls":3},1,null,null,1,{"$nulls":8},2,null,1,"南新中小","乡镇","小学",{"$nulls":15},0,null,1,"南新中小","乡镇","小学",{"$nulls":15},{"$f":"SUM(EA7:EO7)","v":0},null,1,"南新中小","乡镇","小学",{"$nulls":15},{"$f":"SUM(EV7:FJ7)","v":0},null,1,"南新中小","乡镇","小学",{"$nulls":15},{"$f":"SUM(FQ7:GE7)","v":0},null,1,"南新中小","乡镇","小学",{"$f":"IF(E7+Z7+AU7+BP7-CK7-DF7-EA7-EV7-FQ7=0,\"\",E7+Z7+AU7+BP7-CK7-DF7-EA7-EV7-FQ7)","v":""},{"$f":"IF(F7+AA7+AV7+BQ7-CL7-DG7-EB7-EW7-FR7=0,\"\",F7+AA7+AV7+BQ7-CL7-DG7-EB7-EW7-FR7)","v":""},"",-1,"","",-1,"","","","","","","","",{"$f":"SUM(GL7:GZ7)","v":-2}]
[2,"蒋巷中小","乡镇","小学",{"$nulls":15},{"$f":"SUM(E8:S8)","v":0},null,2,"蒋巷中小","乡镇","小学",{"$nulls":15},{"$f":"SUM(Z8:AN8)","v":0},null,2,"蒋巷中小","乡镇","小学",null,null,3,1,{"$nulls":11},{"$f":"SUM(AU8:BI8)","v":4},null,2,"蒋巷中小","乡镇","小学",{"$nulls":15},{"$f":"SUM(BP8:CD8)","v":0},null,2,"蒋巷中小","乡镇","小学",null,null,2,1,1,1,1,1,{"$nulls":6},1,8,null,2,"蒋巷中小","乡镇","小学",null,2,2,null,null,1,1,{"$nulls":8},6,null,2,"蒋巷中小","乡镇","小学",{"$nulls":15},{"$f":"SUM(EA8:EO8)","v":0},null,2,"蒋巷中小","乡镇","小学",{"$nulls":15},{"$f":"SUM(EV8:FJ8)","v":0},null,2,"蒋巷中小","乡镇","小学",{"$nulls":15},{"$f":"SUM(FQ8:GE8)","v":0},null,2,"蒋巷中小","乡镇","小学",{"$f":"IF(E8+Z8+AU8+BP8-CK8-DF8-EA8-EV8-FQ8=0,\"\",E8+Z8+AU8+BP8-CK8-DF8-EA8-EV8-FQ8)","v":""},-2,-1,"",-1,-2,-2,-1,"","","","","","",-1,{"$f":"SUM(GL8:GZ8)","v":-10}]
[3,"塘南中小","乡镇","小学",{"$nulls":15},{"$f":"SUM(E9:S9)","v":0},null,3,"塘南中小","乡镇","小学",{"$nulls":15},{"$f":"SUM(Z9:AN9)","v":0},null,3,"塘南中小","乡镇","小学",null,1,1,{"$nulls":11},1,{"$f":"SUM(AU9:BI9)","v":3},null,3,"塘南中小","乡镇","小学",{"$nulls":15},{"$f":"SUM(BP9:CD9)","v":0},null,3,"塘南中小","乡镇","小学",null,1,1,{"$nulls":12},{"$f":"SUM(CK9:CY9)","v":2},null,3,"塘南中小","乡镇","小学",{"$nulls":15},{"$f":"SUM(DF9:DT9)","v":0},null,3,"塘南中小","乡镇","小学",{"$nulls":15},{"$f":"SUM(EA9:EO9)","v":0},null,3,"塘南中小","乡镇","小学",{"$nulls":15},{"$f":"SUM(EV9:FJ9)","v":0},null,3,"塘南中小","乡镇","小学",{"$nulls":15},{"$f":"SUM(FQ9:GE9)","v":0},null,3,"塘南中小","乡镇","小学",{"$f":"IF(E9+Z9+AU9+BP9-CK9-DF9-EA9-EV9-FQ9=0,\"\",E9+Z9+AU9+BP9-CK9-DF9-EA9-EV9-FQ9)","v":""},{"$f":"IF(F9+AA9+AV9+BQ9-CL9-DG9-EB9-EW9-FR9=0,\"\",F9+AA9+AV9+BQ9-CL9-DG9-EB9-EW9-FR9)","v":""},{"$f":"IF(G9+AB9+AW9+BR9-CM9-DH9-EC9-EX9-FS9=0,\"\",G9+AB9+AW9+BR9-CM9-DH9-EC9-EX9-FS9)","v":""},{"$f":"IF(H9+AC9+AX9+BS9-CN9-DI9-ED9-EY9-FT9=0,\"\",H9+AC9+AX9+BS9-CN9-DI9-ED9-EY9-FT9)","v":""},{"$f":"IF(I9+AD9+AY9+BT9-CO9-DJ9-EE9-EZ9-FU9=0,\"\",I9+AD9+AY9+BT9-CO9-DJ9-EE9-EZ9-FU9)","v":""},{"$f":"IF(J9+AE9+AZ9+BU9-CP9-DK9-EF9-FA9-FV9=0,\"\",J9+AE9+AZ9+BU9-CP9-DK9-EF9-FA9-FV9)","v":""},{"$f":"IF(K9+AF9+BA9+BV9-CQ9-DL9-EG9-FB9-FW9=0,\"\",K9+AF9+BA9+BV9-CQ9-DL9-EG9-FB9-FW9)","v":""},{"$f":"IF(L9+AG9+BB9+BW9-CR9-DM9-EH9-FC9-FX9=0,\"\",L9+AG9+BB9+BW9-CR9-DM9-EH9-FC9-FX9)","v":""},{"$f":"IF(M9+AH9+BC9+BX9-CS9-DN9-EI9-FD9-FY9=0,\"\",M9+AH9+BC9+BX9-CS9-DN9-EI9-FD9-FY9)","v":""},{"$f":"IF(N9+AI9+BD9+BY9-CT9-DO9-EJ9-FE9-FZ9=0,\"\",N9+AI9+BD9+BY9-CT9-DO9-EJ9-FE9-FZ9)","v":""},{"$f":"IF(O9+AJ9+BE9+BZ9-CU9-DP9-EK9-FF9-GA9=0,\"\",O9+AJ9+BE9+BZ9-CU9-DP9-EK9-FF9-GA9)","v":""},{"$f":"IF(P9+AK9+BF9+CA9-CV9-DQ9-EL9-FG9-GB9=0,\"\",P9+AK9+BF9+CA9-CV9-DQ9-EL9-FG9-GB9)","v":""},{"$f":"IF(Q9+AL9+BG9+CB9-CW9-DR9-EM9-FH9-GC9=0,\"\",Q9+AL9+BG9+CB9-CW9-DR9-EM9-FH9-GC9)","v":""},{"$f":"IF(R9+AM9+BH9+CC9-CX9-DS9-EN9-FI9-GD9=0,\"\",R9+AM9+BH9+CC9-CX9-DS9-EN9-FI9-GD9)","v":""},{"$f":"IF(S9+AN9+BI9+CD9-CY9-DT9-EO9-FJ9-GE9=0,\"\",S9+AN9+BI9+CD9-CY9-DT9-EO9-FJ9-GE9)","v":1},{"$f":"SUM(GL9:GZ9)","v":1}]
[4,"泾口中小","乡镇","小学",{"$nulls":15},0,null,4,"泾口中小","乡镇","小学",{"$nulls":15},0,null,4,"泾口中小","乡镇","小学",{"$nulls":15},0,null,4,"泾口中小","乡镇","小学",{"$nulls":15},0,null,4,"泾口中小","乡镇","小学",{"$nulls":5},1,{"$nulls":9},1,null,4,"泾口中小","乡镇","小学",{"$nulls":15},0,null,4,"泾口中小","乡镇","小学",{"$nulls":15},0,null,4,"泾口中小","乡镇","小学",{"$nulls":15},0,null,4,"泾口中小","乡镇","小学",{"$nulls":15},0,null,4,"泾口中小","乡镇","小学","","","","","",-1,"","","","","","","","","",-1]
[6,"武阳中小","乡镇","小学",{"$nulls":15},0,null,6,"武阳中小","乡镇","小学",{"$nulls":15},0,null,6,"武阳中小","乡镇","小学",null,2,1,null,null,1,{"$nulls":8},1,5,null,6,"武阳中小","乡镇","小学",{"$nulls":15},0,null,6,"武阳中小","乡镇","小学",null,2,1,null,null,1,{"$nulls":8},1,5,null,6,"武阳中小","乡镇","小学",{"$nulls":15},0,null,6,"武阳中小","乡镇","小学",{"$nulls":15},0,null,6,"武阳中小","乡镇","小学",{"$nulls":15},0,null,6,"武阳中小","乡镇","小学",{"$nulls":15},0,null,6,"武阳中小","乡镇","小学","","","","","","","","","","","","","","","",0]
[7,"向塘中小","乡镇","小学",null,2,1,3,{"$nulls":11},6,null,7,"向塘中小","乡镇","小学",{"$nulls":15},0,null,7,"向塘中小","乡镇","小学",null,null,2,{"$nulls":12},2,null,7,"向塘中小","乡镇","小学",{"$nulls":15},0,null,7,"向塘中小","乡镇","小学",null,1,1,null,1,null,1,1,{"$nulls":6},1,6,null,7,"向塘中小","乡镇","小学",null,2,2,2,{"$nulls":11},6,null,7,"向塘中小","乡镇","小学",{"$nulls":15},0,null,7,"向塘中小","乡镇","小学",null,null,1,1,{"$nulls":11},2,null,7,"向塘中小","乡镇","小学",{"$nulls":15},0,null,7,"向塘中小","乡镇","小学","",-1,-1,"",-1,"",-1,-1,"","","","","","",-1,-6]
[8,"黄马中小","乡镇","小学",{"$nulls":15},0,null,8,"黄马中小","乡镇","小学",{"$nulls":15},0,null,8,"黄马中小","乡镇","小学",{"$nulls":15},0,null,8,"黄马中小","乡镇","小学",{"$nulls":15},0,null,8,"黄马中小","乡镇","小学",{"$nulls":15},0,null,8,"黄马中小","乡镇","小学",{"$nulls":15},0,null,8,"黄马中小","乡镇","小学",{"$nulls":15},0,null,8,"黄马中小","乡镇","小学",{"$nulls":15},0,null,8,"黄马中小","乡镇","小学",{"$nulls":15},0,null,8,"黄马中小","乡镇","小学","","","","","","","","","","","","","","","",0]
[9,"三江中小","乡镇","小学",{"$nulls":15},0,null,9,"三江中小","乡镇","小学",{"$nulls":15},0,null,9,"三江中小","乡镇","小学",{"$nulls":15},0,null,9,"三江中小","乡镇","小学",{"$nulls":15},0,null,9,"三江中小","乡镇","小学",{"$nulls":4},1,{"$nulls":9},1,2,null,9,"三江中小","乡镇","小学",null,null,1,{"$nulls":12},1,null,9,"三江中小","乡镇","小学",{"$nulls":15},0,null,9,"三江中小","乡镇","小学",{"$nulls":15},0,null,9,"三江中小","乡镇","小学",{"$nulls":15},0,null,9,"三江中小","乡镇","小学","","",-1,"",-1,"","","","","","","","","",-1,-3]
[10,"冈上中小","乡镇","小学",null,1,1,1,{"$nulls":11},{"$f":"SUM(E15:S15)","v":3},null,10,"冈上中小","乡镇","小学",{"$nulls":15},{"$f":"SUM(Z15:AN15)","v":0},null,10,"冈上中小","乡镇","小学",null,1,{"$nulls":13},{"$f":"SUM(AU15:BI15)","v":1},null,10,"冈上中小","乡镇","小学",{"$nulls":15},{"$f":"SUM(BP15:CD15)","v":0},null,10,"冈上中小","乡镇","小学",null,1,null,1,null,1,{"$nulls":9},{"$f":"SUM(CK15:CY15)","v":3},null,10,"冈上中小","乡镇","小学",null,1,1,1,{"$nulls":11},{"$f":"SUM(DF15:DT15)","v":3},null,10,"冈上中小","乡镇","小学",{"$nulls":15},{"$f":"SUM(EA15:EO15)","v":0},null,10,"冈上中小","乡镇","小学",{"$nulls":15},{"$f":"SUM(EV15:FJ15)","v":0},null,10,"冈上中小","乡镇","小学",{"$nulls":15},{"$f":"SUM(FQ15:GE15)","v":0},null,10,"冈上中小","乡镇","小学",{"$f":"IF(E15+Z15+AU15+BP15-CK15-DF15-EA15-EV15-FQ15=0,\"\",E15+Z15+AU15+BP15-CK15-DF15-EA15-EV15-FQ15)","v":""},{"$f":"IF(F15+AA15+AV15+BQ15-CL15-DG15-EB15-EW15-FR15=0,\"\",F15+AA15+AV15+BQ15-CL15-DG15-EB15-EW15-FR15)","v":""},{"$f":"IF(G15+AB15+AW15+BR15-CM15-DH15-EC15-EX15-FS15=0,\"\",G15+AB15+AW15+BR15-CM15-DH15-EC15-EX15-FS15)","v":""},{"$f":"IF(H15+AC15+AX15+BS15-CN15-DI15-ED15-EY15-FT15=0,\"\",H15+AC15+AX15+BS15-CN15-DI15-ED15-EY15-FT15)","v":-1},{"$f":"IF(I15+AD15+AY15+BT15-CO15-DJ15-EE15-EZ15-FU15=0,\"\",I15+AD15+AY15+BT15-CO15-DJ15-EE15-EZ15-FU15)","v":""},{"$f":"IF(J15+AE15+AZ15+BU15-CP15-DK15-EF15-FA15-FV15=0,\"\",J15+AE15+AZ15+BU15-CP15-DK15-EF15-FA15-FV15)","v":-1},{"$f":"IF(K15+AF15+BA15+BV15-CQ15-DL15-EG15-FB15-FW15=0,\"\",K15+AF15+BA15+BV15-CQ15-DL15-EG15-FB15-FW15)","v":""},{"$f":"IF(L15+AG15+BB15+BW15-CR15-DM15-EH15-FC15-FX15=0,\"\",L15+AG15+BB15+BW15-CR15-DM15-EH15-FC15-FX15)","v":""},{"$f":"IF(M15+AH15+BC15+BX15-CS15-DN15-EI15-FD15-FY15=0,\"\",M15+AH15+BC15+BX15-CS15-DN15-EI15-FD15-FY15)","v":""},{"$f":"IF(N15+AI15+BD15+BY15-CT15-DO15-EJ15-FE15-FZ15=0,\"\",N15+AI15+BD15+BY15-CT15-DO15-EJ15-FE15-FZ15)","v":""},{"$f":"IF(O15+AJ15+BE15+BZ15-CU15-DP15-EK15-FF15-GA15=0,\"\",O15+AJ15+BE15+BZ15-CU15-DP15-EK15-FF15-GA15)","v":""},{"$f":"IF(P15+AK15+BF15+CA15-CV15-DQ15-EL15-FG15-GB15=0,\"\",P15+AK15+BF15+CA15-CV15-DQ15-EL15-FG15-GB15)","v":""},{"$f":"IF(Q15+AL15+BG15+CB15-CW15-DR15-EM15-FH15-GC15=0,\"\",Q15+AL15+BG15+CB15-CW15-DR15-EM15-FH15-GC15)","v":""},{"$f":"IF(R15+AM15+BH15+CC15-CX15-DS15-EN15-FI15-GD15=0,\"\",R15+AM15+BH15+CC15-CX15-DS15-EN15-FI15-GD15)","v":""},{"$f":"IF(S15+AN15+BI15+CD15-CY15-DT15-EO15-FJ15-GE15=0,\"\",S15+AN15+BI15+CD15-CY15-DT15-EO15-FJ15-GE15)","v":""},{"$f":"SUM(GL15:GZ15)","v":-2}]
[11,"广福中小","乡镇","小学",null,1,3,{"$nulls":11},1,5,null,11,"广福中小","乡镇","小学",{"$nulls":15},0,null,11,"广福中小","乡镇","小学",null,1,{"$nulls":13},1,null,11,"广福中小","乡镇","小学",{"$nulls":15},0,null,11,"广福中小","乡镇","小学",null,1,null,1,null,1,1,{"$nulls":7},1,5,null,11,"广福中小","乡镇","小学",null,2,1,{"$nulls":12},3,null,11,"广福中小","乡镇","小学",{"$nulls":15},0,null,11,"广福中小","乡镇","小学",{"$nulls":15},0,null,11,"广福中小","乡镇","小学",{"$nulls":15},0,null,11,"广福中小","乡镇","小学","",-1,2,-1,"",-1,-1,"","","","","","","","",-2]
[12,"富山中小","乡镇","小学",{"$nulls":15},0,null,12,"富山中小","乡镇","小学",{"$nulls":15},0,null,12,"富山中小","乡镇","小学",{"$nulls":3},1,{"$nulls":11},1,null,12,"富山中小","乡镇","小学",{"$nulls":15},0,null,12,"富山中小","乡镇","小学",{"$nulls":3},1,1,1,1,{"$nulls":7},1,5,null,12,"富山中小","乡镇","小学",{"$nulls":3},1,{"$nulls":11},1,null,12,"富山中小","乡镇","小学",{"$nulls":15},0,null,12,"富山中小","乡镇","小学",{"$nulls":15},0,null,12,"富山中小","乡镇","小学",{"$nulls":15},0,null,12,"富山中小","乡镇","小学","","","",-1,-1,-1,-1,"","","","","","","",-1,-5]
[13,"东新中小","乡镇","小学",{"$nulls":15},0,null,13,"东新中小","乡镇","小学",{"$nulls":15},0,null,13,"东新中小","乡镇","小学",null,1,null,1,{"$nulls":11},2,null,13,"东新中小","乡镇","小学",{"$nulls":15},0,null,13,"东新中小","乡镇","小学",null,1,null,null,1,null,null,1,{"$nulls":7},3,null,13,"东新中小","乡镇","小学",null,1,null,1,{"$nulls":11},2,null,13,"东新中小","乡镇","小学",{"$nulls":15},0,null,13,"东新中小","乡镇","小学",{"$nulls":15},0,null,13,"东新中小","乡镇","小学",{"$nulls":15},0,null,13,"东新中小","乡镇","小学","",-1,"","",-1,"","",-1,"","","","","","","",-3]
[14,"八一中小","乡镇","小学",{"$nulls":4},1,1,1,{"$nulls":8},3,null,14,"八一中小","乡镇","小学",{"$nulls":15},0,null,14,"八一中小","乡镇","小学",{"$nulls":15},0,null,14,"八一中小","乡镇","小学",{"$nulls":15},0,null,14,"八一中小","乡镇","小学",{"$nulls":15},0,null,14,"八一中小","乡镇","小学",{"$nulls":4},1,1,{"$nulls":9},2,null,14,"八一中小","乡镇","小学",{"$nulls":15},0,null,14,"八一中小","乡镇","小学",{"$nulls":15},0,null,14,"八一中小","乡镇","小学",{"$nulls":15},0,null,14,"八一中小","乡镇","小学","","","","","","",1,"","","","","","","","",1]
[37,"新联学校（小学）","乡镇","小学",{"$nulls":15},0,null,37,"新联学校（小学）","乡镇","小学",{"$nulls":15},0,null,37,"新联学校（小学）","乡镇","小学",{"$nulls":15},0,null,37,"新联学校（小学）","乡镇","小学",{"$nulls":4},1,{"$nulls":10},1,null,37,"新联学校（小学）","乡镇","小学",null,null,1,null,1,1,{"$nulls":9},3,null,37,"新联学校（小学）","乡镇","小学",{"$nulls":4},1,{"$nulls":10},1,null,37,"新联学校（小学）","乡镇","小学",{"$nulls":15},0,null,37,"新联学校（小学）","乡镇","小学",{"$nulls":15},0,null,37,"新联学校（小学）","乡镇","小学",{"$nulls":15},0,null,37,"新联学校（小学）","乡镇","小学","","",-1,"",-1,-1,"","","","","","","","","",-3]
[44,"向塘实验学校（小学）","乡镇","小学",{"$nulls":15},0,null,44,"向塘实验学校（小学）","乡镇","小学",{"$nulls":15},0,null,44,"向塘实验学校（小学）","乡镇","小学",{"$nulls":15},0,null,44,"向塘实验学校（小学）","乡镇","小学",null,3,3,{"$nulls":12},6,null,44,"向塘实验学校（小学）","乡镇","小学",{"$nulls":4},1,null,1,{"$nulls":8},2,null,44,"向塘实验学校（小学）","乡镇","小学",null,2,3,null,1,1,{"$nulls":9},7,null,44,"向塘实验学校（小学）","乡镇","小学",{"$nulls":15},0,null,44,"向塘实验学校（小学）","乡镇","小学",{"$nulls":15},0,null,44,"向塘实验学校（小学）","乡镇","小学",{"$nulls":15},0,null,44,"向塘实验学校（小学）","乡镇","小学","",1,"","",-2,-1,-1,"","","","","","","","",-3]
[45,"向塘向阳学校（小学）","乡镇","小学",{"$nulls":15},0,null,45,"向塘向阳学校（小学）","乡镇","小学",{"$nulls":15},0,null,45,"向塘向阳学校（小学）","乡镇","小学",{"$nulls":15},0,null,45,"向塘向阳学校（小学）","乡镇","小学",{"$nulls":15},0,null,45,"向塘向阳学校（小学）","乡镇","小学",{"$nulls":15},0,null,45,"向塘向阳学校（小学）","乡镇","小学",null,1,{"$nulls":13},1,null,45,"向塘向阳学校（小学）","乡镇","小学",{"$nulls":15},0,null,45,"向塘向阳学校（小学）","乡镇","小学",{"$nulls":15},0,null,45,"向塘向阳学校（小学）","乡镇","小学",{"$nulls":15},0,null,45,"向塘向阳学校（小学）","乡镇","小学","",-1,"","","","","","","","","","","","","",-1]
[null,"乡镇小学 总计",null,null,{"$f":"SUM(E7:E22)","v":0},{"$f":"SUM(F7:F22)","v":4},5,4,1,1,1,0,0,0,0,0,0,0,1,17,null,null,"乡镇小学 总计",null,null,{"$f":"SUM(Z7:Z22)","v":0},0,0,0,0,0,0,0,0,0,0,0,0,0,0,0,null,null,"乡镇小学 总计",null,null,{"$f":"SUM(AU7:AU22)","v":0},6,7,3,0,1,0,0,0,0,0,0,0,0,2,19,null,null,"乡镇小学 总计",null,null,{"$f":"SUM(BP7:BP22)","v":0},3,3,0,1,0,0,0,0,0,0,0,0,0,0,7,null,null,"乡镇小学 总计",null,null,{"$f":"SUM(CK7:CK22)","v":0},{"$f":"SUM(CL7:CL22)","v":7},6,5,7,7,6,3,0,0,0,0,0,0,6,47,null,null,"乡镇小学 总计",null,null,{"$f":"SUM(DF7:DF22)","v":0},{"$f":"SUM(DG7:DG22)","v":11},10,5,3,3,1,0,0,0,0,0,0,0,0,33,null,null,"乡镇小学 总计",null,null,{"$f":"SUM(EA7:EA22)","v":0},0,0,0,0,0,0,0,0,0,0,0,0,0,0,0,null,null,"乡镇小学 总计",null,null,{"$f":"SUM(EV7:EV22)","v":0},0,1,1,0,0,0,0,0,0,0,0,0,0,0,2,null,null,"乡镇小学 总计",null,null,{"$f":"SUM(FQ7:FQ22)","v":0},0,0,0,0,0,0,0,0,0,0,0,0,0,0,0,null,null,"乡镇小学 总计",null,null,"",{"$f":"IF(F23+AA23+AV23+BQ23-CL23-DG23-EB23-EW23-FR23=0,\"\",F23+AA23+AV23+BQ23-CL23-DG23-EB23-EW23-FR23)","v":-5},-2,-4,-8,-8,-6,-3,"","","","","","",-3,-39]
[15,"莲塘中小","县直","小学",{"$nulls":4},2,1,1,{"$nulls":8},4,null,15,"莲塘中小","县直","小学",{"$nulls":15},0,null,15,"莲塘中小","县直","小学",{"$nulls":15},0,null,15,"莲塘中小","县直","小学",null,null,1,{"$nulls":12},1,null,15,"莲塘中小","县直","小学",{"$nulls":15},0,null,15,"莲塘中小","县直","小学",null,null,2,null,1,{"$nulls":10},3,null,15,"莲塘中小","县直","小学",{"$nulls":15},0,null,15,"莲塘中小","县直","小学",{"$nulls":4},1,1,1,{"$nulls":8},3,null,15,"莲塘中小","县直","小学",{"$nulls":15},0,null,15,"莲塘中小","县直","小学","",{"$f":"IF(F24+AA24+AV24+BQ24-CL24-DG24-EB24-EW24-FR24=0,\"\",F24+AA24+AV24+BQ24-CL24-DG24-EB24-EW24-FR24)","v":""},-1,"","","","","","","","","","","","",-1]
[16,"莲塘一小","县直","小学",{"$nulls":15},0,null,16,"莲塘一小","县直","小学",{"$nulls":15},0,null,16,"莲塘一小","县直","小学",{"$nulls":15},0,null,16,"莲塘一小","县直","小学",{"$nulls":15},0,null,16,"莲塘一小","县直","小学",{"$nulls":15},0,null,16,"莲塘一小","县直","小学",{"$nulls":15},0,null,16,"莲塘一小","县直","小学",{"$nulls":15},0,null,16,"莲塘一小","县直","小学",{"$nulls":15},0,null,16,"莲塘一小","县直","小学",{"$nulls":15},0,null,16,"莲塘一小","县直","小学",{"$f":"IF(E25+Z25+AU25+BP25-CK25-DF25-EA25-EV25-FQ25=0,\"\",E25+Z25+AU25+BP25-CK25-DF25-EA25-EV25-FQ25)","v":""},{"$f":"IF(F25+AA25+AV25+BQ25-CL25-DG25-EB25-EW25-FR25=0,\"\",F25+AA25+AV25+BQ25-CL25-DG25-EB25-EW25-FR25)","v":""},{"$f":"IF(G25+AB25+AW25+BR25-CM25-DH25-EC25-EX25-FS25=0,\"\",G25+AB25+AW25+BR25-CM25-DH25-EC25-EX25-FS25)","v":""},{"$f":"IF(H25+AC25+AX25+BS25-CN25-DI25-ED25-EY25-FT25=0,\"\",H25+AC25+AX25+BS25-CN25-DI25-ED25-EY25-FT25)","v":""},{"$f":"IF(I25+AD25+AY25+BT25-CO25-DJ25-EE25-EZ25-FU25=0,\"\",I25+AD25+AY25+BT25-CO25-DJ25-EE25-EZ25-FU25)","v":""},{"$f":"IF(J25+AE25+AZ25+BU25-CP25-DK25-EF25-FA25-FV25=0,\"\",J25+AE25+AZ25+BU25-CP25-DK25-EF25-FA25-FV25)","v":""},{"$f":"IF(K25+AF25+BA25+BV25-CQ25-DL25-EG25-FB25-FW25=0,\"\",K25+AF25+BA25+BV25-CQ25-DL25-EG25-FB25-FW25)","v":""},{"$f":"IF(L25+AG25+BB25+BW25-CR25-DM25-EH25-FC25-FX25=0,\"\",L25+AG25+BB25+BW25-CR25-DM25-EH25-FC25-FX25)","v":""},{"$f":"IF(M25+AH25+BC25+BX25-CS25-DN25-EI25-FD25-FY25=0,\"\",M25+AH25+BC25+BX25-CS25-DN25-EI25-FD25-FY25)","v":""},{"$f":"IF(N25+AI25+BD25+BY25-CT25-DO25-EJ25-FE25-FZ25=0,\"\",N25+AI25+BD25+BY25-CT25-DO25-EJ25-FE25-FZ25)","v":""},{"$f":"IF(O25+AJ25+BE25+BZ25-CU25-DP25-EK25-FF25-GA25=0,\"\",O25+AJ25+BE25+BZ25-CU25-DP25-EK25-FF25-GA25)","v":""},{"$f":"IF(P25+AK25+BF25+CA25-CV25-DQ25-EL25-FG25-GB25=0,\"\",P25+AK25+BF25+CA25-CV25-DQ25-EL25-FG25-GB25)","v":""},{"$f":"IF(Q25+AL25+BG25+CB25-CW25-DR25-EM25-FH25-GC25=0,\"\",Q25+AL25+BG25+CB25-CW25-DR25-EM25-FH25-GC25)","v":""},{"$f":"IF(R25+AM25+BH25+CC25-CX25-DS25-EN25-FI25-GD25=0,\"\",R25+AM25+BH25+CC25-CX25-DS25-EN25-FI25-GD25)","v":""},{"$f":"IF(S25+AN25+BI25+CD25-CY25-DT25-EO25-FJ25-GE25=0,\"\",S25+AN25+BI25+CD25-CY25-DT25-EO25-FJ25-GE25)","v":""},0]
[17,"莲塘二小","县直","小学",{"$nulls":15},0,null,17,"莲塘二小","县直","小学",{"$nulls":15},0,null,17,"莲塘二小","县直","小学",{"$nulls":15},0,null,17,"莲塘二小","县直","小学",{"$nulls":15},0,null,17,"莲塘二小","县直","小学",{"$nulls":15},0,null,17,"莲塘二小","县直","小学",null,1,{"$nulls":13},1,null,17,"莲塘二小","县直","小学",{"$nulls":15},0,null,17,"莲塘二小","县直","小学",{"$nulls":15},0,null,17,"莲塘二小","县直","小学",{"$nulls":15},0,null,17,"莲塘二小","县直","小学","",-1,"","","","","","","","","","","","","",-1]
[18,"莲塘三小","县直","小学",{"$nulls":15},0,null,18,"莲塘三小","县直","小学",{"$nulls":15},0,null,18,"莲塘三小","县直","小学",{"$nulls":15},0,null,18,"莲塘三小","县直","小学",{"$nulls":15},0,null,18,"莲塘三小","县直","小学",{"$nulls":15},0,null,18,"莲塘三小","县直","小学",{"$nulls":15},0,null,18,"莲塘三小","县直","小学",{"$nulls":15},0,null,18,"莲塘三小","县直","小学",{"$nulls":15},0,null,18,"莲塘三小","县直","小学",{"$nulls":15},0,null,18,"莲塘三小","县直","小学","","","","","","","","","","","","","","","",0]
[19,"莲塘四小","县直","小学",{"$nulls":15},0,null,19,"莲塘四小","县直","小学",{"$nulls":15},0,null,19,"莲塘四小","县直","小学",{"$nulls":15},0,null,19,"莲塘四小","县直","小学",null,1,1,1,null,1,1,{"$nulls":7},1,6,null,19,"莲塘四小","县直","小学",{"$nulls":15},0,null,19,"莲塘四小","县直","小学",null,1,1,1,null,null,1,{"$nulls":7},1,5,null,19,"莲塘四小","县直","小学",{"$nulls":15},0,null,19,"莲塘四小","县直","小学",{"$nulls":15},0,null,19,"莲塘四小","县直","小学",{"$nulls":15},0,null,19,"莲塘四小","县直","小学","","","","","",1,"","","","","","","","","",1]
[20,"县特教（小学）","县直","小学",{"$nulls":15},0,null,20,"县特教（小学）","县直","小学",null,1,{"$nulls":13},1,null,20,"县特教（小学）","县直","小学",{"$nulls":15},0,null,20,"县特教（小学）","县直","小学",{"$nulls":15},0,null,20,"县特教（小学）","县直","小学",{"$nulls":15},0,null,20,"县特教（小学）","县直","小学",null,1,{"$nulls":13},1,null,20,"县特教（小学）","县直","小学",{"$nulls":15},0,null,20,"县特教（小学）","县直","小学",{"$nulls":15},0,null,20,"县特教（小学）","县直","小学",{"$nulls":15},0,null,20,"县特教（小学）","县直","小学","","","","","","","","","","","","","","","",0]
[25,"莲塘实验学校（小学）","县直","小学",{"$nulls":15},{"$f":"SUM(E30:S30)","v":0},null,25,"莲塘实验学校（小学）","县直","小学",{"$nulls":15},0,null,25,"莲塘实验学校（小学）","县直","小学",{"$nulls":15},0,null,25,"莲塘实验学校（小学）","县直","小学",{"$nulls":15},0,null,25,"莲塘实验学校（小学）","县直","小学",{"$nulls":15},0,null,25,"莲塘实验学校（小学）","县直","小学",{"$nulls":15},0,null,25,"莲塘实验学校（小学）","县直","小学",{"$nulls":15},0,null,25,"莲塘实验学校（小学）","县直","小学",{"$nulls":15},0,null,25,"莲塘实验学校（小学）","县直","小学",{"$nulls":15},0,null,25,"莲塘实验学校（小学）","县直","小学","","","","","","","","","","","","","","","",0]
[26,"昌南实验学校（小学）","县直","小学",{"$nulls":15},0,null,26,"昌南实验学校（小学）","县直","小学",{"$nulls":15},0,null,26,"昌南实验学校（小学）","县直","小学",{"$nulls":15},0,null,26,"昌南实验学校（小学）","县直","小学",null,1,1,{"$nulls":12},2,null,26,"昌南实验学校（小学）","县直","小学",{"$nulls":15},0,null,26,"昌南实验学校（小学）","县直","小学",null,1,1,{"$nulls":12},2,null,26,"昌南实验学校（小学）","县直","小学",{"$nulls":15},0,null,26,"昌南实验学校（小学）","县直","小学",{"$nulls":15},0,null,26,"昌南实验学校（小学）","县直","小学",{"$nulls":15},0,null,26,"昌南实验学校（小学）","县直","小学","","","","","","","","","","","","","","","",0]
[28,"银三角实验学校（小学）","县直","小学",{"$nulls":15},0,null,28,"银三角实验学校（小学）","县直","小学",{"$nulls":15},0,null,28,"银三角实验学校（小学）","县直","小学",{"$nulls":15},0,null,28,"银三角实验学校（小学）","县直","小学",1,4,2,1,null,1,1,1,{"$nulls":7},11,null,28,"银三角实验学校（小学）","县直","小学",{"$nulls":15},0,null,28,"银三角实验学校（小学）","县直","小学",1,4,2,1,null,1,1,1,{"$nulls":7},11,null,28,"银三角实验学校（小学）","县直","小学",{"$nulls":15},0,null,28,"银三角实验学校（小学）","县直","小学",{"$nulls":15},0,null,28,"银三角实验学校（小学）","县直","小学",{"$nulls":15},0,null,28,"银三角实验学校（小学）","县直","小学","","","","","","","","","","","","","","","",0]
[30,"金沙路小学","县直","小学",{"$nulls":15},0,null,30,"金沙路小学","县直","小学",null,3,3,2,null,1,{"$nulls":9},9,null,30,"金沙路小学","县直","小学",{"$nulls":15},0,null,30,"金沙路小学","县直","小学",{"$nulls":15},0,null,30,"金沙路小学","县直","小学",{"$nulls":15},0,null,30,"金沙路小学","县直","小学",null,1,1,1,{"$nulls":11},3,null,30,"金沙路小学","县直","小学",null,1,1,1,null,1,{"$nulls":9},4,null,30,"金沙路小学","县直","小学",null,1,1,{"$nulls":12},2,null,30,"金沙路小学","县直","小学",{"$nulls":15},0,null,30,"金沙路小学","县直","小学","","","","","","","","","","","","","","","",0]
[31,"振兴路小学","县直","小学",null,1,null,5,{"$nulls":11},6,null,31,"振兴路小学","县直","小学",{"$nulls":15},0,null,31,"振兴路小学","县直","小学",{"$nulls":15},0,null,31,"振兴路小学","县直","小学",{"$nulls":15},0,null,31,"振兴路小学","县直","小学",{"$nulls":15},0,null,31,"振兴路小学","县直","小学",{"$nulls":3},3,{"$nulls":11},3,null,31,"振兴路小学","县直","小学",{"$nulls":3},1,{"$nulls":11},1,null,31,"振兴路小学","县直","小学",null,1,null,1,{"$nulls":11},2,null,31,"振兴路小学","县直","小学",{"$nulls":15},0,null,31,"振兴路小学","县直","小学","","","","","","","","","","","","","","","",0]
[32,"墨山街小学","县直","小学",{"$nulls":4},1,1,{"$nulls":9},2,null,32,"墨山街小学","县直","小学",{"$nulls":15},0,null,32,"墨山街小学","县直","小学",{"$nulls":15},0,null,32,"墨山街小学","县直","小学",null,null,1,null,1,{"$nulls":10},2,null,32,"墨山街小学","县直","小学",{"$nulls":15},0,null,32,"墨山街小学","县直","小学",null,null,1,null,1,{"$nulls":10},2,null,32,"墨山街小学","县直","小学",{"$nulls":15},0,null,32,"墨山街小学","县直","小学",{"$nulls":4},1,1,{"$nulls":9},2,null,32,"墨山街小学","县直","小学",{"$nulls":15},0,null,32,"墨山街小学","县直","小学","","","","","","","","","","","","","","","",0]
[33,"斗柏路小学","县直","小学",{"$nulls":15},0,null,33,"斗柏路小学","县直","小学",{"$nulls":3},1,{"$nulls":11},1,null,33,"斗柏路小学","县直","小学",{"$nulls":15},0,null,33,"斗柏路小学","县直","小学",null,1,null,1,{"$nulls":11},2,null,33,"斗柏路小学","县直","小学",{"$nulls":15},0,null,33,"斗柏路小学","县直","小学",null,1,null,1,{"$nulls":11},2,null,33,"斗柏路小学","县直","小学",{"$nulls":3},1,{"$nulls":11},1,null,33,"斗柏路小学","县直","小学",{"$nulls":15},0,null,33,"斗柏路小学","县直","小学",{"$nulls":15},0,null,33,"斗柏路小学","县直","小学","","","","","","","","","","","","","","","",0]
[61,"银河学校（小学）","县直","小学",{"$nulls":15},0,null,61,"银河学校（小学）","县直","小学",null,3,4,1,{"$nulls":11},8,null,61,"银河学校（小学）","县直","小学",{"$nulls":15},0,null,61,"银河学校（小学）","县直","小学",null,5,3,null,null,1,{"$nulls":8},1,10,null,61,"银河学校（小学）","县直","小学",{"$nulls":15},0,null,61,"银河学校（小学）","县直","小学",null,3,3,1,{"$nulls":11},7,null,61,"银河学校（小学）","县直","小学",null,1,1,{"$nulls":12},2,null,61,"银河学校（小学）","县直","小学",null,1,2,{"$nulls":12},3,null,61,"银河学校（小学）","县直","小学",null,3,1,null,null,1,{"$nulls":8},1,6,null,61,"银河学校（小学）","县直","小学","","","","","","","","","","","","","","","",0]
[62,"洪州学校（小学）","县直","小学",{"$nulls":15},0,null,62,"洪州学校（小学）","县直","小学",null,9,9,1,1,null,1,1,{"$nulls":7},22,null,62,"洪州学校（小学）","县直","小学",{"$nulls":15},0,null,62,"洪州学校（小学）","县直","小学",{"$nulls":15},0,null,62,"洪州学校（小学）","县直","小学",{"$nulls":15},0,null,62,"洪州学校（小学）","县直","小学",null,1,null,1,{"$nulls":11},2,null,62,"洪州学校（小学）","县直","小学",null,1,1,{"$nulls":12},2,null,62,"洪州学校（小学）","县直","小学",null,2,2,{"$nulls":12},4,null,62,"洪州学校（小学）","县直","小学",{"$nulls":15},0,null,62,"洪州学校（小学）","县直","小学","",5,6,"",1,"",1,1,"","","","","","","",14]
[63,"新城学校（小学）","县直","小学",{"$nulls":15},0,null,63,"新城学校（小学）","县直","小学",null,7,9,2,null,1,1,{"$nulls":8},20,null,63,"新城学校（小学）","县直","小学",{"$nulls":15},0,null,63,"新城学校（小学）","县直","小学",{"$nulls":15},0,null,63,"新城学校（小学）","县直","小学",{"$nulls":15},0,null,63,"新城学校（小学）","县直","小学",null,6,5,1,null,1,1,{"$nulls":8},14,null,63,"新城学校（小学）","县直","小学",null,1,1,1,{"$nulls":11},3,null,63,"新城学校（小学）","县直","小学",null,1,2,1,{"$nulls":11},4,null,63,"新城学校（小学）","县直","小学",{"$nulls":15},0,null,63,"新城学校（小学）","县直","小学","",-1,1,-1,"","","","","","","","","","","",-1]
[64,"诚义学校（小学）","县直","小学",{"$nulls":15},0,null,64,"诚义学校（小学）","县直","小学",{"$nulls":15},0,null,64,"诚义学校（小学）","县直","小学",{"$nulls":15},0,null,64,"诚义学校（小学）","县直","小学",null,7,7,3,1,1,2,2,{"$nulls":6},1,24,null,64,"诚义学校（小学）","县直","小学",{"$nulls":15},0,null,64,"诚义学校（小学）","县直","小学",null,5,7,3,1,1,2,2,{"$nulls":6},1,22,null,64,"诚义学校（小学）","县直","小学",null,1,1,{"$nulls":12},2,null,64,"诚义学校（小学）","县直","小学",{"$nulls":15},0,null,64,"诚义学校（小学）","县直","小学",{"$nulls":15},0,null,64,"诚义学校（小学）","县直","小学","",1,-1,"","","","","","","","","","","","",0]
[65,"芳草学校（小学）","县直","小学",{"$nulls":15},0,null,65,"芳草学校（小学）","县直","小学",{"$nulls":15},0,null,65,"芳草学校（小学）","县直","小学",{"$nulls":15},0,null,65,"芳草学校（小学）","县直","小学",1,7,6,null,2,null,1,1,{"$nulls":7},18,null,65,"芳草学校（小学）","县直","小学",{"$nulls":15},0,null,65,"芳草学校（小学）","县直","小学",1,5,5,null,2,null,1,1,{"$nulls":7},15,null,65,"芳草学校（小学）","县直","小学",null,1,1,{"$nulls":12},2,null,65,"芳草学校（小学）","县直","小学",{"$nulls":15},0,null,65,"芳草学校（小学）","县直","小学",{"$nulls":15},0,null,65,"芳草学校（小学）","县直","小学","",1,"","","","","","","","","","","","","",1]
[66,"洪州汇仁学校（小学）","县直","小学",{"$nulls":15},0,null,66,"洪州汇仁学校（小学）","县直","小学",null,9,4,1,1,1,{"$nulls":9},16,null,66,"洪州汇仁学校（小学）","县直","小学",{"$nulls":15},0,null,66,"洪州汇仁学校（小学）","县直","小学",{"$nulls":15},0,null,66,"洪州汇仁学校（小学）","县直","小学",{"$nulls":15},0,null,66,"洪州汇仁学校（小学）","县直","小学",null,3,1,null,1,1,{"$nulls":9},6,null,66,"洪州汇仁学校（小学）","县直","小学",null,1,1,{"$nulls":12},2,null,66,"洪州汇仁学校（小学）","县直","小学",null,2,2,{"$nulls":12},4,null,66,"洪州汇仁学校（小学）","县直","小学",{"$nulls":15},0,null,66,"洪州汇仁学校（小学）","县直","小学","",3,"",1,"","","","","","","","","","","",4]
[67,"洪燕学校（小学）","县直","小学",null,1,{"$nulls":13},1,null,67,"洪燕学校（小学）","县直","小学",2,6,4,5,2,1,2,{"$nulls":8},22,null,67,"洪燕学校（小学）","县直","小学",{"$nulls":15},0,null,67,"洪燕学校（小学）","县直","小学",{"$nulls":15},0,null,67,"洪燕学校（小学）","县直","小学",{"$nulls":15},0,null,67,"洪燕学校（小学）","县直","小学",null,5,2,4,1,1,1,1,{"$nulls":7},15,null,67,"洪燕学校（小学）","县直","小学",1,1,1,null,1,null,1,{"$nulls":8},5,null,67,"洪燕学校（小学）","县直","小学",1,1,1,1,{"$nulls":11},4,null,67,"洪燕学校（小学）","县直","小学",{"$nulls":15},0,null,67,"洪燕学校（小学）","县直","小学","","","","","","","",-1,"","","","","","","",-1]
[68,"洪亿学校（小学）","县直","小学",{"$nulls":15},0,null,68,"洪亿学校（小学）","县直","小学",null,5,6,1,null,1,1,{"$nulls":8},14,null,68,"洪亿学校（小学）","县直","小学",{"$nulls":15},0,null,68,"洪亿学校（小学）","县直","小学",{"$nulls":15},0,null,68,"洪亿学校（小学）","县直","小学",{"$nulls":15},0,null,68,"洪亿学校（小学）","县直","小学",null,2,2,1,null,1,1,{"$nulls":8},7,null,68,"洪亿学校（小学）","县直","小学",null,1,2,{"$nulls":12},3,null,68,"洪亿学校（小学）","县直","小学",null,1,2,{"$nulls":12},3,null,68,"洪亿学校（小学）","县直","小学",{"$nulls":15},0,null,68,"洪亿学校（小学）","县直","小学","",1,"","","","","","","","","","","","","",1]
[69,"洪科学校（小学）","县直","小学",null,3,1,{"$nulls":12},4,null,69,"洪科学校（小学）","县直","小学",null,1,4,1,1,{"$nulls":9},1,8,null,69,"洪科学校（小学）","县直","小学",{"$nulls":15},0,null,69,"洪科学校（小学）","县直","小学",{"$nulls":15},0,null,69,"洪科学校（小学）","县直","小学",{"$nulls":15},0,null,69,"洪科学校（小学）","县直","小学",null,2,2,{"$nulls":12},4,null,69,"洪科学校（小学）","县直","小学",null,1,2,1,1,{"$nulls":10},5,null,69,"洪科学校（小学）","县直","小学",null,2,2,{"$nulls":11},1,5,null,69,"洪科学校（小学）","县直","小学",{"$nulls":15},0,null,69,"洪科学校（小学）","县直","小学","",-1,-1,"","","","","","","","","","","","",-2]
[70,"莲塘一中八一分校（小学）","县直","小学",null,4,3,3,{"$nulls":11},10,null,70,"莲塘一中八一分校（小学）","县直","小学",1,2,3,1,2,1,2,2,{"$nulls":6},1,15,null,70,"莲塘一中八一分校（小学）","县直","小学",{"$nulls":15},0,null,70,"莲塘一中八一分校（小学）","县直","小学",{"$nulls":15},0,null,70,"莲塘一中八一分校（小学）","县直","小学",{"$nulls":15},0,null,70,"莲塘一中八一分校（小学）","县直","小学",null,4,3,3,2,1,1,{"$nulls":7},1,15,null,70,"莲塘一中八一分校（小学）","县直","小学",null,1,1,1,null,null,1,1,{"$nulls":7},5,null,70,"莲塘一中八一分校（小学）","县直","小学",1,1,2,{"$nulls":4},1,{"$nulls":7},5,null,70,"莲塘一中八一分校（小学）","县直","小学",{"$nulls":15},0,null,70,"莲塘一中八一分校（小学）","县直","小学","","","","","","","","","","","","","","","",0]
[71,"洪范学校（小学）","县直","小学",{"$nulls":15},0,null,71,"洪范学校（小学）","县直","小学",null,9,11,2,1,2,1,1,{"$nulls":7},27,null,71,"洪范学校（小学）","县直","小学",{"$nulls":15},0,null,71,"洪范学校（小学）","县直","小学",{"$nulls":15},0,null,71,"洪范学校（小学）","县直","小学",{"$nulls":15},0,null,71,"洪范学校（小学）","县直","小学",null,6,5,1,1,1,null,1,{"$nulls":7},15,null,71,"洪范学校（小学）","县直","小学",null,1,2,{"$nulls":12},3,null,71,"洪范学校（小学）","县直","小学",null,3,4,1,null,null,1,{"$nulls":8},9,null,71,"洪范学校（小学）","县直","小学",{"$nulls":15},0,null,71,"洪范学校（小学）","县直","小学","",-1,"","","",1,"","","","","","","","","",0]
[72,"洪新学校（小学）","县直","小学",{"$nulls":15},0,null,72,"洪新学校（小学）","县直","小学",{"$nulls":15},0,null,72,"洪新学校（小学）","县直","小学",{"$nulls":15},0,null,72,"洪新学校（小学）","县直","小学",null,2,2,{"$nulls":12},4,null,72,"洪新学校（小学）","县直","小学",{"$nulls":15},0,null,72,"洪新学校（小学）","县直","小学",null,6,5,{"$nulls":3},1,{"$nulls":8},12,null,72,"洪新学校（小学）","县直","小学",{"$nulls":15},0,null,72,"洪新学校（小学）","县直","小学",{"$nulls":15},0,null,72,"洪新学校（小学）","县直","小学",{"$nulls":15},0,null,72,"洪新学校（小学）","县直","小学","",-4,-3,"","","",-1,"","","","","","","","",-8]
[81,"城东学校（小学）","县直","小学",{"$nulls":15},0,null,81,"城东学校（小学）","县直","小学",{"$nulls":15},0,null,81,"城东学校（小学）","县直","小学",{"$nulls":15},0,null,81,"城东学校（小学）","县直","小学",null,4,5,{"$nulls":12},9,null,81,"城东学校（小学）","县直","小学",{"$nulls":15},0,null,81,"城东学校（小学）","县直","小学",null,4,5,{"$nulls":12},9,null,81,"城东学校（小学）","县直","小学",{"$nulls":15},0,null,81,"城东学校（小学）","县直","小学",{"$nulls":15},0,null,81,"城东学校（小学）","县直","小学",{"$nulls":15},0,null,81,"城东学校（小学）","县直","小学","","","","","","","","","","","","","","","",0]
[null,"县直小学 总计",null,null,{"$f":"SUM(E24:E49)","v":0},{"$f":"SUM(F24:F49)","v":9},4,8,3,2,1,0,0,0,0,0,0,0,0,27,null,null,"县直小学 总计",null,null,{"$f":"SUM(Z24:Z49)","v":3},55,57,18,8,8,8,4,0,0,0,0,0,0,2,163,null,null,"县直小学 总计",null,null,{"$f":"SUM(AU24:AU49)","v":0},0,0,0,0,0,0,0,0,0,0,0,0,0,0,0,null,null,"县直小学 总计",null,null,{"$f":"SUM(BP24:BP49)","v":2},32,29,6,4,4,5,4,0,0,0,0,0,0,3,89,null,null,"县直小学 总计",null,null,{"$f":"SUM(CK24:CK49)","v":0},0,0,0,0,0,0,0,0,0,0,0,0,0,0,0,null,null,"县直小学 总计",null,null,{"$f":"SUM(DF24:DF49)","v":2},{"$f":"SUM(DG24:DG49)","v":62},53,22,10,8,10,6,0,0,0,0,0,0,3,176,null,null,"县直小学 总计",null,null,{"$f":"SUM(EA24:EA49)","v":1},12,15,6,2,1,2,1,0,0,0,0,0,0,0,40,null,null,"县直小学 总计",null,null,{"$f":"SUM(EV24:EV49)","v":2},16,20,4,2,2,2,1,0,0,0,0,0,0,1,50,null,null,"县直小学 总计",null,null,{"$f":"SUM(FQ24:FQ49)","v":0},3,1,0,0,1,0,0,0,0,0,0,0,0,1,6,null,null,"县直小学 总计",null,null,{"$f":"IF(E50+Z50+AU50+BP50-CK50-DF50-EA50-EV50-FQ50=0,\"\",E50+Z50+AU50+BP50-CK50-DF50-EA50-EV50-FQ50)","v":""},{"$f":"IF(F50+AA50+AV50+BQ50-CL50-DG50-EB50-EW50-FR50=0,\"\",F50+AA50+AV50+BQ50-CL50-DG50-EB50-EW50-FR50)","v":3},1,"",1,2,"","","","","","","","","",7]
[null,"小学总计",null,null,{"$f":"E50+E23","v":0},{"$f":"F50+F23","v":13},9,12,4,3,2,0,0,0,0,0,0,0,1,44,null,null,"小学总计",null,null,{"$f":"Z50+Z23","v":3},55,57,18,8,8,8,4,0,0,0,0,0,0,2,163,null,null,"小学总计",null,null,{"$f":"AU50+AU23","v":0},6,7,3,0,1,0,0,0,0,0,0,0,0,2,19,null,null,"小学总计",null,null,{"$f":"BP50+BP23","v":2},35,32,6,5,4,5,4,0,0,0,0,0,0,3,96,null,null,"小学总计",null,null,{"$f":"CK50+CK23","v":0},7,6,5,7,7,6,3,0,0,0,0,0,0,6,47,null,null,"小学总计",null,null,{"$f":"DF50+DF23","v":2},{"$f":"DG50+DG23","v":73},63,27,13,11,11,6,0,0,0,0,0,0,3,209,null,null,"小学总计",null,null,{"$f":"EA50+EA23","v":1},12,15,6,2,1,2,1,0,0,0,0,0,0,0,40,null,null,"小学总计",null,null,{"$f":"EV50+EV23","v":2},16,21,5,2,2,2,1,0,0,0,0,0,0,1,52,null,null,"小学总计",null,null,{"$f":"FQ50+FQ23","v":0},3,1,0,0,1,0,0,0,0,0,0,0,0,1,6,null,null,"小学总计",null,null,"",{"$f":"IF(F51+AA51+AV51+BQ51-CL51-DG51-EB51-EW51-FR51=0,\"\",F51+AA51+AV51+BQ51-CL51-DG51-EB51-EW51-FR51)","v":-2},-1,-4,-7,-6,-6,-3,"","","","","","",-3,-32]
[{"$nulls":88},{"$f":"IF(CK5-CK51=0,\"\",CK5-CK51)","v":""},"","","",1,"",1,"","","","","","","",1,3,{"$nulls":5},{"$f":"IF(DF5-DF51=0,\"\",DF5-DF51)","v":""},{"$f":"IF(DG5-DG51=0,\"\",DG5-DG51)","v":""},"","","","","","","","","","","","","",0]
[{"$nulls":106},"初中统招可分配人数",null,"初中",6,16,13,12,3,8,3,null,8,7,2,7,2,2,2,91]
[{"$nulls":106},"已分配人数",null,"初中",{"$f":"IF(DF94=0,\"\",DF94)","v":6},{"$f":"IF(DG94=0,\"\",DG94)","v":16},13,12,3,8,3,"",8,7,2,7,2,2,2,91]
[27,"黄马凤凰沟实验学校","乡镇","初中",{"$nulls":15},{"$f":"SUM(E55:S55)","v":0},null,27,"黄马凤凰沟实验学校","乡镇","初中",{"$nulls":15},{"$f":"SUM(Z55:AN55)","v":0},null,27,"黄马凤凰沟实验学校","乡镇","初中",{"$nulls":15},{"$f":"SUM(AU55:BI55)","v":0},null,27,"黄马凤凰沟实验学校","乡镇","初中",{"$nulls":4},1,{"$nulls":4},1,{"$nulls":5},{"$f":"SUM(BP55:CD55)","v":2},null,27,"黄马凤凰沟实验学校","乡镇","初中",{"$nulls":15},{"$f":"SUM(CK55:CY55)","v":0},null,27,"黄马凤凰沟实验学校","乡镇","初中",{"$nulls":4},1,{"$nulls":4},1,{"$nulls":5},{"$f":"SUM(DF55:DT55)","v":2},null,27,"黄马凤凰沟实验学校","乡镇","初中",{"$nulls":15},{"$f":"SUM(EA55:EO55)","v":0},null,27,"黄马凤凰沟实验学校","乡镇","初中",{"$nulls":15},{"$f":"SUM(EV55:FJ55)","v":0},null,27,"黄马凤凰沟实验学校","乡镇","初中",{"$nulls":15},{"$f":"SUM(FQ55:GE55)","v":0},null,27,"黄马凤凰沟实验学校","乡镇","初中","",{"$f":"IF(F55+AA55+AV55+BQ55-CL55-DG55-EB55-EW55-FR55=0,\"\",F55+AA55+AV55+BQ55-CL55-DG55-EB55-EW55-FR55)","v":""},"","","","","","","","","","","","","",{"$f":"SUM(GL55:GZ55)","v":0}]
[34,"南新中学","乡镇","初中",{"$nulls":15},0,null,34,"南新中学","乡镇","初中",{"$nulls":4},1,{"$nulls":10},1,null,34,"南新中学","乡镇","初中",null,null,1,{"$nulls":5},1,{"$nulls":6},2,null,34,"南新中学","乡镇","初中",{"$nulls":15},0,null,34,"南新中学","乡镇","初中",{"$nulls":15},0,null,34,"南新中学","乡镇","初中",null,null,1,null,1,{"$nulls":10},2,null,34,"南新中学","乡镇","初中",{"$nulls":15},0,null,34,"南新中学","乡镇","初中",{"$nulls":15},0,null,34,"南新中学","乡镇","初中",{"$nulls":15},0,null,34,"南新中学","乡镇","初中",{"$f":"IF(E56+Z56+AU56+BP56-CK56-DF56-EA56-EV56-FQ56=0,\"\",E56+Z56+AU56+BP56-CK56-DF56-EA56-EV56-FQ56)","v":""},{"$f":"IF(F56+AA56+AV56+BQ56-CL56-DG56-EB56-EW56-FR56=0,\"\",F56+AA56+AV56+BQ56-CL56-DG56-EB56-EW56-FR56)","v":""},{"$f":"IF(G56+AB56+AW56+BR56-CM56-DH56-EC56-EX56-FS56=0,\"\",G56+AB56+AW56+BR56-CM56-DH56-EC56-EX56-FS56)","v":""},{"$f":"IF(H56+AC56+AX56+BS56-CN56-DI56-ED56-EY56-FT56=0,\"\",H56+AC56+AX56+BS56-CN56-DI56-ED56-EY56-FT56)","v":""},{"$f":"IF(I56+AD56+AY56+BT56-CO56-DJ56-EE56-EZ56-FU56=0,\"\",I56+AD56+AY56+BT56-CO56-DJ56-EE56-EZ56-FU56)","v":""},{"$f":"IF(J56+AE56+AZ56+BU56-CP56-DK56-EF56-FA56-FV56=0,\"\",J56+AE56+AZ56+BU56-CP56-DK56-EF56-FA56-FV56)","v":""},{"$f":"IF(K56+AF56+BA56+BV56-CQ56-DL56-EG56-FB56-FW56=0,\"\",K56+AF56+BA56+BV56-CQ56-DL56-EG56-FB56-FW56)","v":""},{"$f":"IF(L56+AG56+BB56+BW56-CR56-DM56-EH56-FC56-FX56=0,\"\",L56+AG56+BB56+BW56-CR56-DM56-EH56-FC56-FX56)","v":""},{"$f":"IF(M56+AH56+BC56+BX56-CS56-DN56-EI56-FD56-FY56=0,\"\",M56+AH56+BC56+BX56-CS56-DN56-EI56-FD56-FY56)","v":1},{"$f":"IF(N56+AI56+BD56+BY56-CT56-DO56-EJ56-FE56-FZ56=0,\"\",N56+AI56+BD56+BY56-CT56-DO56-EJ56-FE56-FZ56)","v":""},{"$f":"IF(O56+AJ56+BE56+BZ56-CU56-DP56-EK56-FF56-GA56=0,\"\",O56+AJ56+BE56+BZ56-CU56-DP56-EK56-FF56-GA56)","v":""},{"$f":"IF(P56+AK56+BF56+CA56-CV56-DQ56-EL56-FG56-GB56=0,\"\",P56+AK56+BF56+CA56-CV56-DQ56-EL56-FG56-GB56)","v":""},{"$f":"IF(Q56+AL56+BG56+CB56-CW56-DR56-EM56-FH56-GC56=0,\"\",Q56+AL56+BG56+CB56-CW56-DR56-EM56-FH56-GC56)","v":""},{"$f":"IF(R56+AM56+BH56+CC56-CX56-DS56-EN56-FI56-GD56=0,\"\",R56+AM56+BH56+CC56-CX56-DS56-EN56-FI56-GD56)","v":""},{"$f":"IF(S56+AN56+BI56+CD56-CY56-DT56-EO56-FJ56-GE56=0,\"\",S56+AN56+BI56+CD56-CY56-DT56-EO56-FJ56-GE56)","v":""},1]
[35,"蒋巷二中","乡镇","初中",{"$nulls":15},0,null,35,"蒋巷二中","乡镇","初中",{"$nulls":15},0,null,35,"蒋巷二中","乡镇","初中",{"$nulls":3},1,{"$nulls":11},1,null,35,"蒋巷二中","乡镇","初中",1,{"$nulls":9},1,null,1,null,1,4,null,35,"蒋巷二中","乡镇","初中",{"$nulls":15},0,null,35,"蒋巷二中","乡镇","初中",1,null,null,1,{"$nulls":6},1,null,1,null,1,5,null,35,"蒋巷二中","乡镇","初中",{"$nulls":15},0,null,35,"蒋巷二中","乡镇","初中",{"$nulls":15},0,null,35,"蒋巷二中","乡镇","初中",{"$nulls":15},0,null,35,"蒋巷二中","乡镇","初中","","","","","","","","","","","","","","","",0]
[36,"塘南中学","乡镇","初中",{"$nulls":15},0,null,36,"塘南中学","乡镇","初中",null,null,1,1,{"$nulls":11},2,null,36,"塘南中学","乡镇","初中",{"$nulls":15},0,null,36,"塘南中学","乡镇","初中",{"$nulls":15},0,null,36,"塘南中学","乡镇","初中",{"$nulls":15},0,null,36,"塘南中学","乡镇","初中",null,null,1,1,{"$nulls":11},2,null,36,"塘南中学","乡镇","初中",{"$nulls":15},0,null,36,"塘南中学","乡镇","初中",{"$nulls":15},0,null,36,"塘南中学","乡镇","初中",{"$nulls":15},0,null,36,"塘南中学","乡镇","初中","","","","","","","","","","","","","","","",0]
[37,"新联学校（初中）","乡镇","初中",{"$nulls":15},0,null,37,"新联学校（初中）","乡镇","初中",{"$nulls":15},0,null,37,"新联学校（初中）","乡镇","初中",{"$nulls":15},0,null,37,"新联学校（初中）","乡镇","初中",{"$nulls":8},1,1,{"$nulls":5},2,null,37,"新联学校（初中）","乡镇","初中",{"$nulls":15},0,null,37,"新联学校（初中）","乡镇","初中",{"$nulls":8},1,1,{"$nulls":5},2,null,37,"新联学校（初中）","乡镇","初中",{"$nulls":15},0,null,37,"新联学校（初中）","乡镇","初中",{"$nulls":15},0,null,37,"新联学校（初中）","乡镇","初中",{"$nulls":15},0,null,37,"新联学校（初中）","乡镇","初中","","","","","","","","","","","","","","","",0]
[38,"泾口中学","乡镇","初中",{"$nulls":15},0,null,38,"泾口中学","乡镇","初中",{"$nulls":15},0,null,38,"泾口中学","乡镇","初中",{"$nulls":15},0,null,38,"泾口中学","乡镇","初中",{"$nulls":15},0,null,38,"泾口中学","乡镇","初中",{"$nulls":15},0,null,38,"泾口中学","乡镇","初中",{"$nulls":15},0,null,38,"泾口中学","乡镇","初中",{"$nulls":15},0,null,38,"泾口中学","乡镇","初中",{"$nulls":15},0,null,38,"泾口中学","乡镇","初中",{"$nulls":15},0,null,38,"泾口中学","乡镇","初中","","","","","","","","","","","","","","","",0]
[41,"塔城中学","乡镇","初中",{"$nulls":15},0,null,41,"塔城中学","乡镇","初中",null,null,1,{"$nulls":12},1,null,41,"塔城中学","乡镇","初中",{"$nulls":15},0,null,41,"塔城中学","乡镇","初中",{"$nulls":15},0,null,41,"塔城中学","乡镇","初中",{"$nulls":15},0,null,41,"塔城中学","乡镇","初中",{"$nulls":15},0,null,41,"塔城中学","乡镇","初中",{"$nulls":15},0,null,41,"塔城中学","乡镇","初中",{"$nulls":15},0,null,41,"塔城中学","乡镇","初中",{"$nulls":15},0,null,41,"塔城中学","乡镇","初中","","",1,"","","","","","","","","","","","",1]
[42,"武阳中学","乡镇","初中",null,2,2,1,{"$nulls":5},1,{"$nulls":5},6,null,42,"武阳中学","乡镇","初中",{"$nulls":15},0,null,42,"武阳中学","乡镇","初中",{"$nulls":15},0,null,42,"武阳中学","乡镇","初中",{"$nulls":15},0,null,42,"武阳中学","乡镇","初中",{"$nulls":15},0,null,42,"武阳中学","乡镇","初中",null,1,1,1,{"$nulls":11},3,null,42,"武阳中学","乡镇","初中",{"$nulls":15},0,null,42,"武阳中学","乡镇","初中",null,1,1,{"$nulls":6},1,{"$nulls":5},3,null,42,"武阳中学","乡镇","初中",{"$nulls":15},0,null,42,"武阳中学","乡镇","初中","","","","","","","","","","","","","","","",0]
[43,"向塘二中","乡镇","初中",{"$nulls":15},0,null,43,"向塘二中","乡镇","初中",{"$nulls":15},0,null,43,"向塘二中","乡镇","初中",{"$nulls":15},0,null,43,"向塘二中","乡镇","初中",{"$nulls":15},0,null,43,"向塘二中","乡镇","初中",{"$nulls":15},0,null,43,"向塘二中","乡镇","初中",{"$nulls":15},0,null,43,"向塘二中","乡镇","初中",{"$nulls":15},0,null,43,"向塘二中","乡镇","初中",{"$nulls":15},0,null,43,"向塘二中","乡镇","初中",{"$nulls":15},0,null,43,"向塘二中","乡镇","初中","","","","","","","","","","","","","","","",0]
[44,"向塘实验学校（初中）","乡镇","初中",{"$nulls":15},0,null,44,"向塘实验学校（初中）","乡镇","初中",null,null,1,{"$nulls":5},1,1,{"$nulls":5},3,null,44,"向塘实验学校（初中）","乡镇","初中",{"$nulls":15},0,null,44,"向塘实验学校（初中）","乡镇","初中",1,1,null,1,{"$nulls":7},1,{"$nulls":3},4,null,44,"向塘实验学校（初中）","乡镇","初中",{"$nulls":15},0,null,44,"向塘实验学校（初中）","乡镇","初中",1,1,1,1,{"$nulls":7},1,{"$nulls":3},5,null,44,"向塘实验学校（初中）","乡镇","初中",{"$nulls":15},0,null,44,"向塘实验学校（初中）","乡镇","初中",null,null,1,{"$nulls":5},1,1,{"$nulls":5},3,null,44,"向塘实验学校（初中）","乡镇","初中",{"$nulls":15},0,null,44,"向塘实验学校（初中）","乡镇","初中","","",-1,"","","","","","","","","","","","",-1]
[45,"向塘向阳学校（初中）","乡镇","初中",{"$nulls":15},0,null,45,"向塘向阳学校（初中）","乡镇","初中",{"$nulls":15},0,null,45,"向塘向阳学校（初中）","乡镇","初中",{"$nulls":15},0,null,45,"向塘向阳学校（初中）","乡镇","初中",null,1,{"$nulls":13},1,null,45,"向塘向阳学校（初中）","乡镇","初中",{"$nulls":15},0,null,45,"向塘向阳学校（初中）","乡镇","初中",null,null,1,{"$nulls":12},1,null,45,"向塘向阳学校（初中）","乡镇","初中",{"$nulls":15},0,null,45,"向塘向阳学校（初中）","乡镇","初中",{"$nulls":15},0,null,45,"向塘向阳学校（初中）","乡镇","初中",{"$nulls":15},0,null,45,"向塘向阳学校（初中）","乡镇","初中","",1,-1,"","","","","","","","","","","","",0]
[46,"黄马中学","乡镇","初中",{"$nulls":15},0,null,46,"黄马中学","乡镇","初中",{"$nulls":15},0,null,46,"黄马中学","乡镇","初中",{"$nulls":15},0,null,46,"黄马中学","乡镇","初中",{"$nulls":15},0,null,46,"黄马中学","乡镇","初中",{"$nulls":15},0,null,46,"黄马中学","乡镇","初中",{"$nulls":15},0,null,46,"黄马中学","乡镇","初中",{"$nulls":15},0,null,46,"黄马中学","乡镇","初中",{"$nulls":15},0,null,46,"黄马中学","乡镇","初中",{"$nulls":15},0,null,46,"黄马中学","乡镇","初中","","","","","","","","","","","","","","","",0]
[47,"三江中学","乡镇","初中",{"$nulls":15},0,null,47,"三江中学","乡镇","初中",{"$nulls":15},0,null,47,"三江中学","乡镇","初中",null,1,null,1,{"$nulls":11},2,null,47,"三江中学","乡镇","初中",{"$nulls":15},0,null,47,"三江中学","乡镇","初中",{"$nulls":15},0,null,47,"三江中学","乡镇","初中",null,1,null,1,{"$nulls":11},2,null,47,"三江中学","乡镇","初中",{"$nulls":15},0,null,47,"三江中学","乡镇","初中",{"$nulls":15},0,null,47,"三江中学","乡镇","初中",{"$nulls":15},0,null,47,"三江中学","乡镇","初中","","","","","","","","","","","","","","","",0]
[48,"广福一中","乡镇","初中",{"$nulls":15},0,null,48,"广福一中","乡镇","初中",{"$nulls":15},0,null,48,"广福一中","乡镇","初中",null,1,1,1,null,1,{"$nulls":9},4,null,48,"广福一中","乡镇","初中",{"$nulls":15},0,null,48,"广福一中","乡镇","初中",{"$nulls":15},0,null,48,"广福一中","乡镇","初中",null,1,2,null,null,1,{"$nulls":9},4,null,48,"广福一中","乡镇","初中",{"$nulls":15},0,null,48,"广福一中","乡镇","初中",{"$nulls":15},0,null,48,"广福一中","乡镇","初中",{"$nulls":15},0,null,48,"广福一中","乡镇","初中","","",-1,1,"","","","","","","","","","","",0]
[49,"广福二中","乡镇","初中",{"$nulls":15},0,null,49,"广福二中","乡镇","初中",{"$nulls":8},1,{"$nulls":6},1,null,49,"广福二中","乡镇","初中",1,1,1,null,null,1,{"$nulls":9},4,null,49,"广福二中","乡镇","初中",{"$nulls":15},0,null,49,"广福二中","乡镇","初中",{"$nulls":15},0,null,49,"广福二中","乡镇","初中",1,1,1,null,null,1,null,null,1,{"$nulls":6},5,null,49,"广福二中","乡镇","初中",{"$nulls":15},0,null,49,"广福二中","乡镇","初中",{"$nulls":15},0,null,49,"广福二中","乡镇","初中",{"$nulls":15},0,null,49,"广福二中","乡镇","初中","","","","","","","","","","","","","","","",0]
[50,"冈上中学","乡镇","初中",{"$nulls":15},0,null,50,"冈上中学","乡镇","初中",{"$nulls":15},0,null,50,"冈上中学","乡镇","初中",{"$nulls":15},0,null,50,"冈上中学","乡镇","初中",{"$nulls":15},0,null,50,"冈上中学","乡镇","初中",{"$nulls":15},0,null,50,"冈上中学","乡镇","初中",{"$nulls":15},0,null,50,"冈上中学","乡镇","初中",{"$nulls":15},0,null,50,"冈上中学","乡镇","初中",{"$nulls":15},0,null,50,"冈上中学","乡镇","初中",{"$nulls":15},0,null,50,"冈上中学","乡镇","初中","","","","","","","","","","","","","","","",0]
[51,"富山中学","乡镇","初中",{"$nulls":15},0,null,51,"富山中学","乡镇","初中",{"$nulls":15},0,null,51,"富山中学","乡镇","初中",{"$nulls":15},0,null,51,"富山中学","乡镇","初中",1,{"$nulls":8},1,{"$nulls":5},2,null,51,"富山中学","乡镇","初中",{"$nulls":15},0,null,51,"富山中学","乡镇","初中",1,{"$nulls":8},1,{"$nulls":5},2,null,51,"富山中学","乡镇","初中",{"$nulls":15},0,null,51,"富山中学","乡镇","初中",{"$nulls":15},0,null,51,"富山中学","乡镇","初中",{"$nulls":15},0,null,51,"富山中学","乡镇","初中","","","","","","","","","","","","","","","",0]
[52,"东新中学","乡镇","初中",{"$nulls":15},0,null,52,"东新中学","乡镇","初中",{"$nulls":15},0,null,52,"东新中学","乡镇","初中",{"$nulls":15},0,null,52,"东新中学","乡镇","初中",{"$nulls":8},1,{"$nulls":6},1,null,52,"东新中学","乡镇","初中",{"$nulls":15},0,null,52,"东新中学","乡镇","初中",{"$nulls":8},1,{"$nulls":6},1,null,52,"东新中学","乡镇","初中",{"$nulls":15},0,null,52,"东新中学","乡镇","初中",{"$nulls":15},0,null,52,"东新中学","乡镇","初中",{"$nulls":15},0,null,52,"东新中学","乡镇","初中","","","","","","","","","","","","","","","",0]
[53,"八一中学","乡镇","初中",{"$nulls":15},0,null,53,"八一中学","乡镇","初中",{"$nulls":15},0,null,53,"八一中学","乡镇","初中",{"$nulls":15},0,null,53,"八一中学","乡镇","初中",{"$nulls":15},0,null,53,"八一中学","乡镇","初中",{"$nulls":15},0,null,53,"八一中学","乡镇","初中",{"$nulls":15},0,null,53,"八一中学","乡镇","初中",{"$nulls":15},0,null,53,"八一中学","乡镇","初中",{"$nulls":15},0,null,53,"八一中学","乡镇","初中",{"$nulls":15},0,null,53,"八一中学","乡镇","初中","","","","","","","","","","","","","","","",0]
[null,"乡镇初中 总计",null,null,{"$f":"SUM(E55:E73)","v":0},{"$f":"SUM(F55:F73)","v":2},2,1,0,0,0,0,0,1,0,0,0,0,0,6,null,null,"乡镇初中 总计",null,null,{"$f":"SUM(Z55:Z73)","v":0},0,3,1,1,0,0,0,2,1,0,0,0,0,0,8,null,null,"乡镇初中 总计",null,null,{"$f":"SUM(AU55:AU73)","v":1},3,3,3,0,2,0,0,1,0,0,0,0,0,0,13,null,null,"乡镇初中 总计",null,null,{"$f":"SUM(BP55:BP73)","v":3},2,0,1,1,0,0,0,2,3,1,1,1,0,1,16,null,null,"乡镇初中 总计",null,null,{"$f":"SUM(CK55:CK73)","v":0},0,0,0,0,0,0,0,0,0,0,0,0,0,0,0,null,null,"乡镇初中 总计",null,null,{"$f":"SUM(DF55:DF73)","v":4},{"$f":"SUM(DG55:DG73)","v":5},8,5,2,2,0,0,3,3,1,1,1,0,1,36,null,null,"乡镇初中 总计",null,null,{"$f":"SUM(EA55:EA73)","v":0},0,0,0,0,0,0,0,0,0,0,0,0,0,0,0,null,null,"乡镇初中 总计",null,null,{"$f":"SUM(EV55:EV73)","v":0},1,2,0,0,0,0,0,1,2,0,0,0,0,0,6,null,null,"乡镇初中 总计",null,null,{"$f":"SUM(FQ55:FQ73)","v":0},0,0,0,0,0,0,0,0,0,0,0,0,0,0,0,null,null,"乡镇初中 总计",null,null,"",{"$f":"IF(F74+AA74+AV74+BQ74-CL74-DG74-EB74-EW74-FR74=0,\"\",F74+AA74+AV74+BQ74-CL74-DG74-EB74-EW74-FR74)","v":1},-2,1,"","","","",1,"","","","","","",1]
[25,"县特教（初中）","县直","初中",{"$nulls":15},0,null,25,"县特教（初中）","县直","初中",{"$nulls":15},0,null,25,"县特教（初中）","县直","初中",{"$nulls":15},0,null,25,"县特教（初中）","县直","初中",{"$nulls":15},0,null,25,"县特教（初中）","县直","初中",{"$nulls":15},0,null,25,"县特教（初中）","县直","初中",{"$nulls":15},0,null,25,"县特教（初中）","县直","初中",{"$nulls":15},0,null,25,"县特教（初中）","县直","初中",{"$nulls":15},0,null,25,"县特教（初中）","县直","初中",{"$nulls":15},0,null,25,"县特教（初中）","县直","初中","",{"$f":"IF(F75+AA75+AV75+BQ75-CL75-DG75-EB75-EW75-FR75=0,\"\",F75+AA75+AV75+BQ75-CL75-DG75-EB75-EW75-FR75)","v":""},"","","","","","","","","","","","","",0]
[26,"昌南实验学校（初中）","县直","初中",{"$nulls":15},0,null,26,"昌南实验学校（初中）","县直","初中",{"$nulls":15},0,null,26,"昌南实验学校（初中）","县直","初中",{"$nulls":15},0,null,26,"昌南实验学校（初中）","县直","初中",null,1,1,{"$nulls":6},1,{"$nulls":5},3,null,26,"昌南实验学校（初中）","县直","初中",{"$nulls":15},0,null,26,"昌南实验学校（初中）","县直","初中",null,1,1,{"$nulls":6},1,{"$nulls":5},3,null,26,"昌南实验学校（初中）","县直","初中",{"$nulls":15},0,null,26,"昌南实验学校（初中）","县直","初中",{"$nulls":15},0,null,26,"昌南实验学校（初中）","县直","初中",{"$nulls":15},0,null,26,"昌南实验学校（初中）","县直","初中",{"$f":"IF(E76+Z76+AU76+BP76-CK76-DF76-EA76-EV76-FQ76=0,\"\",E76+Z76+AU76+BP76-CK76-DF76-EA76-EV76-FQ76)","v":""},{"$f":"IF(F76+AA76+AV76+BQ76-CL76-DG76-EB76-EW76-FR76=0,\"\",F76+AA76+AV76+BQ76-CL76-DG76-EB76-EW76-FR76)","v":""},{"$f":"IF(G76+AB76+AW76+BR76-CM76-DH76-EC76-EX76-FS76=0,\"\",G76+AB76+AW76+BR76-CM76-DH76-EC76-EX76-FS76)","v":""},{"$f":"IF(H76+AC76+AX76+BS76-CN76-DI76-ED76-EY76-FT76=0,\"\",H76+AC76+AX76+BS76-CN76-DI76-ED76-EY76-FT76)","v":""},{"$f":"IF(I76+AD76+AY76+BT76-CO76-DJ76-EE76-EZ76-FU76=0,\"\",I76+AD76+AY76+BT76-CO76-DJ76-EE76-EZ76-FU76)","v":""},{"$f":"IF(J76+AE76+AZ76+BU76-CP76-DK76-EF76-FA76-FV76=0,\"\",J76+AE76+AZ76+BU76-CP76-DK76-EF76-FA76-FV76)","v":""},{"$f":"IF(K76+AF76+BA76+BV76-CQ76-DL76-EG76-FB76-FW76=0,\"\",K76+AF76+BA76+BV76-CQ76-DL76-EG76-FB76-FW76)","v":""},{"$f":"IF(L76+AG76+BB76+BW76-CR76-DM76-EH76-FC76-FX76=0,\"\",L76+AG76+BB76+BW76-CR76-DM76-EH76-FC76-FX76)","v":""},{"$f":"IF(M76+AH76+BC76+BX76-CS76-DN76-EI76-FD76-FY76=0,\"\",M76+AH76+BC76+BX76-CS76-DN76-EI76-FD76-FY76)","v":""},{"$f":"IF(N76+AI76+BD76+BY76-CT76-DO76-EJ76-FE76-FZ76=0,\"\",N76+AI76+BD76+BY76-CT76-DO76-EJ76-FE76-FZ76)","v":""},{"$f":"IF(O76+AJ76+BE76+BZ76-CU76-DP76-EK76-FF76-GA76=0,\"\",O76+AJ76+BE76+BZ76-CU76-DP76-EK76-FF76-GA76)","v":""},{"$f":"IF(P76+AK76+BF76+CA76-CV76-DQ76-EL76-FG76-GB76=0,\"\",P76+AK76+BF76+CA76-CV76-DQ76-EL76-FG76-GB76)","v":""},{"$f":"IF(Q76+AL76+BG76+CB76-CW76-DR76-EM76-FH76-GC76=0,\"\",Q76+AL76+BG76+CB76-CW76-DR76-EM76-FH76-GC76)","v":""},{"$f":"IF(R76+AM76+BH76+CC76-CX76-DS76-EN76-FI76-GD76=0,\"\",R76+AM76+BH76+CC76-CX76-DS76-EN76-FI76-GD76)","v":""},{"$f":"IF(S76+AN76+BI76+CD76-CY76-DT76-EO76-FJ76-GE76=0,\"\",S76+AN76+BI76+CD76-CY76-DT76-EO76-FJ76-GE76)","v":""},0]
[28,"银三角实验学校（初中）","县直","初中",{"$nulls":15},0,null,28,"银三角实验学校（初中）","县直","初中",{"$nulls":15},{"$f":"SUM(Z77:AN77)","v":0},null,28,"银三角实验学校（初中）","县直","初中",{"$nulls":15},0,null,28,"银三角实验学校（初中）","县直","初中",{"$nulls":6},1,{"$nulls":4},1,{"$nulls":3},2,null,28,"银三角实验学校（初中）","县直","初中",{"$nulls":15},{"$f":"SUM(CK77:CY77)","v":0},null,28,"银三角实验学校（初中）","县直","初中",null,1,null,1,null,null,1,{"$nulls":4},1,{"$nulls":3},{"$f":"SUM(DF77:DT77)","v":4},null,28,"银三角实验学校（初中）","县直","初中",{"$nulls":15},0,null,28,"银三角实验学校（初中）","县直","初中",{"$nulls":15},0,null,28,"银三角实验学校（初中）","县直","初中",{"$nulls":15},0,null,28,"银三角实验学校（初中）","县直","初中","",-1,"",-1,"","","","","","","","","","","",{"$f":"SUM(GL77:GZ77)","v":-2}]
[57,"莲塘四中","县直","初中",3,5,4,3,null,2,null,null,1,4,null,2,null,1,null,25,null,57,"莲塘四中","县直","初中",{"$nulls":8},1,{"$nulls":6},1,null,57,"莲塘四中","县直","初中",{"$nulls":15},0,null,57,"莲塘四中","县直","初中",{"$nulls":15},0,null,57,"莲塘四中","县直","初中",{"$nulls":15},0,null,57,"莲塘四中","县直","初中",1,3,1,2,null,1,null,null,1,1,null,1,null,1,null,12,null,57,"莲塘四中","县直","初中",null,2,2,1,null,1,{"$nulls":9},6,null,57,"莲塘四中","县直","初中",1,1,{"$nulls":9},1,{"$nulls":3},3,null,57,"莲塘四中","县直","初中",1,{"$nulls":7},1,3,{"$nulls":5},5,null,57,"莲塘四中","县直","初中","",-1,1,"","","","","","","","","","","","",0]
[58,"莲塘五中","县直","初中",{"$nulls":15},0,null,58,"莲塘五中","县直","初中",{"$nulls":15},0,null,58,"莲塘五中","县直","初中",null,1,{"$nulls":13},1,null,58,"莲塘五中","县直","初中",{"$nulls":15},0,null,58,"莲塘五中","县直","初中",{"$nulls":15},0,null,58,"莲塘五中","县直","初中",null,1,{"$nulls":13},1,null,58,"莲塘五中","县直","初中",{"$nulls":15},0,null,58,"莲塘五中","县直","初中",{"$nulls":15},0,null,58,"莲塘五中","县直","初中",{"$nulls":15},0,null,58,"莲塘五中","县直","初中","","","","","","","","","","","","","","","",0]
[59,"莲塘六中","县直","初中",{"$nulls":15},0,null,59,"莲塘六中","县直","初中",{"$nulls":15},0,null,59,"莲塘六中","县直","初中",{"$nulls":15},0,null,59,"莲塘六中","县直","初中",1,1,1,{"$nulls":12},3,null,59,"莲塘六中","县直","初中",{"$nulls":15},0,null,59,"莲塘六中","县直","初中",1,1,1,{"$nulls":12},3,null,59,"莲塘六中","县直","初中",{"$nulls":15},0,null,59,"莲塘六中","县直","初中",{"$nulls":15},0,null,59,"莲塘六中","县直","初中",{"$nulls":15},0,null,59,"莲塘六中","县直","初中","","","","","","","","","","","","","","","",0]
[60,"莲塘七中","县直","初中",{"$nulls":15},0,null,60,"莲塘七中","县直","初中",{"$nulls":15},0,null,60,"莲塘七中","县直","初中",{"$nulls":15},0,null,60,"莲塘七中","县直","初中",{"$nulls":5},1,{"$nulls":9},1,null,60,"莲塘七中","县直","初中",{"$nulls":15},0,null,60,"莲塘七中","县直","初中",{"$nulls":5},1,{"$nulls":9},1,null,60,"莲塘七中","县直","初中",{"$nulls":15},0,null,60,"莲塘七中","县直","初中",{"$nulls":15},0,null,60,"莲塘七中","县直","初中",{"$nulls":15},0,null,60,"莲塘七中","县直","初中","","","","","","","","","","","","","","","",0]
[61,"银河学校（初中）","县直","初中",{"$nulls":15},0,null,61,"银河学校（初中）","县直","初中",null,1,{"$nulls":7},1,{"$nulls":4},1,3,null,61,"银河学校（初中）","县直","初中",{"$nulls":15},0,null,61,"银河学校（初中）","县直","初中",{"$nulls":15},0,null,61,"银河学校（初中）","县直","初中",{"$nulls":15},0,null,61,"银河学校（初中）","县直","初中",null,1,{"$nulls":12},1,2,null,61,"银河学校（初中）","县直","初中",{"$nulls":9},1,{"$nulls":5},1,null,61,"银河学校（初中）","县直","初中",{"$nulls":15},0,null,61,"银河学校（初中）","县直","初中",{"$nulls":15},0,null,61,"银河学校（初中）","县直","初中","","","","","","","","","","","","","","","",0]
[62,"洪州学校（初中）","县直","初中",{"$nulls":15},0,null,62,"洪州学校（初中）","县直","初中",2,1,{"$nulls":6},1,null,1,1,{"$nulls":3},6,null,62,"洪州学校（初中）","县直","初中",{"$nulls":15},0,null,62,"洪州学校（初中）","县直","初中",{"$nulls":15},0,null,62,"洪州学校（初中）","县直","初中",{"$nulls":15},0,null,62,"洪州学校（初中）","县直","初中",{"$nulls":15},0,null,62,"洪州学校（初中）","县直","初中",{"$nulls":8},1,{"$nulls":6},1,null,62,"洪州学校（初中）","县直","初中",{"$nulls":15},0,null,62,"洪州学校（初中）","县直","初中",2,{"$nulls":9},1,1,{"$nulls":3},4,null,62,"洪州学校（初中）","县直","初中","",1,"","","","","","","","","","","","","",1]
[63,"新城学校（初中）","县直","初中",{"$nulls":15},0,null,63,"新城学校（初中）","县直","初中",3,{"$nulls":3},1,1,{"$nulls":5},2,{"$nulls":3},7,null,63,"新城学校（初中）","县直","初中",{"$nulls":15},0,null,63,"新城学校（初中）","县直","初中",{"$nulls":15},0,null,63,"新城学校（初中）","县直","初中",{"$nulls":15},0,null,63,"新城学校（初中）","县直","初中",{"$nulls":4},1,{"$nulls":6},1,{"$nulls":3},2,null,63,"新城学校（初中）","县直","初中",1,{"$nulls":14},1,null,63,"新城学校（初中）","县直","初中",1,{"$nulls":4},1,{"$nulls":5},1,{"$nulls":3},3,null,63,"新城学校（初中）","县直","初中",1,{"$nulls":14},1,null,63,"新城学校（初中）","县直","初中","","","","","","","","","","","","","","","",0]
[64,"诚义学校（初中）","县直","初中",{"$nulls":15},0,null,64,"诚义学校（初中）","县直","初中",{"$nulls":15},0,null,64,"诚义学校（初中）","县直","初中",{"$nulls":15},0,null,64,"诚义学校（初中）","县直","初中",null,1,null,2,{"$nulls":4},1,null,null,1,{"$nulls":3},5,null,64,"诚义学校（初中）","县直","初中",{"$nulls":15},0,null,64,"诚义学校（初中）","县直","初中",{"$nulls":3},2,{"$nulls":4},1,1,null,1,{"$nulls":3},5,null,64,"诚义学校（初中）","县直","初中",{"$nulls":15},0,null,64,"诚义学校（初中）","县直","初中",{"$nulls":15},0,null,64,"诚义学校（初中）","县直","初中",null,1,{"$nulls":13},1,null,64,"诚义学校（初中）","县直","初中","","","","","","","","","",-1,"","","","","",-1]
[65,"芳草学校（初中）","县直","初中",{"$nulls":15},0,null,65,"芳草学校（初中）","县直","初中",{"$nulls":15},0,null,65,"芳草学校（初中）","县直","初中",{"$nulls":15},0,null,65,"芳草学校（初中）","县直","初中",null,3,1,null,null,1,null,null,1,1,null,1,null,1,null,9,null,65,"芳草学校（初中）","县直","初中",{"$nulls":15},0,null,65,"芳草学校（初中）","县直","初中",null,1,{"$nulls":3},1,null,null,1,null,null,1,null,1,null,5,null,65,"芳草学校（初中）","县直","初中",{"$nulls":15},0,null,65,"芳草学校（初中）","县直","初中",{"$nulls":15},0,null,65,"芳草学校（初中）","县直","初中",null,2,1,{"$nulls":12},3,null,65,"芳草学校（初中）","县直","初中","","","","","","","","","",1,"","","","","",1]
[66,"洪州汇仁学校（初中）","县直","初中",{"$nulls":15},0,null,66,"洪州汇仁学校（初中）","县直","初中",null,1,1,1,1,1,1,null,1,{"$nulls":6},7,null,66,"洪州汇仁学校（初中）","县直","初中",{"$nulls":15},0,null,66,"洪州汇仁学校（初中）","县直","初中",{"$nulls":15},0,null,66,"洪州汇仁学校（初中）","县直","初中",{"$nulls":15},0,null,66,"洪州汇仁学校（初中）","县直","初中",{"$nulls":5},1,null,null,1,{"$nulls":6},2,null,66,"洪州汇仁学校（初中）","县直","初中",null,1,1,1,{"$nulls":11},3,null,66,"洪州汇仁学校（初中）","县直","初中",{"$nulls":4},1,null,1,{"$nulls":8},2,null,66,"洪州汇仁学校（初中）","县直","初中",{"$nulls":15},0,null,66,"洪州汇仁学校（初中）","县直","初中","","","","","","","","","","","","","","","",0]
[67,"洪燕学校（初中）","县直","初中",{"$nulls":5},1,{"$nulls":9},1,null,67,"洪燕学校（初中）","县直","初中",1,1,1,null,null,1,{"$nulls":3},1,null,1,1,null,null,7,null,67,"洪燕学校（初中）","县直","初中",{"$nulls":15},0,null,67,"洪燕学校（初中）","县直","初中",{"$nulls":15},0,null,67,"洪燕学校（初中）","县直","初中",{"$nulls":15},0,null,67,"洪燕学校（初中）","县直","初中",{"$nulls":9},1,null,1,{"$nulls":3},2,null,67,"洪燕学校（初中）","县直","初中",1,{"$nulls":4},1,{"$nulls":9},2,null,67,"洪燕学校（初中）","县直","初中",null,null,1,null,null,1,{"$nulls":6},1,null,null,3,null,67,"洪燕学校（初中）","县直","初中",null,1,{"$nulls":13},1,null,67,"洪燕学校（初中）","县直","初中","","","","","","","","","","","","","","","",0]
[68,"洪亿学校（初中）","县直","初中",{"$nulls":15},0,null,68,"洪亿学校（初中）","县直","初中",1,2,3,1,{"$nulls":11},7,null,68,"洪亿学校（初中）","县直","初中",{"$nulls":15},0,null,68,"洪亿学校（初中）","县直","初中",{"$nulls":15},0,null,68,"洪亿学校（初中）","县直","初中",{"$nulls":15},0,null,68,"洪亿学校（初中）","县直","初中",null,null,1,{"$nulls":12},1,null,68,"洪亿学校（初中）","县直","初中",null,null,1,1,{"$nulls":11},2,null,68,"洪亿学校（初中）","县直","初中",1,null,1,{"$nulls":12},2,null,68,"洪亿学校（初中）","县直","初中",null,2,{"$nulls":13},2,null,68,"洪亿学校（初中）","县直","初中","","","","","","","","","","","","","","","",0]
[70,"莲塘一中八一分校（初中）","县直","初中",null,2,1,1,{"$nulls":5},1,{"$nulls":5},5,null,70,"莲塘一中八一分校（初中）","县直","初中",null,1,1,2,null,1,null,null,1,null,1,1,1,null,null,9,null,70,"莲塘一中八一分校（初中）","县直","初中",{"$nulls":15},0,null,70,"莲塘一中八一分校（初中）","县直","初中",{"$nulls":15},0,null,70,"莲塘一中八一分校（初中）","县直","初中",{"$nulls":15},0,null,70,"莲塘一中八一分校（初中）","县直","初中",{"$nulls":3},1,null,1,{"$nulls":4},1,null,1,null,null,4,null,70,"莲塘一中八一分校（初中）","县直","初中",null,2,1,1,{"$nulls":5},1,{"$nulls":5},5,null,70,"莲塘一中八一分校（初中）","县直","初中",null,1,null,1,{"$nulls":11},2,null,70,"莲塘一中八一分校（初中）","县直","初中",null,null,1,{"$nulls":5},1,null,null,1,{"$nulls":3},3,null,70,"莲塘一中八一分校（初中）","县直","初中","","","","","","","","","","","","","","","",0]
[71,"洪范学校（初中）","县直","初中",{"$nulls":15},0,null,71,"洪范学校（初中）","县直","初中",2,4,4,3,null,1,1,null,3,null,null,1,{"$nulls":3},19,null,71,"洪范学校（初中）","县直","初中",{"$nulls":15},0,null,71,"洪范学校（初中）","县直","初中",{"$nulls":15},0,null,71,"洪范学校（初中）","县直","初中",{"$nulls":15},0,null,71,"洪范学校（初中）","县直","初中",null,1,1,null,null,1,1,null,1,{"$nulls":6},5,null,71,"洪范学校（初中）","县直","初中",1,2,2,2,{"$nulls":4},1,null,null,1,{"$nulls":3},9,null,71,"洪范学校（初中）","县直","初中",null,2,2,1,{"$nulls":4},2,{"$nulls":6},7,null,71,"洪范学校（初中）","县直","初中",1,{"$nulls":14},1,null,71,"洪范学校（初中）","县直","初中","",-1,-1,"","","","","",-1,"","","","","","",-3]
[81,"城东学校（初中）","县直","初中",{"$nulls":15},0,null,81,"城东学校（初中）","县直","初中",{"$nulls":15},0,null,81,"城东学校（初中）","县直","初中",{"$nulls":15},0,null,81,"城东学校（初中）","县直","初中",null,2,2,1,null,null,1,{"$nulls":8},6,null,81,"城东学校（初中）","县直","初中",{"$nulls":15},0,null,81,"城东学校（初中）","县直","初中",null,1,null,1,null,null,1,{"$nulls":8},3,null,81,"城东学校（初中）","县直","初中",{"$nulls":15},0,null,81,"城东学校（初中）","县直","初中",{"$nulls":15},0,null,81,"城东学校（初中）","县直","初中",{"$nulls":15},0,null,81,"城东学校（初中）","县直","初中","",1,2,"","","","","","","","","","","","",3]
[null,"县直初中 总计",null,null,{"$f":"SUM(E75:E92)","v":3},{"$f":"SUM(F75:F92)","v":7},5,4,0,3,0,0,1,5,0,2,0,1,0,31,null,null,"县直初中 总计",null,null,{"$f":"SUM(Z75:Z92)","v":9},11,10,7,2,5,2,0,7,2,2,6,2,0,1,66,null,null,"县直初中 总计",null,null,{"$f":"SUM(AU75:AU92)","v":0},1,0,0,0,0,0,0,0,0,0,0,0,0,0,1,null,null,"县直初中 总计",null,null,{"$f":"SUM(BP75:BP92)","v":1},8,5,3,0,2,2,0,2,2,0,3,0,1,0,29,null,null,"县直初中 总计",null,null,{"$f":"SUM(CK75:CK92)","v":0},0,0,0,0,0,0,0,0,0,0,0,0,0,0,0,null,null,"县直初中 总计",null,null,{"$f":"SUM(DF75:DF92)","v":2},{"$f":"SUM(DG75:DG92)","v":11},5,7,1,6,3,0,5,4,1,6,1,2,1,55,null,null,"县直初中 总计",null,null,{"$f":"SUM(EA75:EA92)","v":3},7,7,6,0,2,0,0,2,2,0,1,0,0,0,30,null,null,"县直初中 总计",null,null,{"$f":"SUM(EV75:EV92)","v":3},4,4,2,1,2,1,0,2,0,0,2,1,0,0,22,null,null,"县直初中 总计",null,null,{"$f":"SUM(FQ75:FQ92)","v":5},6,2,0,0,0,0,0,2,3,1,2,0,0,0,21,null,null,"县直初中 总计",null,null,"",{"$f":"IF(F93+AA93+AV93+BQ93-CL93-DG93-EB93-EW93-FR93=0,\"\",F93+AA93+AV93+BQ93-CL93-DG93-EB93-EW93-FR93)","v":-1},2,-1,"","","","",-1,"","","","","","",-1]
[null,"初中总计",null,null,{"$f":"E93+E74","v":3},{"$f":"F93+F74","v":9},7,5,0,3,0,0,1,6,0,2,0,1,0,37,null,null,"初中总计",null,null,{"$f":"Z93+Z74","v":9},11,13,8,3,5,2,0,9,3,2,6,2,0,1,74,null,null,"初中总计",null,null,{"$f":"AU93+AU74","v":1},4,3,3,0,2,0,0,1,0,0,0,0,0,0,14,null,null,"初中总计",null,null,{"$f":"BP93+BP74","v":4},10,5,4,1,2,2,0,4,5,1,4,1,1,1,45,null,null,"初中总计",null,null,{"$f":"CK93+CK74","v":0},0,0,0,0,0,0,0,0,0,0,0,0,0,0,0,null,null,"初中总计",null,null,{"$f":"DF93+DF74","v":6},{"$f":"DG93+DG74","v":16},13,12,3,8,3,0,8,7,2,7,2,2,2,91,null,null,"初中总计",null,null,{"$f":"EA93+EA74","v":3},7,7,6,0,2,0,0,2,2,0,1,0,0,0,30,null,null,"初中总计",null,null,{"$f":"EV93+EV74","v":3},5,6,2,1,2,1,0,3,2,0,2,1,0,0,28,null,null,"初中总计",null,null,{"$f":"FQ93+FQ74","v":5},6,2,0,0,0,0,0,2,3,1,2,0,0,0,21,null,null,"初中总计",null,null,"",{"$f":"IF(F94+AA94+AV94+BQ94-CL94-DG94-EB94-EW94-FR94=0,\"\",F94+AA94+AV94+BQ94-CL94-DG94-EB94-EW94-FR94)","v":""},"","","","","","","","","","","","","",0]
[{"$nulls":109},{"$f":"IF(DF53-DF94=0,\"\",DF53-DF94)","v":""},{"$f":"IF(DG53-DG94=0,\"\",DG53-DG94)","v":""},"","","","","","","","","","","","","",0]
[null,"小学初中总计",{"$nulls":17},{"$f":"T94+T51","v":81},null,null,"小学初中总计",{"$nulls":17},{"$f":"AO94+AO51","v":237},null,null,"小学初中总计",{"$nulls":17},{"$f":"BJ94+BJ51","v":33},null,null,"小学初中总计",{"$nulls":17},{"$f":"CE94+CE51","v":141},null,null,"小学初中总计",{"$nulls":17},{"$f":"CZ94+CZ51","v":47},null,null,"小学初中总计",{"$nulls":17},{"$f":"DU94+DU51","v":300},null,null,"小学初中总计",{"$nulls":17},{"$f":"EP94+EP51","v":70},null,null,"小学初中总计",{"$nulls":17},{"$f":"FK94+FK51","v":80},null,null,"小学初中总计",{"$nulls":17},{"$f":"GF94+GF51","v":27},null,null,"小学初中总计",{"$nulls":17},{"$f":"HA94+HA51","v":-32}]

{"sheet":"统招（小学）","index":15,"n_rows":31,"n_cols":23,"rows_kept":31,"merged":[[0,0,0,22],[30,0,30,1]]}
["南昌县2022年全省中小学教师招聘岗位分解表（小学）"]
["序号","学校名称","语文A岗","语文B岗","语文C岗","数学A岗","数学B岗","数学C岗","英语A岗","英语B岗","道德与法治A岗","道德与法治B岗","音乐A岗","音乐B岗","体育与健康A岗","体育与健康B岗","美术A岗","美术B岗","综合实践活动 含信息技术A岗","综合实践活动 含信息技术B岗","心理健康","科学","合计"]
[1,"南昌县武阳镇中心小学",{"$nulls":5},1,null,1,{"$nulls":12},{"$f":"IF(SUM(C3:V3)=0,\"\",SUM(C3:V3))","v":2}]
[2,"南昌县向塘镇中心小学",1,null,1,null,null,1,{"$nulls":14},{"$f":"IF(SUM(C4:V4)=0,\"\",SUM(C4:V4))","v":3}]
[3,"南昌县冈上镇中心小学",{"$nulls":12},1,{"$nulls":7},1]
[4,"南昌县富山乡中心小学",{"$nulls":7},1,{"$nulls":3},1,{"$nulls":8},2]
[5,"南昌县向塘实验学校（小学）",null,null,2,null,null,2,null,1,{"$nulls":12},5]
[6,"南昌县莲塘第四小学",1,{"$nulls":5},1,{"$nulls":13},2]
[7,"南昌县特殊教育学校",{"$nulls":18},1,null,1]
[8,"南昌县莲塘实验学校（新莲塘六中）\n（小学）",1,null,null,1,1,null,1,{"$nulls":5},1,1,{"$nulls":6},6]
[9,"南昌县银三角实验学校（小学）",{"$nulls":16},1,{"$nulls":3},1]
[10,"南昌县金沙路小学",1,{"$nulls":19},1]
[11,"南昌县振兴路小学",1,null,null,1,{"$nulls":6},1,{"$nulls":9},3]
[12,"南昌县墨山街小学",null,1,{"$nulls":18},1]
[13,"南昌县斗柏路小学",{"$nulls":4},1,null,1,1,{"$nulls":3},1,{"$nulls":8},4]
[14,"南昌县银河学校（小学）",{"$nulls":3},1,{"$nulls":8},1,{"$nulls":7},2]
[15,"南昌县新城学校（小学）",1,1,null,1,null,1,1,{"$nulls":3},1,{"$nulls":3},1,{"$nulls":5},7]
[16,"南昌县诚义学校（小学）",null,1,1,1,1,{"$nulls":15},4]
[17,"南昌县洪州汇仁学校（小学）",null,1,{"$nulls":18},1]
[18,"南昌县洪燕学校（小学）",1,1,null,1,1,{"$nulls":5},1,{"$nulls":9},5]
[19,"南昌县洪亿学校（小学）",1,1,null,1,null,1,1,{"$nulls":6},1,null,1,{"$nulls":3},1,8]
[20,"南昌县洪科小学",null,1,null,null,1,null,1,null,null,1,null,null,1,{"$nulls":7},5]
[21,"南昌县莲塘第一中学八一分校（小学）",null,null,2,null,null,1,null,1,1,{"$nulls":5},1,{"$nulls":5},6]
[22,"南昌县洪范学校（小学）",1,1,null,null,1,null,1,null,1,null,1,{"$nulls":9},6]
[23,"南昌县洪新学校（小学）",null,null,1,null,null,1,null,1,{"$nulls":5},1,null,null,1,{"$nulls":3},5]
[24,"南昌县文山路学校（小学）",null,null,2,null,1,1,{"$nulls":7},1,{"$nulls":6},5]
[25,"南昌县城南学校（小学）",null,1,1,null,null,2,2,{"$nulls":3},1,{"$nulls":9},7]
[26,"南昌县雄溪路小学",null,null,3,null,null,1,null,1,{"$nulls":3},1,1,{"$nulls":4},1,null,null,8]
[27,"南昌县东新乡中心小学（洪安小学）",null,null,1,null,null,1,{"$nulls":14},2]
[28,"南昌县东新乡中心小学（滨江小学）",null,null,1,{"$nulls":4},1,{"$nulls":12},2]
["合计",null,{"$f":"SUM(C3:C30)","v":9},{"$f":"SUM(D3:D30)","v":9},15,7,7,13,9,8,2,{"$f":"SUM(L3:L30)","v":1},5,3,5,4,2,1,2,1,1,1,105]

{"sheet":"附B 全省统招300人（分解）整合九年一贯制","index":16,"n_rows":104,"n_cols":54,"rows_kept":104,"hidden":true,"merged":[[0,0,0,53],[1,0,2,0],[1,1,2,1],[1,2,2,2],[1,3,2,3],[1,4,2,4],[1,5,2,5],[1,6,2,6],[1,7,2,7],[1,8,2,8],[1,9,2,9],[1,10,2,10],[1,11,2,11],[1,12,2,12],[1,13,2,13],[1,14,2,14],[1,15,2,15],[1,16,1,41],[1,42,2,42],[1,43,2,43],[1,44,2,44],[1,45,2,45],[1,46,2,46],[1,47,2,47],[1,48,2,48],[1,49,2,49],[1,50,2,50],[1,51,2,51],[1,52,2,52],[1,53,2,53],[102,0,102,42]]}
["南昌县2020年中小学教师招聘岗位分解表"]
["学校名称","序号","学校\n编号","2019年秋季学生数","2020.09在校生数","2019年秋季班级数","2020.09班级数","截止2020年8月31日实有教师数","平均\n班额","班师比","师生比","标准\n师生比","（班师比+师生比）/2","需求数-现有教师数（生师比）","差额2（超额归零处理）","需求数-现有教师数（班师比）",{"$nulls":26},"合计1","特岗\n教师","全省选调","县内选调","2015定向师范","2016定向师范实习","2017公费师范实习生","2019编外幼儿园","合计2","合计3","合计（不含编外幼儿园）"]
[{"$nulls":16},"思品A","思品B","语文A","语文B","数学A","数学B","英语A","英语B","音乐A","音乐B","体育A","体育B","美术A","美术B","科学A","科学B","物理A","物理B","化学A","化学B","生物","历史A","历史B","地理","心理健康教育","信息技术"]
[]
["合计",{"$nulls":3},{"$f":"SUM(E9:E94)","v":124502},2685,2773,6861,{"$nulls":8},{"$f":"SUM(Q9:Q94)","v":{"$error":"#REF!"}},{"$f":"SUM(R9:R94)","v":{"$error":"#REF!"}},{"$error":"#REF!"},{"$error":"#REF!"},{"$error":"#REF!"},{"$error":"#REF!"},{"$error":"#REF!"},{"$error":"#REF!"},{"$error":"#REF!"},{"$error":"#REF!"},{"$error":"#REF!"},{"$error":"#REF!"},{"$error":"#REF!"},{"$error":"#REF!"},{"$error":"#REF!"},{"$error":"#REF!"},{"$error":"#REF!"},{"$error":"#REF!"},{"$error":"#REF!"},{"$error":"#REF!"},{"$error":"#REF!"},{"$error":"#REF!"},{"$error":"#REF!"},{"$error":"#REF!"},{"$error":"#REF!"},{"$error":"#REF!"},{"$error":"#REF!"},50,63,66,50,78,9,44,360,{"$error":"#REF!"}]
["监测数据（小计）",{"$nulls":15},{"$f":"IF(Q7-Q56=0,\"\",Q7-Q56)","v":{"$error":"#REF!"}},{"$error":"#REF!"},{"$error":"#REF!"},{"$error":"#REF!"},{"$error":"#REF!"},{"$error":"#REF!"},{"$error":"#REF!"},{"$error":"#REF!"},{"$error":"#REF!"},{"$error":"#REF!"},{"$error":"#REF!"},{"$error":"#REF!"},{"$error":"#REF!"},{"$error":"#REF!"},{"$error":"#REF!"},{"$error":"#REF!"},{"$error":"#REF!"},{"$error":"#REF!"},{"$error":"#REF!"},{"$error":"#REF!"},{"$error":"#REF!"},{"$error":"#REF!"},{"$error":"#REF!"},{"$error":"#REF!"},{"$error":"#REF!"},{"$error":"#REF!"},{"$error":"#REF!"}]
["小学岗位（小计）",{"$nulls":15},2,null,57,16,51,12,21,6,10,3,9,2,9,2,5,1,{"$nulls":9},3,{"$f":"SUM(Q7:AP7)","v":209},{"$nulls":7},{"$f":"AY56","v":1},{"$f":"AZ56","v":{"$error":"#REF!"}}]
[]
["南新中小",1,1,1722,1670,78,77,180,{"$f":"E9/G9","v":{"v":21.6883116883117,"d":"22"}},{"$f":"G9*2","v":154},{"$f":"E9/19","v":{"v":87.8947368421053,"d":"88"}},null,{"$f":"(J9+K9)/2","v":{"v":120.947368421053,"d":"121"}},{"$f":"K9-H9","v":{"v":-92.1052631578947,"d":"-92"}},0,{"$f":"J9-H9","v":-26},{"$f":"IF('统招（小学）'!#REF!=0,\"\",'统招（小学）'!#REF!)","v":{"$error":"#REF!"}},{"$f":"IF('统招（小学）'!#REF!=0,\"\",'统招（小学）'!#REF!)","v":{"$error":"#REF!"}},{"$f":"IF('统招（小学）'!#REF!=0,\"\",'统招（小学）'!#REF!)","v":{"$error":"#REF!"}},{"$f":"IF('统招（小学）'!#REF!=0,\"\",'统招（小学）'!#REF!)","v":{"$error":"#REF!"}},{"$f":"IF('统招（小学）'!#REF!=0,\"\",'统招（小学）'!#REF!)","v":{"$error":"#REF!"}},{"$f":"IF('统招（小学）'!#REF!=0,\"\",'统招（小学）'!#REF!)","v":{"$error":"#REF!"}},{"$f":"IF('统招（小学）'!#REF!=0,\"\",'统招（小学）'!#REF!)","v":{"$error":"#REF!"}},{"$f":"IF('统招（小学）'!#REF!=0,\"\",'统招（小学）'!#REF!)","v":{"$error":"#REF!"}},{"$f":"IF('统招（小学）'!#REF!=0,\"\",'统招（小学）'!#REF!)","v":{"$error":"#REF!"}},{"$f":"IF('统招（小学）'!#REF!=0,\"\",'统招（小学）'!#REF!)","v":{"$error":"#REF!"}},{"$f":"IF('统招（小学）'!#REF!=0,\"\",'统招（小学）'!#REF!)","v":{"$error":"#REF!"}},{"$f":"IF('统招（小学）'!#REF!=0,\"\",'统招（小学）'!#REF!)","v":{"$error":"#REF!"}},{"$f":"IF('统招（小学）'!#REF!=0,\"\",'统招（小学）'!#REF!)","v":{"$error":"#REF!"}},{"$f":"IF('统招（小学）'!#REF!=0,\"\",'统招（小学）'!#REF!)","v":{"$error":"#REF!"}},{"$f":"IF('统招（小学）'!#REF!=0,\"\",'统招（小学）'!#REF!)","v":{"$error":"#REF!"}},{"$f":"IF('统招（小学）'!#REF!=0,\"\",'统招（小学）'!#REF!)","v":{"$error":"#REF!"}},{"$f":"IF('统招（小学）'!#REF!=0,\"\",'统招（小学）'!#REF!)","v":{"$error":"#REF!"}},{"$f":"IF('统招（小学）'!#REF!=0,\"\",'统招（小学）'!#REF!)","v":{"$error":"#REF!"}},{"$f":"IF('统招（小学）'!#REF!=0,\"\",'统招（小学）'!#REF!)","v":{"$error":"#REF!"}},{"$f":"IF('统招（小学）'!#REF!=0,\"\",'统招（小学）'!#REF!)","v":{"$error":"#REF!"}},{"$f":"IF('统招（小学）'!#REF!=0,\"\",'统招（小学）'!#REF!)","v":{"$error":"#REF!"}},{"$f":"IF('统招（小学）'!#REF!=0,\"\",'统招（小学）'!#REF!)","v":{"$error":"#REF!"}},{"$f":"IF('统招（小学）'!#REF!=0,\"\",'统招（小学）'!#REF!)","v":{"$error":"#REF!"}},{"$f":"IF('统招（小学）'!#REF!=0,\"\",'统招（小学）'!#REF!)","v":{"$error":"#REF!"}},{"$f":"IF('统招（小学）'!#REF!=0,\"\",'统招（小学）'!#REF!)","v":{"$error":"#REF!"}},{"$f":"IF('统招（小学）'!#REF!=0,\"\",'统招（小学）'!#REF!)","v":{"$error":"#REF!"}},{"$f":"IF(SUM(Q9:AP9)=0,\"\",SUM(Q9:AP9))","v":{"$error":"#REF!"}},{"$nulls":3},8,{"$nulls":3},{"$f":"SUM(AR9:AX9)","v":8},{"$f":"SUM(AQ9:AX9)","v":{"$error":"#REF!"}},{"$f":"AZ9-AX9","v":{"$error":"#REF!"}},{"$f":"BA9+H9","v":{"$error":"#REF!"}}]
["蒋巷中小",2,2,5113,4918,127,124,258,{"v":39.6612903225806,"d":"40"},248,{"v":258.842105263158,"d":"259"},null,{"v":253.421052631579,"d":"253"},{"v":0.842105263157919,"d":"1"},1,-10,{"$f":"IF('统招（小学）'!#REF!=0,\"\",'统招（小学）'!#REF!)","v":{"$error":"#REF!"}},{"$f":"IF('统招（小学）'!#REF!=0,\"\",'统招（小学）'!#REF!)","v":{"$error":"#REF!"}},{"$f":"IF('统招（小学）'!#REF!=0,\"\",'统招（小学）'!#REF!)","v":{"$error":"#REF!"}},{"$f":"IF('统招（小学）'!#REF!=0,\"\",'统招（小学）'!#REF!)","v":{"$error":"#REF!"}},{"$f":"IF('统招（小学）'!#REF!=0,\"\",'统招（小学）'!#REF!)","v":{"$error":"#REF!"}},{"$f":"IF('统招（小学）'!#REF!=0,\"\",'统招（小学）'!#REF!)","v":{"$error":"#REF!"}},{"$f":"IF('统招（小学）'!#REF!=0,\"\",'统招（小学）'!#REF!)","v":{"$error":"#REF!"}},{"$f":"IF('统招（小学）'!#REF!=0,\"\",'统招（小学）'!#REF!)","v":{"$error":"#REF!"}},{"$f":"IF('统招（小学）'!#REF!=0,\"\",'统招（小学）'!#REF!)","v":{"$error":"#REF!"}},{"$f":"IF('统招（小学）'!#REF!=0,\"\",'统招（小学）'!#REF!)","v":{"$error":"#REF!"}},{"$f":"IF('统招（小学）'!#REF!=0,\"\",'统招（小学）'!#REF!)","v":{"$error":"#REF!"}},{"$f":"IF('统招（小学）'!#REF!=0,\"\",'统招（小学）'!#REF!)","v":{"$error":"#REF!"}},{"$f":"IF('统招（小学）'!#REF!=0,\"\",'统招（小学）'!#REF!)","v":{"$error":"#REF!"}},{"$f":"IF('统招（小学）'!#REF!=0,\"\",'统招（小学）'!#REF!)","v":{"$error":"#REF!"}},{"$f":"IF('统招（小学）'!#REF!=0,\"\",'统招（小学）'!#REF!)","v":{"$error":"#REF!"}},{"$f":"IF('统招（小学）'!#REF!=0,\"\",'统招（小学）'!#REF!)","v":{"$error":"#REF!"}},{"$f":"IF('统招（小学）'!#REF!=0,\"\",'统招（小学）'!#REF!)","v":{"$error":"#REF!"}},{"$f":"IF('统招（小学）'!#REF!=0,\"\",'统招（小学）'!#REF!)","v":{"$error":"#REF!"}},{"$f":"IF('统招（小学）'!#REF!=0,\"\",'统招（小学）'!#REF!)","v":{"$error":"#REF!"}},{"$f":"IF('统招（小学）'!#REF!=0,\"\",'统招（小学）'!#REF!)","v":{"$error":"#REF!"}},{"$f":"IF('统招（小学）'!#REF!=0,\"\",'统招（小学）'!#REF!)","v":{"$error":"#REF!"}},{"$f":"IF('统招（小学）'!#REF!=0,\"\",'统招（小学）'!#REF!)","v":{"$error":"#REF!"}},{"$f":"IF('统招（小学）'!#REF!=0,\"\",'统招（小学）'!#REF!)","v":{"$error":"#REF!"}},{"$f":"IF('统招（小学）'!#REF!=0,\"\",'统招（小学）'!#REF!)","v":{"$error":"#REF!"}},{"$f":"IF('统招（小学）'!#REF!=0,\"\",'统招（小学）'!#REF!)","v":{"$error":"#REF!"}},{"$f":"IF('统招（小学）'!#REF!=0,\"\",'统招（小学）'!#REF!)","v":{"$error":"#REF!"}},{"$f":"IF(SUM(Q10:AP10)=0,\"\",SUM(Q10:AP10))","v":{"$error":"#REF!"}},12,null,null,8,{"$nulls":3},20,{"$error":"#REF!"},{"$error":"#REF!"},{"$error":"#REF!"}]
["塘南中小",3,3,1682,1510,101,93,193,{"v":16.2365591397849,"d":"16"},186,{"v":79.4736842105263,"d":"79"},null,{"v":132.736842105263,"d":"133"},{"v":-113.526315789474,"d":"-114"},0,-7,{"$f":"IF('统招（小学）'!#REF!=0,\"\",'统招（小学）'!#REF!)","v":{"$error":"#REF!"}},{"$f":"IF('统招（小学）'!#REF!=0,\"\",'统招（小学）'!#REF!)","v":{"$error":"#REF!"}},{"$f":"IF('统招（小学）'!#REF!=0,\"\",'统招（小学）'!#REF!)","v":{"$error":"#REF!"}},{"$f":"IF('统招（小学）'!#REF!=0,\"\",'统招（小学）'!#REF!)","v":{"$error":"#REF!"}},{"$f":"IF('统招（小学）'!#REF!=0,\"\",'统招（小学）'!#REF!)","v":{"$error":"#REF!"}},{"$f":"IF('统招（小学）'!#REF!=0,\"\",'统招（小学）'!#REF!)","v":{"$error":"#REF!"}},{"$f":"IF('统招（小学）'!#REF!=0,\"\",'统招（小学）'!#REF!)","v":{"$error":"#REF!"}},{"$f":"IF('统招（小学）'!#REF!=0,\"\",'统招（小学）'!#REF!)","v":{"$error":"#REF!"}},{"$f":"IF('统招（小学）'!#REF!=0,\"\",'统招（小学）'!#REF!)","v":{"$error":"#REF!"}},{"$f":"IF('统招（小学）'!#REF!=0,\"\",'统招（小学）'!#REF!)","v":{"$error":"#REF!"}},{"$f":"IF('统招（小学）'!#REF!=0,\"\",'统招（小学）'!#REF!)","v":{"$error":"#REF!"}},{"$f":"IF('统招（小学）'!#REF!=0,\"\",'统招（小学）'!#REF!)","v":{"$error":"#REF!"}},{"$f":"IF('统招（小学）'!#REF!=0,\"\",'统招（小学）'!#REF!)","v":{"$error":"#REF!"}},{"$f":"IF('统招（小学）'!#REF!=0,\"\",'统招（小学）'!#REF!)","v":{"$error":"#REF!"}},{"$f":"IF('统招（小学）'!#REF!=0,\"\",'统招（小学）'!#REF!)","v":{"$error":"#REF!"}},{"$f":"IF('统招（小学）'!#REF!=0,\"\",'统招（小学）'!#REF!)","v":{"$error":"#REF!"}},{"$f":"IF('统招（小学）'!#REF!=0,\"\",'统招（小学）'!#REF!)","v":{"$error":"#REF!"}},{"$f":"IF('统招（小学）'!#REF!=0,\"\",'统招（小学）'!#REF!)","v":{"$error":"#REF!"}},{"$f":"IF('统招（小学）'!#REF!=0,\"\",'统招（小学）'!#REF!)","v":{"$error":"#REF!"}},{"$f":"IF('统招（小学）'!#REF!=0,\"\",'统招（小学）'!#REF!)","v":{"$error":"#REF!"}},{"$f":"IF('统招（小学）'!#REF!=0,\"\",'统招（小学）'!#REF!)","v":{"$error":"#REF!"}},{"$f":"IF('统招（小学）'!#REF!=0,\"\",'统招（小学）'!#REF!)","v":{"$error":"#REF!"}},{"$f":"IF('统招（小学）'!#REF!=0,\"\",'统招（小学）'!#REF!)","v":{"$error":"#REF!"}},{"$f":"IF('统招（小学）'!#REF!=0,\"\",'统招（小学）'!#REF!)","v":{"$error":"#REF!"}},{"$f":"IF('统招（小学）'!#REF!=0,\"\",'统招（小学）'!#REF!)","v":{"$error":"#REF!"}},{"$f":"IF('统招（小学）'!#REF!=0,\"\",'统招（小学）'!#REF!)","v":{"$error":"#REF!"}},{"$f":"IF(SUM(Q11:AP11)=0,\"\",SUM(Q11:AP11))","v":{"$error":"#REF!"}},{"$nulls":3},8,{"$nulls":3},8,{"$error":"#REF!"},{"$error":"#REF!"},{"$error":"#REF!"}]
["泾口中小",4,4,1565,1426,71,69,171,{"v":20.6666666666667,"d":"21"},138,{"v":75.0526315789474,"d":"75"},null,{"v":106.526315789474,"d":"107"},{"v":-95.9473684210526,"d":"-96"},0,-33,{"$f":"IF('统招（小学）'!#REF!=0,\"\",'统招（小学）'!#REF!)","v":{"$error":"#REF!"}},{"$f":"IF('统招（小学）'!#REF!=0,\"\",'统招（小学）'!#REF!)","v":{"$error":"#REF!"}},{"$f":"IF('统招（小学）'!#REF!=0,\"\",'统招（小学）'!#REF!)","v":{"$error":"#REF!"}},{"$f":"IF('统招（小学）'!#REF!=0,\"\",'统招（小学）'!#REF!)","v":{"$error":"#REF!"}},{"$f":"IF('统招（小学）'!#REF!=0,\"\",'统招（小学）'!#REF!)","v":{"$error":"#REF!"}},{"$f":"IF('统招（小学）'!#REF!=0,\"\",'统招（小学）'!#REF!)","v":{"$error":"#REF!"}},{"$f":"IF('统招（小学）'!#REF!=0,\"\",'统招（小学）'!#REF!)","v":{"$error":"#REF!"}},{"$f":"IF('统招（小学）'!#REF!=0,\"\",'统招（小学）'!#REF!)","v":{"$error":"#REF!"}},{"$f":"IF('统招（小学）'!#REF!=0,\"\",'统招（小学）'!#REF!)","v":{"$error":"#REF!"}},{"$f":"IF('统招（小学）'!#REF!=0,\"\",'统招（小学）'!#REF!)","v":{"$error":"#REF!"}},{"$f":"IF('统招（小学）'!#REF!=0,\"\",'统招（小学）'!#REF!)","v":{"$error":"#REF!"}},{"$f":"IF('统招（小学）'!#REF!=0,\"\",'统招（小学）'!#REF!)","v":{"$error":"#REF!"}},{"$f":"IF('统招（小学）'!#REF!=0,\"\",'统招（小学）'!#REF!)","v":{"$error":"#REF!"}},{"$f":"IF('统招（小学）'!#REF!=0,\"\",'统招（小学）'!#REF!)","v":{"$error":"#REF!"}},{"$f":"IF('统招（小学）'!#REF!=0,\"\",'统招（小学）'!#REF!)","v":{"$error":"#REF!"}},{"$f":"IF('统招（小学）'!#REF!=0,\"\",'统招（小学）'!#REF!)","v":{"$error":"#REF!"}},{"$f":"IF('统招（小学）'!#REF!=0,\"\",'统招（小学）'!#REF!)","v":{"$error":"#REF!"}},{"$f":"IF('统招（小学）'!#REF!=0,\"\",'统招（小学）'!#REF!)","v":{"$error":"#REF!"}},{"$f":"IF('统招（小学）'!#REF!=0,\"\",'统招（小学）'!#REF!)","v":{"$error":"#REF!"}},{"$f":"IF('统招（小学）'!#REF!=0,\"\",'统招（小学）'!#REF!)","v":{"$error":"#REF!"}},{"$f":"IF('统招（小学）'!#REF!=0,\"\",'统招（小学）'!#REF!)","v":{"$error":"#REF!"}},{"$f":"IF('统招（小学）'!#REF!=0,\"\",'统招（小学）'!#REF!)","v":{"$error":"#REF!"}},{"$f":"IF('统招（小学）'!#REF!=0,\"\",'统招（小学）'!#REF!)","v":{"$error":"#REF!"}},{"$f":"IF('统招（小学）'!#REF!=0,\"\",'统招（小学）'!#REF!)","v":{"$error":"#REF!"}},{"$f":"IF('统招（小学）'!#REF!=0,\"\",'统招（小学）'!#REF!)","v":{"$error":"#REF!"}},{"$f":"IF('统招（小学）'!#REF!=0,\"\",'统招（小学）'!#REF!)","v":{"$error":"#REF!"}},{"$error":"#REF!"},{"$nulls":3},8,{"$nulls":3},8,{"$error":"#REF!"},{"$error":"#REF!"},{"$error":"#REF!"}]
["塔城中小",5,5,832,684,24,22,65,{"v":31.0909090909091,"d":"31"},44,36,null,40,-29,0,-21,{"$f":"IF('统招（小学）'!#REF!=0,\"\",'统招（小学）'!#REF!)","v":{"$error":"#REF!"}},{"$f":"IF('统招（小学）'!#REF!=0,\"\",'统招（小学）'!#REF!)","v":{"$error":"#REF!"}},{"$f":"IF('统招（小学）'!#REF!=0,\"\",'统招（小学）'!#REF!)","v":{"$error":"#REF!"}},{"$f":"IF('统招（小学）'!#REF!=0,\"\",'统招（小学）'!#REF!)","v":{"$error":"#REF!"}},{"$f":"IF('统招（小学）'!#REF!=0,\"\",'统招（小学）'!#REF!)","v":{"$error":"#REF!"}},{"$f":"IF('统招（小学）'!#REF!=0,\"\",'统招（小学）'!#REF!)","v":{"$error":"#REF!"}},{"$f":"IF('统招（小学）'!#REF!=0,\"\",'统招（小学）'!#REF!)","v":{"$error":"#REF!"}},{"$f":"IF('统招（小学）'!#REF!=0,\"\",'统招（小学）'!#REF!)","v":{"$error":"#REF!"}},{"$f":"IF('统招（小学）'!#REF!=0,\"\",'统招（小学）'!#REF!)","v":{"$error":"#REF!"}},{"$f":"IF('统招（小学）'!#REF!=0,\"\",'统招（小学）'!#REF!)","v":{"$error":"#REF!"}},{"$f":"IF('统招（小学）'!#REF!=0,\"\",'统招（小学）'!#REF!)","v":{"$error":"#REF!"}},{"$f":"IF('统招（小学）'!#REF!=0,\"\",'统招（小学）'!#REF!)","v":{"$error":"#REF!"}},{"$f":"IF('统招（小学）'!#REF!=0,\"\",'统招（小学）'!#REF!)","v":{"$error":"#REF!"}},{"$f":"IF('统招（小学）'!#REF!=0,\"\",'统招（小学）'!#REF!)","v":{"$error":"#REF!"}},{"$f":"IF('统招（小学）'!#REF!=0,\"\",'统招（小学）'!#REF!)","v":{"$error":"#REF!"}},{"$f":"IF('统招（小学）'!#REF!=0,\"\",'统招（小学）'!#REF!)","v":{"$error":"#REF!"}},{"$f":"IF('统招（小学）'!#REF!=0,\"\",'统招（小学）'!#REF!)","v":{"$error":"#REF!"}},{"$f":"IF('统招（小学）'!#REF!=0,\"\",'统招（小学）'!#REF!)","v":{"$error":"#REF!"}},{"$f":"IF('统招（小学）'!#REF!=0,\"\",'统招（小学）'!#REF!)","v":{"$error":"#REF!"}},{"$f":"IF('统招（小学）'!#REF!=0,\"\",'统招（小学）'!#REF!)","v":{"$error":"#REF!"}},{"$f":"IF('统招（小学）'!#REF!=0,\"\",'统招（小学）'!#REF!)","v":{"$error":"#REF!"}},{"$f":"IF('统招（小学）'!#REF!=0,\"\",'统招（小学）'!#REF!)","v":{"$error":"#REF!"}},{"$f":"IF('统招（小学）'!#REF!=0,\"\",'统招（小学）'!#REF!)","v":{"$error":"#REF!"}},{"$f":"IF('统招（小学）'!#REF!=0,\"\",'统招（小学）'!#REF!)","v":{"$error":"#REF!"}},{"$f":"IF('统招（小学）'!#REF!=0,\"\",'统招（小学）'!#REF!)","v":{"$error":"#REF!"}},{"$f":"IF('统招（小学）'!#REF!=0,\"\",'统招（小学）'!#REF!)","v":{"$error":"#REF!"}},{"$error":"#REF!"},{"$nulls":7},0,{"$error":"#REF!"},{"$error":"#REF!"},{"$error":"#REF!"}]
["武阳中小",6,6,2263,2137,54,56,137,{"v":38.1607142857143,"d":"38"},112,{"v":112.473684210526,"d":"112"},null,{"v":112.236842105263,"d":"112"},{"v":-24.5263157894737,"d":"-25"},0,-25,{"$f":"IF('统招（小学）'!#REF!=0,\"\",'统招（小学）'!#REF!)","v":{"$error":"#REF!"}},{"$f":"IF('统招（小学）'!#REF!=0,\"\",'统招（小学）'!#REF!)","v":{"$error":"#REF!"}},{"$f":"IF('统招（小学）'!#REF!=0,\"\",'统招（小学）'!#REF!)","v":{"$error":"#REF!"}},{"$f":"IF('统招（小学）'!#REF!=0,\"\",'统招（小学）'!#REF!)","v":{"$error":"#REF!"}},{"$f":"IF('统招（小学）'!#REF!=0,\"\",'统招（小学）'!#REF!)","v":{"$error":"#REF!"}},{"$f":"IF('统招（小学）'!#REF!=0,\"\",'统招（小学）'!#REF!)","v":{"$error":"#REF!"}},{"$f":"IF('统招（小学）'!#REF!=0,\"\",'统招（小学）'!#REF!)","v":{"$error":"#REF!"}},{"$f":"IF('统招（小学）'!#REF!=0,\"\",'统招（小学）'!#REF!)","v":{"$error":"#REF!"}},{"$f":"IF('统招（小学）'!#REF!=0,\"\",'统招（小学）'!#REF!)","v":{"$error":"#REF!"}},{"$f":"IF('统招（小学）'!#REF!=0,\"\",'统招（小学）'!#REF!)","v":{"$error":"#REF!"}},{"$f":"IF('统招（小学）'!#REF!=0,\"\",'统招（小学）'!#REF!)","v":{"$error":"#REF!"}},{"$f":"IF('统招（小学）'!#REF!=0,\"\",'统招（小学）'!#REF!)","v":{"$error":"#REF!"}},{"$f":"IF('统招（小学）'!#REF!=0,\"\",'统招（小学）'!#REF!)","v":{"$error":"#REF!"}},{"$f":"IF('统招（小学）'!#REF!=0,\"\",'统招（小学）'!#REF!)","v":{"$error":"#REF!"}},{"$f":"IF('统招（小学）'!#REF!=0,\"\",'统招（小学）'!#REF!)","v":{"$error":"#REF!"}},{"$f":"IF('统招（小学）'!#REF!=0,\"\",'统招（小学）'!#REF!)","v":{"$error":"#REF!"}},{"$f":"IF('统招（小学）'!#REF!=0,\"\",'统招（小学）'!#REF!)","v":{"$error":"#REF!"}},{"$f":"IF('统招（小学）'!#REF!=0,\"\",'统招（小学）'!#REF!)","v":{"$error":"#REF!"}},{"$f":"IF('统招（小学）'!#REF!=0,\"\",'统招（小学）'!#REF!)","v":{"$error":"#REF!"}},{"$f":"IF('统招（小学）'!#REF!=0,\"\",'统招（小学）'!#REF!)","v":{"$error":"#REF!"}},{"$f":"IF('统招（小学）'!#REF!=0,\"\",'统招（小学）'!#REF!)","v":{"$error":"#REF!"}},{"$f":"IF('统招（小学）'!#REF!=0,\"\",'统招（小学）'!#REF!)","v":{"$error":"#REF!"}},{"$f":"IF('统招（小学）'!#REF!=0,\"\",'统招（小学）'!#REF!)","v":{"$error":"#REF!"}},{"$f":"IF('统招（小学）'!#REF!=0,\"\",'统招（小学）'!#REF!)","v":{"$error":"#REF!"}},{"$f":"IF('统招（小学）'!#REF!=0,\"\",'统招（小学）'!#REF!)","v":{"$error":"#REF!"}},{"$f":"IF('统招（小学）'!#REF!=0,\"\",'统招（小学）'!#REF!)","v":{"$error":"#REF!"}},{"$error":"#REF!"},6,{"$nulls":5},1,7,{"$error":"#REF!"},{"$error":"#REF!"},{"$error":"#REF!"}]
["向塘中小",7,7,3256,3029,115,110,210,{"v":27.5363636363636,"d":"28"},220,{"v":159.421052631579,"d":"159"},null,{"v":189.710526315789,"d":"190"},{"v":-50.578947368421,"d":"-51"},0,10,{"$f":"IF('统招（小学）'!#REF!=0,\"\",'统招（小学）'!#REF!)","v":{"$error":"#REF!"}},{"$f":"IF('统招（小学）'!#REF!=0,\"\",'统招（小学）'!#REF!)","v":{"$error":"#REF!"}},{"$f":"IF('统招（小学）'!#REF!=0,\"\",'统招（小学）'!#REF!)","v":{"$error":"#REF!"}},{"$f":"IF('统招（小学）'!#REF!=0,\"\",'统招（小学）'!#REF!)","v":{"$error":"#REF!"}},{"$f":"IF('统招（小学）'!#REF!=0,\"\",'统招（小学）'!#REF!)","v":{"$error":"#REF!"}},{"$f":"IF('统招（小学）'!#REF!=0,\"\",'统招（小学）'!#REF!)","v":{"$error":"#REF!"}},{"$f":"IF('统招（小学）'!#REF!=0,\"\",'统招（小学）'!#REF!)","v":{"$error":"#REF!"}},{"$f":"IF('统招（小学）'!#REF!=0,\"\",'统招（小学）'!#REF!)","v":{"$error":"#REF!"}},{"$f":"IF('统招（小学）'!#REF!=0,\"\",'统招（小学）'!#REF!)","v":{"$error":"#REF!"}},{"$f":"IF('统招（小学）'!#REF!=0,\"\",'统招（小学）'!#REF!)","v":{"$error":"#REF!"}},{"$f":"IF('统招（小学）'!#REF!=0,\"\",'统招（小学）'!#REF!)","v":{"$error":"#REF!"}},{"$f":"IF('统招（小学）'!#REF!=0,\"\",'统招（小学）'!#REF!)","v":{"$error":"#REF!"}},{"$f":"IF('统招（小学）'!#REF!=0,\"\",'统招（小学）'!#REF!)","v":{"$error":"#REF!"}},{"$f":"IF('统招（小学）'!#REF!=0,\"\",'统招（小学）'!#REF!)","v":{"$error":"#REF!"}},{"$f":"IF('统招（小学）'!#REF!=0,\"\",'统招（小学）'!#REF!)","v":{"$error":"#REF!"}},{"$f":"IF('统招（小学）'!#REF!=0,\"\",'统招（小学）'!#REF!)","v":{"$error":"#REF!"}},{"$f":"IF('统招（小学）'!#REF!=0,\"\",'统招（小学）'!#REF!)","v":{"$error":"#REF!"}},{"$f":"IF('统招（小学）'!#REF!=0,\"\",'统招（小学）'!#REF!)","v":{"$error":"#REF!"}},{"$f":"IF('统招（小学）'!#REF!=0,\"\",'统招（小学）'!#REF!)","v":{"$error":"#REF!"}},{"$f":"IF('统招（小学）'!#REF!=0,\"\",'统招（小学）'!#REF!)","v":{"$error":"#REF!"}},{"$f":"IF('统招（小学）'!#REF!=0,\"\",'统招（小学）'!#REF!)","v":{"$error":"#REF!"}},{"$f":"IF('统招（小学）'!#REF!=0,\"\",'统招（小学）'!#REF!)","v":{"$error":"#REF!"}},{"$f":"IF('统招（小学）'!#REF!=0,\"\",'统招（小学）'!#REF!)","v":{"$error":"#REF!"}},{"$f":"IF('统招（小学）'!#REF!=0,\"\",'统招（小学）'!#REF!)","v":{"$error":"#REF!"}},{"$f":"IF('统招（小学）'!#REF!=0,\"\",'统招（小学）'!#REF!)","v":{"$error":"#REF!"}},{"$f":"IF('统招（小学）'!#REF!=0,\"\",'统招（小学）'!#REF!)","v":{"$error":"#REF!"}},{"$error":"#REF!"},7,0,{"$nulls":4},9,16,{"$error":"#REF!"},{"$error":"#REF!"},{"$error":"#REF!"}]
["黄马中小",8,8,856,626,53,27,127,{"v":23.1851851851852,"d":"23"},54,{"v":32.9473684210526,"d":"33"},null,{"v":43.4736842105263,"d":"43"},{"v":-94.0526315789474,"d":"-94"},0,-73,{"$f":"IF('统招（小学）'!#REF!=0,\"\",'统招（小学）'!#REF!)","v":{"$error":"#REF!"}},{"$f":"IF('统招（小学）'!#REF!=0,\"\",'统招（小学）'!#REF!)","v":{"$error":"#REF!"}},{"$f":"IF('统招（小学）'!#REF!=0,\"\",'统招（小学）'!#REF!)","v":{"$error":"#REF!"}},{"$f":"IF('统招（小学）'!#REF!=0,\"\",'统招（小学）'!#REF!)","v":{"$error":"#REF!"}},{"$f":"IF('统招（小学）'!#REF!=0,\"\",'统招（小学）'!#REF!)","v":{"$error":"#REF!"}},{"$f":"IF('统招（小学）'!#REF!=0,\"\",'统招（小学）'!#REF!)","v":{"$error":"#REF!"}},{"$f":"IF('统招（小学）'!#REF!=0,\"\",'统招（小学）'!#REF!)","v":{"$error":"#REF!"}},{"$f":"IF('统招（小学）'!#REF!=0,\"\",'统招（小学）'!#REF!)","v":{"$error":"#REF!"}},{"$f":"IF('统招（小学）'!#REF!=0,\"\",'统招（小学）'!#REF!)","v":{"$error":"#REF!"}},{"$f":"IF('统招（小学）'!#REF!=0,\"\",'统招（小学）'!#REF!)","v":{"$error":"#REF!"}},{"$f":"IF('统招（小学）'!#REF!=0,\"\",'统招（小学）'!#REF!)","v":{"$error":"#REF!"}},{"$f":"IF('统招（小学）'!#REF!=0,\"\",'统招（小学）'!#REF!)","v":{"$error":"#REF!"}},{"$f":"IF('统招（小学）'!#REF!=0,\"\",'统招（小学）'!#REF!)","v":{"$error":"#REF!"}},{"$f":"IF('统招（小学）'!#REF!=0,\"\",'统招（小学）'!#REF!)","v":{"$error":"#REF!"}},{"$f":"IF('统招（小学）'!#REF!=0,\"\",'统招（小学）'!#REF!)","v":{"$error":"#REF!"}},{"$f":"IF('统招（小学）'!#REF!=0,\"\",'统招（小学）'!#REF!)","v":{"$error":"#REF!"}},{"$f":"IF('统招（小学）'!#REF!=0,\"\",'统招（小学）'!#REF!)","v":{"$error":"#REF!"}},{"$f":"IF('统招（小学）'!#REF!=0,\"\",'统招（小学）'!#REF!)","v":{"$error":"#REF!"}},{"$f":"IF('统招（小学）'!#REF!=0,\"\",'统招（小学）'!#REF!)","v":{"$error":"#REF!"}},{"$f":"IF('统招（小学）'!#REF!=0,\"\",'统招（小学）'!#REF!)","v":{"$error":"#REF!"}},{"$f":"IF('统招（小学）'!#REF!=0,\"\",'统招（小学）'!#REF!)","v":{"$error":"#REF!"}},{"$f":"IF('统招（小学）'!#REF!=0,\"\",'统招（小学）'!#REF!)","v":{"$error":"#REF!"}},{"$f":"IF('统招（小学）'!#REF!=0,\"\",'统招（小学）'!#REF!)","v":{"$error":"#REF!"}},{"$f":"IF('统招（小学）'!#REF!=0,\"\",'统招（小学）'!#REF!)","v":{"$error":"#REF!"}},{"$f":"IF('统招（小学）'!#REF!=0,\"\",'统招（小学）'!#REF!)","v":{"$error":"#REF!"}},{"$f":"IF('统招（小学）'!#REF!=0,\"\",'统招（小学）'!#REF!)","v":{"$error":"#REF!"}},{"$error":"#REF!"},{"$nulls":3},4,null,null,1,5,{"$error":"#REF!"},{"$error":"#REF!"},{"$error":"#REF!"}]
["三江中小",9,9,1500,1464,42,30,99,{"v":48.8,"d":"49"},60,{"v":77.0526315789474,"d":"77"},null,{"v":68.5263157894737,"d":"69"},{"v":-21.9473684210526,"d":"-22"},0,-39,{"$f":"IF('统招（小学）'!#REF!=0,\"\",'统招（小学）'!#REF!)","v":{"$error":"#REF!"}},{"$f":"IF('统招（小学）'!#REF!=0,\"\",'统招（小学）'!#REF!)","v":{"$error":"#REF!"}},{"$f":"IF('统招（小学）'!#REF!=0,\"\",'统招（小学）'!#REF!)","v":{"$error":"#REF!"}},{"$f":"IF('统招（小学）'!#REF!=0,\"\",'统招（小学）'!#REF!)","v":{"$error":"#REF!"}},{"$f":"IF('统招（小学）'!#REF!=0,\"\",'统招（小学）'!#REF!)","v":{"$error":"#REF!"}},{"$f":"IF('统招（小学）'!#REF!=0,\"\",'统招（小学）'!#REF!)","v":{"$error":"#REF!"}},{"$f":"IF('统招（小学）'!#REF!=0,\"\",'统招（小学）'!#REF!)","v":{"$error":"#REF!"}},{"$f":"IF('统招（小学）'!#REF!=0,\"\",'统招（小学）'!#REF!)","v":{"$error":"#REF!"}},{"$f":"IF('统招（小学）'!#REF!=0,\"\",'统招（小学）'!#REF!)","v":{"$error":"#REF!"}},{"$f":"IF('统招（小学）'!#REF!=0,\"\",'统招（小学）'!#REF!)","v":{"$error":"#REF!"}},{"$f":"IF('统招（小学）'!#REF!=0,\"\",'统招（小学）'!#REF!)","v":{"$error":"#REF!"}},{"$f":"IF('统招（小学）'!#REF!=0,\"\",'统招（小学）'!#REF!)","v":{"$error":"#REF!"}},{"$f":"IF('统招（小学）'!#REF!=0,\"\",'统招（小学）'!#REF!)","v":{"$error":"#REF!"}},{"$f":"IF('统招（小学）'!#REF!=0,\"\",'统招（小学）'!#REF!)","v":{"$error":"#REF!"}},{"$f":"IF('统招（小学）'!#REF!=0,\"\",'统招（小学）'!#REF!)","v":{"$error":"#REF!"}},{"$f":"IF('统招（小学）'!#REF!=0,\"\",'统招（小学）'!#REF!)","v":{"$error":"#REF!"}},{"$f":"IF('统招（小学）'!#REF!=0,\"\",'统招（小学）'!#REF!)","v":{"$error":"#REF!"}},{"$f":"IF('统招（小学）'!#REF!=0,\"\",'统招（小学）'!#REF!)","v":{"$error":"#REF!"}},{"$f":"IF('统招（小学）'!#REF!=0,\"\",'统招（小学）'!#REF!)","v":{"$error":"#REF!"}},{"$f":"IF('统招（小学）'!#REF!=0,\"\",'统招（小学）'!#REF!)","v":{"$error":"#REF!"}},{"$f":"IF('统招（小学）'!#REF!=0,\"\",'统招（小学）'!#REF!)","v":{"$error":"#REF!"}},{"$f":"IF('统招（小学）'!#REF!=0,\"\",'统招（小学）'!#REF!)","v":{"$error":"#REF!"}},{"$f":"IF('统招（小学）'!#REF!=0,\"\",'统招（小学）'!#REF!)","v":{"$error":"#REF!"}},{"$f":"IF('统招（小学）'!#REF!=0,\"\",'统招（小学）'!#REF!)","v":{"$error":"#REF!"}},{"$f":"IF('统招（小学）'!#REF!=0,\"\",'统招（小学）'!#REF!)","v":{"$error":"#REF!"}},{"$f":"IF('统招（小学）'!#REF!=0,\"\",'统招（小学）'!#REF!)","v":{"$error":"#REF!"}},{"$error":"#REF!"},1,null,null,3,null,null,1,5,{"$error":"#REF!"},{"$error":"#REF!"},{"$error":"#REF!"}]
["冈上中小",10,10,1658,1488,63,61,121,{"v":24.3934426229508,"d":"24"},122,{"v":78.3157894736842,"d":"78"},null,{"v":100.157894736842,"d":"100"},{"v":-42.6842105263158,"d":"-43"},0,1,{"$f":"IF('统招（小学）'!C3=0,\"\",'统招（小学）'!C3)","v":""},{"$f":"IF('统招（小学）'!#REF!=0,\"\",'统招（小学）'!#REF!)","v":{"$error":"#REF!"}},{"$f":"IF('统招（小学）'!D3=0,\"\",'统招（小学）'!D3)","v":""},{"$f":"IF('统招（小学）'!E3=0,\"\",'统招（小学）'!E3)","v":""},{"$f":"IF('统招（小学）'!F3=0,\"\",'统招（小学）'!F3)","v":""},{"$f":"IF('统招（小学）'!G3=0,\"\",'统招（小学）'!G3)","v":""},{"$f":"IF('统招（小学）'!H3=0,\"\",'统招（小学）'!H3)","v":1},{"$f":"IF('统招（小学）'!I3=0,\"\",'统招（小学）'!I3)","v":""},{"$f":"IF('统招（小学）'!J3=0,\"\",'统招（小学）'!J3)","v":1},{"$f":"IF('统招（小学）'!K3=0,\"\",'统招（小学）'!K3)","v":""},{"$f":"IF('统招（小学）'!S3=0,\"\",'统招（小学）'!S3)","v":""},{"$f":"IF('统招（小学）'!T3=0,\"\",'统招（小学）'!T3)","v":""},{"$f":"IF('统招（小学）'!U3=0,\"\",'统招（小学）'!U3)","v":""},{"$f":"IF('统招（小学）'!V3=0,\"\",'统招（小学）'!V3)","v":""},{"$f":"IF('统招（小学）'!#REF!=0,\"\",'统招（小学）'!#REF!)","v":{"$error":"#REF!"}},{"$f":"IF('统招（小学）'!#REF!=0,\"\",'统招（小学）'!#REF!)","v":{"$error":"#REF!"}},{"$f":"IF('统招（小学）'!#REF!=0,\"\",'统招（小学）'!#REF!)","v":{"$error":"#REF!"}},{"$f":"IF('统招（小学）'!#REF!=0,\"\",'统招（小学）'!#REF!)","v":{"$error":"#REF!"}},{"$f":"IF('统招（小学）'!#REF!=0,\"\",'统招（小学）'!#REF!)","v":{"$error":"#REF!"}},{"$f":"IF('统招（小学）'!#REF!=0,\"\",'统招（小学）'!#REF!)","v":{"$error":"#REF!"}},{"$f":"IF('统招（小学）'!#REF!=0,\"\",'统招（小学）'!#REF!)","v":{"$error":"#REF!"}},{"$f":"IF('统招（小学）'!#REF!=0,\"\",'统招（小学）'!#REF!)","v":{"$error":"#REF!"}},{"$f":"IF('统招（小学）'!#REF!=0,\"\",'统招（小学）'!#REF!)","v":{"$error":"#REF!"}},{"$f":"IF('统招（小学）'!#REF!=0,\"\",'统招（小学）'!#REF!)","v":{"$error":"#REF!"}},{"$f":"IF('统招（小学）'!#REF!=0,\"\",'统招（小学）'!#REF!)","v":{"$error":"#REF!"}},{"$f":"IF('统招（小学）'!#REF!=0,\"\",'统招（小学）'!#REF!)","v":{"$error":"#REF!"}},{"$error":"#REF!"},3,{"$nulls":6},3,{"$error":"#REF!"},{"$error":"#REF!"},{"$error":"#REF!"}]
["广福中小",11,11,2154,1900,92,80,165,{"v":23.75,"d":"24"},160,100,null,130,-65,0,-5,{"$f":"IF('统招（小学）'!#REF!=0,\"\",'统招（小学）'!#REF!)","v":{"$error":"#REF!"}},{"$f":"IF('统招（小学）'!#REF!=0,\"\",'统招（小学）'!#REF!)","v":{"$error":"#REF!"}},{"$f":"IF('统招（小学）'!#REF!=0,\"\",'统招（小学）'!#REF!)","v":{"$error":"#REF!"}},{"$f":"IF('统招（小学）'!#REF!=0,\"\",'统招（小学）'!#REF!)","v":{"$error":"#REF!"}},{"$f":"IF('统招（小学）'!#REF!=0,\"\",'统招（小学）'!#REF!)","v":{"$error":"#REF!"}},{"$f":"IF('统招（小学）'!#REF!=0,\"\",'统招（小学）'!#REF!)","v":{"$error":"#REF!"}},{"$f":"IF('统招（小学）'!#REF!=0,\"\",'统招（小学）'!#REF!)","v":{"$error":"#REF!"}},{"$f":"IF('统招（小学）'!#REF!=0,\"\",'统招（小学）'!#REF!)","v":{"$error":"#REF!"}},{"$f":"IF('统招（小学）'!#REF!=0,\"\",'统招（小学）'!#REF!)","v":{"$error":"#REF!"}},{"$f":"IF('统招（小学）'!#REF!=0,\"\",'统招（小学）'!#REF!)","v":{"$error":"#REF!"}},{"$f":"IF('统招（小学）'!#REF!=0,\"\",'统招（小学）'!#REF!)","v":{"$error":"#REF!"}},{"$f":"IF('统招（小学）'!#REF!=0,\"\",'统招（小学）'!#REF!)","v":{"$error":"#REF!"}},{"$f":"IF('统招（小学）'!#REF!=0,\"\",'统招（小学）'!#REF!)","v":{"$error":"#REF!"}},{"$f":"IF('统招（小学）'!#REF!=0,\"\",'统招（小学）'!#REF!)","v":{"$error":"#REF!"}},{"$f":"IF('统招（小学）'!#REF!=0,\"\",'统招（小学）'!#REF!)","v":{"$error":"#REF!"}},{"$f":"IF('统招（小学）'!#REF!=0,\"\",'统招（小学）'!#REF!)","v":{"$error":"#REF!"}},{"$f":"IF('统招（小学）'!#REF!=0,\"\",'统招（小学）'!#REF!)","v":{"$error":"#REF!"}},{"$f":"IF('统招（小学）'!#REF!=0,\"\",'统招（小学）'!#REF!)","v":{"$error":"#REF!"}},{"$f":"IF('统招（小学）'!#REF!=0,\"\",'统招（小学）'!#REF!)","v":{"$error":"#REF!"}},{"$f":"IF('统招（小学）'!#REF!=0,\"\",'统招（小学）'!#REF!)","v":{"$error":"#REF!"}},{"$f":"IF('统招（小学）'!#REF!=0,\"\",'统招（小学）'!#REF!)","v":{"$error":"#REF!"}},{"$f":"IF('统招（小学）'!#REF!=0,\"\",'统招（小学）'!#REF!)","v":{"$error":"#REF!"}},{"$f":"IF('统招（小学）'!#REF!=0,\"\",'统招（小学）'!#REF!)","v":{"$error":"#REF!"}},{"$f":"IF('统招（小学）'!#REF!=0,\"\",'统招（小学）'!#REF!)","v":{"$error":"#REF!"}},{"$f":"IF('统招（小学）'!#REF!=0,\"\",'统招（小学）'!#REF!)","v":{"$error":"#REF!"}},{"$f":"IF('统招（小学）'!#REF!=0,\"\",'统招（小学）'!#REF!)","v":{"$error":"#REF!"}},{"$error":"#REF!"},3,null,null,3,{"$nulls":3},6,{"$error":"#REF!"},{"$error":"#REF!"},{"$error":"#REF!"}]
["富山中小",12,12,2000,1832,84,81,127,{"v":22.6172839506173,"d":"23"},162,{"v":96.4210526315789,"d":"96"},null,{"v":129.210526315789,"d":"129"},{"v":-30.5789473684211,"d":"-31"},0,35,{"$f":"IF('统招（小学）'!#REF!=0,\"\",'统招（小学）'!#REF!)","v":{"$error":"#REF!"}},{"$f":"IF('统招（小学）'!#REF!=0,\"\",'统招（小学）'!#REF!)","v":{"$error":"#REF!"}},{"$f":"IF('统招（小学）'!#REF!=0,\"\",'统招（小学）'!#REF!)","v":{"$error":"#REF!"}},{"$f":"IF('统招（小学）'!#REF!=0,\"\",'统招（小学）'!#REF!)","v":{"$error":"#REF!"}},{"$f":"IF('统招（小学）'!#REF!=0,\"\",'统招（小学）'!#REF!)","v":{"$error":"#REF!"}},{"$f":"IF('统招（小学）'!#REF!=0,\"\",'统招（小学）'!#REF!)","v":{"$error":"#REF!"}},{"$f":"IF('统招（小学）'!#REF!=0,\"\",'统招（小学）'!#REF!)","v":{"$error":"#REF!"}},{"$f":"IF('统招（小学）'!#REF!=0,\"\",'统招（小学）'!#REF!)","v":{"$error":"#REF!"}},{"$f":"IF('统招（小学）'!#REF!=0,\"\",'统招（小学）'!#REF!)","v":{"$error":"#REF!"}},{"$f":"IF('统招（小学）'!#REF!=0,\"\",'统招（小学）'!#REF!)","v":{"$error":"#REF!"}},{"$f":"IF('统招（小学）'!#REF!=0,\"\",'统招（小学）'!#REF!)","v":{"$error":"#REF!"}},{"$f":"IF('统招（小学）'!#REF!=0,\"\",'统招（小学）'!#REF!)","v":{"$error":"#REF!"}},{"$f":"IF('统招（小学）'!#REF!=0,\"\",'统招（小学）'!#REF!)","v":{"$error":"#REF!"}},{"$f":"IF('统招（小学）'!#REF!=0,\"\",'统招（小学）'!#REF!)","v":{"$error":"#REF!"}},{"$f":"IF('统招（小学）'!#REF!=0,\"\",'统招（小学）'!#REF!)","v":{"$error":"#REF!"}},{"$f":"IF('统招（小学）'!#REF!=0,\"\",'统招（小学）'!#REF!)","v":{"$error":"#REF!"}},{"$f":"IF('统招（小学）'!#REF!=0,\"\",'统招（小学）'!#REF!)","v":{"$error":"#REF!"}},{"$f":"IF('统招（小学）'!#REF!=0,\"\",'统招（小学）'!#REF!)","v":{"$error":"#REF!"}},{"$f":"IF('统招（小学）'!#REF!=0,\"\",'统招（小学）'!#REF!)","v":{"$error":"#REF!"}},{"$f":"IF('统招（小学）'!#REF!=0,\"\",'统招（小学）'!#REF!)","v":{"$error":"#REF!"}},{"$f":"IF('统招（小学）'!#REF!=0,\"\",'统招（小学）'!#REF!)","v":{"$error":"#REF!"}},{"$f":"IF('统招（小学）'!#REF!=0,\"\",'统招（小学）'!#REF!)","v":{"$error":"#REF!"}},{"$f":"IF('统招（小学）'!#REF!=0,\"\",'统招（小学）'!#REF!)","v":{"$error":"#REF!"}},{"$f":"IF('统招（小学）'!#REF!=0,\"\",'统招（小学）'!#REF!)","v":{"$error":"#REF!"}},{"$f":"IF('统招（小学）'!#REF!=0,\"\",'统招（小学）'!#REF!)","v":{"$error":"#REF!"}},{"$f":"IF('统招（小学）'!#REF!=0,\"\",'统招（小学）'!#REF!)","v":{"$error":"#REF!"}},{"$error":"#REF!"},2,{"$nulls":5},12,14,{"$error":"#REF!"},{"$error":"#REF!"},{"$error":"#REF!"}]
["东新中小",13,13,1769,1692,45,46,110,{"v":36.7826086956522,"d":"37"},92,{"v":89.0526315789474,"d":"89"},null,{"v":90.5263157894737,"d":"91"},{"v":-20.9473684210526,"d":"-21"},0,-18,{"$f":"IF('统招（小学）'!#REF!=0,\"\",'统招（小学）'!#REF!)","v":{"$error":"#REF!"}},{"$f":"IF('统招（小学）'!#REF!=0,\"\",'统招（小学）'!#REF!)","v":{"$error":"#REF!"}},{"$f":"IF('统招（小学）'!#REF!=0,\"\",'统招（小学）'!#REF!)","v":{"$error":"#REF!"}},{"$f":"IF('统招（小学）'!#REF!=0,\"\",'统招（小学）'!#REF!)","v":{"$error":"#REF!"}},{"$f":"IF('统招（小学）'!#REF!=0,\"\",'统招（小学）'!#REF!)","v":{"$error":"#REF!"}},{"$f":"IF('统招（小学）'!#REF!=0,\"\",'统招（小学）'!#REF!)","v":{"$error":"#REF!"}},{"$f":"IF('统招（小学）'!#REF!=0,\"\",'统招（小学）'!#REF!)","v":{"$error":"#REF!"}},{"$f":"IF('统招（小学）'!#REF!=0,\"\",'统招（小学）'!#REF!)","v":{"$error":"#REF!"}},{"$f":"IF('统招（小学）'!#REF!=0,\"\",'统招（小学）'!#REF!)","v":{"$error":"#REF!"}},{"$f":"IF('统招（小学）'!#REF!=0,\"\",'统招（小学）'!#REF!)","v":{"$error":"#REF!"}},{"$f":"IF('统招（小学）'!#REF!=0,\"\",'统招（小学）'!#REF!)","v":{"$error":"#REF!"}},{"$f":"IF('统招（小学）'!#REF!=0,\"\",'统招（小学）'!#REF!)","v":{"$error":"#REF!"}},{"$f":"IF('统招（小学）'!#REF!=0,\"\",'统招（小学）'!#REF!)","v":{"$error":"#REF!"}},{"$f":"IF('统招（小学）'!#REF!=0,\"\",'统招（小学）'!#REF!)","v":{"$error":"#REF!"}},{"$f":"IF('统招（小学）'!#REF!=0,\"\",'统招（小学）'!#REF!)","v":{"$error":"#REF!"}},{"$f":"IF('统招（小学）'!#REF!=0,\"\",'统招（小学）'!#REF!)","v":{"$error":"#REF!"}},{"$f":"IF('统招（小学）'!#REF!=0,\"\",'统招（小学）'!#REF!)","v":{"$error":"#REF!"}},{"$f":"IF('统招（小学）'!#REF!=0,\"\",'统招（小学）'!#REF!)","v":{"$error":"#REF!"}},{"$f":"IF('统招（小学）'!#REF!=0,\"\",'统招（小学）'!#REF!)","v":{"$error":"#REF!"}},{"$f":"IF('统招（小学）'!#REF!=0,\"\",'统招（小学）'!#REF!)","v":{"$error":"#REF!"}},{"$f":"IF('统招（小学）'!#REF!=0,\"\",'统招（小学）'!#REF!)","v":{"$error":"#REF!"}},{"$f":"IF('统招（小学）'!#REF!=0,\"\",'统招（小学）'!#REF!)","v":{"$error":"#REF!"}},{"$f":"IF('统招（小学）'!#REF!=0,\"\",'统招（小学）'!#REF!)","v":{"$error":"#REF!"}},{"$f":"IF('统招（小学）'!#REF!=0,\"\",'统招（小学）'!#REF!)","v":{"$error":"#REF!"}},{"$f":"IF('统招（小学）'!#REF!=0,\"\",'统招（小学）'!#REF!)","v":{"$error":"#REF!"}},{"$f":"IF('统招（小学）'!#REF!=0,\"\",'统招（小学）'!#REF!)","v":{"$error":"#REF!"}},{"$error":"#REF!"},2,{"$nulls":5},20,22,{"$error":"#REF!"},{"$error":"#REF!"},{"$error":"#REF!"}]
["八一中小",14,14,1410,1274,64,52,123,{"v":24.5,"d":"25"},104,{"v":67.0526315789474,"d":"67"},null,{"v":85.5263157894737,"d":"86"},{"v":-55.9473684210526,"d":"-56"},0,-19,{"$f":"IF('统招（小学）'!#REF!=0,\"\",'统招（小学）'!#REF!)","v":{"$error":"#REF!"}},{"$f":"IF('统招（小学）'!#REF!=0,\"\",'统招（小学）'!#REF!)","v":{"$error":"#REF!"}},{"$f":"IF('统招（小学）'!#REF!=0,\"\",'统招（小学）'!#REF!)","v":{"$error":"#REF!"}},{"$f":"IF('统招（小学）'!#REF!=0,\"\",'统招（小学）'!#REF!)","v":{"$error":"#REF!"}},{"$f":"IF('统招（小学）'!#REF!=0,\"\",'统招（小学）'!#REF!)","v":{"$error":"#REF!"}},{"$f":"IF('统招（小学）'!#REF!=0,\"\",'统招（小学）'!#REF!)","v":{"$error":"#REF!"}},{"$f":"IF('统招（小学）'!#REF!=0,\"\",'统招（小学）'!#REF!)","v":{"$error":"#REF!"}},{"$f":"IF('统招（小学）'!#REF!=0,\"\",'统招（小学）'!#REF!)","v":{"$error":"#REF!"}},{"$f":"IF('统招（小学）'!#REF!=0,\"\",'统招（小学）'!#REF!)","v":{"$error":"#REF!"}},{"$f":"IF('统招（小学）'!#REF!=0,\"\",'统招（小学）'!#REF!)","v":{"$error":"#REF!"}},{"$f":"IF('统招（小学）'!#REF!=0,\"\",'统招（小学）'!#REF!)","v":{"$error":"#REF!"}},{"$f":"IF('统招（小学）'!#REF!=0,\"\",'统招（小学）'!#REF!)","v":{"$error":"#REF!"}},{"$f":"IF('统招（小学）'!#REF!=0,\"\",'统招（小学）'!#REF!)","v":{"$error":"#REF!"}},{"$f":"IF('统招（小学）'!#REF!=0,\"\",'统招（小学）'!#REF!)","v":{"$error":"#REF!"}},{"$f":"IF('统招（小学）'!#REF!=0,\"\",'统招（小学）'!#REF!)","v":{"$error":"#REF!"}},{"$f":"IF('统招（小学）'!#REF!=0,\"\",'统招（小学）'!#REF!)","v":{"$error":"#REF!"}},{"$f":"IF('统招（小学）'!#REF!=0,\"\",'统招（小学）'!#REF!)","v":{"$error":"#REF!"}},{"$f":"IF('统招（小学）'!#REF!=0,\"\",'统招（小学）'!#REF!)","v":{"$error":"#REF!"}},{"$f":"IF('统招（小学）'!#REF!=0,\"\",'统招（小学）'!#REF!)","v":{"$error":"#REF!"}},{"$f":"IF('统招（小学）'!#REF!=0,\"\",'统招（小学）'!#REF!)","v":{"$error":"#REF!"}},{"$f":"IF('统招（小学）'!#REF!=0,\"\",'统招（小学）'!#REF!)","v":{"$error":"#REF!"}},{"$f":"IF('统招（小学）'!#REF!=0,\"\",'统招（小学）'!#REF!)","v":{"$error":"#REF!"}},{"$f":"IF('统招（小学）'!#REF!=0,\"\",'统招（小学）'!#REF!)","v":{"$error":"#REF!"}},{"$f":"IF('统招（小学）'!#REF!=0,\"\",'统招（小学）'!#REF!)","v":{"$error":"#REF!"}},{"$f":"IF('统招（小学）'!#REF!=0,\"\",'统招（小学）'!#REF!)","v":{"$error":"#REF!"}},{"$f":"IF('统招（小学）'!#REF!=0,\"\",'统招（小学）'!#REF!)","v":{"$error":"#REF!"}},{"$error":"#REF!"},{"$nulls":7},0,{"$error":"#REF!"},{"$error":"#REF!"},{"$error":"#REF!"}]
["莲塘中小",22,15,1848,1266,40,29,81,{"v":43.6551724137931,"d":"44"},{"$f":"G23*2.4","v":{"v":69.6,"d":"70"}},{"v":66.6315789473684,"d":"67"},null,{"v":68.1157894736842,"d":"68"},{"v":-14.3684210526316,"d":"-14"},0,{"v":-11.4,"d":"-11"},{"$f":"IF('统招（小学）'!C5=0,\"\",'统招（小学）'!C5)","v":""},{"$f":"IF('统招（小学）'!#REF!=0,\"\",'统招（小学）'!#REF!)","v":{"$error":"#REF!"}},{"$f":"IF('统招（小学）'!D5=0,\"\",'统招（小学）'!D5)","v":""},{"$f":"IF('统招（小学）'!E5=0,\"\",'统招（小学）'!E5)","v":""},{"$f":"IF('统招（小学）'!F5=0,\"\",'统招（小学）'!F5)","v":""},{"$f":"IF('统招（小学）'!G5=0,\"\",'统招（小学）'!G5)","v":""},{"$f":"IF('统招（小学）'!H5=0,\"\",'统招（小学）'!H5)","v":""},{"$f":"IF('统招（小学）'!I5=0,\"\",'统招（小学）'!I5)","v":""},{"$f":"IF('统招（小学）'!J5=0,\"\",'统招（小学）'!J5)","v":""},{"$f":"IF('统招（小学）'!K5=0,\"\",'统招（小学）'!K5)","v":""},{"$f":"IF('统招（小学）'!S5=0,\"\",'统招（小学）'!S5)","v":""},{"$f":"IF('统招（小学）'!T5=0,\"\",'统招（小学）'!T5)","v":""},{"$f":"IF('统招（小学）'!U5=0,\"\",'统招（小学）'!U5)","v":""},{"$f":"IF('统招（小学）'!V5=0,\"\",'统招（小学）'!V5)","v":""},{"$f":"IF('统招（小学）'!#REF!=0,\"\",'统招（小学）'!#REF!)","v":{"$error":"#REF!"}},{"$f":"IF('统招（小学）'!#REF!=0,\"\",'统招（小学）'!#REF!)","v":{"$error":"#REF!"}},{"$f":"IF('统招（小学）'!#REF!=0,\"\",'统招（小学）'!#REF!)","v":{"$error":"#REF!"}},{"$f":"IF('统招（小学）'!#REF!=0,\"\",'统招（小学）'!#REF!)","v":{"$error":"#REF!"}},{"$f":"IF('统招（小学）'!#REF!=0,\"\",'统招（小学）'!#REF!)","v":{"$error":"#REF!"}},{"$f":"IF('统招（小学）'!#REF!=0,\"\",'统招（小学）'!#REF!)","v":{"$error":"#REF!"}},{"$f":"IF('统招（小学）'!#REF!=0,\"\",'统招（小学）'!#REF!)","v":{"$error":"#REF!"}},{"$f":"IF('统招（小学）'!#REF!=0,\"\",'统招（小学）'!#REF!)","v":{"$error":"#REF!"}},{"$f":"IF('统招（小学）'!#REF!=0,\"\",'统招（小学）'!#REF!)","v":{"$error":"#REF!"}},{"$f":"IF('统招（小学）'!#REF!=0,\"\",'统招（小学）'!#REF!)","v":{"$error":"#REF!"}},{"$f":"IF('统招（小学）'!#REF!=0,\"\",'统招（小学）'!#REF!)","v":{"$error":"#REF!"}},{"$f":"IF('统招（小学）'!#REF!=0,\"\",'统招（小学）'!#REF!)","v":{"$error":"#REF!"}},{"$error":"#REF!"},null,1,{"$nulls":5},1,{"$error":"#REF!"},{"$error":"#REF!"},{"$error":"#REF!"}]
["莲塘一小",23,16,3961,3981,69,74,157,{"v":53.7972972972973,"d":"54"},{"v":177.6,"d":"178"},{"v":209.526315789474,"d":"210"},null,{"v":193.563157894737,"d":"194"},{"v":52.5263157894737,"d":"53"},{"$f":"N24","v":{"v":52.5263157894737,"d":"53"}},{"v":20.6,"d":"21"},{"$f":"IF('统招（小学）'!#REF!=0,\"\",'统招（小学）'!#REF!)","v":{"$error":"#REF!"}},{"$f":"IF('统招（小学）'!#REF!=0,\"\",'统招（小学）'!#REF!)","v":{"$error":"#REF!"}},{"$f":"IF('统招（小学）'!#REF!=0,\"\",'统招（小学）'!#REF!)","v":{"$error":"#REF!"}},{"$f":"IF('统招（小学）'!#REF!=0,\"\",'统招（小学）'!#REF!)","v":{"$error":"#REF!"}},{"$f":"IF('统招（小学）'!#REF!=0,\"\",'统招（小学）'!#REF!)","v":{"$error":"#REF!"}},{"$f":"IF('统招（小学）'!#REF!=0,\"\",'统招（小学）'!#REF!)","v":{"$error":"#REF!"}},{"$f":"IF('统招（小学）'!#REF!=0,\"\",'统招（小学）'!#REF!)","v":{"$error":"#REF!"}},{"$f":"IF('统招（小学）'!#REF!=0,\"\",'统招（小学）'!#REF!)","v":{"$error":"#REF!"}},{"$f":"IF('统招（小学）'!#REF!=0,\"\",'统招（小学）'!#REF!)","v":{"$error":"#REF!"}},{"$f":"IF('统招（小学）'!#REF!=0,\"\",'统招（小学）'!#REF!)","v":{"$error":"#REF!"}},{"$f":"IF('统招（小学）'!#REF!=0,\"\",'统招（小学）'!#REF!)","v":{"$error":"#REF!"}},{"$f":"IF('统招（小学）'!#REF!=0,\"\",'统招（小学）'!#REF!)","v":{"$error":"#REF!"}},{"$f":"IF('统招（小学）'!#REF!=0,\"\",'统招（小学）'!#REF!)","v":{"$error":"#REF!"}},{"$f":"IF('统招（小学）'!#REF!=0,\"\",'统招（小学）'!#REF!)","v":{"$error":"#REF!"}},{"$f":"IF('统招（小学）'!#REF!=0,\"\",'统招（小学）'!#REF!)","v":{"$error":"#REF!"}},{"$f":"IF('统招（小学）'!#REF!=0,\"\",'统招（小学）'!#REF!)","v":{"$error":"#REF!"}},{"$f":"IF('统招（小学）'!#REF!=0,\"\",'统招（小学）'!#REF!)","v":{"$error":"#REF!"}},{"$f":"IF('统招（小学）'!#REF!=0,\"\",'统招（小学）'!#REF!)","v":{"$error":"#REF!"}},{"$f":"IF('统招（小学）'!#REF!=0,\"\",'统招（小学）'!#REF!)","v":{"$error":"#REF!"}},{"$f":"IF('统招（小学）'!#REF!=0,\"\",'统招（小学）'!#REF!)","v":{"$error":"#REF!"}},{"$f":"IF('统招（小学）'!#REF!=0,\"\",'统招（小学）'!#REF!)","v":{"$error":"#REF!"}},{"$f":"IF('统招（小学）'!#REF!=0,\"\",'统招（小学）'!#REF!)","v":{"$error":"#REF!"}},{"$f":"IF('统招（小学）'!#REF!=0,\"\",'统招（小学）'!#REF!)","v":{"$error":"#REF!"}},{"$f":"IF('统招（小学）'!#REF!=0,\"\",'统招（小学）'!#REF!)","v":{"$error":"#REF!"}},{"$f":"IF('统招（小学）'!#REF!=0,\"\",'统招（小学）'!#REF!)","v":{"$error":"#REF!"}},{"$f":"IF('统招（小学）'!#REF!=0,\"\",'统招（小学）'!#REF!)","v":{"$error":"#REF!"}},{"$error":"#REF!"},{"$nulls":7},0,{"$error":"#REF!"},{"$error":"#REF!"},{"$error":"#REF!"}]
["莲塘二小",24,17,3446,3340,54,56,131,{"v":59.6428571428571,"d":"60"},{"v":134.4,"d":"134"},{"v":175.789473684211,"d":"176"},null,{"v":155.094736842105,"d":"155"},{"v":44.7894736842105,"d":"45"},{"v":44.7894736842105,"d":"45"},{"v":3.40000000000001,"d":"3"},{"$f":"IF('统招（小学）'!#REF!=0,\"\",'统招（小学）'!#REF!)","v":{"$error":"#REF!"}},{"$f":"IF('统招（小学）'!#REF!=0,\"\",'统招（小学）'!#REF!)","v":{"$error":"#REF!"}},{"$f":"IF('统招（小学）'!#REF!=0,\"\",'统招（小学）'!#REF!)","v":{"$error":"#REF!"}},{"$f":"IF('统招（小学）'!#REF!=0,\"\",'统招（小学）'!#REF!)","v":{"$error":"#REF!"}},{"$f":"IF('统招（小学）'!#REF!=0,\"\",'统招（小学）'!#REF!)","v":{"$error":"#REF!"}},{"$f":"IF('统招（小学）'!#REF!=0,\"\",'统招（小学）'!#REF!)","v":{"$error":"#REF!"}},{"$f":"IF('统招（小学）'!#REF!=0,\"\",'统招（小学）'!#REF!)","v":{"$error":"#REF!"}},{"$f":"IF('统招（小学）'!#REF!=0,\"\",'统招（小学）'!#REF!)","v":{"$error":"#REF!"}},{"$f":"IF('统招（小学）'!#REF!=0,\"\",'统招（小学）'!#REF!)","v":{"$error":"#REF!"}},{"$f":"IF('统招（小学）'!#REF!=0,\"\",'统招（小学）'!#REF!)","v":{"$error":"#REF!"}},{"$f":"IF('统招（小学）'!#REF!=0,\"\",'统招（小学）'!#REF!)","v":{"$error":"#REF!"}},{"$f":"IF('统招（小学）'!#REF!=0,\"\",'统招（小学）'!#REF!)","v":{"$error":"#REF!"}},{"$f":"IF('统招（小学）'!#REF!=0,\"\",'统招（小学）'!#REF!)","v":{"$error":"#REF!"}},{"$f":"IF('统招（小学）'!#REF!=0,\"\",'统招（小学）'!#REF!)","v":{"$error":"#REF!"}},{"$f":"IF('统招（小学）'!#REF!=0,\"\",'统招（小学）'!#REF!)","v":{"$error":"#REF!"}},{"$f":"IF('统招（小学）'!#REF!=0,\"\",'统招（小学）'!#REF!)","v":{"$error":"#REF!"}},{"$f":"IF('统招（小学）'!#REF!=0,\"\",'统招（小学）'!#REF!)","v":{"$error":"#REF!"}},{"$f":"IF('统招（小学）'!#REF!=0,\"\",'统招（小学）'!#REF!)","v":{"$error":"#REF!"}},{"$f":"IF('统招（小学）'!#REF!=0,\"\",'统招（小学）'!#REF!)","v":{"$error":"#REF!"}},{"$f":"IF('统招（小学）'!#REF!=0,\"\",'统招（小学）'!#REF!)","v":{"$error":"#REF!"}},{"$f":"IF('统招（小学）'!#REF!=0,\"\",'统招（小学）'!#REF!)","v":{"$error":"#REF!"}},{"$f":"IF('统招（小学）'!#REF!=0,\"\",'统招（小学）'!#REF!)","v":{"$error":"#REF!"}},{"$f":"IF('统招（小学）'!#REF!=0,\"\",'统招（小学）'!#REF!)","v":{"$error":"#REF!"}},{"$f":"IF('统招（小学）'!#REF!=0,\"\",'统招（小学）'!#REF!)","v":{"$error":"#REF!"}},{"$f":"IF('统招（小学）'!#REF!=0,\"\",'统招（小学）'!#REF!)","v":{"$error":"#REF!"}},{"$f":"IF('统招（小学）'!#REF!=0,\"\",'统招（小学）'!#REF!)","v":{"$error":"#REF!"}},{"$error":"#REF!"},{"$nulls":7},0,{"$error":"#REF!"},{"$error":"#REF!"},{"$error":"#REF!"}]
["莲塘三小",25,18,5250,5443,82,88,205,{"v":61.8522727272727,"d":"62"},{"v":211.2,"d":"211"},{"v":286.473684210526,"d":"286"},null,{"v":248.836842105263,"d":"249"},{"v":81.4736842105263,"d":"81"},{"v":81.4736842105263,"d":"81"},{"v":6.19999999999999,"d":"6"},{"$f":"IF('统招（小学）'!#REF!=0,\"\",'统招（小学）'!#REF!)","v":{"$error":"#REF!"}},{"$f":"IF('统招（小学）'!#REF!=0,\"\",'统招（小学）'!#REF!)","v":{"$error":"#REF!"}},{"$f":"IF('统招（小学）'!#REF!=0,\"\",'统招（小学）'!#REF!)","v":{"$error":"#REF!"}},{"$f":"IF('统招（小学）'!#REF!=0,\"\",'统招（小学）'!#REF!)","v":{"$error":"#REF!"}},{"$f":"IF('统招（小学）'!#REF!=0,\"\",'统招（小学）'!#REF!)","v":{"$error":"#REF!"}},{"$f":"IF('统招（小学）'!#REF!=0,\"\",'统招（小学）'!#REF!)","v":{"$error":"#REF!"}},{"$f":"IF('统招（小学）'!#REF!=0,\"\",'统招（小学）'!#REF!)","v":{"$error":"#REF!"}},{"$f":"IF('统招（小学）'!#REF!=0,\"\",'统招（小学）'!#REF!)","v":{"$error":"#REF!"}},{"$f":"IF('统招（小学）'!#REF!=0,\"\",'统招（小学）'!#REF!)","v":{"$error":"#REF!"}},{"$f":"IF('统招（小学）'!#REF!=0,\"\",'统招（小学）'!#REF!)","v":{"$error":"#REF!"}},{"$f":"IF('统招（小学）'!#REF!=0,\"\",'统招（小学）'!#REF!)","v":{"$error":"#REF!"}},{"$f":"IF('统招（小学）'!#REF!=0,\"\",'统招（小学）'!#REF!)","v":{"$error":"#REF!"}},{"$f":"IF('统招（小学）'!#REF!=0,\"\",'统招（小学）'!#REF!)","v":{"$error":"#REF!"}},{"$f":"IF('统招（小学）'!#REF!=0,\"\",'统招（小学）'!#REF!)","v":{"$error":"#REF!"}},{"$f":"IF('统招（小学）'!#REF!=0,\"\",'统招（小学）'!#REF!)","v":{"$error":"#REF!"}},{"$f":"IF('统招（小学）'!#REF!=0,\"\",'统招（小学）'!#REF!)","v":{"$error":"#REF!"}},{"$f":"IF('统招（小学）'!#REF!=0,\"\",'统招（小学）'!#REF!)","v":{"$error":"#REF!"}},{"$f":"IF('统招（小学）'!#REF!=0,\"\",'统招（小学）'!#REF!)","v":{"$error":"#REF!"}},{"$f":"IF('统招（小学）'!#REF!=0,\"\",'统招（小学）'!#REF!)","v":{"$error":"#REF!"}},{"$f":"IF('统招（小学）'!#REF!=0,\"\",'统招（小学）'!#REF!)","v":{"$error":"#REF!"}},{"$f":"IF('统招（小学）'!#REF!=0,\"\",'统招（小学）'!#REF!)","v":{"$error":"#REF!"}},{"$f":"IF('统招（小学）'!#REF!=0,\"\",'统招（小学）'!#REF!)","v":{"$error":"#REF!"}},{"$f":"IF('统招（小学）'!#REF!=0,\"\",'统招（小学）'!#REF!)","v":{"$error":"#REF!"}},{"$f":"IF('统招（小学）'!#REF!=0,\"\",'统招（小学）'!#REF!)","v":{"$error":"#REF!"}},{"$f":"IF('统招（小学）'!#REF!=0,\"\",'统招（小学）'!#REF!)","v":{"$error":"#REF!"}},{"$f":"IF('统招（小学）'!#REF!=0,\"\",'统招（小学）'!#REF!)","v":{"$error":"#REF!"}},{"$error":"#REF!"},{"$nulls":4},2,null,null,2,{"$error":"#REF!"},{"$error":"#REF!"},{"$error":"#REF!"}]
["莲塘四小",26,19,2851,2980,44,48,98,{"v":62.0833333333333,"d":"62"},{"v":115.2,"d":"115"},{"v":156.842105263158,"d":"157"},null,{"v":136.021052631579,"d":"136"},{"v":58.8421052631579,"d":"59"},{"v":58.8421052631579,"d":"59"},{"v":17.2,"d":"17"},{"$f":"IF('统招（小学）'!#REF!=0,\"\",'统招（小学）'!#REF!)","v":{"$error":"#REF!"}},{"$f":"IF('统招（小学）'!#REF!=0,\"\",'统招（小学）'!#REF!)","v":{"$error":"#REF!"}},{"$f":"IF('统招（小学）'!#REF!=0,\"\",'统招（小学）'!#REF!)","v":{"$error":"#REF!"}},{"$f":"IF('统招（小学）'!#REF!=0,\"\",'统招（小学）'!#REF!)","v":{"$error":"#REF!"}},{"$f":"IF('统招（小学）'!#REF!=0,\"\",'统招（小学）'!#REF!)","v":{"$error":"#REF!"}},{"$f":"IF('统招（小学）'!#REF!=0,\"\",'统招（小学）'!#REF!)","v":{"$error":"#REF!"}},{"$f":"IF('统招（小学）'!#REF!=0,\"\",'统招（小学）'!#REF!)","v":{"$error":"#REF!"}},{"$f":"IF('统招（小学）'!#REF!=0,\"\",'统招（小学）'!#REF!)","v":{"$error":"#REF!"}},{"$f":"IF('统招（小学）'!#REF!=0,\"\",'统招（小学）'!#REF!)","v":{"$error":"#REF!"}},{"$f":"IF('统招（小学）'!#REF!=0,\"\",'统招（小学）'!#REF!)","v":{"$error":"#REF!"}},{"$f":"IF('统招（小学）'!#REF!=0,\"\",'统招（小学）'!#REF!)","v":{"$error":"#REF!"}},{"$f":"IF('统招（小学）'!#REF!=0,\"\",'统招（小学）'!#REF!)","v":{"$error":"#REF!"}},{"$f":"IF('统招（小学）'!#REF!=0,\"\",'统招（小学）'!#REF!)","v":{"$error":"#REF!"}},{"$f":"IF('统招（小学）'!#REF!=0,\"\",'统招（小学）'!#REF!)","v":{"$error":"#REF!"}},{"$f":"IF('统招（小学）'!#REF!=0,\"\",'统招（小学）'!#REF!)","v":{"$error":"#REF!"}},{"$f":"IF('统招（小学）'!#REF!=0,\"\",'统招（小学）'!#REF!)","v":{"$error":"#REF!"}},{"$f":"IF('统招（小学）'!#REF!=0,\"\",'统招（小学）'!#REF!)","v":{"$error":"#REF!"}},{"$f":"IF('统招（小学）'!#REF!=0,\"\",'统招（小学）'!#REF!)","v":{"$error":"#REF!"}},{"$f":"IF('统招（小学）'!#REF!=0,\"\",'统招（小学）'!#REF!)","v":{"$error":"#REF!"}},{"$f":"IF('统招（小学）'!#REF!=0,\"\",'统招（小学）'!#REF!)","v":{"$error":"#REF!"}},{"$f":"IF('统招（小学）'!#REF!=0,\"\",'统招（小学）'!#REF!)","v":{"$error":"#REF!"}},{"$f":"IF('统招（小学）'!#REF!=0,\"\",'统招（小学）'!#REF!)","v":{"$error":"#REF!"}},{"$f":"IF('统招（小学）'!#REF!=0,\"\",'统招（小学）'!#REF!)","v":{"$error":"#REF!"}},{"$f":"IF('统招（小学）'!#REF!=0,\"\",'统招（小学）'!#REF!)","v":{"$error":"#REF!"}},{"$f":"IF('统招（小学）'!#REF!=0,\"\",'统招（小学）'!#REF!)","v":{"$error":"#REF!"}},{"$f":"IF('统招（小学）'!#REF!=0,\"\",'统招（小学）'!#REF!)","v":{"$error":"#REF!"}},{"$error":"#REF!"},{"$nulls":4},3,null,null,3,{"$error":"#REF!"},{"$error":"#REF!"},{"$error":"#REF!"}]
["县特教（小学）",27,20,76,null,7,null,14,{"$error":"#DIV/0!"},0,0,null,0,-14,0,-14,{"$f":"IF('统招（小学）'!#REF!=0,\"\",'统招（小学）'!#REF!)","v":{"$error":"#REF!"}},{"$f":"IF('统招（小学）'!#REF!=0,\"\",'统招（小学）'!#REF!)","v":{"$error":"#REF!"}},{"$f":"IF('统招（小学）'!#REF!=0,\"\",'统招（小学）'!#REF!)","v":{"$error":"#REF!"}},{"$f":"IF('统招（小学）'!#REF!=0,\"\",'统招（小学）'!#REF!)","v":{"$error":"#REF!"}},{"$f":"IF('统招（小学）'!#REF!=0,\"\",'统招（小学）'!#REF!)","v":{"$error":"#REF!"}},{"$f":"IF('统招（小学）'!#REF!=0,\"\",'统招（小学）'!#REF!)","v":{"$error":"#REF!"}},{"$f":"IF('统招（小学）'!#REF!=0,\"\",'统招（小学）'!#REF!)","v":{"$error":"#REF!"}},{"$f":"IF('统招（小学）'!#REF!=0,\"\",'统招（小学）'!#REF!)","v":{"$error":"#REF!"}},{"$f":"IF('统招（小学）'!#REF!=0,\"\",'统招（小学）'!#REF!)","v":{"$error":"#REF!"}},{"$f":"IF('统招（小学）'!#REF!=0,\"\",'统招（小学）'!#REF!)","v":{"$error":"#REF!"}},{"$f":"IF('统招（小学）'!#REF!=0,\"\",'统招（小学）'!#REF!)","v":{"$error":"#REF!"}},{"$f":"IF('统招（小学）'!#REF!=0,\"\",'统招（小学）'!#REF!)","v":{"$error":"#REF!"}},{"$f":"IF('统招（小学）'!#REF!=0,\"\",'统招（小学）'!#REF!)","v":{"$error":"#REF!"}},{"$f":"IF('统招（小学）'!#REF!=0,\"\",'统招（小学）'!#REF!)","v":{"$error":"#REF!"}},{"$f":"IF('统招（小学）'!#REF!=0,\"\",'统招（小学）'!#REF!)","v":{"$error":"#REF!"}},{"$f":"IF('统招（小学）'!#REF!=0,\"\",'统招（小学）'!#REF!)","v":{"$error":"#REF!"}},{"$f":"IF('统招（小学）'!#REF!=0,\"\",'统招（小学）'!#REF!)","v":{"$error":"#REF!"}},{"$f":"IF('统招（小学）'!#REF!=0,\"\",'统招（小学）'!#REF!)","v":{"$error":"#REF!"}},{"$f":"IF('统招（小学）'!#REF!=0,\"\",'统招（小学）'!#REF!)","v":{"$error":"#REF!"}},{"$f":"IF('统招（小学）'!#REF!=0,\"\",'统招（小学）'!#REF!)","v":{"$error":"#REF!"}},{"$f":"IF('统招（小学）'!#REF!=0,\"\",'统招（小学）'!#REF!)","v":{"$error":"#REF!"}},{"$f":"IF('统招（小学）'!#REF!=0,\"\",'统招（小学）'!#REF!)","v":{"$error":"#REF!"}},{"$f":"IF('统招（小学）'!#REF!=0,\"\",'统招（小学）'!#REF!)","v":{"$error":"#REF!"}},{"$f":"IF('统招（小学）'!#REF!=0,\"\",'统招（小学）'!#REF!)","v":{"$error":"#REF!"}},{"$f":"IF('统招（小学）'!#REF!=0,\"\",'统招（小学）'!#REF!)","v":{"$error":"#REF!"}},{"$f":"IF('统招（小学）'!#REF!=0,\"\",'统招（小学）'!#REF!)","v":{"$error":"#REF!"}},{"$error":"#REF!"},{"$nulls":7},0,{"$error":"#REF!"},{"$error":"#REF!"},{"$error":"#REF!"}]
["莲塘实验学校（小学）",28,25,402,407,7,8,21,{"v":50.875,"d":"51"},{"v":19.2,"d":"19"},{"v":21.4210526315789,"d":"21"},null,{"v":20.3105263157895,"d":"20"},{"v":0.421052631578949,"d":"0"},{"$f":"N29","v":{"v":0.421052631578949,"d":"0"}},{"v":-1.8,"d":"-2"},{"$f":"IF('统招（小学）'!#REF!=0,\"\",'统招（小学）'!#REF!)","v":{"$error":"#REF!"}},{"$f":"IF('统招（小学）'!#REF!=0,\"\",'统招（小学）'!#REF!)","v":{"$error":"#REF!"}},{"$f":"IF('统招（小学）'!#REF!=0,\"\",'统招（小学）'!#REF!)","v":{"$error":"#REF!"}},{"$f":"IF('统招（小学）'!#REF!=0,\"\",'统招（小学）'!#REF!)","v":{"$error":"#REF!"}},{"$f":"IF('统招（小学）'!#REF!=0,\"\",'统招（小学）'!#REF!)","v":{"$error":"#REF!"}},{"$f":"IF('统招（小学）'!#REF!=0,\"\",'统招（小学）'!#REF!)","v":{"$error":"#REF!"}},{"$f":"IF('统招（小学）'!#REF!=0,\"\",'统招（小学）'!#REF!)","v":{"$error":"#REF!"}},{"$f":"IF('统招（小学）'!#REF!=0,\"\",'统招（小学）'!#REF!)","v":{"$error":"#REF!"}},{"$f":"IF('统招（小学）'!#REF!=0,\"\",'统招（小学）'!#REF!)","v":{"$error":"#REF!"}},{"$f":"IF('统招（小学）'!#REF!=0,\"\",'统招（小学）'!#REF!)","v":{"$error":"#REF!"}},{"$f":"IF('统招（小学）'!#REF!=0,\"\",'统招（小学）'!#REF!)","v":{"$error":"#REF!"}},{"$f":"IF('统招（小学）'!#REF!=0,\"\",'统招（小学）'!#REF!)","v":{"$error":"#REF!"}},{"$f":"IF('统招（小学）'!#REF!=0,\"\",'统招（小学）'!#REF!)","v":{"$error":"#REF!"}},{"$f":"IF('统招（小学）'!#REF!=0,\"\",'统招（小学）'!#REF!)","v":{"$error":"#REF!"}},{"$f":"IF('统招（小学）'!#REF!=0,\"\",'统招（小学）'!#REF!)","v":{"$error":"#REF!"}},{"$f":"IF('统招（小学）'!#REF!=0,\"\",'统招（小学）'!#REF!)","v":{"$error":"#REF!"}},{"$f":"IF('统招（小学）'!#REF!=0,\"\",'统招（小学）'!#REF!)","v":{"$error":"#REF!"}},{"$f":"IF('统招（小学）'!#REF!=0,\"\",'统招（小学）'!#REF!)","v":{"$error":"#REF!"}},{"$f":"IF('统招（小学）'!#REF!=0,\"\",'统招（小学）'!#REF!)","v":{"$error":"#REF!"}},{"$f":"IF('统招（小学）'!#REF!=0,\"\",'统招（小学）'!#REF!)","v":{"$error":"#REF!"}},{"$f":"IF('统招（小学）'!#REF!=0,\"\",'统招（小学）'!#REF!)","v":{"$error":"#REF!"}},{"$f":"IF('统招（小学）'!#REF!=0,\"\",'统招（小学）'!#REF!)","v":{"$error":"#REF!"}},{"$f":"IF('统招（小学）'!#REF!=0,\"\",'统招（小学）'!#REF!)","v":{"$error":"#REF!"}},{"$f":"IF('统招（小学）'!#REF!=0,\"\",'统招（小学）'!#REF!)","v":{"$error":"#REF!"}},{"$f":"IF('统招（小学）'!#REF!=0,\"\",'统招（小学）'!#REF!)","v":{"$error":"#REF!"}},{"$f":"IF('统招（小学）'!#REF!=0,\"\",'统招（小学）'!#REF!)","v":{"$error":"#REF!"}},{"$error":"#REF!"},{"$nulls":7},0,{"$error":"#REF!"},{"$error":"#REF!"},{"$error":"#REF!"}]
["莲塘实验学校（初中）",75,25,152,147,3,3,10,49,{"$f":"G30*2.8","v":{"v":8.4,"d":"8"}},{"$f":"E30/13.5","v":{"v":10.8888888888889,"d":"11"}},{"$f":"G30*50/13.5","v":{"v":11.1111111111111,"d":"11"}},{"$nulls":4},{"$f":"IF('统招（小学）'!#REF!=0,\"\",'统招（小学）'!#REF!)","v":{"$error":"#REF!"}},{"$f":"IF('统招（小学）'!#REF!=0,\"\",'统招（小学）'!#REF!)","v":{"$error":"#REF!"}},{"$f":"IF('统招（小学）'!#REF!=0,\"\",'统招（小学）'!#REF!)","v":{"$error":"#REF!"}},{"$f":"IF('统招（小学）'!#REF!=0,\"\",'统招（小学）'!#REF!)","v":{"$error":"#REF!"}},{"$f":"IF('统招（小学）'!#REF!=0,\"\",'统招（小学）'!#REF!)","v":{"$error":"#REF!"}},{"$f":"IF('统招（小学）'!#REF!=0,\"\",'统招（小学）'!#REF!)","v":{"$error":"#REF!"}},{"$f":"IF('统招（小学）'!#REF!=0,\"\",'统招（小学）'!#REF!)","v":{"$error":"#REF!"}},{"$f":"IF('统招（小学）'!#REF!=0,\"\",'统招（小学）'!#REF!)","v":{"$error":"#REF!"}},{"$f":"IF('统招（小学）'!#REF!=0,\"\",'统招（小学）'!#REF!)","v":{"$error":"#REF!"}},{"$f":"IF('统招（小学）'!#REF!=0,\"\",'统招（小学）'!#REF!)","v":{"$error":"#REF!"}},{"$f":"IF('统招（小学）'!#REF!=0,\"\",'统招（小学）'!#REF!)","v":{"$error":"#REF!"}},{"$f":"IF('统招（小学）'!#REF!=0,\"\",'统招（小学）'!#REF!)","v":{"$error":"#REF!"}},{"$f":"IF('统招（小学）'!#REF!=0,\"\",'统招（小学）'!#REF!)","v":{"$error":"#REF!"}},{"$f":"IF('统招（小学）'!#REF!=0,\"\",'统招（小学）'!#REF!)","v":{"$error":"#REF!"}},{"$f":"IF('统招（小学）'!#REF!=0,\"\",'统招（小学）'!#REF!)","v":{"$error":"#REF!"}},{"$f":"IF('统招（小学）'!#REF!=0,\"\",'统招（小学）'!#REF!)","v":{"$error":"#REF!"}},{"$f":"IF('统招（小学）'!#REF!=0,\"\",'统招（小学）'!#REF!)","v":{"$error":"#REF!"}},{"$f":"IF('统招（小学）'!#REF!=0,\"\",'统招（小学）'!#REF!)","v":{"$error":"#REF!"}},{"$f":"IF('统招（小学）'!#REF!=0,\"\",'统招（小学）'!#REF!)","v":{"$error":"#REF!"}},{"$f":"IF('统招（小学）'!#REF!=0,\"\",'统招（小学）'!#REF!)","v":{"$error":"#REF!"}},{"$f":"IF('统招（小学）'!#REF!=0,\"\",'统招（小学）'!#REF!)","v":{"$error":"#REF!"}},{"$f":"IF('统招（小学）'!#REF!=0,\"\",'统招（小学）'!#REF!)","v":{"$error":"#REF!"}},{"$f":"IF('统招（小学）'!#REF!=0,\"\",'统招（小学）'!#REF!)","v":{"$error":"#REF!"}},{"$f":"IF('统招（小学）'!#REF!=0,\"\",'统招（小学）'!#REF!)","v":{"$error":"#REF!"}},{"$f":"IF('统招（小学）'!#REF!=0,\"\",'统招（小学）'!#REF!)","v":{"$error":"#REF!"}},{"$f":"IF('统招（小学）'!#REF!=0,\"\",'统招（小学）'!#REF!)","v":{"$error":"#REF!"}},{"$error":"#REF!"},{"$nulls":7},0]
["昌南实验学校（小学）",29,26,378,357,7,7,21,51,{"$f":"G31*2.4","v":{"v":16.8,"d":"17"}},{"$f":"E31/19","v":{"v":18.7894736842105,"d":"19"}},null,{"$f":"(J31+K31)/2","v":{"v":17.7947368421053,"d":"18"}},{"$f":"K31-H31","v":{"v":-2.21052631578947,"d":"-2"}},0,{"$f":"J31-H31","v":{"v":-4.2,"d":"-4"}},{"$f":"IF('统招（小学）'!#REF!=0,\"\",'统招（小学）'!#REF!)","v":{"$error":"#REF!"}},{"$f":"IF('统招（小学）'!#REF!=0,\"\",'统招（小学）'!#REF!)","v":{"$error":"#REF!"}},{"$f":"IF('统招（小学）'!#REF!=0,\"\",'统招（小学）'!#REF!)","v":{"$error":"#REF!"}},{"$f":"IF('统招（小学）'!#REF!=0,\"\",'统招（小学）'!#REF!)","v":{"$error":"#REF!"}},{"$f":"IF('统招（小学）'!#REF!=0,\"\",'统招（小学）'!#REF!)","v":{"$error":"#REF!"}},{"$f":"IF('统招（小学）'!#REF!=0,\"\",'统招（小学）'!#REF!)","v":{"$error":"#REF!"}},{"$f":"IF('统招（小学）'!#REF!=0,\"\",'统招（小学）'!#REF!)","v":{"$error":"#REF!"}},{"$f":"IF('统招（小学）'!#REF!=0,\"\",'统招（小学）'!#REF!)","v":{"$error":"#REF!"}},{"$f":"IF('统招（小学）'!#REF!=0,\"\",'统招（小学）'!#REF!)","v":{"$error":"#REF!"}},{"$f":"IF('统招（小学）'!#REF!=0,\"\",'统招（小学）'!#REF!)","v":{"$error":"#REF!"}},{"$f":"IF('统招（小学）'!#REF!=0,\"\",'统招（小学）'!#REF!)","v":{"$error":"#REF!"}},{"$f":"IF('统招（小学）'!#REF!=0,\"\",'统招（小学）'!#REF!)","v":{"$error":"#REF!"}},{"$f":"IF('统招（小学）'!#REF!=0,\"\",'统招（小学）'!#REF!)","v":{"$error":"#REF!"}},{"$f":"IF('统招（小学）'!#REF!=0,\"\",'统招（小学）'!#REF!)","v":{"$error":"#REF!"}},{"$f":"IF('统招（小学）'!#REF!=0,\"\",'统招（小学）'!#REF!)","v":{"$error":"#REF!"}},{"$f":"IF('统招（小学）'!#REF!=0,\"\",'统招（小学）'!#REF!)","v":{"$error":"#REF!"}},{"$f":"IF('统招（小学）'!#REF!=0,\"\",'统招（小学）'!#REF!)","v":{"$error":"#REF!"}},{"$f":"IF('统招（小学）'!#REF!=0,\"\",'统招（小学）'!#REF!)","v":{"$error":"#REF!"}},{"$f":"IF('统招（小学）'!#REF!=0,\"\",'统招（小学）'!#REF!)","v":{"$error":"#REF!"}},{"$f":"IF('统招（小学）'!#REF!=0,\"\",'统招（小学）'!#REF!)","v":{"$error":"#REF!"}},{"$f":"IF('统招（小学）'!#REF!=0,\"\",'统招（小学）'!#REF!)","v":{"$error":"#REF!"}},{"$f":"IF('统招（小学）'!#REF!=0,\"\",'统招（小学）'!#REF!)","v":{"$error":"#REF!"}},{"$f":"IF('统招（小学）'!#REF!=0,\"\",'统招（小学）'!#REF!)","v":{"$error":"#REF!"}},{"$f":"IF('统招（小学）'!#REF!=0,\"\",'统招（小学）'!#REF!)","v":{"$error":"#REF!"}},{"$f":"IF('统招（小学）'!#REF!=0,\"\",'统招（小学）'!#REF!)","v":{"$error":"#REF!"}},{"$f":"IF('统招（小学）'!#REF!=0,\"\",'统招（小学）'!#REF!)","v":{"$error":"#REF!"}},{"$error":"#REF!"},{"$nulls":7},0,{"$f":"SUM(AQ31:AX31)","v":{"$error":"#REF!"}},{"$f":"AZ31-AX31","v":{"$error":"#REF!"}},{"$f":"BA31+H31","v":{"$error":"#REF!"}}]
["昌南实验学校（初中）",76,26,225,222,6,6,16,37,{"v":16.8,"d":"17"},{"v":16.4444444444444,"d":"16"},{"$f":"G32*50/13.5","v":{"v":22.2222222222222,"d":"22"}},{"$nulls":4},{"$f":"IF('统招（小学）'!#REF!=0,\"\",'统招（小学）'!#REF!)","v":{"$error":"#REF!"}},{"$f":"IF('统招（小学）'!#REF!=0,\"\",'统招（小学）'!#REF!)","v":{"$error":"#REF!"}},{"$f":"IF('统招（小学）'!#REF!=0,\"\",'统招（小学）'!#REF!)","v":{"$error":"#REF!"}},{"$f":"IF('统招（小学）'!#REF!=0,\"\",'统招（小学）'!#REF!)","v":{"$error":"#REF!"}},{"$f":"IF('统招（小学）'!#REF!=0,\"\",'统招（小学）'!#REF!)","v":{"$error":"#REF!"}},{"$f":"IF('统招（小学）'!#REF!=0,\"\",'统招（小学）'!#REF!)","v":{"$error":"#REF!"}},{"$f":"IF('统招（小学）'!#REF!=0,\"\",'统招（小学）'!#REF!)","v":{"$error":"#REF!"}},{"$f":"IF('统招（小学）'!#REF!=0,\"\",'统招（小学）'!#REF!)","v":{"$error":"#REF!"}},{"$f":"IF('统招（小学）'!#REF!=0,\"\",'统招（小学）'!#REF!)","v":{"$error":"#REF!"}},{"$f":"IF('统招（小学）'!#REF!=0,\"\",'统招（小学）'!#REF!)","v":{"$error":"#REF!"}},{"$f":"IF('统招（小学）'!#REF!=0,\"\",'统招（小学）'!#REF!)","v":{"$error":"#REF!"}},{"$f":"IF('统招（小学）'!#REF!=0,\"\",'统招（小学）'!#REF!)","v":{"$error":"#REF!"}},{"$f":"IF('统招（小学）'!#REF!=0,\"\",'统招（小学）'!#REF!)","v":{"$error":"#REF!"}},{"$f":"IF('统招（小学）'!#REF!=0,\"\",'统招（小学）'!#REF!)","v":{"$error":"#REF!"}},{"$f":"IF('统招（小学）'!#REF!=0,\"\",'统招（小学）'!#REF!)","v":{"$error":"#REF!"}},{"$f":"IF('统招（小学）'!#REF!=0,\"\",'统招（小学）'!#REF!)","v":{"$error":"#REF!"}},{"$f":"IF('统招（小学）'!#REF!=0,\"\",'统招（小学）'!#REF!)","v":{"$error":"#REF!"}},{"$f":"IF('统招（小学）'!#REF!=0,\"\",'统招（小学）'!#REF!)","v":{"$error":"#REF!"}},{"$f":"IF('统招（小学）'!#REF!=0,\"\",'统招（小学）'!#REF!)","v":{"$error":"#REF!"}},{"$f":"IF('统招（小学）'!#REF!=0,\"\",'统招（小学）'!#REF!)","v":{"$error":"#REF!"}},{"$f":"IF('统招（小学）'!#REF!=0,\"\",'统招（小学）'!#REF!)","v":{"$error":"#REF!"}},{"$f":"IF('统招（小学）'!#REF!=0,\"\",'统招（小学）'!#REF!)","v":{"$error":"#REF!"}},{"$f":"IF('统招（小学）'!#REF!=0,\"\",'统招（小学）'!#REF!)","v":{"$error":"#REF!"}},{"$f":"IF('统招（小学）'!#REF!=0,\"\",'统招（小学）'!#REF!)","v":{"$error":"#REF!"}},{"$f":"IF('统招（小学）'!#REF!=0,\"\",'统招（小学）'!#REF!)","v":{"$error":"#REF!"}},{"$f":"IF('统招（小学）'!#REF!=0,\"\",'统招（小学）'!#REF!)","v":{"$error":"#REF!"}},{"$error":"#REF!"},{"$nulls":7},0]
["黄马凤凰沟实验学校（小学）",15,27,219,190,6,6,13,{"v":31.6666666666667,"d":"32"},{"$f":"G33*2","v":12},10,null,11,-3,0,-1,{"$f":"IF('统招（小学）'!#REF!=0,\"\",'统招（小学）'!#REF!)","v":{"$error":"#REF!"}},{"$f":"IF('统招（小学）'!#REF!=0,\"\",'统招（小学）'!#REF!)","v":{"$error":"#REF!"}},{"$f":"IF('统招（小学）'!#REF!=0,\"\",'统招（小学）'!#REF!)","v":{"$error":"#REF!"}},{"$f":"IF('统招（小学）'!#REF!=0,\"\",'统招（小学）'!#REF!)","v":{"$error":"#REF!"}},{"$f":"IF('统招（小学）'!#REF!=0,\"\",'统招（小学）'!#REF!)","v":{"$error":"#REF!"}},{"$f":"IF('统招（小学）'!#REF!=0,\"\",'统招（小学）'!#REF!)","v":{"$error":"#REF!"}},{"$f":"IF('统招（小学）'!#REF!=0,\"\",'统招（小学）'!#REF!)","v":{"$error":"#REF!"}},{"$f":"IF('统招（小学）'!#REF!=0,\"\",'统招（小学）'!#REF!)","v":{"$error":"#REF!"}},{"$f":"IF('统招（小学）'!#REF!=0,\"\",'统招（小学）'!#REF!)","v":{"$error":"#REF!"}},{"$f":"IF('统招（小学）'!#REF!=0,\"\",'统招（小学）'!#REF!)","v":{"$error":"#REF!"}},{"$f":"IF('统招（小学）'!#REF!=0,\"\",'统招（小学）'!#REF!)","v":{"$error":"#REF!"}},{"$f":"IF('统招（小学）'!#REF!=0,\"\",'统招（小学）'!#REF!)","v":{"$error":"#REF!"}},{"$f":"IF('统招（小学）'!#REF!=0,\"\",'统招（小学）'!#REF!)","v":{"$error":"#REF!"}},{"$f":"IF('统招（小学）'!#REF!=0,\"\",'统招（小学）'!#REF!)","v":{"$error":"#REF!"}},{"$f":"IF('统招（小学）'!#REF!=0,\"\",'统招（小学）'!#REF!)","v":{"$error":"#REF!"}},{"$f":"IF('统招（小学）'!#REF!=0,\"\",'统招（小学）'!#REF!)","v":{"$error":"#REF!"}},{"$f":"IF('统招（小学）'!#REF!=0,\"\",'统招（小学）'!#REF!)","v":{"$error":"#REF!"}},{"$f":"IF('统招（小学）'!#REF!=0,\"\",'统招（小学）'!#REF!)","v":{"$error":"#REF!"}},{"$f":"IF('统招（小学）'!#REF!=0,\"\",'统招（小学）'!#REF!)","v":{"$error":"#REF!"}},{"$f":"IF('统招（小学）'!#REF!=0,\"\",'统招（小学）'!#REF!)","v":{"$error":"#REF!"}},{"$f":"IF('统招（小学）'!#REF!=0,\"\",'统招（小学）'!#REF!)","v":{"$error":"#REF!"}},{"$f":"IF('统招（小学）'!#REF!=0,\"\",'统招（小学）'!#REF!)","v":{"$error":"#REF!"}},{"$f":"IF('统招（小学）'!#REF!=0,\"\",'统招（小学）'!#REF!)","v":{"$error":"#REF!"}},{"$f":"IF('统招（小学）'!#REF!=0,\"\",'统招（小学）'!#REF!)","v":{"$error":"#REF!"}},{"$f":"IF('统招（小学）'!#REF!=0,\"\",'统招（小学）'!#REF!)","v":{"$error":"#REF!"}},{"$f":"IF('统招（小学）'!#REF!=0,\"\",'统招（小学）'!#REF!)","v":{"$error":"#REF!"}},{"$error":"#REF!"},{"$nulls":7},0,{"$error":"#REF!"},{"$error":"#REF!"},{"$error":"#REF!"}]
["黄马凤凰沟实验学校（初中）",53,27,92,73,3,3,12,{"v":24.3333333333333,"d":"24"},{"v":8.4,"d":"8"},{"v":5.40740740740741,"d":"5"},{"$nulls":5},{"$f":"IF('统招（小学）'!#REF!=0,\"\",'统招（小学）'!#REF!)","v":{"$error":"#REF!"}},{"$f":"IF('统招（小学）'!#REF!=0,\"\",'统招（小学）'!#REF!)","v":{"$error":"#REF!"}},{"$f":"IF('统招（小学）'!#REF!=0,\"\",'统招（小学）'!#REF!)","v":{"$error":"#REF!"}},{"$f":"IF('统招（小学）'!#REF!=0,\"\",'统招（小学）'!#REF!)","v":{"$error":"#REF!"}},{"$f":"IF('统招（小学）'!#REF!=0,\"\",'统招（小学）'!#REF!)","v":{"$error":"#REF!"}},{"$f":"IF('统招（小学）'!#REF!=0,\"\",'统招（小学）'!#REF!)","v":{"$error":"#REF!"}},{"$f":"IF('统招（小学）'!#REF!=0,\"\",'统招（小学）'!#REF!)","v":{"$error":"#REF!"}},{"$f":"IF('统招（小学）'!#REF!=0,\"\",'统招（小学）'!#REF!)","v":{"$error":"#REF!"}},{"$f":"IF('统招（小学）'!#REF!=0,\"\",'统招（小学）'!#REF!)","v":{"$error":"#REF!"}},{"$f":"IF('统招（小学）'!#REF!=0,\"\",'统招（小学）'!#REF!)","v":{"$error":"#REF!"}},{"$f":"IF('统招（小学）'!#REF!=0,\"\",'统招（小学）'!#REF!)","v":{"$error":"#REF!"}},{"$f":"IF('统招（小学）'!#REF!=0,\"\",'统招（小学）'!#REF!)","v":{"$error":"#REF!"}},{"$f":"IF('统招（小学）'!#REF!=0,\"\",'统招（小学）'!#REF!)","v":{"$error":"#REF!"}},{"$f":"IF('统招（小学）'!#REF!=0,\"\",'统招（小学）'!#REF!)","v":{"$error":"#REF!"}},{"$f":"IF('统招（小学）'!#REF!=0,\"\",'统招（小学）'!#REF!)","v":{"$error":"#REF!"}},{"$f":"IF('统招（小学）'!#REF!=0,\"\",'统招（小学）'!#REF!)","v":{"$error":"#REF!"}},{"$f":"IF('统招（小学）'!#REF!=0,\"\",'统招（小学）'!#REF!)","v":{"$error":"#REF!"}},{"$f":"IF('统招（小学）'!#REF!=0,\"\",'统招（小学）'!#REF!)","v":{"$error":"#REF!"}},{"$f":"IF('统招（小学）'!#REF!=0,\"\",'统招（小学）'!#REF!)","v":{"$error":"#REF!"}},{"$f":"IF('统招（小学）'!#REF!=0,\"\",'统招（小学）'!#REF!)","v":{"$error":"#REF!"}},{"$f":"IF('统招（小学）'!#REF!=0,\"\",'统招（小学）'!#REF!)","v":{"$error":"#REF!"}},{"$f":"IF('统招（小学）'!#REF!=0,\"\",'统招（小学）'!#REF!)","v":{"$error":"#REF!"}},{"$f":"IF('统招（小学）'!#REF!=0,\"\",'统招（小学）'!#REF!)","v":{"$error":"#REF!"}},{"$f":"IF('统招（小学）'!#REF!=0,\"\",'统招（小学）'!#REF!)","v":{"$error":"#REF!"}},{"$f":"IF('统招（小学）'!#REF!=0,\"\",'统招（小学）'!#REF!)","v":{"$error":"#REF!"}},{"$f":"IF('统招（小学）'!#REF!=0,\"\",'统招（小学）'!#REF!)","v":{"$error":"#REF!"}},{"$error":"#REF!"}]
["银三角实验学校（小学）",30,28,863,1046,18,20,43,{"v":52.3,"d":"52"},{"$f":"G35*2.4","v":48},{"v":55.0526315789474,"d":"55"},null,{"v":51.5263157894737,"d":"52"},{"v":12.0526315789474,"d":"12"},{"$f":"N35","v":{"v":12.0526315789474,"d":"12"}},5,{"$f":"IF('统招（小学）'!C6=0,\"\",'统招（小学）'!C6)","v":""},{"$f":"IF('统招（小学）'!#REF!=0,\"\",'统招（小学）'!#REF!)","v":{"$error":"#REF!"}},{"$f":"IF('统招（小学）'!D6=0,\"\",'统招（小学）'!D6)","v":""},{"$f":"IF('统招（小学）'!E6=0,\"\",'统招（小学）'!E6)","v":""},{"$f":"IF('统招（小学）'!F6=0,\"\",'统招（小学）'!F6)","v":""},{"$f":"IF('统招（小学）'!G6=0,\"\",'统招（小学）'!G6)","v":""},{"$f":"IF('统招（小学）'!H6=0,\"\",'统招（小学）'!H6)","v":""},{"$f":"IF('统招（小学）'!I6=0,\"\",'统招（小学）'!I6)","v":""},{"$f":"IF('统招（小学）'!J6=0,\"\",'统招（小学）'!J6)","v":1},{"$f":"IF('统招（小学）'!K6=0,\"\",'统招（小学）'!K6)","v":""},{"$f":"IF('统招（小学）'!S6=0,\"\",'统招（小学）'!S6)","v":""},{"$f":"IF('统招（小学）'!T6=0,\"\",'统招（小学）'!T6)","v":""},{"$f":"IF('统招（小学）'!U6=0,\"\",'统招（小学）'!U6)","v":""},{"$f":"IF('统招（小学）'!V6=0,\"\",'统招（小学）'!V6)","v":""},{"$f":"IF('统招（小学）'!#REF!=0,\"\",'统招（小学）'!#REF!)","v":{"$error":"#REF!"}},{"$f":"IF('统招（小学）'!#REF!=0,\"\",'统招（小学）'!#REF!)","v":{"$error":"#REF!"}},{"$f":"IF('统招（小学）'!#REF!=0,\"\",'统招（小学）'!#REF!)","v":{"$error":"#REF!"}},{"$f":"IF('统招（小学）'!#REF!=0,\"\",'统招（小学）'!#REF!)","v":{"$error":"#REF!"}},{"$f":"IF('统招（小学）'!#REF!=0,\"\",'统招（小学）'!#REF!)","v":{"$error":"#REF!"}},{"$f":"IF('统招（小学）'!#REF!=0,\"\",'统招（小学）'!#REF!)","v":{"$error":"#REF!"}},{"$f":"IF('统招（小学）'!#REF!=0,\"\",'统招（小学）'!#REF!)","v":{"$error":"#REF!"}},{"$f":"IF('统招（小学）'!#REF!=0,\"\",'统招（小学）'!#REF!)","v":{"$error":"#REF!"}},{"$f":"IF('统招（小学）'!#REF!=0,\"\",'统招（小学）'!#REF!)","v":{"$error":"#REF!"}},{"$f":"IF('统招（小学）'!#REF!=0,\"\",'统招（小学）'!#REF!)","v":{"$error":"#REF!"}},{"$f":"IF('统招（小学）'!#REF!=0,\"\",'统招（小学）'!#REF!)","v":{"$error":"#REF!"}},{"$f":"IF('统招（小学）'!#REF!=0,\"\",'统招（小学）'!#REF!)","v":{"$error":"#REF!"}},{"$error":"#REF!"},{"$nulls":7},{"$f":"SUM(AR35:AX35)","v":0},{"$error":"#REF!"},{"$error":"#REF!"},{"$error":"#REF!"}]
["银三角实验学校（初中）",77,28,377,444,9,10,25,{"v":44.4,"d":"44"},{"$f":"G36*2.8","v":28},{"$f":"E36/13.5","v":{"v":32.8888888888889,"d":"33"}},{"$f":"G36*50/13.5","v":{"v":37.037037037037,"d":"37"}},{"$nulls":4},{"$f":"IF('统招（小学）'!#REF!=0,\"\",'统招（小学）'!#REF!)","v":{"$error":"#REF!"}},{"$f":"IF('统招（小学）'!#REF!=0,\"\",'统招（小学）'!#REF!)","v":{"$error":"#REF!"}},{"$f":"IF('统招（小学）'!#REF!=0,\"\",'统招（小学）'!#REF!)","v":{"$error":"#REF!"}},{"$f":"IF('统招（小学）'!#REF!=0,\"\",'统招（小学）'!#REF!)","v":{"$error":"#REF!"}},{"$f":"IF('统招（小学）'!#REF!=0,\"\",'统招（小学）'!#REF!)","v":{"$error":"#REF!"}},{"$f":"IF('统招（小学）'!#REF!=0,\"\",'统招（小学）'!#REF!)","v":{"$error":"#REF!"}},{"$f":"IF('统招（小学）'!#REF!=0,\"\",'统招（小学）'!#REF!)","v":{"$error":"#REF!"}},{"$f":"IF('统招（小学）'!#REF!=0,\"\",'统招（小学）'!#REF!)","v":{"$error":"#REF!"}},{"$f":"IF('统招（小学）'!#REF!=0,\"\",'统招（小学）'!#REF!)","v":{"$error":"#REF!"}},{"$f":"IF('统招（小学）'!#REF!=0,\"\",'统招（小学）'!#REF!)","v":{"$error":"#REF!"}},{"$f":"IF('统招（小学）'!#REF!=0,\"\",'统招（小学）'!#REF!)","v":{"$error":"#REF!"}},{"$f":"IF('统招（小学）'!#REF!=0,\"\",'统招（小学）'!#REF!)","v":{"$error":"#REF!"}},{"$f":"IF('统招（小学）'!#REF!=0,\"\",'统招（小学）'!#REF!)","v":{"$error":"#REF!"}},{"$f":"IF('统招（小学）'!#REF!=0,\"\",'统招（小学）'!#REF!)","v":{"$error":"#REF!"}},{"$f":"IF('统招（小学）'!#REF!=0,\"\",'统招（小学）'!#REF!)","v":{"$error":"#REF!"}},{"$f":"IF('统招（小学）'!#REF!=0,\"\",'统招（小学）'!#REF!)","v":{"$error":"#REF!"}},{"$f":"IF('统招（小学）'!#REF!=0,\"\",'统招（小学）'!#REF!)","v":{"$error":"#REF!"}},{"$f":"IF('统招（小学）'!#REF!=0,\"\",'统招（小学）'!#REF!)","v":{"$error":"#REF!"}},{"$f":"IF('统招（小学）'!#REF!=0,\"\",'统招（小学）'!#REF!)","v":{"$error":"#REF!"}},{"$f":"IF('统招（小学）'!#REF!=0,\"\",'统招（小学）'!#REF!)","v":{"$error":"#REF!"}},{"$f":"IF('统招（小学）'!#REF!=0,\"\",'统招（小学）'!#REF!)","v":{"$error":"#REF!"}},{"$f":"IF('统招（小学）'!#REF!=0,\"\",'统招（小学）'!#REF!)","v":{"$error":"#REF!"}},{"$f":"IF('统招（小学）'!#REF!=0,\"\",'统招（小学）'!#REF!)","v":{"$error":"#REF!"}},{"$f":"IF('统招（小学）'!#REF!=0,\"\",'统招（小学）'!#REF!)","v":{"$error":"#REF!"}},{"$f":"IF('统招（小学）'!#REF!=0,\"\",'统招（小学）'!#REF!)","v":{"$error":"#REF!"}},{"$f":"IF('统招（小学）'!#REF!=0,\"\",'统招（小学）'!#REF!)","v":{"$error":"#REF!"}},{"$error":"#REF!"},{"$nulls":7},0]
["金沙路小学",31,30,3606,3417,58,58,136,{"v":58.9137931034483,"d":"59"},{"v":139.2,"d":"139"},{"$f":"E37/19","v":{"v":179.842105263158,"d":"180"}},null,{"$f":"(J37+K37)/2","v":{"v":159.521052631579,"d":"160"}},{"$f":"K37-H37","v":{"v":43.8421052631579,"d":"44"}},{"v":43.8421052631579,"d":"44"},{"$f":"J37-H37","v":{"v":3.19999999999999,"d":"3"}},{"$f":"IF('统招（小学）'!#REF!=0,\"\",'统招（小学）'!#REF!)","v":{"$error":"#REF!"}},{"$f":"IF('统招（小学）'!#REF!=0,\"\",'统招（小学）'!#REF!)","v":{"$error":"#REF!"}},{"$f":"IF('统招（小学）'!#REF!=0,\"\",'统招（小学）'!#REF!)","v":{"$error":"#REF!"}},{"$f":"IF('统招（小学）'!#REF!=0,\"\",'统招（小学）'!#REF!)","v":{"$error":"#REF!"}},{"$f":"IF('统招（小学）'!#REF!=0,\"\",'统招（小学）'!#REF!)","v":{"$error":"#REF!"}},{"$f":"IF('统招（小学）'!#REF!=0,\"\",'统招（小学）'!#REF!)","v":{"$error":"#REF!"}},{"$f":"IF('统招（小学）'!#REF!=0,\"\",'统招（小学）'!#REF!)","v":{"$error":"#REF!"}},{"$f":"IF('统招（小学）'!#REF!=0,\"\",'统招（小学）'!#REF!)","v":{"$error":"#REF!"}},{"$f":"IF('统招（小学）'!#REF!=0,\"\",'统招（小学）'!#REF!)","v":{"$error":"#REF!"}},{"$f":"IF('统招（小学）'!#REF!=0,\"\",'统招（小学）'!#REF!)","v":{"$error":"#REF!"}},{"$f":"IF('统招（小学）'!#REF!=0,\"\",'统招（小学）'!#REF!)","v":{"$error":"#REF!"}},{"$f":"IF('统招（小学）'!#REF!=0,\"\",'统招（小学）'!#REF!)","v":{"$error":"#REF!"}},{"$f":"IF('统招（小学）'!#REF!=0,\"\",'统招（小学）'!#REF!)","v":{"$error":"#REF!"}},{"$f":"IF('统招（小学）'!#REF!=0,\"\",'统招（小学）'!#REF!)","v":{"$error":"#REF!"}},{"$f":"IF('统招（小学）'!#REF!=0,\"\",'统招（小学）'!#REF!)","v":{"$error":"#REF!"}},{"$f":"IF('统招（小学）'!#REF!=0,\"\",'统招（小学）'!#REF!)","v":{"$error":"#REF!"}},{"$f":"IF('统招（小学）'!#REF!=0,\"\",'统招（小学）'!#REF!)","v":{"$error":"#REF!"}},{"$f":"IF('统招（小学）'!#REF!=0,\"\",'统招（小学）'!#REF!)","v":{"$error":"#REF!"}},{"$f":"IF('统招（小学）'!#REF!=0,\"\",'统招（小学）'!#REF!)","v":{"$error":"#REF!"}},{"$f":"IF('统招（小学）'!#REF!=0,\"\",'统招（小学）'!#REF!)","v":{"$error":"#REF!"}},{"$f":"IF('统招（小学）'!#REF!=0,\"\",'统招（小学）'!#REF!)","v":{"$error":"#REF!"}},{"$f":"IF('统招（小学）'!#REF!=0,\"\",'统招（小学）'!#REF!)","v":{"$error":"#REF!"}},{"$f":"IF('统招（小学）'!#REF!=0,\"\",'统招（小学）'!#REF!)","v":{"$error":"#REF!"}},{"$f":"IF('统招（小学）'!#REF!=0,\"\",'统招（小学）'!#REF!)","v":{"$error":"#REF!"}},{"$f":"IF('统招（小学）'!#REF!=0,\"\",'统招（小学）'!#REF!)","v":{"$error":"#REF!"}},{"$f":"IF('统招（小学）'!#REF!=0,\"\",'统招（小学）'!#REF!)","v":{"$error":"#REF!"}},{"$error":"#REF!"},null,2,4,null,4,null,null,10,{"$f":"SUM(AQ37:AX37)","v":{"$error":"#REF!"}},{"$f":"AZ37-AX37","v":{"$error":"#REF!"}},{"$f":"BA37+H37","v":{"$error":"#REF!"}}]
["振兴路小学",32,31,3882,3808,59,64,121,{"v":59.5,"d":"60"},{"v":153.6,"d":"154"},{"v":200.421052631579,"d":"200"},null,{"v":177.010526315789,"d":"177"},{"v":79.421052631579,"d":"79"},{"v":79.421052631579,"d":"79"},{"v":32.6,"d":"33"},{"$f":"IF('统招（小学）'!#REF!=0,\"\",'统招（小学）'!#REF!)","v":{"$error":"#REF!"}},{"$f":"IF('统招（小学）'!#REF!=0,\"\",'统招（小学）'!#REF!)","v":{"$error":"#REF!"}},{"$f":"IF('统招（小学）'!#REF!=0,\"\",'统招（小学）'!#REF!)","v":{"$error":"#REF!"}},{"$f":"IF('统招（小学）'!#REF!=0,\"\",'统招（小学）'!#REF!)","v":{"$error":"#REF!"}},{"$f":"IF('统招（小学）'!#REF!=0,\"\",'统招（小学）'!#REF!)","v":{"$error":"#REF!"}},{"$f":"IF('统招（小学）'!#REF!=0,\"\",'统招（小学）'!#REF!)","v":{"$error":"#REF!"}},{"$f":"IF('统招（小学）'!#REF!=0,\"\",'统招（小学）'!#REF!)","v":{"$error":"#REF!"}},{"$f":"IF('统招（小学）'!#REF!=0,\"\",'统招（小学）'!#REF!)","v":{"$error":"#REF!"}},{"$f":"IF('统招（小学）'!#REF!=0,\"\",'统招（小学）'!#REF!)","v":{"$error":"#REF!"}},{"$f":"IF('统招（小学）'!#REF!=0,\"\",'统招（小学）'!#REF!)","v":{"$error":"#REF!"}},{"$f":"IF('统招（小学）'!#REF!=0,\"\",'统招（小学）'!#REF!)","v":{"$error":"#REF!"}},{"$f":"IF('统招（小学）'!#REF!=0,\"\",'统招（小学）'!#REF!)","v":{"$error":"#REF!"}},{"$f":"IF('统招（小学）'!#REF!=0,\"\",'统招（小学）'!#REF!)","v":{"$error":"#REF!"}},{"$f":"IF('统招（小学）'!#REF!=0,\"\",'统招（小学）'!#REF!)","v":{"$error":"#REF!"}},{"$f":"IF('统招（小学）'!#REF!=0,\"\",'统招（小学）'!#REF!)","v":{"$error":"#REF!"}},{"$f":"IF('统招（小学）'!#REF!=0,\"\",'统招（小学）'!#REF!)","v":{"$error":"#REF!"}},{"$f":"IF('统招（小学）'!#REF!=0,\"\",'统招（小学）'!#REF!)","v":{"$error":"#REF!"}},{"$f":"IF('统招（小学）'!#REF!=0,\"\",'统招（小学）'!#REF!)","v":{"$error":"#REF!"}},{"$f":"IF('统招（小学）'!#REF!=0,\"\",'统招（小学）'!#REF!)","v":{"$error":"#REF!"}},{"$f":"IF('统招（小学）'!#REF!=0,\"\",'统招（小学）'!#REF!)","v":{"$error":"#REF!"}},{"$f":"IF('统招（小学）'!#REF!=0,\"\",'统招（小学）'!#REF!)","v":{"$error":"#REF!"}},{"$f":"IF('统招（小学）'!#REF!=0,\"\",'统招（小学）'!#REF!)","v":{"$error":"#REF!"}},{"$f":"IF('统招（小学）'!#REF!=0,\"\",'统招（小学）'!#REF!)","v":{"$error":"#REF!"}},{"$f":"IF('统招（小学）'!#REF!=0,\"\",'统招（小学）'!#REF!)","v":{"$error":"#REF!"}},{"$f":"IF('统招（小学）'!#REF!=0,\"\",'统招（小学）'!#REF!)","v":{"$error":"#REF!"}},{"$f":"IF('统招（小学）'!#REF!=0,\"\",'统招（小学）'!#REF!)","v":{"$error":"#REF!"}},{"$error":"#REF!"},null,2,1,null,1,null,null,4,{"$error":"#REF!"},{"$error":"#REF!"},{"$error":"#REF!"}]
["墨山街小学",33,32,719,684,17,16,35,{"v":42.75,"d":"43"},{"v":38.4,"d":"38"},36,null,{"v":37.2,"d":"37"},1,1,{"v":3.4,"d":"3"},{"$f":"IF('统招（小学）'!#REF!=0,\"\",'统招（小学）'!#REF!)","v":{"$error":"#REF!"}},{"$f":"IF('统招（小学）'!#REF!=0,\"\",'统招（小学）'!#REF!)","v":{"$error":"#REF!"}},{"$f":"IF('统招（小学）'!#REF!=0,\"\",'统招（小学）'!#REF!)","v":{"$error":"#REF!"}},{"$f":"IF('统招（小学）'!#REF!=0,\"\",'统招（小学）'!#REF!)","v":{"$error":"#REF!"}},{"$f":"IF('统招（小学）'!#REF!=0,\"\",'统招（小学）'!#REF!)","v":{"$error":"#REF!"}},{"$f":"IF('统招（小学）'!#REF!=0,\"\",'统招（小学）'!#REF!)","v":{"$error":"#REF!"}},{"$f":"IF('统招（小学）'!#REF!=0,\"\",'统招（小学）'!#REF!)","v":{"$error":"#REF!"}},{"$f":"IF('统招（小学）'!#REF!=0,\"\",'统招（小学）'!#REF!)","v":{"$error":"#REF!"}},{"$f":"IF('统招（小学）'!#REF!=0,\"\",'统招（小学）'!#REF!)","v":{"$error":"#REF!"}},{"$f":"IF('统招（小学）'!#REF!=0,\"\",'统招（小学）'!#REF!)","v":{"$error":"#REF!"}},{"$f":"IF('统招（小学）'!#REF!=0,\"\",'统招（小学）'!#REF!)","v":{"$error":"#REF!"}},{"$f":"IF('统招（小学）'!#REF!=0,\"\",'统招（小学）'!#REF!)","v":{"$error":"#REF!"}},{"$f":"IF('统招（小学）'!#REF!=0,\"\",'统招（小学）'!#REF!)","v":{"$error":"#REF!"}},{"$f":"IF('统招（小学）'!#REF!=0,\"\",'统招（小学）'!#REF!)","v":{"$error":"#REF!"}},{"$f":"IF('统招（小学）'!#REF!=0,\"\",'统招（小学）'!#REF!)","v":{"$error":"#REF!"}},{"$f":"IF('统招（小学）'!#REF!=0,\"\",'统招（小学）'!#REF!)","v":{"$error":"#REF!"}},{"$f":"IF('统招（小学）'!#REF!=0,\"\",'统招（小学）'!#REF!)","v":{"$error":"#REF!"}},{"$f":"IF('统招（小学）'!#REF!=0,\"\",'统招（小学）'!#REF!)","v":{"$error":"#REF!"}},{"$f":"IF('统招（小学）'!#REF!=0,\"\",'统招（小学）'!#REF!)","v":{"$error":"#REF!"}},{"$f":"IF('统招（小学）'!#REF!=0,\"\",'统招（小学）'!#REF!)","v":{"$error":"#REF!"}},{"$f":"IF('统招（小学）'!#REF!=0,\"\",'统招（小学）'!#REF!)","v":{"$error":"#REF!"}},{"$f":"IF('统招（小学）'!#REF!=0,\"\",'统招（小学）'!#REF!)","v":{"$error":"#REF!"}},{"$f":"IF('统招（小学）'!#REF!=0,\"\",'统招（小学）'!#REF!)","v":{"$error":"#REF!"}},{"$f":"IF('统招（小学）'!#REF!=0,\"\",'统招（小学）'!#REF!)","v":{"$error":"#REF!"}},{"$f":"IF('统招（小学）'!#REF!=0,\"\",'统招（小学）'!#REF!)","v":{"$error":"#REF!"}},{"$f":"IF('统招（小学）'!#REF!=0,\"\",'统招（小学）'!#REF!)","v":{"$error":"#REF!"}},{"$error":"#REF!"},null,2,{"$nulls":5},2,{"$error":"#REF!"},{"$error":"#REF!"},{"$error":"#REF!"}]
["斗柏路小学",34,33,2729,2722,48,50,125,{"v":54.44,"d":"54"},120,{"v":143.263157894737,"d":"143"},null,{"v":131.631578947368,"d":"132"},{"v":18.2631578947368,"d":"18"},{"v":18.2631578947368,"d":"18"},-5,{"$f":"IF('统招（小学）'!#REF!=0,\"\",'统招（小学）'!#REF!)","v":{"$error":"#REF!"}},{"$f":"IF('统招（小学）'!#REF!=0,\"\",'统招（小学）'!#REF!)","v":{"$error":"#REF!"}},{"$f":"IF('统招（小学）'!#REF!=0,\"\",'统招（小学）'!#REF!)","v":{"$error":"#REF!"}},{"$f":"IF('统招（小学）'!#REF!=0,\"\",'统招（小学）'!#REF!)","v":{"$error":"#REF!"}},{"$f":"IF('统招（小学）'!#REF!=0,\"\",'统招（小学）'!#REF!)","v":{"$error":"#REF!"}},{"$f":"IF('统招（小学）'!#REF!=0,\"\",'统招（小学）'!#REF!)","v":{"$error":"#REF!"}},{"$f":"IF('统招（小学）'!#REF!=0,\"\",'统招（小学）'!#REF!)","v":{"$error":"#REF!"}},{"$f":"IF('统招（小学）'!#REF!=0,\"\",'统招（小学）'!#REF!)","v":{"$error":"#REF!"}},{"$f":"IF('统招（小学）'!#REF!=0,\"\",'统招（小学）'!#REF!)","v":{"$error":"#REF!"}},{"$f":"IF('统招（小学）'!#REF!=0,\"\",'统招（小学）'!#REF!)","v":{"$error":"#REF!"}},{"$f":"IF('统招（小学）'!#REF!=0,\"\",'统招（小学）'!#REF!)","v":{"$error":"#REF!"}},{"$f":"IF('统招（小学）'!#REF!=0,\"\",'统招（小学）'!#REF!)","v":{"$error":"#REF!"}},{"$f":"IF('统招（小学）'!#REF!=0,\"\",'统招（小学）'!#REF!)","v":{"$error":"#REF!"}},{"$f":"IF('统招（小学）'!#REF!=0,\"\",'统招（小学）'!#REF!)","v":{"$error":"#REF!"}},{"$f":"IF('统招（小学）'!#REF!=0,\"\",'统招（小学）'!#REF!)","v":{"$error":"#REF!"}},{"$f":"IF('统招（小学）'!#REF!=0,\"\",'统招（小学）'!#REF!)","v":{"$error":"#REF!"}},{"$f":"IF('统招（小学）'!#REF!=0,\"\",'统招（小学）'!#REF!)","v":{"$error":"#REF!"}},{"$f":"IF('统招（小学）'!#REF!=0,\"\",'统招（小学）'!#REF!)","v":{"$error":"#REF!"}},{"$f":"IF('统招（小学）'!#REF!=0,\"\",'统招（小学）'!#REF!)","v":{"$error":"#REF!"}},{"$f":"IF('统招（小学）'!#REF!=0,\"\",'统招（小学）'!#REF!)","v":{"$error":"#REF!"}},{"$f":"IF('统招（小学）'!#REF!=0,\"\",'统招（小学）'!#REF!)","v":{"$error":"#REF!"}},{"$f":"IF('统招（小学）'!#REF!=0,\"\",'统招（小学）'!#REF!)","v":{"$error":"#REF!"}},{"$f":"IF('统招（小学）'!#REF!=0,\"\",'统招（小学）'!#REF!)","v":{"$error":"#REF!"}},{"$f":"IF('统招（小学）'!#REF!=0,\"\",'统招（小学）'!#REF!)","v":{"$error":"#REF!"}},{"$f":"IF('统招（小学）'!#REF!=0,\"\",'统招（小学）'!#REF!)","v":{"$error":"#REF!"}},{"$f":"IF('统招（小学）'!#REF!=0,\"\",'统招（小学）'!#REF!)","v":{"$error":"#REF!"}},{"$error":"#REF!"},null,null,1,null,2,null,null,3,{"$error":"#REF!"},{"$error":"#REF!"},{"$error":"#REF!"}]
["南新中学",54,34,938,810,18,17,85,{"v":47.6470588235294,"d":"48"},{"$f":"G41*2.8","v":{"v":47.6,"d":"48"}},{"$f":"E41/13.5","v":60},{"$f":"G41*50/13.5","v":{"v":62.962962962963,"d":"63"}},{"$nulls":4},{"$f":"IF('统招（小学）'!#REF!=0,\"\",'统招（小学）'!#REF!)","v":{"$error":"#REF!"}},{"$f":"IF('统招（小学）'!#REF!=0,\"\",'统招（小学）'!#REF!)","v":{"$error":"#REF!"}},{"$f":"IF('统招（小学）'!#REF!=0,\"\",'统招（小学）'!#REF!)","v":{"$error":"#REF!"}},{"$f":"IF('统招（小学）'!#REF!=0,\"\",'统招（小学）'!#REF!)","v":{"$error":"#REF!"}},{"$f":"IF('统招（小学）'!#REF!=0,\"\",'统招（小学）'!#REF!)","v":{"$error":"#REF!"}},{"$f":"IF('统招（小学）'!#REF!=0,\"\",'统招（小学）'!#REF!)","v":{"$error":"#REF!"}},{"$f":"IF('统招（小学）'!#REF!=0,\"\",'统招（小学）'!#REF!)","v":{"$error":"#REF!"}},{"$f":"IF('统招（小学）'!#REF!=0,\"\",'统招（小学）'!#REF!)","v":{"$error":"#REF!"}},{"$f":"IF('统招（小学）'!#REF!=0,\"\",'统招（小学）'!#REF!)","v":{"$error":"#REF!"}},{"$f":"IF('统招（小学）'!#REF!=0,\"\",'统招（小学）'!#REF!)","v":{"$error":"#REF!"}},{"$f":"IF('统招（小学）'!#REF!=0,\"\",'统招（小学）'!#REF!)","v":{"$error":"#REF!"}},{"$f":"IF('统招（小学）'!#REF!=0,\"\",'统招（小学）'!#REF!)","v":{"$error":"#REF!"}},{"$f":"IF('统招（小学）'!#REF!=0,\"\",'统招（小学）'!#REF!)","v":{"$error":"#REF!"}},{"$f":"IF('统招（小学）'!#REF!=0,\"\",'统招（小学）'!#REF!)","v":{"$error":"#REF!"}},{"$f":"IF('统招（小学）'!#REF!=0,\"\",'统招（小学）'!#REF!)","v":{"$error":"#REF!"}},{"$f":"IF('统招（小学）'!#REF!=0,\"\",'统招（小学）'!#REF!)","v":{"$error":"#REF!"}},{"$f":"IF('统招（小学）'!#REF!=0,\"\",'统招（小学）'!#REF!)","v":{"$error":"#REF!"}},{"$f":"IF('统招（小学）'!#REF!=0,\"\",'统招（小学）'!#REF!)","v":{"$error":"#REF!"}},{"$f":"IF('统招（小学）'!#REF!=0,\"\",'统招（小学）'!#REF!)","v":{"$error":"#REF!"}},{"$f":"IF('统招（小学）'!#REF!=0,\"\",'统招（小学）'!#REF!)","v":{"$error":"#REF!"}},{"$f":"IF('统招（小学）'!#REF!=0,\"\",'统招（小学）'!#REF!)","v":{"$error":"#REF!"}},{"$f":"IF('统招（小学）'!#REF!=0,\"\",'统招（小学）'!#REF!)","v":{"$error":"#REF!"}},{"$f":"IF('统招（小学）'!#REF!=0,\"\",'统招（小学）'!#REF!)","v":{"$error":"#REF!"}},{"$f":"IF('统招（小学）'!#REF!=0,\"\",'统招（小学）'!#REF!)","v":{"$error":"#REF!"}},{"$f":"IF('统招（小学）'!#REF!=0,\"\",'统招（小学）'!#REF!)","v":{"$error":"#REF!"}},{"$f":"IF('统招（小学）'!#REF!=0,\"\",'统招（小学）'!#REF!)","v":{"$error":"#REF!"}},{"$error":"#REF!"}]
["蒋巷二中",55,35,2588,2562,42,42,126,61,{"v":117.6,"d":"118"},{"v":189.777777777778,"d":"190"},{"v":155.555555555556,"d":"156"},{"$nulls":4},{"$f":"IF('统招（小学）'!#REF!=0,\"\",'统招（小学）'!#REF!)","v":{"$error":"#REF!"}},{"$f":"IF('统招（小学）'!#REF!=0,\"\",'统招（小学）'!#REF!)","v":{"$error":"#REF!"}},{"$f":"IF('统招（小学）'!#REF!=0,\"\",'统招（小学）'!#REF!)","v":{"$error":"#REF!"}},{"$f":"IF('统招（小学）'!#REF!=0,\"\",'统招（小学）'!#REF!)","v":{"$error":"#REF!"}},{"$f":"IF('统招（小学）'!#REF!=0,\"\",'统招（小学）'!#REF!)","v":{"$error":"#REF!"}},{"$f":"IF('统招（小学）'!#REF!=0,\"\",'统招（小学）'!#REF!)","v":{"$error":"#REF!"}},{"$f":"IF('统招（小学）'!#REF!=0,\"\",'统招（小学）'!#REF!)","v":{"$error":"#REF!"}},{"$f":"IF('统招（小学）'!#REF!=0,\"\",'统招（小学）'!#REF!)","v":{"$error":"#REF!"}},{"$f":"IF('统招（小学）'!#REF!=0,\"\",'统招（小学）'!#REF!)","v":{"$error":"#REF!"}},{"$f":"IF('统招（小学）'!#REF!=0,\"\",'统招（小学）'!#REF!)","v":{"$error":"#REF!"}},{"$f":"IF('统招（小学）'!#REF!=0,\"\",'统招（小学）'!#REF!)","v":{"$error":"#REF!"}},{"$f":"IF('统招（小学）'!#REF!=0,\"\",'统招（小学）'!#REF!)","v":{"$error":"#REF!"}},{"$f":"IF('统招（小学）'!#REF!=0,\"\",'统招（小学）'!#REF!)","v":{"$error":"#REF!"}},{"$f":"IF('统招（小学）'!#REF!=0,\"\",'统招（小学）'!#REF!)","v":{"$error":"#REF!"}},{"$f":"IF('统招（小学）'!#REF!=0,\"\",'统招（小学）'!#REF!)","v":{"$error":"#REF!"}},{"$f":"IF('统招（小学）'!#REF!=0,\"\",'统招（小学）'!#REF!)","v":{"$error":"#REF!"}},{"$f":"IF('统招（小学）'!#REF!=0,\"\",'统招（小学）'!#REF!)","v":{"$error":"#REF!"}},{"$f":"IF('统招（小学）'!#REF!=0,\"\",'统招（小学）'!#REF!)","v":{"$error":"#REF!"}},{"$f":"IF('统招（小学）'!#REF!=0,\"\",'统招（小学）'!#REF!)","v":{"$error":"#REF!"}},{"$f":"IF('统招（小学）'!#REF!=0,\"\",'统招（小学）'!#REF!)","v":{"$error":"#REF!"}},{"$f":"IF('统招（小学）'!#REF!=0,\"\",'统招（小学）'!#REF!)","v":{"$error":"#REF!"}},{"$f":"IF('统招（小学）'!#REF!=0,\"\",'统招（小学）'!#REF!)","v":{"$error":"#REF!"}},{"$f":"IF('统招（小学）'!#REF!=0,\"\",'统招（小学）'!#REF!)","v":{"$error":"#REF!"}},{"$f":"IF('统招（小学）'!#REF!=0,\"\",'统招（小学）'!#REF!)","v":{"$error":"#REF!"}},{"$f":"IF('统招（小学）'!#REF!=0,\"\",'统招（小学）'!#REF!)","v":{"$error":"#REF!"}},{"$f":"IF('统招（小学）'!#REF!=0,\"\",'统招（小学）'!#REF!)","v":{"$error":"#REF!"}},{"$error":"#REF!"}]
["塘南中学",56,36,702,644,12,12,53,{"v":53.6666666666667,"d":"54"},{"v":33.6,"d":"34"},{"v":47.7037037037037,"d":"48"},{"v":44.4444444444444,"d":"44"},{"$nulls":4},{"$f":"IF('统招（小学）'!#REF!=0,\"\",'统招（小学）'!#REF!)","v":{"$error":"#REF!"}},{"$f":"IF('统招（小学）'!#REF!=0,\"\",'统招（小学）'!#REF!)","v":{"$error":"#REF!"}},{"$f":"IF('统招（小学）'!#REF!=0,\"\",'统招（小学）'!#REF!)","v":{"$error":"#REF!"}},{"$f":"IF('统招（小学）'!#REF!=0,\"\",'统招（小学）'!#REF!)","v":{"$error":"#REF!"}},{"$f":"IF('统招（小学）'!#REF!=0,\"\",'统招（小学）'!#REF!)","v":{"$error":"#REF!"}},{"$f":"IF('统招（小学）'!#REF!=0,\"\",'统招（小学）'!#REF!)","v":{"$error":"#REF!"}},{"$f":"IF('统招（小学）'!#REF!=0,\"\",'统招（小学）'!#REF!)","v":{"$error":"#REF!"}},{"$f":"IF('统招（小学）'!#REF!=0,\"\",'统招（小学）'!#REF!)","v":{"$error":"#REF!"}},{"$f":"IF('统招（小学）'!#REF!=0,\"\",'统招（小学）'!#REF!)","v":{"$error":"#REF!"}},{"$f":"IF('统招（小学）'!#REF!=0,\"\",'统招（小学）'!#REF!)","v":{"$error":"#REF!"}},{"$f":"IF('统招（小学）'!#REF!=0,\"\",'统招（小学）'!#REF!)","v":{"$error":"#REF!"}},{"$f":"IF('统招（小学）'!#REF!=0,\"\",'统招（小学）'!#REF!)","v":{"$error":"#REF!"}},{"$f":"IF('统招（小学）'!#REF!=0,\"\",'统招（小学）'!#REF!)","v":{"$error":"#REF!"}},{"$f":"IF('统招（小学）'!#REF!=0,\"\",'统招（小学）'!#REF!)","v":{"$error":"#REF!"}},{"$f":"IF('统招（小学）'!#REF!=0,\"\",'统招（小学）'!#REF!)","v":{"$error":"#REF!"}},{"$f":"IF('统招（小学）'!#REF!=0,\"\",'统招（小学）'!#REF!)","v":{"$error":"#REF!"}},{"$f":"IF('统招（小学）'!#REF!=0,\"\",'统招（小学）'!#REF!)","v":{"$error":"#REF!"}},{"$f":"IF('统招（小学）'!#REF!=0,\"\",'统招（小学）'!#REF!)","v":{"$error":"#REF!"}},{"$f":"IF('统招（小学）'!#REF!=0,\"\",'统招（小学）'!#REF!)","v":{"$error":"#REF!"}},{"$f":"IF('统招（小学）'!#REF!=0,\"\",'统招（小学）'!#REF!)","v":{"$error":"#REF!"}},{"$f":"IF('统招（小学）'!#REF!=0,\"\",'统招（小学）'!#REF!)","v":{"$error":"#REF!"}},{"$f":"IF('统招（小学）'!#REF!=0,\"\",'统招（小学）'!#REF!)","v":{"$error":"#REF!"}},{"$f":"IF('统招（小学）'!#REF!=0,\"\",'统招（小学）'!#REF!)","v":{"$error":"#REF!"}},{"$f":"IF('统招（小学）'!#REF!=0,\"\",'统招（小学）'!#REF!)","v":{"$error":"#REF!"}},{"$f":"IF('统招（小学）'!#REF!=0,\"\",'统招（小学）'!#REF!)","v":{"$error":"#REF!"}},{"$f":"IF('统招（小学）'!#REF!=0,\"\",'统招（小学）'!#REF!)","v":{"$error":"#REF!"}},{"$error":"#REF!"}]
["新联学校（小学）",16,37,344,305,20,17,48,{"v":17.9411764705882,"d":"18"},{"$f":"G44*2","v":34},{"$f":"E44/19","v":{"v":16.0526315789474,"d":"16"}},null,{"$f":"(J44+K44)/2","v":{"v":25.0263157894737,"d":"25"}},{"$f":"K44-H44","v":{"v":-31.9473684210526,"d":"-32"}},0,{"$f":"J44-H44","v":-14},{"$f":"IF('统招（小学）'!#REF!=0,\"\",'统招（小学）'!#REF!)","v":{"$error":"#REF!"}},{"$f":"IF('统招（小学）'!#REF!=0,\"\",'统招（小学）'!#REF!)","v":{"$error":"#REF!"}},{"$f":"IF('统招（小学）'!#REF!=0,\"\",'统招（小学）'!#REF!)","v":{"$error":"#REF!"}},{"$f":"IF('统招（小学）'!#REF!=0,\"\",'统招（小学）'!#REF!)","v":{"$error":"#REF!"}},{"$f":"IF('统招（小学）'!#REF!=0,\"\",'统招（小学）'!#REF!)","v":{"$error":"#REF!"}},{"$f":"IF('统招（小学）'!#REF!=0,\"\",'统招（小学）'!#REF!)","v":{"$error":"#REF!"}},{"$f":"IF('统招（小学）'!#REF!=0,\"\",'统招（小学）'!#REF!)","v":{"$error":"#REF!"}},{"$f":"IF('统招（小学）'!#REF!=0,\"\",'统招（小学）'!#REF!)","v":{"$error":"#REF!"}},{"$f":"IF('统招（小学）'!#REF!=0,\"\",'统招（小学）'!#REF!)","v":{"$error":"#REF!"}},{"$f":"IF('统招（小学）'!#REF!=0,\"\",'统招（小学）'!#REF!)","v":{"$error":"#REF!"}},{"$f":"IF('统招（小学）'!#REF!=0,\"\",'统招（小学）'!#REF!)","v":{"$error":"#REF!"}},{"$f":"IF('统招（小学）'!#REF!=0,\"\",'统招（小学）'!#REF!)","v":{"$error":"#REF!"}},{"$f":"IF('统招（小学）'!#REF!=0,\"\",'统招（小学）'!#REF!)","v":{"$error":"#REF!"}},{"$f":"IF('统招（小学）'!#REF!=0,\"\",'统招（小学）'!#REF!)","v":{"$error":"#REF!"}},{"$f":"IF('统招（小学）'!#REF!=0,\"\",'统招（小学）'!#REF!)","v":{"$error":"#REF!"}},{"$f":"IF('统招（小学）'!#REF!=0,\"\",'统招（小学）'!#REF!)","v":{"$error":"#REF!"}},{"$f":"IF('统招（小学）'!#REF!=0,\"\",'统招（小学）'!#REF!)","v":{"$error":"#REF!"}},{"$f":"IF('统招（小学）'!#REF!=0,\"\",'统招（小学）'!#REF!)","v":{"$error":"#REF!"}},{"$f":"IF('统招（小学）'!#REF!=0,\"\",'统招（小学）'!#REF!)","v":{"$error":"#REF!"}},{"$f":"IF('统招（小学）'!#REF!=0,\"\",'统招（小学）'!#REF!)","v":{"$error":"#REF!"}},{"$f":"IF('统招（小学）'!#REF!=0,\"\",'统招（小学）'!#REF!)","v":{"$error":"#REF!"}},{"$f":"IF('统招（小学）'!#REF!=0,\"\",'统招（小学）'!#REF!)","v":{"$error":"#REF!"}},{"$f":"IF('统招（小学）'!#REF!=0,\"\",'统招（小学）'!#REF!)","v":{"$error":"#REF!"}},{"$f":"IF('统招（小学）'!#REF!=0,\"\",'统招（小学）'!#REF!)","v":{"$error":"#REF!"}},{"$f":"IF('统招（小学）'!#REF!=0,\"\",'统招（小学）'!#REF!)","v":{"$error":"#REF!"}},{"$f":"IF('统招（小学）'!#REF!=0,\"\",'统招（小学）'!#REF!)","v":{"$error":"#REF!"}},{"$error":"#REF!"},4,{"$nulls":6},{"$f":"SUM(AR44:AX44)","v":4},{"$f":"SUM(AQ44:AX44)","v":{"$error":"#REF!"}},{"$f":"AZ44-AX44","v":{"$error":"#REF!"}},{"$f":"BA44+H44","v":{"$error":"#REF!"}}]
["新联学校（初中）",57,37,307,297,9,9,24,33,{"$f":"G45*2.8","v":{"v":25.2,"d":"25"}},{"$f":"E45/13.5","v":22},{"$f":"G45*50/13.5","v":{"v":33.3333333333333,"d":"33"}},{"$nulls":4},{"$f":"IF('统招（小学）'!#REF!=0,\"\",'统招（小学）'!#REF!)","v":{"$error":"#REF!"}},{"$f":"IF('统招（小学）'!#REF!=0,\"\",'统招（小学）'!#REF!)","v":{"$error":"#REF!"}},{"$f":"IF('统招（小学）'!#REF!=0,\"\",'统招（小学）'!#REF!)","v":{"$error":"#REF!"}},{"$f":"IF('统招（小学）'!#REF!=0,\"\",'统招（小学）'!#REF!)","v":{"$error":"#REF!"}},{"$f":"IF('统招（小学）'!#REF!=0,\"\",'统招（小学）'!#REF!)","v":{"$error":"#REF!"}},{"$f":"IF('统招（小学）'!#REF!=0,\"\",'统招（小学）'!#REF!)","v":{"$error":"#REF!"}},{"$f":"IF('统招（小学）'!#REF!=0,\"\",'统招（小学）'!#REF!)","v":{"$error":"#REF!"}},{"$f":"IF('统招（小学）'!#REF!=0,\"\",'统招（小学）'!#REF!)","v":{"$error":"#REF!"}},{"$f":"IF('统招（小学）'!#REF!=0,\"\",'统招（小学）'!#REF!)","v":{"$error":"#REF!"}},{"$f":"IF('统招（小学）'!#REF!=0,\"\",'统招（小学）'!#REF!)","v":{"$error":"#REF!"}},{"$f":"IF('统招（小学）'!#REF!=0,\"\",'统招（小学）'!#REF!)","v":{"$error":"#REF!"}},{"$f":"IF('统招（小学）'!#REF!=0,\"\",'统招（小学）'!#REF!)","v":{"$error":"#REF!"}},{"$f":"IF('统招（小学）'!#REF!=0,\"\",'统招（小学）'!#REF!)","v":{"$error":"#REF!"}},{"$f":"IF('统招（小学）'!#REF!=0,\"\",'统招（小学）'!#REF!)","v":{"$error":"#REF!"}},{"$f":"IF('统招（小学）'!#REF!=0,\"\",'统招（小学）'!#REF!)","v":{"$error":"#REF!"}},{"$f":"IF('统招（小学）'!#REF!=0,\"\",'统招（小学）'!#REF!)","v":{"$error":"#REF!"}},{"$f":"IF('统招（小学）'!#REF!=0,\"\",'统招（小学）'!#REF!)","v":{"$error":"#REF!"}},{"$f":"IF('统招（小学）'!#REF!=0,\"\",'统招（小学）'!#REF!)","v":{"$error":"#REF!"}},{"$f":"IF('统招（小学）'!#REF!=0,\"\",'统招（小学）'!#REF!)","v":{"$error":"#REF!"}},{"$f":"IF('统招（小学）'!#REF!=0,\"\",'统招（小学）'!#REF!)","v":{"$error":"#REF!"}},{"$f":"IF('统招（小学）'!#REF!=0,\"\",'统招（小学）'!#REF!)","v":{"$error":"#REF!"}},{"$f":"IF('统招（小学）'!#REF!=0,\"\",'统招（小学）'!#REF!)","v":{"$error":"#REF!"}},{"$f":"IF('统招（小学）'!#REF!=0,\"\",'统招（小学）'!#REF!)","v":{"$error":"#REF!"}},{"$f":"IF('统招（小学）'!#REF!=0,\"\",'统招（小学）'!#REF!)","v":{"$error":"#REF!"}},{"$f":"IF('统招（小学）'!#REF!=0,\"\",'统招（小学）'!#REF!)","v":{"$error":"#REF!"}},{"$f":"IF('统招（小学）'!#REF!=0,\"\",'统招（小学）'!#REF!)","v":{"$error":"#REF!"}},{"$error":"#REF!"}]
["泾口中学",58,38,551,452,12,11,78,{"v":41.0909090909091,"d":"41"},{"v":30.8,"d":"31"},{"v":33.4814814814815,"d":"33"},{"v":40.7407407407407,"d":"41"},{"$nulls":4},{"$f":"IF('统招（小学）'!#REF!=0,\"\",'统招（小学）'!#REF!)","v":{"$error":"#REF!"}},{"$f":"IF('统招（小学）'!#REF!=0,\"\",'统招（小学）'!#REF!)","v":{"$error":"#REF!"}},{"$f":"IF('统招（小学）'!#REF!=0,\"\",'统招（小学）'!#REF!)","v":{"$error":"#REF!"}},{"$f":"IF('统招（小学）'!#REF!=0,\"\",'统招（小学）'!#REF!)","v":{"$error":"#REF!"}},{"$f":"IF('统招（小学）'!#REF!=0,\"\",'统招（小学）'!#REF!)","v":{"$error":"#REF!"}},{"$f":"IF('统招（小学）'!#REF!=0,\"\",'统招（小学）'!#REF!)","v":{"$error":"#REF!"}},{"$f":"IF('统招（小学）'!#REF!=0,\"\",'统招（小学）'!#REF!)","v":{"$error":"#REF!"}},{"$f":"IF('统招（小学）'!#REF!=0,\"\",'统招（小学）'!#REF!)","v":{"$error":"#REF!"}},{"$f":"IF('统招（小学）'!#REF!=0,\"\",'统招（小学）'!#REF!)","v":{"$error":"#REF!"}},{"$f":"IF('统招（小学）'!#REF!=0,\"\",'统招（小学）'!#REF!)","v":{"$error":"#REF!"}},{"$f":"IF('统招（小学）'!#REF!=0,\"\",'统招（小学）'!#REF!)","v":{"$error":"#REF!"}},{"$f":"IF('统招（小学）'!#REF!=0,\"\",'统招（小学）'!#REF!)","v":{"$error":"#REF!"}},{"$f":"IF('统招（小学）'!#REF!=0,\"\",'统招（小学）'!#REF!)","v":{"$error":"#REF!"}},{"$f":"IF('统招（小学）'!#REF!=0,\"\",'统招（小学）'!#REF!)","v":{"$error":"#REF!"}},{"$f":"IF('统招（小学）'!#REF!=0,\"\",'统招（小学）'!#REF!)","v":{"$error":"#REF!"}},{"$f":"IF('统招（小学）'!#REF!=0,\"\",'统招（小学）'!#REF!)","v":{"$error":"#REF!"}},{"$f":"IF('统招（小学）'!#REF!=0,\"\",'统招（小学）'!#REF!)","v":{"$error":"#REF!"}},{"$f":"IF('统招（小学）'!#REF!=0,\"\",'统招（小学）'!#REF!)","v":{"$error":"#REF!"}},{"$f":"IF('统招（小学）'!#REF!=0,\"\",'统招（小学）'!#REF!)","v":{"$error":"#REF!"}},{"$f":"IF('统招（小学）'!#REF!=0,\"\",'统招（小学）'!#REF!)","v":{"$error":"#REF!"}},{"$f":"IF('统招（小学）'!#REF!=0,\"\",'统招（小学）'!#REF!)","v":{"$error":"#REF!"}},{"$f":"IF('统招（小学）'!#REF!=0,\"\",'统招（小学）'!#REF!)","v":{"$error":"#REF!"}},{"$f":"IF('统招（小学）'!#REF!=0,\"\",'统招（小学）'!#REF!)","v":{"$error":"#REF!"}},{"$f":"IF('统招（小学）'!#REF!=0,\"\",'统招（小学）'!#REF!)","v":{"$error":"#REF!"}},{"$f":"IF('统招（小学）'!#REF!=0,\"\",'统招（小学）'!#REF!)","v":{"$error":"#REF!"}},{"$f":"IF('统招（小学）'!#REF!=0,\"\",'统招（小学）'!#REF!)","v":{"$error":"#REF!"}},{"$error":"#REF!"}]
["幽兰学校（小学）",17,39,513,455,20,19,104,{"v":23.9473684210526,"d":"24"},38,{"v":23.9473684210526,"d":"24"},null,{"v":30.9736842105263,"d":"31"},{"v":-80.0526315789474,"d":"-80"},0,-66,{"$f":"IF('统招（小学）'!#REF!=0,\"\",'统招（小学）'!#REF!)","v":{"$error":"#REF!"}},{"$f":"IF('统招（小学）'!#REF!=0,\"\",'统招（小学）'!#REF!)","v":{"$error":"#REF!"}},{"$f":"IF('统招（小学）'!#REF!=0,\"\",'统招（小学）'!#REF!)","v":{"$error":"#REF!"}},{"$f":"IF('统招（小学）'!#REF!=0,\"\",'统招（小学）'!#REF!)","v":{"$error":"#REF!"}},{"$f":"IF('统招（小学）'!#REF!=0,\"\",'统招（小学）'!#REF!)","v":{"$error":"#REF!"}},{"$f":"IF('统招（小学）'!#REF!=0,\"\",'统招（小学）'!#REF!)","v":{"$error":"#REF!"}},{"$f":"IF('统招（小学）'!#REF!=0,\"\",'统招（小学）'!#REF!)","v":{"$error":"#REF!"}},{"$f":"IF('统招（小学）'!#REF!=0,\"\",'统招（小学）'!#REF!)","v":{"$error":"#REF!"}},{"$f":"IF('统招（小学）'!#REF!=0,\"\",'统招（小学）'!#REF!)","v":{"$error":"#REF!"}},{"$f":"IF('统招（小学）'!#REF!=0,\"\",'统招（小学）'!#REF!)","v":{"$error":"#REF!"}},{"$f":"IF('统招（小学）'!#REF!=0,\"\",'统招（小学）'!#REF!)","v":{"$error":"#REF!"}},{"$f":"IF('统招（小学）'!#REF!=0,\"\",'统招（小学）'!#REF!)","v":{"$error":"#REF!"}},{"$f":"IF('统招（小学）'!#REF!=0,\"\",'统招（小学）'!#REF!)","v":{"$error":"#REF!"}},{"$f":"IF('统招（小学）'!#REF!=0,\"\",'统招（小学）'!#REF!)","v":{"$error":"#REF!"}},{"$f":"IF('统招（小学）'!#REF!=0,\"\",'统招（小学）'!#REF!)","v":{"$error":"#REF!"}},{"$f":"IF('统招（小学）'!#REF!=0,\"\",'统招（小学）'!#REF!)","v":{"$error":"#REF!"}},{"$f":"IF('统招（小学）'!#REF!=0,\"\",'统招（小学）'!#REF!)","v":{"$error":"#REF!"}},{"$f":"IF('统招（小学）'!#REF!=0,\"\",'统招（小学）'!#REF!)","v":{"$error":"#REF!"}},{"$f":"IF('统招（小学）'!#REF!=0,\"\",'统招（小学）'!#REF!)","v":{"$error":"#REF!"}},{"$f":"IF('统招（小学）'!#REF!=0,\"\",'统招（小学）'!#REF!)","v":{"$error":"#REF!"}},{"$f":"IF('统招（小学）'!#REF!=0,\"\",'统招（小学）'!#REF!)","v":{"$error":"#REF!"}},{"$f":"IF('统招（小学）'!#REF!=0,\"\",'统招（小学）'!#REF!)","v":{"$error":"#REF!"}},{"$f":"IF('统招（小学）'!#REF!=0,\"\",'统招（小学）'!#REF!)","v":{"$error":"#REF!"}},{"$f":"IF('统招（小学）'!#REF!=0,\"\",'统招（小学）'!#REF!)","v":{"$error":"#REF!"}},{"$f":"IF('统招（小学）'!#REF!=0,\"\",'统招（小学）'!#REF!)","v":{"$error":"#REF!"}},{"$f":"IF('统招（小学）'!#REF!=0,\"\",'统招（小学）'!#REF!)","v":{"$error":"#REF!"}},{"$error":"#REF!"},{"$nulls":3},8,{"$nulls":3},8,{"$error":"#REF!"},{"$error":"#REF!"},{"$error":"#REF!"}]
["幽兰学校（初中）",59,39,355,342,8,8,44,{"v":42.75,"d":"43"},{"v":22.4,"d":"22"},{"v":25.3333333333333,"d":"25"},{"v":29.6296296296296,"d":"30"},{"$nulls":4},{"$f":"IF('统招（小学）'!#REF!=0,\"\",'统招（小学）'!#REF!)","v":{"$error":"#REF!"}},{"$f":"IF('统招（小学）'!#REF!=0,\"\",'统招（小学）'!#REF!)","v":{"$error":"#REF!"}},{"$f":"IF('统招（小学）'!#REF!=0,\"\",'统招（小学）'!#REF!)","v":{"$error":"#REF!"}},{"$f":"IF('统招（小学）'!#REF!=0,\"\",'统招（小学）'!#REF!)","v":{"$error":"#REF!"}},{"$f":"IF('统招（小学）'!#REF!=0,\"\",'统招（小学）'!#REF!)","v":{"$error":"#REF!"}},{"$f":"IF('统招（小学）'!#REF!=0,\"\",'统招（小学）'!#REF!)","v":{"$error":"#REF!"}},{"$f":"IF('统招（小学）'!#REF!=0,\"\",'统招（小学）'!#REF!)","v":{"$error":"#REF!"}},{"$f":"IF('统招（小学）'!#REF!=0,\"\",'统招（小学）'!#REF!)","v":{"$error":"#REF!"}},{"$f":"IF('统招（小学）'!#REF!=0,\"\",'统招（小学）'!#REF!)","v":{"$error":"#REF!"}},{"$f":"IF('统招（小学）'!#REF!=0,\"\",'统招（小学）'!#REF!)","v":{"$error":"#REF!"}},{"$f":"IF('统招（小学）'!#REF!=0,\"\",'统招（小学）'!#REF!)","v":{"$error":"#REF!"}},{"$f":"IF('统招（小学）'!#REF!=0,\"\",'统招（小学）'!#REF!)","v":{"$error":"#REF!"}},{"$f":"IF('统招（小学）'!#REF!=0,\"\",'统招（小学）'!#REF!)","v":{"$error":"#REF!"}},{"$f":"IF('统招（小学）'!#REF!=0,\"\",'统招（小学）'!#REF!)","v":{"$error":"#REF!"}},{"$f":"IF('统招（小学）'!#REF!=0,\"\",'统招（小学）'!#REF!)","v":{"$error":"#REF!"}},{"$f":"IF('统招（小学）'!#REF!=0,\"\",'统招（小学）'!#REF!)","v":{"$error":"#REF!"}},{"$f":"IF('统招（小学）'!#REF!=0,\"\",'统招（小学）'!#REF!)","v":{"$error":"#REF!"}},{"$f":"IF('统招（小学）'!#REF!=0,\"\",'统招（小学）'!#REF!)","v":{"$error":"#REF!"}},{"$f":"IF('统招（小学）'!#REF!=0,\"\",'统招（小学）'!#REF!)","v":{"$error":"#REF!"}},{"$f":"IF('统招（小学）'!#REF!=0,\"\",'统招（小学）'!#REF!)","v":{"$error":"#REF!"}},{"$f":"IF('统招（小学）'!#REF!=0,\"\",'统招（小学）'!#REF!)","v":{"$error":"#REF!"}},{"$f":"IF('统招（小学）'!#REF!=0,\"\",'统招（小学）'!#REF!)","v":{"$error":"#REF!"}},{"$f":"IF('统招（小学）'!#REF!=0,\"\",'统招（小学）'!#REF!)","v":{"$error":"#REF!"}},{"$f":"IF('统招（小学）'!#REF!=0,\"\",'统招（小学）'!#REF!)","v":{"$error":"#REF!"}},{"$f":"IF('统招（小学）'!#REF!=0,\"\",'统招（小学）'!#REF!)","v":{"$error":"#REF!"}},{"$f":"IF('统招（小学）'!#REF!=0,\"\",'统招（小学）'!#REF!)","v":{"$error":"#REF!"}},{"$error":"#REF!"}]
["渡头学校（小学）",18,40,603,577,23,18,60,{"v":32.0555555555556,"d":"32"},36,{"v":30.3684210526316,"d":"30"},null,{"v":33.1842105263158,"d":"33"},{"v":-29.6315789473684,"d":"-30"},0,-24,{"$f":"IF('统招（小学）'!#REF!=0,\"\",'统招（小学）'!#REF!)","v":{"$error":"#REF!"}},{"$f":"IF('统招（小学）'!#REF!=0,\"\",'统招（小学）'!#REF!)","v":{"$error":"#REF!"}},{"$f":"IF('统招（小学）'!#REF!=0,\"\",'统招（小学）'!#REF!)","v":{"$error":"#REF!"}},{"$f":"IF('统招（小学）'!#REF!=0,\"\",'统招（小学）'!#REF!)","v":{"$error":"#REF!"}},{"$f":"IF('统招（小学）'!#REF!=0,\"\",'统招（小学）'!#REF!)","v":{"$error":"#REF!"}},{"$f":"IF('统招（小学）'!#REF!=0,\"\",'统招（小学）'!#REF!)","v":{"$error":"#REF!"}},{"$f":"IF('统招（小学）'!#REF!=0,\"\",'统招（小学）'!#REF!)","v":{"$error":"#REF!"}},{"$f":"IF('统招（小学）'!#REF!=0,\"\",'统招（小学）'!#REF!)","v":{"$error":"#REF!"}},{"$f":"IF('统招（小学）'!#REF!=0,\"\",'统招（小学）'!#REF!)","v":{"$error":"#REF!"}},{"$f":"IF('统招（小学）'!#REF!=0,\"\",'统招（小学）'!#REF!)","v":{"$error":"#REF!"}},{"$f":"IF('统招（小学）'!#REF!=0,\"\",'统招（小学）'!#REF!)","v":{"$error":"#REF!"}},{"$f":"IF('统招（小学）'!#REF!=0,\"\",'统招（小学）'!#REF!)","v":{"$error":"#REF!"}},{"$f":"IF('统招（小学）'!#REF!=0,\"\",'统招（小学）'!#REF!)","v":{"$error":"#REF!"}},{"$f":"IF('统招（小学）'!#REF!=0,\"\",'统招（小学）'!#REF!)","v":{"$error":"#REF!"}},{"$f":"IF('统招（小学）'!#REF!=0,\"\",'统招（小学）'!#REF!)","v":{"$error":"#REF!"}},{"$f":"IF('统招（小学）'!#REF!=0,\"\",'统招（小学）'!#REF!)","v":{"$error":"#REF!"}},{"$f":"IF('统招（小学）'!#REF!=0,\"\",'统招（小学）'!#REF!)","v":{"$error":"#REF!"}},{"$f":"IF('统招（小学）'!#REF!=0,\"\",'统招（小学）'!#REF!)","v":{"$error":"#REF!"}},{"$f":"IF('统招（小学）'!#REF!=0,\"\",'统招（小学）'!#REF!)","v":{"$error":"#REF!"}},{"$f":"IF('统招（小学）'!#REF!=0,\"\",'统招（小学）'!#REF!)","v":{"$error":"#REF!"}},{"$f":"IF('统招（小学）'!#REF!=0,\"\",'统招（小学）'!#REF!)","v":{"$error":"#REF!"}},{"$f":"IF('统招（小学）'!#REF!=0,\"\",'统招（小学）'!#REF!)","v":{"$error":"#REF!"}},{"$f":"IF('统招（小学）'!#REF!=0,\"\",'统招（小学）'!#REF!)","v":{"$error":"#REF!"}},{"$f":"IF('统招（小学）'!#REF!=0,\"\",'统招（小学）'!#REF!)","v":{"$error":"#REF!"}},{"$f":"IF('统招（小学）'!#REF!=0,\"\",'统招（小学）'!#REF!)","v":{"$error":"#REF!"}},{"$f":"IF('统招（小学）'!#REF!=0,\"\",'统招（小学）'!#REF!)","v":{"$error":"#REF!"}},{"$error":"#REF!"},{"$nulls":7},0,{"$error":"#REF!"},{"$error":"#REF!"},{"$error":"#REF!"}]
["渡头学校（初中）",60,40,283,255,7,6,45,{"v":42.5,"d":"43"},{"$f":"G50*2.8","v":{"v":16.8,"d":"17"}},{"$f":"E50/13.5","v":{"v":18.8888888888889,"d":"19"}},{"$f":"G50*50/13.5","v":{"v":22.2222222222222,"d":"22"}},{"$nulls":4},{"$f":"IF('统招（小学）'!#REF!=0,\"\",'统招（小学）'!#REF!)","v":{"$error":"#REF!"}},{"$f":"IF('统招（小学）'!#REF!=0,\"\",'统招（小学）'!#REF!)","v":{"$error":"#REF!"}},{"$f":"IF('统招（小学）'!#REF!=0,\"\",'统招（小学）'!#REF!)","v":{"$error":"#REF!"}},{"$f":"IF('统招（小学）'!#REF!=0,\"\",'统招（小学）'!#REF!)","v":{"$error":"#REF!"}},{"$f":"IF('统招（小学）'!#REF!=0,\"\",'统招（小学）'!#REF!)","v":{"$error":"#REF!"}},{"$f":"IF('统招（小学）'!#REF!=0,\"\",'统招（小学）'!#REF!)","v":{"$error":"#REF!"}},{"$f":"IF('统招（小学）'!#REF!=0,\"\",'统招（小学）'!#REF!)","v":{"$error":"#REF!"}},{"$f":"IF('统招（小学）'!#REF!=0,\"\",'统招（小学）'!#REF!)","v":{"$error":"#REF!"}},{"$f":"IF('统招（小学）'!#REF!=0,\"\",'统招（小学）'!#REF!)","v":{"$error":"#REF!"}},{"$f":"IF('统招（小学）'!#REF!=0,\"\",'统招（小学）'!#REF!)","v":{"$error":"#REF!"}},{"$f":"IF('统招（小学）'!#REF!=0,\"\",'统招（小学）'!#REF!)","v":{"$error":"#REF!"}},{"$f":"IF('统招（小学）'!#REF!=0,\"\",'统招（小学）'!#REF!)","v":{"$error":"#REF!"}},{"$f":"IF('统招（小学）'!#REF!=0,\"\",'统招（小学）'!#REF!)","v":{"$error":"#REF!"}},{"$f":"IF('统招（小学）'!#REF!=0,\"\",'统招（小学）'!#REF!)","v":{"$error":"#REF!"}},{"$f":"IF('统招（小学）'!#REF!=0,\"\",'统招（小学）'!#REF!)","v":{"$error":"#REF!"}},{"$f":"IF('统招（小学）'!#REF!=0,\"\",'统招（小学）'!#REF!)","v":{"$error":"#REF!"}},{"$f":"IF('统招（小学）'!#REF!=0,\"\",'统招（小学）'!#REF!)","v":{"$error":"#REF!"}},{"$f":"IF('统招（小学）'!#REF!=0,\"\",'统招（小学）'!#REF!)","v":{"$error":"#REF!"}},{"$f":"IF('统招（小学）'!#REF!=0,\"\",'统招（小学）'!#REF!)","v":{"$error":"#REF!"}},{"$f":"IF('统招（小学）'!#REF!=0,\"\",'统招（小学）'!#REF!)","v":{"$error":"#REF!"}},{"$f":"IF('统招（小学）'!#REF!=0,\"\",'统招（小学）'!#REF!)","v":{"$error":"#REF!"}},{"$f":"IF('统招（小学）'!#REF!=0,\"\",'统招（小学）'!#REF!)","v":{"$error":"#REF!"}},{"$f":"IF('统招（小学）'!#REF!=0,\"\",'统招（小学）'!#REF!)","v":{"$error":"#REF!"}},{"$f":"IF('统招（小学）'!#REF!=0,\"\",'统招（小学）'!#REF!)","v":{"$error":"#REF!"}},{"$f":"IF('统招（小学）'!#REF!=0,\"\",'统招（小学）'!#REF!)","v":{"$error":"#REF!"}},{"$f":"IF('统招（小学）'!#REF!=0,\"\",'统招（小学）'!#REF!)","v":{"$error":"#REF!"}},{"$error":"#REF!"}]
["塔城中学",61,41,350,281,9,8,36,{"v":35.125,"d":"35"},{"v":22.4,"d":"22"},{"v":20.8148148148148,"d":"21"},{"v":29.6296296296296,"d":"30"},{"$nulls":4},{"$f":"IF('统招（小学）'!#REF!=0,\"\",'统招（小学）'!#REF!)","v":{"$error":"#REF!"}},{"$f":"IF('统招（小学）'!#REF!=0,\"\",'统招（小学）'!#REF!)","v":{"$error":"#REF!"}},{"$f":"IF('统招（小学）'!#REF!=0,\"\",'统招（小学）'!#REF!)","v":{"$error":"#REF!"}},{"$f":"IF('统招（小学）'!#REF!=0,\"\",'统招（小学）'!#REF!)","v":{"$error":"#REF!"}},{"$f":"IF('统招（小学）'!#REF!=0,\"\",'统招（小学）'!#REF!)","v":{"$error":"#REF!"}},{"$f":"IF('统招（小学）'!#REF!=0,\"\",'统招（小学）'!#REF!)","v":{"$error":"#REF!"}},{"$f":"IF('统招（小学）'!#REF!=0,\"\",'统招（小学）'!#REF!)","v":{"$error":"#REF!"}},{"$f":"IF('统招（小学）'!#REF!=0,\"\",'统招（小学）'!#REF!)","v":{"$error":"#REF!"}},{"$f":"IF('统招（小学）'!#REF!=0,\"\",'统招（小学）'!#REF!)","v":{"$error":"#REF!"}},{"$f":"IF('统招（小学）'!#REF!=0,\"\",'统招（小学）'!#REF!)","v":{"$error":"#REF!"}},{"$f":"IF('统招（小学）'!#REF!=0,\"\",'统招（小学）'!#REF!)","v":{"$error":"#REF!"}},{"$f":"IF('统招（小学）'!#REF!=0,\"\",'统招（小学）'!#REF!)","v":{"$error":"#REF!"}},{"$f":"IF('统招（小学）'!#REF!=0,\"\",'统招（小学）'!#REF!)","v":{"$error":"#REF!"}},{"$f":"IF('统招（小学）'!#REF!=0,\"\",'统招（小学）'!#REF!)","v":{"$error":"#REF!"}},{"$f":"IF('统招（小学）'!#REF!=0,\"\",'统招（小学）'!#REF!)","v":{"$error":"#REF!"}},{"$f":"IF('统招（小学）'!#REF!=0,\"\",'统招（小学）'!#REF!)","v":{"$error":"#REF!"}},{"$f":"IF('统招（小学）'!#REF!=0,\"\",'统招（小学）'!#REF!)","v":{"$error":"#REF!"}},{"$f":"IF('统招（小学）'!#REF!=0,\"\",'统招（小学）'!#REF!)","v":{"$error":"#REF!"}},{"$f":"IF('统招（小学）'!#REF!=0,\"\",'统招（小学）'!#REF!)","v":{"$error":"#REF!"}},{"$f":"IF('统招（小学）'!#REF!=0,\"\",'统招（小学）'!#REF!)","v":{"$error":"#REF!"}},{"$f":"IF('统招（小学）'!#REF!=0,\"\",'统招（小学）'!#REF!)","v":{"$error":"#REF!"}},{"$f":"IF('统招（小学）'!#REF!=0,\"\",'统招（小学）'!#REF!)","v":{"$error":"#REF!"}},{"$f":"IF('统招（小学）'!#REF!=0,\"\",'统招（小学）'!#REF!)","v":{"$error":"#REF!"}},{"$f":"IF('统招（小学）'!#REF!=0,\"\",'统招（小学）'!#REF!)","v":{"$error":"#REF!"}},{"$f":"IF('统招（小学）'!#REF!=0,\"\",'统招（小学）'!#REF!)","v":{"$error":"#REF!"}},{"$f":"IF('统招（小学）'!#REF!=0,\"\",'统招（小学）'!#REF!)","v":{"$error":"#REF!"}},{"$error":"#REF!"}]
["武阳中学",62,42,1489,1450,28,26,78,{"v":55.7692307692308,"d":"56"},{"v":72.8,"d":"73"},{"v":107.407407407407,"d":"107"},{"v":96.2962962962963,"d":"96"},{"$nulls":4},{"$f":"IF('统招（小学）'!#REF!=0,\"\",'统招（小学）'!#REF!)","v":{"$error":"#REF!"}},{"$f":"IF('统招（小学）'!#REF!=0,\"\",'统招（小学）'!#REF!)","v":{"$error":"#REF!"}},{"$f":"IF('统招（小学）'!#REF!=0,\"\",'统招（小学）'!#REF!)","v":{"$error":"#REF!"}},{"$f":"IF('统招（小学）'!#REF!=0,\"\",'统招（小学）'!#REF!)","v":{"$error":"#REF!"}},{"$f":"IF('统招（小学）'!#REF!=0,\"\",'统招（小学）'!#REF!)","v":{"$error":"#REF!"}},{"$f":"IF('统招（小学）'!#REF!=0,\"\",'统招（小学）'!#REF!)","v":{"$error":"#REF!"}},{"$f":"IF('统招（小学）'!#REF!=0,\"\",'统招（小学）'!#REF!)","v":{"$error":"#REF!"}},{"$f":"IF('统招（小学）'!#REF!=0,\"\",'统招（小学）'!#REF!)","v":{"$error":"#REF!"}},{"$f":"IF('统招（小学）'!#REF!=0,\"\",'统招（小学）'!#REF!)","v":{"$error":"#REF!"}},{"$f":"IF('统招（小学）'!#REF!=0,\"\",'统招（小学）'!#REF!)","v":{"$error":"#REF!"}},{"$f":"IF('统招（小学）'!#REF!=0,\"\",'统招（小学）'!#REF!)","v":{"$error":"#REF!"}},{"$f":"IF('统招（小学）'!#REF!=0,\"\",'统招（小学）'!#REF!)","v":{"$error":"#REF!"}},{"$f":"IF('统招（小学）'!#REF!=0,\"\",'统招（小学）'!#REF!)","v":{"$error":"#REF!"}},{"$f":"IF('统招（小学）'!#REF!=0,\"\",'统招（小学）'!#REF!)","v":{"$error":"#REF!"}},{"$f":"IF('统招（小学）'!#REF!=0,\"\",'统招（小学）'!#REF!)","v":{"$error":"#REF!"}},{"$f":"IF('统招（小学）'!#REF!=0,\"\",'统招（小学）'!#REF!)","v":{"$error":"#REF!"}},{"$f":"IF('统招（小学）'!#REF!=0,\"\",'统招（小学）'!#REF!)","v":{"$error":"#REF!"}},{"$f":"IF('统招（小学）'!#REF!=0,\"\",'统招（小学）'!#REF!)","v":{"$error":"#REF!"}},{"$f":"IF('统招（小学）'!#REF!=0,\"\",'统招（小学）'!#REF!)","v":{"$error":"#REF!"}},{"$f":"IF('统招（小学）'!#REF!=0,\"\",'统招（小学）'!#REF!)","v":{"$error":"#REF!"}},{"$f":"IF('统招（小学）'!#REF!=0,\"\",'统招（小学）'!#REF!)","v":{"$error":"#REF!"}},{"$f":"IF('统招（小学）'!#REF!=0,\"\",'统招（小学）'!#REF!)","v":{"$error":"#REF!"}},{"$f":"IF('统招（小学）'!#REF!=0,\"\",'统招（小学）'!#REF!)","v":{"$error":"#REF!"}},{"$f":"IF('统招（小学）'!#REF!=0,\"\",'统招（小学）'!#REF!)","v":{"$error":"#REF!"}},{"$f":"IF('统招（小学）'!#REF!=0,\"\",'统招（小学）'!#REF!)","v":{"$error":"#REF!"}},{"$f":"IF('统招（小学）'!#REF!=0,\"\",'统招（小学）'!#REF!)","v":{"$error":"#REF!"}},{"$error":"#REF!"},null,1,{"$nulls":5},{"$f":"SUM(AR52:AX52)","v":1}]
["向塘二中",63,43,1324,1318,26,27,114,{"v":48.8148148148148,"d":"49"},{"v":75.6,"d":"76"},{"v":97.6296296296296,"d":"98"},100,{"$nulls":4},{"$f":"IF('统招（小学）'!#REF!=0,\"\",'统招（小学）'!#REF!)","v":{"$error":"#REF!"}},{"$f":"IF('统招（小学）'!#REF!=0,\"\",'统招（小学）'!#REF!)","v":{"$error":"#REF!"}},{"$f":"IF('统招（小学）'!#REF!=0,\"\",'统招（小学）'!#REF!)","v":{"$error":"#REF!"}},{"$f":"IF('统招（小学）'!#REF!=0,\"\",'统招（小学）'!#REF!)","v":{"$error":"#REF!"}},{"$f":"IF('统招（小学）'!#REF!=0,\"\",'统招（小学）'!#REF!)","v":{"$error":"#REF!"}},{"$f":"IF('统招（小学）'!#REF!=0,\"\",'统招（小学）'!#REF!)","v":{"$error":"#REF!"}},{"$f":"IF('统招（小学）'!#REF!=0,\"\",'统招（小学）'!#REF!)","v":{"$error":"#REF!"}},{"$f":"IF('统招（小学）'!#REF!=0,\"\",'统招（小学）'!#REF!)","v":{"$error":"#REF!"}},{"$f":"IF('统招（小学）'!#REF!=0,\"\",'统招（小学）'!#REF!)","v":{"$error":"#REF!"}},{"$f":"IF('统招（小学）'!#REF!=0,\"\",'统招（小学）'!#REF!)","v":{"$error":"#REF!"}},{"$f":"IF('统招（小学）'!#REF!=0,\"\",'统招（小学）'!#REF!)","v":{"$error":"#REF!"}},{"$f":"IF('统招（小学）'!#REF!=0,\"\",'统招（小学）'!#REF!)","v":{"$error":"#REF!"}},{"$f":"IF('统招（小学）'!#REF!=0,\"\",'统招（小学）'!#REF!)","v":{"$error":"#REF!"}},{"$f":"IF('统招（小学）'!#REF!=0,\"\",'统招（小学）'!#REF!)","v":{"$error":"#REF!"}},{"$f":"IF('统招（小学）'!#REF!=0,\"\",'统招（小学）'!#REF!)","v":{"$error":"#REF!"}},{"$f":"IF('统招（小学）'!#REF!=0,\"\",'统招（小学）'!#REF!)","v":{"$error":"#REF!"}},{"$f":"IF('统招（小学）'!#REF!=0,\"\",'统招（小学）'!#REF!)","v":{"$error":"#REF!"}},{"$f":"IF('统招（小学）'!#REF!=0,\"\",'统招（小学）'!#REF!)","v":{"$error":"#REF!"}},{"$f":"IF('统招（小学）'!#REF!=0,\"\",'统招（小学）'!#REF!)","v":{"$error":"#REF!"}},{"$f":"IF('统招（小学）'!#REF!=0,\"\",'统招（小学）'!#REF!)","v":{"$error":"#REF!"}},{"$f":"IF('统招（小学）'!#REF!=0,\"\",'统招（小学）'!#REF!)","v":{"$error":"#REF!"}},{"$f":"IF('统招（小学）'!#REF!=0,\"\",'统招（小学）'!#REF!)","v":{"$error":"#REF!"}},{"$f":"IF('统招（小学）'!#REF!=0,\"\",'统招（小学）'!#REF!)","v":{"$error":"#REF!"}},{"$f":"IF('统招（小学）'!#REF!=0,\"\",'统招（小学）'!#REF!)","v":{"$error":"#REF!"}},{"$f":"IF('统招（小学）'!#REF!=0,\"\",'统招（小学）'!#REF!)","v":{"$error":"#REF!"}},{"$f":"IF('统招（小学）'!#REF!=0,\"\",'统招（小学）'!#REF!)","v":{"$error":"#REF!"}},{"$error":"#REF!"},{"$nulls":7},0]
["向塘实验学校（小学）",19,44,2243,2437,34,42,109,{"v":58.0238095238095,"d":"58"},{"$f":"G54*2","v":84},{"$f":"E54/19","v":{"v":128.263157894737,"d":"128"}},null,{"$f":"(J54+K54)/2","v":{"v":106.131578947368,"d":"106"}},{"$f":"K54-H54","v":{"v":19.2631578947368,"d":"19"}},0,{"$f":"J54-H54","v":-25},{"$f":"IF('统招（小学）'!C4=0,\"\",'统招（小学）'!C4)","v":1},{"$f":"IF('统招（小学）'!#REF!=0,\"\",'统招（小学）'!#REF!)","v":{"$error":"#REF!"}},{"$f":"IF('统招（小学）'!D4=0,\"\",'统招（小学）'!D4)","v":""},{"$f":"IF('统招（小学）'!E4=0,\"\",'统招（小学）'!E4)","v":1},{"$f":"IF('统招（小学）'!F4=0,\"\",'统招（小学）'!F4)","v":""},{"$f":"IF('统招（小学）'!G4=0,\"\",'统招（小学）'!G4)","v":""},{"$f":"IF('统招（小学）'!H4=0,\"\",'统招（小学）'!H4)","v":1},{"$f":"IF('统招（小学）'!I4=0,\"\",'统招（小学）'!I4)","v":""},{"$f":"IF('统招（小学）'!J4=0,\"\",'统招（小学）'!J4)","v":""},{"$f":"IF('统招（小学）'!K4=0,\"\",'统招（小学）'!K4)","v":""},{"$f":"IF('统招（小学）'!S4=0,\"\",'统招（小学）'!S4)","v":""},{"$f":"IF('统招（小学）'!T4=0,\"\",'统招（小学）'!T4)","v":""},{"$f":"IF('统招（小学）'!U4=0,\"\",'统招（小学）'!U4)","v":""},{"$f":"IF('统招（小学）'!V4=0,\"\",'统招（小学）'!V4)","v":""},{"$f":"IF('统招（小学）'!#REF!=0,\"\",'统招（小学）'!#REF!)","v":{"$error":"#REF!"}},{"$f":"IF('统招（小学）'!#REF!=0,\"\",'统招（小学）'!#REF!)","v":{"$error":"#REF!"}},{"$f":"IF('统招（小学）'!#REF!=0,\"\",'统招（小学）'!#REF!)","v":{"$error":"#REF!"}},{"$f":"IF('统招（小学）'!#REF!=0,\"\",'统招（小学）'!#REF!)","v":{"$error":"#REF!"}},{"$f":"IF('统招（小学）'!#REF!=0,\"\",'统招（小学）'!#REF!)","v":{"$error":"#REF!"}},{"$f":"IF('统招（小学）'!#REF!=0,\"\",'统招（小学）'!#REF!)","v":{"$error":"#REF!"}},{"$f":"IF('统招（小学）'!#REF!=0,\"\",'统招（小学）'!#REF!)","v":{"$error":"#REF!"}},{"$f":"IF('统招（小学）'!#REF!=0,\"\",'统招（小学）'!#REF!)","v":{"$error":"#REF!"}},{"$f":"IF('统招（小学）'!#REF!=0,\"\",'统招（小学）'!#REF!)","v":{"$error":"#REF!"}},{"$f":"IF('统招（小学）'!#REF!=0,\"\",'统招（小学）'!#REF!)","v":{"$error":"#REF!"}},{"$f":"IF('统招（小学）'!#REF!=0,\"\",'统招（小学）'!#REF!)","v":{"$error":"#REF!"}},{"$f":"IF('统招（小学）'!#REF!=0,\"\",'统招（小学）'!#REF!)","v":{"$error":"#REF!"}},{"$error":"#REF!"},9,{"$nulls":6},9,{"$f":"SUM(AQ54:AX54)","v":{"$error":"#REF!"}},{"$f":"AZ54-AX54","v":{"$error":"#REF!"}},{"$f":"BA54+H54","v":{"$error":"#REF!"}}]
["向塘实验学校（初中）",64,44,1352,1497,21,24,83,{"v":62.375,"d":"62"},{"$f":"G55*2.8","v":{"v":67.2,"d":"67"}},{"$f":"E55/13.5","v":{"v":110.888888888889,"d":"111"}},{"$f":"G55*50/13.5","v":{"v":88.8888888888889,"d":"89"}},{"$nulls":4},{"$f":"IF('统招（小学）'!#REF!=0,\"\",'统招（小学）'!#REF!)","v":{"$error":"#REF!"}},{"$f":"IF('统招（小学）'!#REF!=0,\"\",'统招（小学）'!#REF!)","v":{"$error":"#REF!"}},{"$f":"IF('统招（小学）'!#REF!=0,\"\",'统招（小学）'!#REF!)","v":{"$error":"#REF!"}},{"$f":"IF('统招（小学）'!#REF!=0,\"\",'统招（小学）'!#REF!)","v":{"$error":"#REF!"}},{"$f":"IF('统招（小学）'!#REF!=0,\"\",'统招（小学）'!#REF!)","v":{"$error":"#REF!"}},{"$f":"IF('统招（小学）'!#REF!=0,\"\",'统招（小学）'!#REF!)","v":{"$error":"#REF!"}},{"$f":"IF('统招（小学）'!#REF!=0,\"\",'统招（小学）'!#REF!)","v":{"$error":"#REF!"}},{"$f":"IF('统招（小学）'!#REF!=0,\"\",'统招（小学）'!#REF!)","v":{"$error":"#REF!"}},{"$f":"IF('统招（小学）'!#REF!=0,\"\",'统招（小学）'!#REF!)","v":{"$error":"#REF!"}},{"$f":"IF('统招（小学）'!#REF!=0,\"\",'统招（小学）'!#REF!)","v":{"$error":"#REF!"}},{"$f":"IF('统招（小学）'!#REF!=0,\"\",'统招（小学）'!#REF!)","v":{"$error":"#REF!"}},{"$f":"IF('统招（小学）'!#REF!=0,\"\",'统招（小学）'!#REF!)","v":{"$error":"#REF!"}},{"$f":"IF('统招（小学）'!#REF!=0,\"\",'统招（小学）'!#REF!)","v":{"$error":"#REF!"}},{"$f":"IF('统招（小学）'!#REF!=0,\"\",'统招（小学）'!#REF!)","v":{"$error":"#REF!"}},{"$f":"IF('统招（小学）'!#REF!=0,\"\",'统招（小学）'!#REF!)","v":{"$error":"#REF!"}},{"$f":"IF('统招（小学）'!#REF!=0,\"\",'统招（小学）'!#REF!)","v":{"$error":"#REF!"}},{"$f":"IF('统招（小学）'!#REF!=0,\"\",'统招（小学）'!#REF!)","v":{"$error":"#REF!"}},{"$f":"IF('统招（小学）'!#REF!=0,\"\",'统招（小学）'!#REF!)","v":{"$error":"#REF!"}},{"$f":"IF('统招（小学）'!#REF!=0,\"\",'统招（小学）'!#REF!)","v":{"$error":"#REF!"}},{"$f":"IF('统招（小学）'!#REF!=0,\"\",'统招（小学）'!#REF!)","v":{"$error":"#REF!"}},{"$f":"IF('统招（小学）'!#REF!=0,\"\",'统招（小学）'!#REF!)","v":{"$error":"#REF!"}},{"$f":"IF('统招（小学）'!#REF!=0,\"\",'统招（小学）'!#REF!)","v":{"$error":"#REF!"}},{"$f":"IF('统招（小学）'!#REF!=0,\"\",'统招（小学）'!#REF!)","v":{"$error":"#REF!"}},{"$f":"IF('统招（小学）'!#REF!=0,\"\",'统招（小学）'!#REF!)","v":{"$error":"#REF!"}},{"$f":"IF('统招（小学）'!#REF!=0,\"\",'统招（小学）'!#REF!)","v":{"$error":"#REF!"}},{"$f":"IF('统招（小学）'!#REF!=0,\"\",'统招（小学）'!#REF!)","v":{"$error":"#REF!"}},{"$error":"#REF!"},null,1,{"$nulls":5},1]
["向塘向阳学校(小学）",20,45,204,166,14,15,29,{"v":11.0666666666667,"d":"11"},{"$f":"G56*2","v":30},{"$f":"E56/19","v":{"v":8.73684210526316,"d":"9"}},null,{"$f":"(J56+K56)/2","v":{"v":19.3684210526316,"d":"19"}},{"$f":"K56-H56","v":{"v":-20.2631578947368,"d":"-20"}},0,{"$f":"J56-H56","v":1},{"$f":"IF('统招（小学）'!#REF!=0,\"\",'统招（小学）'!#REF!)","v":{"$error":"#REF!"}},{"$f":"IF('统招（小学）'!#REF!=0,\"\",'统招（小学）'!#REF!)","v":{"$error":"#REF!"}},{"$f":"IF('统招（小学）'!#REF!=0,\"\",'统招（小学）'!#REF!)","v":{"$error":"#REF!"}},{"$f":"IF('统招（小学）'!#REF!=0,\"\",'统招（小学）'!#REF!)","v":{"$error":"#REF!"}},{"$f":"IF('统招（小学）'!#REF!=0,\"\",'统招（小学）'!#REF!)","v":{"$error":"#REF!"}},{"$f":"IF('统招（小学）'!#REF!=0,\"\",'统招（小学）'!#REF!)","v":{"$error":"#REF!"}},{"$f":"IF('统招（小学）'!#REF!=0,\"\",'统招（小学）'!#REF!)","v":{"$error":"#REF!"}},{"$f":"IF('统招（小学）'!#REF!=0,\"\",'统招（小学）'!#REF!)","v":{"$error":"#REF!"}},{"$f":"IF('统招（小学）'!#REF!=0,\"\",'统招（小学）'!#REF!)","v":{"$error":"#REF!"}},{"$f":"IF('统招（小学）'!#REF!=0,\"\",'统招（小学）'!#REF!)","v":{"$error":"#REF!"}},{"$f":"IF('统招（小学）'!#REF!=0,\"\",'统招（小学）'!#REF!)","v":{"$error":"#REF!"}},{"$f":"IF('统招（小学）'!#REF!=0,\"\",'统招（小学）'!#REF!)","v":{"$error":"#REF!"}},{"$f":"IF('统招（小学）'!#REF!=0,\"\",'统招（小学）'!#REF!)","v":{"$error":"#REF!"}},{"$f":"IF('统招（小学）'!#REF!=0,\"\",'统招（小学）'!#REF!)","v":{"$error":"#REF!"}},{"$f":"IF('统招（小学）'!#REF!=0,\"\",'统招（小学）'!#REF!)","v":{"$error":"#REF!"}},{"$f":"IF('统招（小学）'!#REF!=0,\"\",'统招（小学）'!#REF!)","v":{"$error":"#REF!"}},{"$f":"IF('统招（小学）'!#REF!=0,\"\",'统招（小学）'!#REF!)","v":{"$error":"#REF!"}},{"$f":"IF('统招（小学）'!#REF!=0,\"\",'统招（小学）'!#REF!)","v":{"$error":"#REF!"}},{"$f":"IF('统招（小学）'!#REF!=0,\"\",'统招（小学）'!#REF!)","v":{"$error":"#REF!"}},{"$f":"IF('统招（小学）'!#REF!=0,\"\",'统招（小学）'!#REF!)","v":{"$error":"#REF!"}},{"$f":"IF('统招（小学）'!#REF!=0,\"\",'统招（小学）'!#REF!)","v":{"$error":"#REF!"}},{"$f":"IF('统招（小学）'!#REF!=0,\"\",'统招（小学）'!#REF!)","v":{"$error":"#REF!"}},{"$f":"IF('统招（小学）'!#REF!=0,\"\",'统招（小学）'!#REF!)","v":{"$error":"#REF!"}},{"$f":"IF('统招（小学）'!#REF!=0,\"\",'统招（小学）'!#REF!)","v":{"$error":"#REF!"}},{"$f":"IF('统招（小学）'!#REF!=0,\"\",'统招（小学）'!#REF!)","v":{"$error":"#REF!"}},{"$f":"IF('统招（小学）'!#REF!=0,\"\",'统招（小学）'!#REF!)","v":{"$error":"#REF!"}},{"$error":"#REF!"},1,{"$nulls":6},1,{"$f":"SUM(AQ56:AX56)","v":{"$error":"#REF!"}},{"$f":"AZ56-AX56","v":{"$error":"#REF!"}},{"$f":"BA56+H56","v":{"$error":"#REF!"}}]
["向塘向阳学校(初中）",65,45,175,141,6,5,22,{"v":28.2,"d":"28"},14,{"v":10.4444444444444,"d":"10"},{"v":18.5185185185185,"d":"19"},{"$nulls":4},{"$f":"IF('统招（小学）'!#REF!=0,\"\",'统招（小学）'!#REF!)","v":{"$error":"#REF!"}},{"$f":"IF('统招（小学）'!#REF!=0,\"\",'统招（小学）'!#REF!)","v":{"$error":"#REF!"}},{"$f":"IF('统招（小学）'!#REF!=0,\"\",'统招（小学）'!#REF!)","v":{"$error":"#REF!"}},{"$f":"IF('统招（小学）'!#REF!=0,\"\",'统招（小学）'!#REF!)","v":{"$error":"#REF!"}},{"$f":"IF('统招（小学）'!#REF!=0,\"\",'统招（小学）'!#REF!)","v":{"$error":"#REF!"}},{"$f":"IF('统招（小学）'!#REF!=0,\"\",'统招（小学）'!#REF!)","v":{"$error":"#REF!"}},{"$f":"IF('统招（小学）'!#REF!=0,\"\",'统招（小学）'!#REF!)","v":{"$error":"#REF!"}},{"$f":"IF('统招（小学）'!#REF!=0,\"\",'统招（小学）'!#REF!)","v":{"$error":"#REF!"}},{"$f":"IF('统招（小学）'!#REF!=0,\"\",'统招（小学）'!#REF!)","v":{"$error":"#REF!"}},{"$f":"IF('统招（小学）'!#REF!=0,\"\",'统招（小学）'!#REF!)","v":{"$error":"#REF!"}},{"$f":"IF('统招（小学）'!#REF!=0,\"\",'统招（小学）'!#REF!)","v":{"$error":"#REF!"}},{"$f":"IF('统招（小学）'!#REF!=0,\"\",'统招（小学）'!#REF!)","v":{"$error":"#REF!"}},{"$f":"IF('统招（小学）'!#REF!=0,\"\",'统招（小学）'!#REF!)","v":{"$error":"#REF!"}},{"$f":"IF('统招（小学）'!#REF!=0,\"\",'统招（小学）'!#REF!)","v":{"$error":"#REF!"}},{"$f":"IF('统招（小学）'!#REF!=0,\"\",'统招（小学）'!#REF!)","v":{"$error":"#REF!"}},{"$f":"IF('统招（小学）'!#REF!=0,\"\",'统招（小学）'!#REF!)","v":{"$error":"#REF!"}},{"$f":"IF('统招（小学）'!#REF!=0,\"\",'统招（小学）'!#REF!)","v":{"$error":"#REF!"}},{"$f":"IF('统招（小学）'!#REF!=0,\"\",'统招（小学）'!#REF!)","v":{"$error":"#REF!"}},{"$f":"IF('统招（小学）'!#REF!=0,\"\",'统招（小学）'!#REF!)","v":{"$error":"#REF!"}},{"$f":"IF('统招（小学）'!#REF!=0,\"\",'统招（小学）'!#REF!)","v":{"$error":"#REF!"}},{"$f":"IF('统招（小学）'!#REF!=0,\"\",'统招（小学）'!#REF!)","v":{"$error":"#REF!"}},{"$f":"IF('统招（小学）'!#REF!=0,\"\",'统招（小学）'!#REF!)","v":{"$error":"#REF!"}},{"$f":"IF('统招（小学）'!#REF!=0,\"\",'统招（小学）'!#REF!)","v":{"$error":"#REF!"}},{"$f":"IF('统招（小学）'!#REF!=0,\"\",'统招（小学）'!#REF!)","v":{"$error":"#REF!"}},{"$f":"IF('统招（小学）'!#REF!=0,\"\",'统招（小学）'!#REF!)","v":{"$error":"#REF!"}},{"$f":"IF('统招（小学）'!#REF!=0,\"\",'统招（小学）'!#REF!)","v":{"$error":"#REF!"}},{"$error":"#REF!"},{"$nulls":7},0]
["黄马中学",66,46,494,401,11,10,50,{"v":40.1,"d":"40"},28,{"v":29.7037037037037,"d":"30"},{"v":37.037037037037,"d":"37"},{"$nulls":4},{"$f":"IF('统招（小学）'!#REF!=0,\"\",'统招（小学）'!#REF!)","v":{"$error":"#REF!"}},{"$f":"IF('统招（小学）'!#REF!=0,\"\",'统招（小学）'!#REF!)","v":{"$error":"#REF!"}},{"$f":"IF('统招（小学）'!#REF!=0,\"\",'统招（小学）'!#REF!)","v":{"$error":"#REF!"}},{"$f":"IF('统招（小学）'!#REF!=0,\"\",'统招（小学）'!#REF!)","v":{"$error":"#REF!"}},{"$f":"IF('统招（小学）'!#REF!=0,\"\",'统招（小学）'!#REF!)","v":{"$error":"#REF!"}},{"$f":"IF('统招（小学）'!#REF!=0,\"\",'统招（小学）'!#REF!)","v":{"$error":"#REF!"}},{"$f":"IF('统招（小学）'!#REF!=0,\"\",'统招（小学）'!#REF!)","v":{"$error":"#REF!"}},{"$f":"IF('统招（小学）'!#REF!=0,\"\",'统招（小学）'!#REF!)","v":{"$error":"#REF!"}},{"$f":"IF('统招（小学）'!#REF!=0,\"\",'统招（小学）'!#REF!)","v":{"$error":"#REF!"}},{"$f":"IF('统招（小学）'!#REF!=0,\"\",'统招（小学）'!#REF!)","v":{"$error":"#REF!"}},{"$f":"IF('统招（小学）'!#REF!=0,\"\",'统招（小学）'!#REF!)","v":{"$error":"#REF!"}},{"$f":"IF('统招（小学）'!#REF!=0,\"\",'统招（小学）'!#REF!)","v":{"$error":"#REF!"}},{"$f":"IF('统招（小学）'!#REF!=0,\"\",'统招（小学）'!#REF!)","v":{"$error":"#REF!"}},{"$f":"IF('统招（小学）'!#REF!=0,\"\",'统招（小学）'!#REF!)","v":{"$error":"#REF!"}},{"$f":"IF('统招（小学）'!#REF!=0,\"\",'统招（小学）'!#REF!)","v":{"$error":"#REF!"}},{"$f":"IF('统招（小学）'!#REF!=0,\"\",'统招（小学）'!#REF!)","v":{"$error":"#REF!"}},{"$f":"IF('统招（小学）'!#REF!=0,\"\",'统招（小学）'!#REF!)","v":{"$error":"#REF!"}},{"$f":"IF('统招（小学）'!#REF!=0,\"\",'统招（小学）'!#REF!)","v":{"$error":"#REF!"}},{"$f":"IF('统招（小学）'!#REF!=0,\"\",'统招（小学）'!#REF!)","v":{"$error":"#REF!"}},{"$f":"IF('统招（小学）'!#REF!=0,\"\",'统招（小学）'!#REF!)","v":{"$error":"#REF!"}},{"$f":"IF('统招（小学）'!#REF!=0,\"\",'统招（小学）'!#REF!)","v":{"$error":"#REF!"}},{"$f":"IF('统招（小学）'!#REF!=0,\"\",'统招（小学）'!#REF!)","v":{"$error":"#REF!"}},{"$f":"IF('统招（小学）'!#REF!=0,\"\",'统招（小学）'!#REF!)","v":{"$error":"#REF!"}},{"$f":"IF('统招（小学）'!#REF!=0,\"\",'统招（小学）'!#REF!)","v":{"$error":"#REF!"}},{"$f":"IF('统招（小学）'!#REF!=0,\"\",'统招（小学）'!#REF!)","v":{"$error":"#REF!"}},{"$f":"IF('统招（小学）'!#REF!=0,\"\",'统招（小学）'!#REF!)","v":{"$error":"#REF!"}},{"$error":"#REF!"},{"$nulls":7},0]
["三江中学",67,47,839,770,15,17,59,{"v":45.2941176470588,"d":"45"},{"v":47.6,"d":"48"},{"v":57.037037037037,"d":"57"},{"v":62.962962962963,"d":"63"},{"$nulls":4},{"$f":"IF('统招（小学）'!#REF!=0,\"\",'统招（小学）'!#REF!)","v":{"$error":"#REF!"}},{"$f":"IF('统招（小学）'!#REF!=0,\"\",'统招（小学）'!#REF!)","v":{"$error":"#REF!"}},{"$f":"IF('统招（小学）'!#REF!=0,\"\",'统招（小学）'!#REF!)","v":{"$error":"#REF!"}},{"$f":"IF('统招（小学）'!#REF!=0,\"\",'统招（小学）'!#REF!)","v":{"$error":"#REF!"}},{"$f":"IF('统招（小学）'!#REF!=0,\"\",'统招（小学）'!#REF!)","v":{"$error":"#REF!"}},{"$f":"IF('统招（小学）'!#REF!=0,\"\",'统招（小学）'!#REF!)","v":{"$error":"#REF!"}},{"$f":"IF('统招（小学）'!#REF!=0,\"\",'统招（小学）'!#REF!)","v":{"$error":"#REF!"}},{"$f":"IF('统招（小学）'!#REF!=0,\"\",'统招（小学）'!#REF!)","v":{"$error":"#REF!"}},{"$f":"IF('统招（小学）'!#REF!=0,\"\",'统招（小学）'!#REF!)","v":{"$error":"#REF!"}},{"$f":"IF('统招（小学）'!#REF!=0,\"\",'统招（小学）'!#REF!)","v":{"$error":"#REF!"}},{"$f":"IF('统招（小学）'!#REF!=0,\"\",'统招（小学）'!#REF!)","v":{"$error":"#REF!"}},{"$f":"IF('统招（小学）'!#REF!=0,\"\",'统招（小学）'!#REF!)","v":{"$error":"#REF!"}},{"$f":"IF('统招（小学）'!#REF!=0,\"\",'统招（小学）'!#REF!)","v":{"$error":"#REF!"}},{"$f":"IF('统招（小学）'!#REF!=0,\"\",'统招（小学）'!#REF!)","v":{"$error":"#REF!"}},{"$f":"IF('统招（小学）'!#REF!=0,\"\",'统招（小学）'!#REF!)","v":{"$error":"#REF!"}},{"$f":"IF('统招（小学）'!#REF!=0,\"\",'统招（小学）'!#REF!)","v":{"$error":"#REF!"}},{"$f":"IF('统招（小学）'!#REF!=0,\"\",'统招（小学）'!#REF!)","v":{"$error":"#REF!"}},{"$f":"IF('统招（小学）'!#REF!=0,\"\",'统招（小学）'!#REF!)","v":{"$error":"#REF!"}},{"$f":"IF('统招（小学）'!#REF!=0,\"\",'统招（小学）'!#REF!)","v":{"$error":"#REF!"}},{"$f":"IF('统招（小学）'!#REF!=0,\"\",'统招（小学）'!#REF!)","v":{"$error":"#REF!"}},{"$f":"IF('统招（小学）'!#REF!=0,\"\",'统招（小学）'!#REF!)","v":{"$error":"#REF!"}},{"$f":"IF('统招（小学）'!#REF!=0,\"\",'统招（小学）'!#REF!)","v":{"$error":"#REF!"}},{"$f":"IF('统招（小学）'!#REF!=0,\"\",'统招（小学）'!#REF!)","v":{"$error":"#REF!"}},{"$f":"IF('统招（小学）'!#REF!=0,\"\",'统招（小学）'!#REF!)","v":{"$error":"#REF!"}},{"$f":"IF('统招（小学）'!#REF!=0,\"\",'统招（小学）'!#REF!)","v":{"$error":"#REF!"}},{"$f":"IF('统招（小学）'!#REF!=0,\"\",'统招（小学）'!#REF!)","v":{"$error":"#REF!"}},{"$error":"#REF!"},{"$nulls":7},0]
["广福一中",68,48,559,485,12,10,44,{"v":48.5,"d":"49"},28,{"v":35.9259259259259,"d":"36"},{"v":37.037037037037,"d":"37"},{"$nulls":4},{"$f":"IF('统招（小学）'!#REF!=0,\"\",'统招（小学）'!#REF!)","v":{"$error":"#REF!"}},{"$f":"IF('统招（小学）'!#REF!=0,\"\",'统招（小学）'!#REF!)","v":{"$error":"#REF!"}},{"$f":"IF('统招（小学）'!#REF!=0,\"\",'统招（小学）'!#REF!)","v":{"$error":"#REF!"}},{"$f":"IF('统招（小学）'!#REF!=0,\"\",'统招（小学）'!#REF!)","v":{"$error":"#REF!"}},{"$f":"IF('统招（小学）'!#REF!=0,\"\",'统招（小学）'!#REF!)","v":{"$error":"#REF!"}},{"$f":"IF('统招（小学）'!#REF!=0,\"\",'统招（小学）'!#REF!)","v":{"$error":"#REF!"}},{"$f":"IF('统招（小学）'!#REF!=0,\"\",'统招（小学）'!#REF!)","v":{"$error":"#REF!"}},{"$f":"IF('统招（小学）'!#REF!=0,\"\",'统招（小学）'!#REF!)","v":{"$error":"#REF!"}},{"$f":"IF('统招（小学）'!#REF!=0,\"\",'统招（小学）'!#REF!)","v":{"$error":"#REF!"}},{"$f":"IF('统招（小学）'!#REF!=0,\"\",'统招（小学）'!#REF!)","v":{"$error":"#REF!"}},{"$f":"IF('统招（小学）'!#REF!=0,\"\",'统招（小学）'!#REF!)","v":{"$error":"#REF!"}},{"$f":"IF('统招（小学）'!#REF!=0,\"\",'统招（小学）'!#REF!)","v":{"$error":"#REF!"}},{"$f":"IF('统招（小学）'!#REF!=0,\"\",'统招（小学）'!#REF!)","v":{"$error":"#REF!"}},{"$f":"IF('统招（小学）'!#REF!=0,\"\",'统招（小学）'!#REF!)","v":{"$error":"#REF!"}},{"$f":"IF('统招（小学）'!#REF!=0,\"\",'统招（小学）'!#REF!)","v":{"$error":"#REF!"}},{"$f":"IF('统招（小学）'!#REF!=0,\"\",'统招（小学）'!#REF!)","v":{"$error":"#REF!"}},{"$f":"IF('统招（小学）'!#REF!=0,\"\",'统招（小学）'!#REF!)","v":{"$error":"#REF!"}},{"$f":"IF('统招（小学）'!#REF!=0,\"\",'统招（小学）'!#REF!)","v":{"$error":"#REF!"}},{"$f":"IF('统招（小学）'!#REF!=0,\"\",'统招（小学）'!#REF!)","v":{"$error":"#REF!"}},{"$f":"IF('统招（小学）'!#REF!=0,\"\",'统招（小学）'!#REF!)","v":{"$error":"#REF!"}},{"$f":"IF('统招（小学）'!#REF!=0,\"\",'统招（小学）'!#REF!)","v":{"$error":"#REF!"}},{"$f":"IF('统招（小学）'!#REF!=0,\"\",'统招（小学）'!#REF!)","v":{"$error":"#REF!"}},{"$f":"IF('统招（小学）'!#REF!=0,\"\",'统招（小学）'!#REF!)","v":{"$error":"#REF!"}},{"$f":"IF('统招（小学）'!#REF!=0,\"\",'统招（小学）'!#REF!)","v":{"$error":"#REF!"}},{"$f":"IF('统招（小学）'!#REF!=0,\"\",'统招（小学）'!#REF!)","v":{"$error":"#REF!"}},{"$f":"IF('统招（小学）'!#REF!=0,\"\",'统招（小学）'!#REF!)","v":{"$error":"#REF!"}},{"$error":"#REF!"},{"$nulls":7},0]
["广福二中",69,49,1041,919,17,17,53,{"v":54.0588235294118,"d":"54"},{"v":47.6,"d":"48"},{"v":68.0740740740741,"d":"68"},{"v":62.962962962963,"d":"63"},{"$nulls":4},{"$f":"IF('统招（小学）'!#REF!=0,\"\",'统招（小学）'!#REF!)","v":{"$error":"#REF!"}},{"$f":"IF('统招（小学）'!#REF!=0,\"\",'统招（小学）'!#REF!)","v":{"$error":"#REF!"}},{"$f":"IF('统招（小学）'!#REF!=0,\"\",'统招（小学）'!#REF!)","v":{"$error":"#REF!"}},{"$f":"IF('统招（小学）'!#REF!=0,\"\",'统招（小学）'!#REF!)","v":{"$error":"#REF!"}},{"$f":"IF('统招（小学）'!#REF!=0,\"\",'统招（小学）'!#REF!)","v":{"$error":"#REF!"}},{"$f":"IF('统招（小学）'!#REF!=0,\"\",'统招（小学）'!#REF!)","v":{"$error":"#REF!"}},{"$f":"IF('统招（小学）'!#REF!=0,\"\",'统招（小学）'!#REF!)","v":{"$error":"#REF!"}},{"$f":"IF('统招（小学）'!#REF!=0,\"\",'统招（小学）'!#REF!)","v":{"$error":"#REF!"}},{"$f":"IF('统招（小学）'!#REF!=0,\"\",'统招（小学）'!#REF!)","v":{"$error":"#REF!"}},{"$f":"IF('统招（小学）'!#REF!=0,\"\",'统招（小学）'!#REF!)","v":{"$error":"#REF!"}},{"$f":"IF('统招（小学）'!#REF!=0,\"\",'统招（小学）'!#REF!)","v":{"$error":"#REF!"}},{"$f":"IF('统招（小学）'!#REF!=0,\"\",'统招（小学）'!#REF!)","v":{"$error":"#REF!"}},{"$f":"IF('统招（小学）'!#REF!=0,\"\",'统招（小学）'!#REF!)","v":{"$error":"#REF!"}},{"$f":"IF('统招（小学）'!#REF!=0,\"\",'统招（小学）'!#REF!)","v":{"$error":"#REF!"}},{"$f":"IF('统招（小学）'!#REF!=0,\"\",'统招（小学）'!#REF!)","v":{"$error":"#REF!"}},{"$f":"IF('统招（小学）'!#REF!=0,\"\",'统招（小学）'!#REF!)","v":{"$error":"#REF!"}},{"$f":"IF('统招（小学）'!#REF!=0,\"\",'统招（小学）'!#REF!)","v":{"$error":"#REF!"}},{"$f":"IF('统招（小学）'!#REF!=0,\"\",'统招（小学）'!#REF!)","v":{"$error":"#REF!"}},{"$f":"IF('统招（小学）'!#REF!=0,\"\",'统招（小学）'!#REF!)","v":{"$error":"#REF!"}},{"$f":"IF('统招（小学）'!#REF!=0,\"\",'统招（小学）'!#REF!)","v":{"$error":"#REF!"}},{"$f":"IF('统招（小学）'!#REF!=0,\"\",'统招（小学）'!#REF!)","v":{"$error":"#REF!"}},{"$f":"IF('统招（小学）'!#REF!=0,\"\",'统招（小学）'!#REF!)","v":{"$error":"#REF!"}},{"$f":"IF('统招（小学）'!#REF!=0,\"\",'统招（小学）'!#REF!)","v":{"$error":"#REF!"}},{"$f":"IF('统招（小学）'!#REF!=0,\"\",'统招（小学）'!#REF!)","v":{"$error":"#REF!"}},{"$f":"IF('统招（小学）'!#REF!=0,\"\",'统招（小学）'!#REF!)","v":{"$error":"#REF!"}},{"$f":"IF('统招（小学）'!#REF!=0,\"\",'统招（小学）'!#REF!)","v":{"$error":"#REF!"}},{"$error":"#REF!"},{"$nulls":7},0]
["冈上中学",70,50,533,547,11,11,52,{"v":49.7272727272727,"d":"50"},{"v":30.8,"d":"31"},{"v":40.5185185185185,"d":"41"},{"v":40.7407407407407,"d":"41"},{"$nulls":4},{"$f":"IF('统招（小学）'!#REF!=0,\"\",'统招（小学）'!#REF!)","v":{"$error":"#REF!"}},{"$f":"IF('统招（小学）'!#REF!=0,\"\",'统招（小学）'!#REF!)","v":{"$error":"#REF!"}},{"$f":"IF('统招（小学）'!#REF!=0,\"\",'统招（小学）'!#REF!)","v":{"$error":"#REF!"}},{"$f":"IF('统招（小学）'!#REF!=0,\"\",'统招（小学）'!#REF!)","v":{"$error":"#REF!"}},{"$f":"IF('统招（小学）'!#REF!=0,\"\",'统招（小学）'!#REF!)","v":{"$error":"#REF!"}},{"$f":"IF('统招（小学）'!#REF!=0,\"\",'统招（小学）'!#REF!)","v":{"$error":"#REF!"}},{"$f":"IF('统招（小学）'!#REF!=0,\"\",'统招（小学）'!#REF!)","v":{"$error":"#REF!"}},{"$f":"IF('统招（小学）'!#REF!=0,\"\",'统招（小学）'!#REF!)","v":{"$error":"#REF!"}},{"$f":"IF('统招（小学）'!#REF!=0,\"\",'统招（小学）'!#REF!)","v":{"$error":"#REF!"}},{"$f":"IF('统招（小学）'!#REF!=0,\"\",'统招（小学）'!#REF!)","v":{"$error":"#REF!"}},{"$f":"IF('统招（小学）'!#REF!=0,\"\",'统招（小学）'!#REF!)","v":{"$error":"#REF!"}},{"$f":"IF('统招（小学）'!#REF!=0,\"\",'统招（小学）'!#REF!)","v":{"$error":"#REF!"}},{"$f":"IF('统招（小学）'!#REF!=0,\"\",'统招（小学）'!#REF!)","v":{"$error":"#REF!"}},{"$f":"IF('统招（小学）'!#REF!=0,\"\",'统招（小学）'!#REF!)","v":{"$error":"#REF!"}},{"$f":"IF('统招（小学）'!#REF!=0,\"\",'统招（小学）'!#REF!)","v":{"$error":"#REF!"}},{"$f":"IF('统招（小学）'!#REF!=0,\"\",'统招（小学）'!#REF!)","v":{"$error":"#REF!"}},{"$f":"IF('统招（小学）'!#REF!=0,\"\",'统招（小学）'!#REF!)","v":{"$error":"#REF!"}},{"$f":"IF('统招（小学）'!#REF!=0,\"\",'统招（小学）'!#REF!)","v":{"$error":"#REF!"}},{"$f":"IF('统招（小学）'!#REF!=0,\"\",'统招（小学）'!#REF!)","v":{"$error":"#REF!"}},{"$f":"IF('统招（小学）'!#REF!=0,\"\",'统招（小学）'!#REF!)","v":{"$error":"#REF!"}},{"$f":"IF('统招（小学）'!#REF!=0,\"\",'统招（小学）'!#REF!)","v":{"$error":"#REF!"}},{"$f":"IF('统招（小学）'!#REF!=0,\"\",'统招（小学）'!#REF!)","v":{"$error":"#REF!"}},{"$f":"IF('统招（小学）'!#REF!=0,\"\",'统招（小学）'!#REF!)","v":{"$error":"#REF!"}},{"$f":"IF('统招（小学）'!#REF!=0,\"\",'统招（小学）'!#REF!)","v":{"$error":"#REF!"}},{"$f":"IF('统招（小学）'!#REF!=0,\"\",'统招（小学）'!#REF!)","v":{"$error":"#REF!"}},{"$f":"IF('统招（小学）'!#REF!=0,\"\",'统招（小学）'!#REF!)","v":{"$error":"#REF!"}},{"$error":"#REF!"},{"$nulls":7},0]
["富山中学",71,51,1451,1363,23,22,81,{"v":61.9545454545455,"d":"62"},{"v":61.6,"d":"62"},{"v":100.962962962963,"d":"101"},{"v":81.4814814814815,"d":"81"},{"$nulls":4},{"$f":"IF('统招（小学）'!#REF!=0,\"\",'统招（小学）'!#REF!)","v":{"$error":"#REF!"}},{"$f":"IF('统招（小学）'!#REF!=0,\"\",'统招（小学）'!#REF!)","v":{"$error":"#REF!"}},{"$f":"IF('统招（小学）'!#REF!=0,\"\",'统招（小学）'!#REF!)","v":{"$error":"#REF!"}},{"$f":"IF('统招（小学）'!#REF!=0,\"\",'统招（小学）'!#REF!)","v":{"$error":"#REF!"}},{"$f":"IF('统招（小学）'!#REF!=0,\"\",'统招（小学）'!#REF!)","v":{"$error":"#REF!"}},{"$f":"IF('统招（小学）'!#REF!=0,\"\",'统招（小学）'!#REF!)","v":{"$error":"#REF!"}},{"$f":"IF('统招（小学）'!#REF!=0,\"\",'统招（小学）'!#REF!)","v":{"$error":"#REF!"}},{"$f":"IF('统招（小学）'!#REF!=0,\"\",'统招（小学）'!#REF!)","v":{"$error":"#REF!"}},{"$f":"IF('统招（小学）'!#REF!=0,\"\",'统招（小学）'!#REF!)","v":{"$error":"#REF!"}},{"$f":"IF('统招（小学）'!#REF!=0,\"\",'统招（小学）'!#REF!)","v":{"$error":"#REF!"}},{"$f":"IF('统招（小学）'!#REF!=0,\"\",'统招（小学）'!#REF!)","v":{"$error":"#REF!"}},{"$f":"IF('统招（小学）'!#REF!=0,\"\",'统招（小学）'!#REF!)","v":{"$error":"#REF!"}},{"$f":"IF('统招（小学）'!#REF!=0,\"\",'统招（小学）'!#REF!)","v":{"$error":"#REF!"}},{"$f":"IF('统招（小学）'!#REF!=0,\"\",'统招（小学）'!#REF!)","v":{"$error":"#REF!"}},{"$f":"IF('统招（小学）'!#REF!=0,\"\",'统招（小学）'!#REF!)","v":{"$error":"#REF!"}},{"$f":"IF('统招（小学）'!#REF!=0,\"\",'统招（小学）'!#REF!)","v":{"$error":"#REF!"}},{"$f":"IF('统招（小学）'!#REF!=0,\"\",'统招（小学）'!#REF!)","v":{"$error":"#REF!"}},{"$f":"IF('统招（小学）'!#REF!=0,\"\",'统招（小学）'!#REF!)","v":{"$error":"#REF!"}},{"$f":"IF('统招（小学）'!#REF!=0,\"\",'统招（小学）'!#REF!)","v":{"$error":"#REF!"}},{"$f":"IF('统招（小学）'!#REF!=0,\"\",'统招（小学）'!#REF!)","v":{"$error":"#REF!"}},{"$f":"IF('统招（小学）'!#REF!=0,\"\",'统招（小学）'!#REF!)","v":{"$error":"#REF!"}},{"$f":"IF('统招（小学）'!#REF!=0,\"\",'统招（小学）'!#REF!)","v":{"$error":"#REF!"}},{"$f":"IF('统招（小学）'!#REF!=0,\"\",'统招（小学）'!#REF!)","v":{"$error":"#REF!"}},{"$f":"IF('统招（小学）'!#REF!=0,\"\",'统招（小学）'!#REF!)","v":{"$error":"#REF!"}},{"$f":"IF('统招（小学）'!#REF!=0,\"\",'统招（小学）'!#REF!)","v":{"$error":"#REF!"}},{"$f":"IF('统招（小学）'!#REF!=0,\"\",'统招（小学）'!#REF!)","v":{"$error":"#REF!"}},{"$error":"#REF!"},{"$nulls":7},0]
["东新中学",72,52,1134,1103,21,19,65,{"v":58.0526315789474,"d":"58"},{"v":53.2,"d":"53"},{"v":81.7037037037037,"d":"82"},{"v":70.3703703703704,"d":"70"},{"$nulls":4},{"$f":"IF('统招（小学）'!#REF!=0,\"\",'统招（小学）'!#REF!)","v":{"$error":"#REF!"}},{"$f":"IF('统招（小学）'!#REF!=0,\"\",'统招（小学）'!#REF!)","v":{"$error":"#REF!"}},{"$f":"IF('统招（小学）'!#REF!=0,\"\",'统招（小学）'!#REF!)","v":{"$error":"#REF!"}},{"$f":"IF('统招（小学）'!#REF!=0,\"\",'统招（小学）'!#REF!)","v":{"$error":"#REF!"}},{"$f":"IF('统招（小学）'!#REF!=0,\"\",'统招（小学）'!#REF!)","v":{"$error":"#REF!"}},{"$f":"IF('统招（小学）'!#REF!=0,\"\",'统招（小学）'!#REF!)","v":{"$error":"#REF!"}},{"$f":"IF('统招（小学）'!#REF!=0,\"\",'统招（小学）'!#REF!)","v":{"$error":"#REF!"}},{"$f":"IF('统招（小学）'!#REF!=0,\"\",'统招（小学）'!#REF!)","v":{"$error":"#REF!"}},{"$f":"IF('统招（小学）'!#REF!=0,\"\",'统招（小学）'!#REF!)","v":{"$error":"#REF!"}},{"$f":"IF('统招（小学）'!#REF!=0,\"\",'统招（小学）'!#REF!)","v":{"$error":"#REF!"}},{"$f":"IF('统招（小学）'!#REF!=0,\"\",'统招（小学）'!#REF!)","v":{"$error":"#REF!"}},{"$f":"IF('统招（小学）'!#REF!=0,\"\",'统招（小学）'!#REF!)","v":{"$error":"#REF!"}},{"$f":"IF('统招（小学）'!#REF!=0,\"\",'统招（小学）'!#REF!)","v":{"$error":"#REF!"}},{"$f":"IF('统招（小学）'!#REF!=0,\"\",'统招（小学）'!#REF!)","v":{"$error":"#REF!"}},{"$f":"IF('统招（小学）'!#REF!=0,\"\",'统招（小学）'!#REF!)","v":{"$error":"#REF!"}},{"$f":"IF('统招（小学）'!#REF!=0,\"\",'统招（小学）'!#REF!)","v":{"$error":"#REF!"}},{"$f":"IF('统招（小学）'!#REF!=0,\"\",'统招（小学）'!#REF!)","v":{"$error":"#REF!"}},{"$f":"IF('统招（小学）'!#REF!=0,\"\",'统招（小学）'!#REF!)","v":{"$error":"#REF!"}},{"$f":"IF('统招（小学）'!#REF!=0,\"\",'统招（小学）'!#REF!)","v":{"$error":"#REF!"}},{"$f":"IF('统招（小学）'!#REF!=0,\"\",'统招（小学）'!#REF!)","v":{"$error":"#REF!"}},{"$f":"IF('统招（小学）'!#REF!=0,\"\",'统招（小学）'!#REF!)","v":{"$error":"#REF!"}},{"$f":"IF('统招（小学）'!#REF!=0,\"\",'统招（小学）'!#REF!)","v":{"$error":"#REF!"}},{"$f":"IF('统招（小学）'!#REF!=0,\"\",'统招（小学）'!#REF!)","v":{"$error":"#REF!"}},{"$f":"IF('统招（小学）'!#REF!=0,\"\",'统招（小学）'!#REF!)","v":{"$error":"#REF!"}},{"$f":"IF('统招（小学）'!#REF!=0,\"\",'统招（小学）'!#REF!)","v":{"$error":"#REF!"}},{"$f":"IF('统招（小学）'!#REF!=0,\"\",'统招（小学）'!#REF!)","v":{"$error":"#REF!"}},{"$error":"#REF!"},{"$nulls":7},0]
["八一中学",73,53,668,556,14,12,72,{"v":46.3333333333333,"d":"46"},{"v":33.6,"d":"34"},{"v":41.1851851851852,"d":"41"},{"v":44.4444444444444,"d":"44"},{"$nulls":4},{"$f":"IF('统招（小学）'!#REF!=0,\"\",'统招（小学）'!#REF!)","v":{"$error":"#REF!"}},{"$f":"IF('统招（小学）'!#REF!=0,\"\",'统招（小学）'!#REF!)","v":{"$error":"#REF!"}},{"$f":"IF('统招（小学）'!#REF!=0,\"\",'统招（小学）'!#REF!)","v":{"$error":"#REF!"}},{"$f":"IF('统招（小学）'!#REF!=0,\"\",'统招（小学）'!#REF!)","v":{"$error":"#REF!"}},{"$f":"IF('统招（小学）'!#REF!=0,\"\",'统招（小学）'!#REF!)","v":{"$error":"#REF!"}},{"$f":"IF('统招（小学）'!#REF!=0,\"\",'统招（小学）'!#REF!)","v":{"$error":"#REF!"}},{"$f":"IF('统招（小学）'!#REF!=0,\"\",'统招（小学）'!#REF!)","v":{"$error":"#REF!"}},{"$f":"IF('统招（小学）'!#REF!=0,\"\",'统招（小学）'!#REF!)","v":{"$error":"#REF!"}},{"$f":"IF('统招（小学）'!#REF!=0,\"\",'统招（小学）'!#REF!)","v":{"$error":"#REF!"}},{"$f":"IF('统招（小学）'!#REF!=0,\"\",'统招（小学）'!#REF!)","v":{"$error":"#REF!"}},{"$f":"IF('统招（小学）'!#REF!=0,\"\",'统招（小学）'!#REF!)","v":{"$error":"#REF!"}},{"$f":"IF('统招（小学）'!#REF!=0,\"\",'统招（小学）'!#REF!)","v":{"$error":"#REF!"}},{"$f":"IF('统招（小学）'!#REF!=0,\"\",'统招（小学）'!#REF!)","v":{"$error":"#REF!"}},{"$f":"IF('统招（小学）'!#REF!=0,\"\",'统招（小学）'!#REF!)","v":{"$error":"#REF!"}},{"$f":"IF('统招（小学）'!#REF!=0,\"\",'统招（小学）'!#REF!)","v":{"$error":"#REF!"}},{"$f":"IF('统招（小学）'!#REF!=0,\"\",'统招（小学）'!#REF!)","v":{"$error":"#REF!"}},{"$f":"IF('统招（小学）'!#REF!=0,\"\",'统招（小学）'!#REF!)","v":{"$error":"#REF!"}},{"$f":"IF('统招（小学）'!#REF!=0,\"\",'统招（小学）'!#REF!)","v":{"$error":"#REF!"}},{"$f":"IF('统招（小学）'!#REF!=0,\"\",'统招（小学）'!#REF!)","v":{"$error":"#REF!"}},{"$f":"IF('统招（小学）'!#REF!=0,\"\",'统招（小学）'!#REF!)","v":{"$error":"#REF!"}},{"$f":"IF('统招（小学）'!#REF!=0,\"\",'统招（小学）'!#REF!)","v":{"$error":"#REF!"}},{"$f":"IF('统招（小学）'!#REF!=0,\"\",'统招（小学）'!#REF!)","v":{"$error":"#REF!"}},{"$f":"IF('统招（小学）'!#REF!=0,\"\",'统招（小学）'!#REF!)","v":{"$error":"#REF!"}},{"$f":"IF('统招（小学）'!#REF!=0,\"\",'统招（小学）'!#REF!)","v":{"$error":"#REF!"}},{"$f":"IF('统招（小学）'!#REF!=0,\"\",'统招（小学）'!#REF!)","v":{"$error":"#REF!"}},{"$f":"IF('统招（小学）'!#REF!=0,\"\",'统招（小学）'!#REF!)","v":{"$error":"#REF!"}},{"$error":"#REF!"},{"$nulls":7},0]
["莲塘四中",78,57,5069,5319,76,89,193,{"v":59.7640449438202,"d":"60"},{"v":249.2,"d":"249"},394,{"v":329.62962962963,"d":"330"},{"$nulls":4},{"$f":"IF('统招（小学）'!#REF!=0,\"\",'统招（小学）'!#REF!)","v":{"$error":"#REF!"}},{"$f":"IF('统招（小学）'!#REF!=0,\"\",'统招（小学）'!#REF!)","v":{"$error":"#REF!"}},{"$f":"IF('统招（小学）'!#REF!=0,\"\",'统招（小学）'!#REF!)","v":{"$error":"#REF!"}},{"$f":"IF('统招（小学）'!#REF!=0,\"\",'统招（小学）'!#REF!)","v":{"$error":"#REF!"}},{"$f":"IF('统招（小学）'!#REF!=0,\"\",'统招（小学）'!#REF!)","v":{"$error":"#REF!"}},{"$f":"IF('统招（小学）'!#REF!=0,\"\",'统招（小学）'!#REF!)","v":{"$error":"#REF!"}},{"$f":"IF('统招（小学）'!#REF!=0,\"\",'统招（小学）'!#REF!)","v":{"$error":"#REF!"}},{"$f":"IF('统招（小学）'!#REF!=0,\"\",'统招（小学）'!#REF!)","v":{"$error":"#REF!"}},{"$f":"IF('统招（小学）'!#REF!=0,\"\",'统招（小学）'!#REF!)","v":{"$error":"#REF!"}},{"$f":"IF('统招（小学）'!#REF!=0,\"\",'统招（小学）'!#REF!)","v":{"$error":"#REF!"}},{"$f":"IF('统招（小学）'!#REF!=0,\"\",'统招（小学）'!#REF!)","v":{"$error":"#REF!"}},{"$f":"IF('统招（小学）'!#REF!=0,\"\",'统招（小学）'!#REF!)","v":{"$error":"#REF!"}},{"$f":"IF('统招（小学）'!#REF!=0,\"\",'统招（小学）'!#REF!)","v":{"$error":"#REF!"}},{"$f":"IF('统招（小学）'!#REF!=0,\"\",'统招（小学）'!#REF!)","v":{"$error":"#REF!"}},{"$f":"IF('统招（小学）'!#REF!=0,\"\",'统招（小学）'!#REF!)","v":{"$error":"#REF!"}},{"$f":"IF('统招（小学）'!#REF!=0,\"\",'统招（小学）'!#REF!)","v":{"$error":"#REF!"}},{"$f":"IF('统招（小学）'!#REF!=0,\"\",'统招（小学）'!#REF!)","v":{"$error":"#REF!"}},{"$f":"IF('统招（小学）'!#REF!=0,\"\",'统招（小学）'!#REF!)","v":{"$error":"#REF!"}},{"$f":"IF('统招（小学）'!#REF!=0,\"\",'统招（小学）'!#REF!)","v":{"$error":"#REF!"}},{"$f":"IF('统招（小学）'!#REF!=0,\"\",'统招（小学）'!#REF!)","v":{"$error":"#REF!"}},{"$f":"IF('统招（小学）'!#REF!=0,\"\",'统招（小学）'!#REF!)","v":{"$error":"#REF!"}},{"$f":"IF('统招（小学）'!#REF!=0,\"\",'统招（小学）'!#REF!)","v":{"$error":"#REF!"}},{"$f":"IF('统招（小学）'!#REF!=0,\"\",'统招（小学）'!#REF!)","v":{"$error":"#REF!"}},{"$f":"IF('统招（小学）'!#REF!=0,\"\",'统招（小学）'!#REF!)","v":{"$error":"#REF!"}},{"$f":"IF('统招（小学）'!#REF!=0,\"\",'统招（小学）'!#REF!)","v":{"$error":"#REF!"}},{"$f":"IF('统招（小学）'!#REF!=0,\"\",'统招（小学）'!#REF!)","v":{"$error":"#REF!"}},{"$error":"#REF!"},null,3,6,null,5,6,null,20]
["莲塘五中",79,58,2606,2426,42,44,135,{"v":55.1363636363636,"d":"55"},{"v":123.2,"d":"123"},{"v":179.703703703704,"d":"180"},{"v":162.962962962963,"d":"163"},{"$nulls":4},{"$f":"IF('统招（小学）'!#REF!=0,\"\",'统招（小学）'!#REF!)","v":{"$error":"#REF!"}},{"$f":"IF('统招（小学）'!#REF!=0,\"\",'统招（小学）'!#REF!)","v":{"$error":"#REF!"}},{"$f":"IF('统招（小学）'!#REF!=0,\"\",'统招（小学）'!#REF!)","v":{"$error":"#REF!"}},{"$f":"IF('统招（小学）'!#REF!=0,\"\",'统招（小学）'!#REF!)","v":{"$error":"#REF!"}},{"$f":"IF('统招（小学）'!#REF!=0,\"\",'统招（小学）'!#REF!)","v":{"$error":"#REF!"}},{"$f":"IF('统招（小学）'!#REF!=0,\"\",'统招（小学）'!#REF!)","v":{"$error":"#REF!"}},{"$f":"IF('统招（小学）'!#REF!=0,\"\",'统招（小学）'!#REF!)","v":{"$error":"#REF!"}},{"$f":"IF('统招（小学）'!#REF!=0,\"\",'统招（小学）'!#REF!)","v":{"$error":"#REF!"}},{"$f":"IF('统招（小学）'!#REF!=0,\"\",'统招（小学）'!#REF!)","v":{"$error":"#REF!"}},{"$f":"IF('统招（小学）'!#REF!=0,\"\",'统招（小学）'!#REF!)","v":{"$error":"#REF!"}},{"$f":"IF('统招（小学）'!#REF!=0,\"\",'统招（小学）'!#REF!)","v":{"$error":"#REF!"}},{"$f":"IF('统招（小学）'!#REF!=0,\"\",'统招（小学）'!#REF!)","v":{"$error":"#REF!"}},{"$f":"IF('统招（小学）'!#REF!=0,\"\",'统招（小学）'!#REF!)","v":{"$error":"#REF!"}},{"$f":"IF('统招（小学）'!#REF!=0,\"\",'统招（小学）'!#REF!)","v":{"$error":"#REF!"}},{"$f":"IF('统招（小学）'!#REF!=0,\"\",'统招（小学）'!#REF!)","v":{"$error":"#REF!"}},{"$f":"IF('统招（小学）'!#REF!=0,\"\",'统招（小学）'!#REF!)","v":{"$error":"#REF!"}},{"$f":"IF('统招（小学）'!#REF!=0,\"\",'统招（小学）'!#REF!)","v":{"$error":"#REF!"}},{"$f":"IF('统招（小学）'!#REF!=0,\"\",'统招（小学）'!#REF!)","v":{"$error":"#REF!"}},{"$f":"IF('统招（小学）'!#REF!=0,\"\",'统招（小学）'!#REF!)","v":{"$error":"#REF!"}},{"$f":"IF('统招（小学）'!#REF!=0,\"\",'统招（小学）'!#REF!)","v":{"$error":"#REF!"}},{"$f":"IF('统招（小学）'!#REF!=0,\"\",'统招（小学）'!#REF!)","v":{"$error":"#REF!"}},{"$f":"IF('统招（小学）'!#REF!=0,\"\",'统招（小学）'!#REF!)","v":{"$error":"#REF!"}},{"$f":"IF('统招（小学）'!#REF!=0,\"\",'统招（小学）'!#REF!)","v":{"$error":"#REF!"}},{"$f":"IF('统招（小学）'!#REF!=0,\"\",'统招（小学）'!#REF!)","v":{"$error":"#REF!"}},{"$f":"IF('统招（小学）'!#REF!=0,\"\",'统招（小学）'!#REF!)","v":{"$error":"#REF!"}},{"$f":"IF('统招（小学）'!#REF!=0,\"\",'统招（小学）'!#REF!)","v":{"$error":"#REF!"}},{"$error":"#REF!"},{"$nulls":7},0]
["莲塘六中",80,59,2770,2721,44,41,143,{"v":66.3658536585366,"d":"66"},{"v":114.8,"d":"115"},{"v":201.555555555556,"d":"202"},{"v":151.851851851852,"d":"152"},{"$nulls":4},{"$f":"IF('统招（小学）'!#REF!=0,\"\",'统招（小学）'!#REF!)","v":{"$error":"#REF!"}},{"$f":"IF('统招（小学）'!#REF!=0,\"\",'统招（小学）'!#REF!)","v":{"$error":"#REF!"}},{"$f":"IF('统招（小学）'!#REF!=0,\"\",'统招（小学）'!#REF!)","v":{"$error":"#REF!"}},{"$f":"IF('统招（小学）'!#REF!=0,\"\",'统招（小学）'!#REF!)","v":{"$error":"#REF!"}},{"$f":"IF('统招（小学）'!#REF!=0,\"\",'统招（小学）'!#REF!)","v":{"$error":"#REF!"}},{"$f":"IF('统招（小学）'!#REF!=0,\"\",'统招（小学）'!#REF!)","v":{"$error":"#REF!"}},{"$f":"IF('统招（小学）'!#REF!=0,\"\",'统招（小学）'!#REF!)","v":{"$error":"#REF!"}},{"$f":"IF('统招（小学）'!#REF!=0,\"\",'统招（小学）'!#REF!)","v":{"$error":"#REF!"}},{"$f":"IF('统招（小学）'!#REF!=0,\"\",'统招（小学）'!#REF!)","v":{"$error":"#REF!"}},{"$f":"IF('统招（小学）'!#REF!=0,\"\",'统招（小学）'!#REF!)","v":{"$error":"#REF!"}},{"$f":"IF('统招（小学）'!#REF!=0,\"\",'统招（小学）'!#REF!)","v":{"$error":"#REF!"}},{"$f":"IF('统招（小学）'!#REF!=0,\"\",'统招（小学）'!#REF!)","v":{"$error":"#REF!"}},{"$f":"IF('统招（小学）'!#REF!=0,\"\",'统招（小学）'!#REF!)","v":{"$error":"#REF!"}},{"$f":"IF('统招（小学）'!#REF!=0,\"\",'统招（小学）'!#REF!)","v":{"$error":"#REF!"}},{"$f":"IF('统招（小学）'!#REF!=0,\"\",'统招（小学）'!#REF!)","v":{"$error":"#REF!"}},{"$f":"IF('统招（小学）'!#REF!=0,\"\",'统招（小学）'!#REF!)","v":{"$error":"#REF!"}},{"$f":"IF('统招（小学）'!#REF!=0,\"\",'统招（小学）'!#REF!)","v":{"$error":"#REF!"}},{"$f":"IF('统招（小学）'!#REF!=0,\"\",'统招（小学）'!#REF!)","v":{"$error":"#REF!"}},{"$f":"IF('统招（小学）'!#REF!=0,\"\",'统招（小学）'!#REF!)","v":{"$error":"#REF!"}},{"$f":"IF('统招（小学）'!#REF!=0,\"\",'统招（小学）'!#REF!)","v":{"$error":"#REF!"}},{"$f":"IF('统招（小学）'!#REF!=0,\"\",'统招（小学）'!#REF!)","v":{"$error":"#REF!"}},{"$f":"IF('统招（小学）'!#REF!=0,\"\",'统招（小学）'!#REF!)","v":{"$error":"#REF!"}},{"$f":"IF('统招（小学）'!#REF!=0,\"\",'统招（小学）'!#REF!)","v":{"$error":"#REF!"}},{"$f":"IF('统招（小学）'!#REF!=0,\"\",'统招（小学）'!#REF!)","v":{"$error":"#REF!"}},{"$f":"IF('统招（小学）'!#REF!=0,\"\",'统招（小学）'!#REF!)","v":{"$error":"#REF!"}},{"$f":"IF('统招（小学）'!#REF!=0,\"\",'统招（小学）'!#REF!)","v":{"$error":"#REF!"}},{"$error":"#REF!"},{"$nulls":7},0]
["莲塘七中",81,60,1877,1633,30,28,101,{"v":58.3214285714286,"d":"58"},{"v":78.4,"d":"78"},{"v":120.962962962963,"d":"121"},{"v":103.703703703704,"d":"104"},{"$nulls":4},{"$f":"IF('统招（小学）'!#REF!=0,\"\",'统招（小学）'!#REF!)","v":{"$error":"#REF!"}},{"$f":"IF('统招（小学）'!#REF!=0,\"\",'统招（小学）'!#REF!)","v":{"$error":"#REF!"}},{"$f":"IF('统招（小学）'!#REF!=0,\"\",'统招（小学）'!#REF!)","v":{"$error":"#REF!"}},{"$f":"IF('统招（小学）'!#REF!=0,\"\",'统招（小学）'!#REF!)","v":{"$error":"#REF!"}},{"$f":"IF('统招（小学）'!#REF!=0,\"\",'统招（小学）'!#REF!)","v":{"$error":"#REF!"}},{"$f":"IF('统招（小学）'!#REF!=0,\"\",'统招（小学）'!#REF!)","v":{"$error":"#REF!"}},{"$f":"IF('统招（小学）'!#REF!=0,\"\",'统招（小学）'!#REF!)","v":{"$error":"#REF!"}},{"$f":"IF('统招（小学）'!#REF!=0,\"\",'统招（小学）'!#REF!)","v":{"$error":"#REF!"}},{"$f":"IF('统招（小学）'!#REF!=0,\"\",'统招（小学）'!#REF!)","v":{"$error":"#REF!"}},{"$f":"IF('统招（小学）'!#REF!=0,\"\",'统招（小学）'!#REF!)","v":{"$error":"#REF!"}},{"$f":"IF('统招（小学）'!#REF!=0,\"\",'统招（小学）'!#REF!)","v":{"$error":"#REF!"}},{"$f":"IF('统招（小学）'!#REF!=0,\"\",'统招（小学）'!#REF!)","v":{"$error":"#REF!"}},{"$f":"IF('统招（小学）'!#REF!=0,\"\",'统招（小学）'!#REF!)","v":{"$error":"#REF!"}},{"$f":"IF('统招（小学）'!#REF!=0,\"\",'统招（小学）'!#REF!)","v":{"$error":"#REF!"}},{"$f":"IF('统招（小学）'!#REF!=0,\"\",'统招（小学）'!#REF!)","v":{"$error":"#REF!"}},{"$f":"IF('统招（小学）'!#REF!=0,\"\",'统招（小学）'!#REF!)","v":{"$error":"#REF!"}},{"$f":"IF('统招（小学）'!#REF!=0,\"\",'统招（小学）'!#REF!)","v":{"$error":"#REF!"}},{"$f":"IF('统招（小学）'!#REF!=0,\"\",'统招（小学）'!#REF!)","v":{"$error":"#REF!"}},{"$f":"IF('统招（小学）'!#REF!=0,\"\",'统招（小学）'!#REF!)","v":{"$error":"#REF!"}},{"$f":"IF('统招（小学）'!#REF!=0,\"\",'统招（小学）'!#REF!)","v":{"$error":"#REF!"}},{"$f":"IF('统招（小学）'!#REF!=0,\"\",'统招（小学）'!#REF!)","v":{"$error":"#REF!"}},{"$f":"IF('统招（小学）'!#REF!=0,\"\",'统招（小学）'!#REF!)","v":{"$error":"#REF!"}},{"$f":"IF('统招（小学）'!#REF!=0,\"\",'统招（小学）'!#REF!)","v":{"$error":"#REF!"}},{"$f":"IF('统招（小学）'!#REF!=0,\"\",'统招（小学）'!#REF!)","v":{"$error":"#REF!"}},{"$f":"IF('统招（小学）'!#REF!=0,\"\",'统招（小学）'!#REF!)","v":{"$error":"#REF!"}},{"$f":"IF('统招（小学）'!#REF!=0,\"\",'统招（小学）'!#REF!)","v":{"$error":"#REF!"}},{"$error":"#REF!"},{"$nulls":7},0]
["银河学校（小学）",35,61,2980,3035,48,52,103,{"v":58.3653846153846,"d":"58"},{"$f":"G70*2.4","v":{"v":124.8,"d":"125"}},{"$f":"E70/19","v":{"v":159.736842105263,"d":"160"}},null,{"$f":"(J70+K70)/2","v":{"v":142.268421052632,"d":"142"}},{"$f":"K70-H70","v":{"v":56.7368421052632,"d":"57"}},{"$f":"N70","v":{"v":56.7368421052632,"d":"57"}},{"$f":"J70-H70","v":{"v":21.8,"d":"22"}},{"$f":"IF('统招（小学）'!#REF!=0,\"\",'统招（小学）'!#REF!)","v":{"$error":"#REF!"}},{"$f":"IF('统招（小学）'!#REF!=0,\"\",'统招（小学）'!#REF!)","v":{"$error":"#REF!"}},{"$f":"IF('统招（小学）'!#REF!=0,\"\",'统招（小学）'!#REF!)","v":{"$error":"#REF!"}},{"$f":"IF('统招（小学）'!#REF!=0,\"\",'统招（小学）'!#REF!)","v":{"$error":"#REF!"}},{"$f":"IF('统招（小学）'!#REF!=0,\"\",'统招（小学）'!#REF!)","v":{"$error":"#REF!"}},{"$f":"IF('统招（小学）'!#REF!=0,\"\",'统招（小学）'!#REF!)","v":{"$error":"#REF!"}},{"$f":"IF('统招（小学）'!#REF!=0,\"\",'统招（小学）'!#REF!)","v":{"$error":"#REF!"}},{"$f":"IF('统招（小学）'!#REF!=0,\"\",'统招（小学）'!#REF!)","v":{"$error":"#REF!"}},{"$f":"IF('统招（小学）'!#REF!=0,\"\",'统招（小学）'!#REF!)","v":{"$error":"#REF!"}},{"$f":"IF('统招（小学）'!#REF!=0,\"\",'统招（小学）'!#REF!)","v":{"$error":"#REF!"}},{"$f":"IF('统招（小学）'!#REF!=0,\"\",'统招（小学）'!#REF!)","v":{"$error":"#REF!"}},{"$f":"IF('统招（小学）'!#REF!=0,\"\",'统招（小学）'!#REF!)","v":{"$error":"#REF!"}},{"$f":"IF('统招（小学）'!#REF!=0,\"\",'统招（小学）'!#REF!)","v":{"$error":"#REF!"}},{"$f":"IF('统招（小学）'!#REF!=0,\"\",'统招（小学）'!#REF!)","v":{"$error":"#REF!"}},{"$f":"IF('统招（小学）'!#REF!=0,\"\",'统招（小学）'!#REF!)","v":{"$error":"#REF!"}},{"$f":"IF('统招（小学）'!#REF!=0,\"\",'统招（小学）'!#REF!)","v":{"$error":"#REF!"}},{"$f":"IF('统招（小学）'!#REF!=0,\"\",'统招（小学）'!#REF!)","v":{"$error":"#REF!"}},{"$f":"IF('统招（小学）'!#REF!=0,\"\",'统招（小学）'!#REF!)","v":{"$error":"#REF!"}},{"$f":"IF('统招（小学）'!#REF!=0,\"\",'统招（小学）'!#REF!)","v":{"$error":"#REF!"}},{"$f":"IF('统招（小学）'!#REF!=0,\"\",'统招（小学）'!#REF!)","v":{"$error":"#REF!"}},{"$f":"IF('统招（小学）'!#REF!=0,\"\",'统招（小学）'!#REF!)","v":{"$error":"#REF!"}},{"$f":"IF('统招（小学）'!#REF!=0,\"\",'统招（小学）'!#REF!)","v":{"$error":"#REF!"}},{"$f":"IF('统招（小学）'!#REF!=0,\"\",'统招（小学）'!#REF!)","v":{"$error":"#REF!"}},{"$f":"IF('统招（小学）'!#REF!=0,\"\",'统招（小学）'!#REF!)","v":{"$error":"#REF!"}},{"$f":"IF('统招（小学）'!#REF!=0,\"\",'统招（小学）'!#REF!)","v":{"$error":"#REF!"}},{"$f":"IF('统招（小学）'!#REF!=0,\"\",'统招（小学）'!#REF!)","v":{"$error":"#REF!"}},{"$error":"#REF!"},null,3,2,null,6,null,null,11,{"$f":"SUM(AQ70:AX70)","v":{"$error":"#REF!"}},{"$f":"AZ70-AX70","v":{"$error":"#REF!"}},{"$f":"BA70+H70","v":{"$error":"#REF!"}}]
["银河学校（初中）",82,61,1360,1407,24,25,88,{"v":56.28,"d":"56"},{"$f":"G71*2.8","v":70},{"$f":"E71/13.5","v":{"v":104.222222222222,"d":"104"}},{"$f":"G71*50/13.5","v":{"v":92.5925925925926,"d":"93"}},{"$nulls":4},{"$f":"IF('统招（小学）'!#REF!=0,\"\",'统招（小学）'!#REF!)","v":{"$error":"#REF!"}},{"$f":"IF('统招（小学）'!#REF!=0,\"\",'统招（小学）'!#REF!)","v":{"$error":"#REF!"}},{"$f":"IF('统招（小学）'!#REF!=0,\"\",'统招（小学）'!#REF!)","v":{"$error":"#REF!"}},{"$f":"IF('统招（小学）'!#REF!=0,\"\",'统招（小学）'!#REF!)","v":{"$error":"#REF!"}},{"$f":"IF('统招（小学）'!#REF!=0,\"\",'统招（小学）'!#REF!)","v":{"$error":"#REF!"}},{"$f":"IF('统招（小学）'!#REF!=0,\"\",'统招（小学）'!#REF!)","v":{"$error":"#REF!"}},{"$f":"IF('统招（小学）'!#REF!=0,\"\",'统招（小学）'!#REF!)","v":{"$error":"#REF!"}},{"$f":"IF('统招（小学）'!#REF!=0,\"\",'统招（小学）'!#REF!)","v":{"$error":"#REF!"}},{"$f":"IF('统招（小学）'!#REF!=0,\"\",'统招（小学）'!#REF!)","v":{"$error":"#REF!"}},{"$f":"IF('统招（小学）'!#REF!=0,\"\",'统招（小学）'!#REF!)","v":{"$error":"#REF!"}},{"$f":"IF('统招（小学）'!#REF!=0,\"\",'统招（小学）'!#REF!)","v":{"$error":"#REF!"}},{"$f":"IF('统招（小学）'!#REF!=0,\"\",'统招（小学）'!#REF!)","v":{"$error":"#REF!"}},{"$f":"IF('统招（小学）'!#REF!=0,\"\",'统招（小学）'!#REF!)","v":{"$error":"#REF!"}},{"$f":"IF('统招（小学）'!#REF!=0,\"\",'统招（小学）'!#REF!)","v":{"$error":"#REF!"}},{"$f":"IF('统招（小学）'!#REF!=0,\"\",'统招（小学）'!#REF!)","v":{"$error":"#REF!"}},{"$f":"IF('统招（小学）'!#REF!=0,\"\",'统招（小学）'!#REF!)","v":{"$error":"#REF!"}},{"$f":"IF('统招（小学）'!#REF!=0,\"\",'统招（小学）'!#REF!)","v":{"$error":"#REF!"}},{"$f":"IF('统招（小学）'!#REF!=0,\"\",'统招（小学）'!#REF!)","v":{"$error":"#REF!"}},{"$f":"IF('统招（小学）'!#REF!=0,\"\",'统招（小学）'!#REF!)","v":{"$error":"#REF!"}},{"$f":"IF('统招（小学）'!#REF!=0,\"\",'统招（小学）'!#REF!)","v":{"$error":"#REF!"}},{"$f":"IF('统招（小学）'!#REF!=0,\"\",'统招（小学）'!#REF!)","v":{"$error":"#REF!"}},{"$f":"IF('统招（小学）'!#REF!=0,\"\",'统招（小学）'!#REF!)","v":{"$error":"#REF!"}},{"$f":"IF('统招（小学）'!#REF!=0,\"\",'统招（小学）'!#REF!)","v":{"$error":"#REF!"}},{"$f":"IF('统招（小学）'!#REF!=0,\"\",'统招（小学）'!#REF!)","v":{"$error":"#REF!"}},{"$f":"IF('统招（小学）'!#REF!=0,\"\",'统招（小学）'!#REF!)","v":{"$error":"#REF!"}},{"$f":"IF('统招（小学）'!#REF!=0,\"\",'统招（小学）'!#REF!)","v":{"$error":"#REF!"}},{"$error":"#REF!"},null,null,1,{"$nulls":4},1]
["洪州学校（小学）",36,62,3549,4042,57,67,120,{"v":60.3283582089552,"d":"60"},{"v":160.8,"d":"161"},{"v":212.736842105263,"d":"213"},null,{"v":186.768421052632,"d":"187"},{"v":92.7368421052632,"d":"93"},{"v":92.7368421052632,"d":"93"},{"v":40.8,"d":"41"},{"$f":"IF('统招（小学）'!#REF!=0,\"\",'统招（小学）'!#REF!)","v":{"$error":"#REF!"}},{"$f":"IF('统招（小学）'!#REF!=0,\"\",'统招（小学）'!#REF!)","v":{"$error":"#REF!"}},{"$f":"IF('统招（小学）'!#REF!=0,\"\",'统招（小学）'!#REF!)","v":{"$error":"#REF!"}},{"$f":"IF('统招（小学）'!#REF!=0,\"\",'统招（小学）'!#REF!)","v":{"$error":"#REF!"}},{"$f":"IF('统招（小学）'!#REF!=0,\"\",'统招（小学）'!#REF!)","v":{"$error":"#REF!"}},{"$f":"IF('统招（小学）'!#REF!=0,\"\",'统招（小学）'!#REF!)","v":{"$error":"#REF!"}},{"$f":"IF('统招（小学）'!#REF!=0,\"\",'统招（小学）'!#REF!)","v":{"$error":"#REF!"}},{"$f":"IF('统招（小学）'!#REF!=0,\"\",'统招（小学）'!#REF!)","v":{"$error":"#REF!"}},{"$f":"IF('统招（小学）'!#REF!=0,\"\",'统招（小学）'!#REF!)","v":{"$error":"#REF!"}},{"$f":"IF('统招（小学）'!#REF!=0,\"\",'统招（小学）'!#REF!)","v":{"$error":"#REF!"}},{"$f":"IF('统招（小学）'!#REF!=0,\"\",'统招（小学）'!#REF!)","v":{"$error":"#REF!"}},{"$f":"IF('统招（小学）'!#REF!=0,\"\",'统招（小学）'!#REF!)","v":{"$error":"#REF!"}},{"$f":"IF('统招（小学）'!#REF!=0,\"\",'统招（小学）'!#REF!)","v":{"$error":"#REF!"}},{"$f":"IF('统招（小学）'!#REF!=0,\"\",'统招（小学）'!#REF!)","v":{"$error":"#REF!"}},{"$f":"IF('统招（小学）'!#REF!=0,\"\",'统招（小学）'!#REF!)","v":{"$error":"#REF!"}},{"$f":"IF('统招（小学）'!#REF!=0,\"\",'统招（小学）'!#REF!)","v":{"$error":"#REF!"}},{"$f":"IF('统招（小学）'!#REF!=0,\"\",'统招（小学）'!#REF!)","v":{"$error":"#REF!"}},{"$f":"IF('统招（小学）'!#REF!=0,\"\",'统招（小学）'!#REF!)","v":{"$error":"#REF!"}},{"$f":"IF('统招（小学）'!#REF!=0,\"\",'统招（小学）'!#REF!)","v":{"$error":"#REF!"}},{"$f":"IF('统招（小学）'!#REF!=0,\"\",'统招（小学）'!#REF!)","v":{"$error":"#REF!"}},{"$f":"IF('统招（小学）'!#REF!=0,\"\",'统招（小学）'!#REF!)","v":{"$error":"#REF!"}},{"$f":"IF('统招（小学）'!#REF!=0,\"\",'统招（小学）'!#REF!)","v":{"$error":"#REF!"}},{"$f":"IF('统招（小学）'!#REF!=0,\"\",'统招（小学）'!#REF!)","v":{"$error":"#REF!"}},{"$f":"IF('统招（小学）'!#REF!=0,\"\",'统招（小学）'!#REF!)","v":{"$error":"#REF!"}},{"$f":"IF('统招（小学）'!#REF!=0,\"\",'统招（小学）'!#REF!)","v":{"$error":"#REF!"}},{"$f":"IF('统招（小学）'!#REF!=0,\"\",'统招（小学）'!#REF!)","v":{"$error":"#REF!"}},{"$error":"#REF!"},null,4,2,null,3,null,null,9,{"$error":"#REF!"},{"$error":"#REF!"},{"$error":"#REF!"}]
["洪州学校(初中）",83,62,1732,1654,28,29,108,{"$f":"E73/G73","v":{"v":57.0344827586207,"d":"57"}},{"v":81.2,"d":"81"},{"v":122.518518518519,"d":"123"},{"v":107.407407407407,"d":"107"},{"$nulls":4},{"$f":"IF('统招（小学）'!#REF!=0,\"\",'统招（小学）'!#REF!)","v":{"$error":"#REF!"}},{"$f":"IF('统招（小学）'!#REF!=0,\"\",'统招（小学）'!#REF!)","v":{"$error":"#REF!"}},{"$f":"IF('统招（小学）'!#REF!=0,\"\",'统招（小学）'!#REF!)","v":{"$error":"#REF!"}},{"$f":"IF('统招（小学）'!#REF!=0,\"\",'统招（小学）'!#REF!)","v":{"$error":"#REF!"}},{"$f":"IF('统招（小学）'!#REF!=0,\"\",'统招（小学）'!#REF!)","v":{"$error":"#REF!"}},{"$f":"IF('统招（小学）'!#REF!=0,\"\",'统招（小学）'!#REF!)","v":{"$error":"#REF!"}},{"$f":"IF('统招（小学）'!#REF!=0,\"\",'统招（小学）'!#REF!)","v":{"$error":"#REF!"}},{"$f":"IF('统招（小学）'!#REF!=0,\"\",'统招（小学）'!#REF!)","v":{"$error":"#REF!"}},{"$f":"IF('统招（小学）'!#REF!=0,\"\",'统招（小学）'!#REF!)","v":{"$error":"#REF!"}},{"$f":"IF('统招（小学）'!#REF!=0,\"\",'统招（小学）'!#REF!)","v":{"$error":"#REF!"}},{"$f":"IF('统招（小学）'!#REF!=0,\"\",'统招（小学）'!#REF!)","v":{"$error":"#REF!"}},{"$f":"IF('统招（小学）'!#REF!=0,\"\",'统招（小学）'!#REF!)","v":{"$error":"#REF!"}},{"$f":"IF('统招（小学）'!#REF!=0,\"\",'统招（小学）'!#REF!)","v":{"$error":"#REF!"}},{"$f":"IF('统招（小学）'!#REF!=0,\"\",'统招（小学）'!#REF!)","v":{"$error":"#REF!"}},{"$f":"IF('统招（小学）'!#REF!=0,\"\",'统招（小学）'!#REF!)","v":{"$error":"#REF!"}},{"$f":"IF('统招（小学）'!#REF!=0,\"\",'统招（小学）'!#REF!)","v":{"$error":"#REF!"}},{"$f":"IF('统招（小学）'!#REF!=0,\"\",'统招（小学）'!#REF!)","v":{"$error":"#REF!"}},{"$f":"IF('统招（小学）'!#REF!=0,\"\",'统招（小学）'!#REF!)","v":{"$error":"#REF!"}},{"$f":"IF('统招（小学）'!#REF!=0,\"\",'统招（小学）'!#REF!)","v":{"$error":"#REF!"}},{"$f":"IF('统招（小学）'!#REF!=0,\"\",'统招（小学）'!#REF!)","v":{"$error":"#REF!"}},{"$f":"IF('统招（小学）'!#REF!=0,\"\",'统招（小学）'!#REF!)","v":{"$error":"#REF!"}},{"$f":"IF('统招（小学）'!#REF!=0,\"\",'统招（小学）'!#REF!)","v":{"$error":"#REF!"}},{"$f":"IF('统招（小学）'!#REF!=0,\"\",'统招（小学）'!#REF!)","v":{"$error":"#REF!"}},{"$f":"IF('统招（小学）'!#REF!=0,\"\",'统招（小学）'!#REF!)","v":{"$error":"#REF!"}},{"$f":"IF('统招（小学）'!#REF!=0,\"\",'统招（小学）'!#REF!)","v":{"$error":"#REF!"}},{"$f":"IF('统招（小学）'!#REF!=0,\"\",'统招（小学）'!#REF!)","v":{"$error":"#REF!"}},{"$error":"#REF!"},null,null,1,null,null,1,null,2]
["新城学校（小学）",37,63,1743,2231,31,42,64,{"v":53.1190476190476,"d":"53"},{"v":100.8,"d":"101"},{"v":117.421052631579,"d":"117"},null,{"v":109.110526315789,"d":"109"},{"v":53.4210526315789,"d":"53"},{"v":53.4210526315789,"d":"53"},{"v":36.8,"d":"37"},{"$f":"IF('统招（小学）'!#REF!=0,\"\",'统招（小学）'!#REF!)","v":{"$error":"#REF!"}},{"$f":"IF('统招（小学）'!#REF!=0,\"\",'统招（小学）'!#REF!)","v":{"$error":"#REF!"}},{"$f":"IF('统招（小学）'!#REF!=0,\"\",'统招（小学）'!#REF!)","v":{"$error":"#REF!"}},{"$f":"IF('统招（小学）'!#REF!=0,\"\",'统招（小学）'!#REF!)","v":{"$error":"#REF!"}},{"$f":"IF('统招（小学）'!#REF!=0,\"\",'统招（小学）'!#REF!)","v":{"$error":"#REF!"}},{"$f":"IF('统招（小学）'!#REF!=0,\"\",'统招（小学）'!#REF!)","v":{"$error":"#REF!"}},{"$f":"IF('统招（小学）'!#REF!=0,\"\",'统招（小学）'!#REF!)","v":{"$error":"#REF!"}},{"$f":"IF('统招（小学）'!#REF!=0,\"\",'统招（小学）'!#REF!)","v":{"$error":"#REF!"}},{"$f":"IF('统招（小学）'!#REF!=0,\"\",'统招（小学）'!#REF!)","v":{"$error":"#REF!"}},{"$f":"IF('统招（小学）'!#REF!=0,\"\",'统招（小学）'!#REF!)","v":{"$error":"#REF!"}},{"$f":"IF('统招（小学）'!#REF!=0,\"\",'统招（小学）'!#REF!)","v":{"$error":"#REF!"}},{"$f":"IF('统招（小学）'!#REF!=0,\"\",'统招（小学）'!#REF!)","v":{"$error":"#REF!"}},{"$f":"IF('统招（小学）'!#REF!=0,\"\",'统招（小学）'!#REF!)","v":{"$error":"#REF!"}},{"$f":"IF('统招（小学）'!#REF!=0,\"\",'统招（小学）'!#REF!)","v":{"$error":"#REF!"}},{"$f":"IF('统招（小学）'!#REF!=0,\"\",'统招（小学）'!#REF!)","v":{"$error":"#REF!"}},{"$f":"IF('统招（小学）'!#REF!=0,\"\",'统招（小学）'!#REF!)","v":{"$error":"#REF!"}},{"$f":"IF('统招（小学）'!#REF!=0,\"\",'统招（小学）'!#REF!)","v":{"$error":"#REF!"}},{"$f":"IF('统招（小学）'!#REF!=0,\"\",'统招（小学）'!#REF!)","v":{"$error":"#REF!"}},{"$f":"IF('统招（小学）'!#REF!=0,\"\",'统招（小学）'!#REF!)","v":{"$error":"#REF!"}},{"$f":"IF('统招（小学）'!#REF!=0,\"\",'统招（小学）'!#REF!)","v":{"$error":"#REF!"}},{"$f":"IF('统招（小学）'!#REF!=0,\"\",'统招（小学）'!#REF!)","v":{"$error":"#REF!"}},{"$f":"IF('统招（小学）'!#REF!=0,\"\",'统招（小学）'!#REF!)","v":{"$error":"#REF!"}},{"$f":"IF('统招（小学）'!#REF!=0,\"\",'统招（小学）'!#REF!)","v":{"$error":"#REF!"}},{"$f":"IF('统招（小学）'!#REF!=0,\"\",'统招（小学）'!#REF!)","v":{"$error":"#REF!"}},{"$f":"IF('统招（小学）'!#REF!=0,\"\",'统招（小学）'!#REF!)","v":{"$error":"#REF!"}},{"$f":"IF('统招（小学）'!#REF!=0,\"\",'统招（小学）'!#REF!)","v":{"$error":"#REF!"}},{"$error":"#REF!"},null,3,3,null,9,null,null,15,{"$error":"#REF!"},{"$error":"#REF!"},{"$error":"#REF!"}]
["新城学校（初中）",84,63,1363,1430,23,26,73,55,{"v":72.8,"d":"73"},{"v":105.925925925926,"d":"106"},{"v":96.2962962962963,"d":"96"},{"$nulls":4},{"$f":"IF('统招（小学）'!#REF!=0,\"\",'统招（小学）'!#REF!)","v":{"$error":"#REF!"}},{"$f":"IF('统招（小学）'!#REF!=0,\"\",'统招（小学）'!#REF!)","v":{"$error":"#REF!"}},{"$f":"IF('统招（小学）'!#REF!=0,\"\",'统招（小学）'!#REF!)","v":{"$error":"#REF!"}},{"$f":"IF('统招（小学）'!#REF!=0,\"\",'统招（小学）'!#REF!)","v":{"$error":"#REF!"}},{"$f":"IF('统招（小学）'!#REF!=0,\"\",'统招（小学）'!#REF!)","v":{"$error":"#REF!"}},{"$f":"IF('统招（小学）'!#REF!=0,\"\",'统招（小学）'!#REF!)","v":{"$error":"#REF!"}},{"$f":"IF('统招（小学）'!#REF!=0,\"\",'统招（小学）'!#REF!)","v":{"$error":"#REF!"}},{"$f":"IF('统招（小学）'!#REF!=0,\"\",'统招（小学）'!#REF!)","v":{"$error":"#REF!"}},{"$f":"IF('统招（小学）'!#REF!=0,\"\",'统招（小学）'!#REF!)","v":{"$error":"#REF!"}},{"$f":"IF('统招（小学）'!#REF!=0,\"\",'统招（小学）'!#REF!)","v":{"$error":"#REF!"}},{"$f":"IF('统招（小学）'!#REF!=0,\"\",'统招（小学）'!#REF!)","v":{"$error":"#REF!"}},{"$f":"IF('统招（小学）'!#REF!=0,\"\",'统招（小学）'!#REF!)","v":{"$error":"#REF!"}},{"$f":"IF('统招（小学）'!#REF!=0,\"\",'统招（小学）'!#REF!)","v":{"$error":"#REF!"}},{"$f":"IF('统招（小学）'!#REF!=0,\"\",'统招（小学）'!#REF!)","v":{"$error":"#REF!"}},{"$f":"IF('统招（小学）'!#REF!=0,\"\",'统招（小学）'!#REF!)","v":{"$error":"#REF!"}},{"$f":"IF('统招（小学）'!#REF!=0,\"\",'统招（小学）'!#REF!)","v":{"$error":"#REF!"}},{"$f":"IF('统招（小学）'!#REF!=0,\"\",'统招（小学）'!#REF!)","v":{"$error":"#REF!"}},{"$f":"IF('统招（小学）'!#REF!=0,\"\",'统招（小学）'!#REF!)","v":{"$error":"#REF!"}},{"$f":"IF('统招（小学）'!#REF!=0,\"\",'统招（小学）'!#REF!)","v":{"$error":"#REF!"}},{"$f":"IF('统招（小学）'!#REF!=0,\"\",'统招（小学）'!#REF!)","v":{"$error":"#REF!"}},{"$f":"IF('统招（小学）'!#REF!=0,\"\",'统招（小学）'!#REF!)","v":{"$error":"#REF!"}},{"$f":"IF('统招（小学）'!#REF!=0,\"\",'统招（小学）'!#REF!)","v":{"$error":"#REF!"}},{"$f":"IF('统招（小学）'!#REF!=0,\"\",'统招（小学）'!#REF!)","v":{"$error":"#REF!"}},{"$f":"IF('统招（小学）'!#REF!=0,\"\",'统招（小学）'!#REF!)","v":{"$error":"#REF!"}},{"$f":"IF('统招（小学）'!#REF!=0,\"\",'统招（小学）'!#REF!)","v":{"$error":"#REF!"}},{"$f":"IF('统招（小学）'!#REF!=0,\"\",'统招（小学）'!#REF!)","v":{"$error":"#REF!"}},{"$f":"IF(SUM(Q75:AP75)=0,\"\",SUM(Q75:AP75))","v":{"$error":"#REF!"}},null,3,0,{"$nulls":4},3]
["诚义学校（小学）",38,64,2622,2963,44,50,89,{"v":59.26,"d":"59"},{"$f":"G76*2.4","v":120},{"$f":"E76/19","v":{"v":155.947368421053,"d":"156"}},null,{"$f":"(J76+K76)/2","v":{"v":137.973684210526,"d":"138"}},{"$f":"K76-H76","v":{"v":66.9473684210526,"d":"67"}},{"$f":"N76","v":{"v":66.9473684210526,"d":"67"}},{"$f":"J76-H76","v":31},{"$f":"IF('统招（小学）'!#REF!=0,\"\",'统招（小学）'!#REF!)","v":{"$error":"#REF!"}},{"$f":"IF('统招（小学）'!#REF!=0,\"\",'统招（小学）'!#REF!)","v":{"$error":"#REF!"}},{"$f":"IF('统招（小学）'!#REF!=0,\"\",'统招（小学）'!#REF!)","v":{"$error":"#REF!"}},{"$f":"IF('统招（小学）'!#REF!=0,\"\",'统招（小学）'!#REF!)","v":{"$error":"#REF!"}},{"$f":"IF('统招（小学）'!#REF!=0,\"\",'统招（小学）'!#REF!)","v":{"$error":"#REF!"}},{"$f":"IF('统招（小学）'!#REF!=0,\"\",'统招（小学）'!#REF!)","v":{"$error":"#REF!"}},{"$f":"IF('统招（小学）'!#REF!=0,\"\",'统招（小学）'!#REF!)","v":{"$error":"#REF!"}},{"$f":"IF('统招（小学）'!#REF!=0,\"\",'统招（小学）'!#REF!)","v":{"$error":"#REF!"}},{"$f":"IF('统招（小学）'!#REF!=0,\"\",'统招（小学）'!#REF!)","v":{"$error":"#REF!"}},{"$f":"IF('统招（小学）'!#REF!=0,\"\",'统招（小学）'!#REF!)","v":{"$error":"#REF!"}},{"$f":"IF('统招（小学）'!#REF!=0,\"\",'统招（小学）'!#REF!)","v":{"$error":"#REF!"}},{"$f":"IF('统招（小学）'!#REF!=0,\"\",'统招（小学）'!#REF!)","v":{"$error":"#REF!"}},{"$f":"IF('统招（小学）'!#REF!=0,\"\",'统招（小学）'!#REF!)","v":{"$error":"#REF!"}},{"$f":"IF('统招（小学）'!#REF!=0,\"\",'统招（小学）'!#REF!)","v":{"$error":"#REF!"}},{"$f":"IF('统招（小学）'!#REF!=0,\"\",'统招（小学）'!#REF!)","v":{"$error":"#REF!"}},{"$f":"IF('统招（小学）'!#REF!=0,\"\",'统招（小学）'!#REF!)","v":{"$error":"#REF!"}},{"$f":"IF('统招（小学）'!#REF!=0,\"\",'统招（小学）'!#REF!)","v":{"$error":"#REF!"}},{"$f":"IF('统招（小学）'!#REF!=0,\"\",'统招（小学）'!#REF!)","v":{"$error":"#REF!"}},{"$f":"IF('统招（小学）'!#REF!=0,\"\",'统招（小学）'!#REF!)","v":{"$error":"#REF!"}},{"$f":"IF('统招（小学）'!#REF!=0,\"\",'统招（小学）'!#REF!)","v":{"$error":"#REF!"}},{"$f":"IF('统招（小学）'!#REF!=0,\"\",'统招（小学）'!#REF!)","v":{"$error":"#REF!"}},{"$f":"IF('统招（小学）'!#REF!=0,\"\",'统招（小学）'!#REF!)","v":{"$error":"#REF!"}},{"$f":"IF('统招（小学）'!#REF!=0,\"\",'统招（小学）'!#REF!)","v":{"$error":"#REF!"}},{"$f":"IF('统招（小学）'!#REF!=0,\"\",'统招（小学）'!#REF!)","v":{"$error":"#REF!"}},{"$f":"IF('统招（小学）'!#REF!=0,\"\",'统招（小学）'!#REF!)","v":{"$error":"#REF!"}},{"$f":"IF('统招（小学）'!#REF!=0,\"\",'统招（小学）'!#REF!)","v":{"$error":"#REF!"}},{"$error":"#REF!"},null,null,2,null,9,null,null,11,{"$f":"SUM(AQ76:AX76)","v":{"$error":"#REF!"}},{"$f":"AZ76-AX76","v":{"$error":"#REF!"}},{"$f":"BA76+H76","v":{"$error":"#REF!"}}]
["诚义学校（初中）",85,64,1033,1070,18,20,78,{"v":53.5,"d":"54"},{"$f":"G77*2.8","v":56},{"$f":"E77/13.5","v":{"v":79.2592592592593,"d":"79"}},{"$f":"G77*50/13.5","v":{"v":74.0740740740741,"d":"74"}},{"$nulls":4},{"$f":"IF('统招（小学）'!#REF!=0,\"\",'统招（小学）'!#REF!)","v":{"$error":"#REF!"}},{"$f":"IF('统招（小学）'!#REF!=0,\"\",'统招（小学）'!#REF!)","v":{"$error":"#REF!"}},{"$f":"IF('统招（小学）'!#REF!=0,\"\",'统招（小学）'!#REF!)","v":{"$error":"#REF!"}},{"$f":"IF('统招（小学）'!#REF!=0,\"\",'统招（小学）'!#REF!)","v":{"$error":"#REF!"}},{"$f":"IF('统招（小学）'!#REF!=0,\"\",'统招（小学）'!#REF!)","v":{"$error":"#REF!"}},{"$f":"IF('统招（小学）'!#REF!=0,\"\",'统招（小学）'!#REF!)","v":{"$error":"#REF!"}},{"$f":"IF('统招（小学）'!#REF!=0,\"\",'统招（小学）'!#REF!)","v":{"$error":"#REF!"}},{"$f":"IF('统招（小学）'!#REF!=0,\"\",'统招（小学）'!#REF!)","v":{"$error":"#REF!"}},{"$f":"IF('统招（小学）'!#REF!=0,\"\",'统招（小学）'!#REF!)","v":{"$error":"#REF!"}},{"$f":"IF('统招（小学）'!#REF!=0,\"\",'统招（小学）'!#REF!)","v":{"$error":"#REF!"}},{"$f":"IF('统招（小学）'!#REF!=0,\"\",'统招（小学）'!#REF!)","v":{"$error":"#REF!"}},{"$f":"IF('统招（小学）'!#REF!=0,\"\",'统招（小学）'!#REF!)","v":{"$error":"#REF!"}},{"$f":"IF('统招（小学）'!#REF!=0,\"\",'统招（小学）'!#REF!)","v":{"$error":"#REF!"}},{"$f":"IF('统招（小学）'!#REF!=0,\"\",'统招（小学）'!#REF!)","v":{"$error":"#REF!"}},{"$f":"IF('统招（小学）'!#REF!=0,\"\",'统招（小学）'!#REF!)","v":{"$error":"#REF!"}},{"$f":"IF('统招（小学）'!#REF!=0,\"\",'统招（小学）'!#REF!)","v":{"$error":"#REF!"}},{"$f":"IF('统招（小学）'!#REF!=0,\"\",'统招（小学）'!#REF!)","v":{"$error":"#REF!"}},{"$f":"IF('统招（小学）'!#REF!=0,\"\",'统招（小学）'!#REF!)","v":{"$error":"#REF!"}},{"$f":"IF('统招（小学）'!#REF!=0,\"\",'统招（小学）'!#REF!)","v":{"$error":"#REF!"}},{"$f":"IF('统招（小学）'!#REF!=0,\"\",'统招（小学）'!#REF!)","v":{"$error":"#REF!"}},{"$f":"IF('统招（小学）'!#REF!=0,\"\",'统招（小学）'!#REF!)","v":{"$error":"#REF!"}},{"$f":"IF('统招（小学）'!#REF!=0,\"\",'统招（小学）'!#REF!)","v":{"$error":"#REF!"}},{"$f":"IF('统招（小学）'!#REF!=0,\"\",'统招（小学）'!#REF!)","v":{"$error":"#REF!"}},{"$f":"IF('统招（小学）'!#REF!=0,\"\",'统招（小学）'!#REF!)","v":{"$error":"#REF!"}},{"$f":"IF('统招（小学）'!#REF!=0,\"\",'统招（小学）'!#REF!)","v":{"$error":"#REF!"}},{"$f":"IF('统招（小学）'!#REF!=0,\"\",'统招（小学）'!#REF!)","v":{"$error":"#REF!"}},{"$error":"#REF!"},{"$nulls":5},2,null,2]
["芳草学校（小学）",39,65,2222,2580,42,50,94,{"v":51.6,"d":"52"},120,{"v":135.789473684211,"d":"136"},null,{"v":127.894736842105,"d":"128"},{"v":41.7894736842105,"d":"42"},{"v":41.7894736842105,"d":"42"},26,{"$f":"IF('统招（小学）'!C7=0,\"\",'统招（小学）'!C7)","v":""},{"$f":"IF('统招（小学）'!#REF!=0,\"\",'统招（小学）'!#REF!)","v":{"$error":"#REF!"}},{"$f":"IF('统招（小学）'!D7=0,\"\",'统招（小学）'!D7)","v":""},{"$f":"IF('统招（小学）'!E7=0,\"\",'统招（小学）'!E7)","v":2},{"$f":"IF('统招（小学）'!F7=0,\"\",'统招（小学）'!F7)","v":""},{"$f":"IF('统招（小学）'!G7=0,\"\",'统招（小学）'!G7)","v":""},{"$f":"IF('统招（小学）'!H7=0,\"\",'统招（小学）'!H7)","v":2},{"$f":"IF('统招（小学）'!I7=0,\"\",'统招（小学）'!I7)","v":""},{"$f":"IF('统招（小学）'!J7=0,\"\",'统招（小学）'!J7)","v":1},{"$f":"IF('统招（小学）'!K7=0,\"\",'统招（小学）'!K7)","v":""},{"$f":"IF('统招（小学）'!S7=0,\"\",'统招（小学）'!S7)","v":""},{"$f":"IF('统招（小学）'!T7=0,\"\",'统招（小学）'!T7)","v":""},{"$f":"IF('统招（小学）'!U7=0,\"\",'统招（小学）'!U7)","v":""},{"$f":"IF('统招（小学）'!V7=0,\"\",'统招（小学）'!V7)","v":""},{"$f":"IF('统招（小学）'!#REF!=0,\"\",'统招（小学）'!#REF!)","v":{"$error":"#REF!"}},{"$f":"IF('统招（小学）'!#REF!=0,\"\",'统招（小学）'!#REF!)","v":{"$error":"#REF!"}},{"$f":"IF('统招（小学）'!#REF!=0,\"\",'统招（小学）'!#REF!)","v":{"$error":"#REF!"}},{"$f":"IF('统招（小学）'!#REF!=0,\"\",'统招（小学）'!#REF!)","v":{"$error":"#REF!"}},{"$f":"IF('统招（小学）'!#REF!=0,\"\",'统招（小学）'!#REF!)","v":{"$error":"#REF!"}},{"$f":"IF('统招（小学）'!#REF!=0,\"\",'统招（小学）'!#REF!)","v":{"$error":"#REF!"}},{"$f":"IF('统招（小学）'!#REF!=0,\"\",'统招（小学）'!#REF!)","v":{"$error":"#REF!"}},{"$f":"IF('统招（小学）'!#REF!=0,\"\",'统招（小学）'!#REF!)","v":{"$error":"#REF!"}},{"$f":"IF('统招（小学）'!#REF!=0,\"\",'统招（小学）'!#REF!)","v":{"$error":"#REF!"}},{"$f":"IF('统招（小学）'!#REF!=0,\"\",'统招（小学）'!#REF!)","v":{"$error":"#REF!"}},{"$f":"IF('统招（小学）'!#REF!=0,\"\",'统招（小学）'!#REF!)","v":{"$error":"#REF!"}},{"$f":"IF('统招（小学）'!#REF!=0,\"\",'统招（小学）'!#REF!)","v":{"$error":"#REF!"}},{"$error":"#REF!"},null,null,2,null,8,null,null,10,{"$error":"#REF!"},{"$error":"#REF!"},{"$error":"#REF!"}]
["芳草学校（初中）",86,65,712,853,13,19,55,{"v":44.8947368421053,"d":"45"},{"v":53.2,"d":"53"},{"v":63.1851851851852,"d":"63"},{"v":70.3703703703704,"d":"70"},{"$nulls":4},{"$f":"IF('统招（小学）'!#REF!=0,\"\",'统招（小学）'!#REF!)","v":{"$error":"#REF!"}},{"$f":"IF('统招（小学）'!#REF!=0,\"\",'统招（小学）'!#REF!)","v":{"$error":"#REF!"}},{"$f":"IF('统招（小学）'!#REF!=0,\"\",'统招（小学）'!#REF!)","v":{"$error":"#REF!"}},{"$f":"IF('统招（小学）'!#REF!=0,\"\",'统招（小学）'!#REF!)","v":{"$error":"#REF!"}},{"$f":"IF('统招（小学）'!#REF!=0,\"\",'统招（小学）'!#REF!)","v":{"$error":"#REF!"}},{"$f":"IF('统招（小学）'!#REF!=0,\"\",'统招（小学）'!#REF!)","v":{"$error":"#REF!"}},{"$f":"IF('统招（小学）'!#REF!=0,\"\",'统招（小学）'!#REF!)","v":{"$error":"#REF!"}},{"$f":"IF('统招（小学）'!#REF!=0,\"\",'统招（小学）'!#REF!)","v":{"$error":"#REF!"}},{"$f":"IF('统招（小学）'!#REF!=0,\"\",'统招（小学）'!#REF!)","v":{"$error":"#REF!"}},{"$f":"IF('统招（小学）'!#REF!=0,\"\",'统招（小学）'!#REF!)","v":{"$error":"#REF!"}},{"$f":"IF('统招（小学）'!#REF!=0,\"\",'统招（小学）'!#REF!)","v":{"$error":"#REF!"}},{"$f":"IF('统招（小学）'!#REF!=0,\"\",'统招（小学）'!#REF!)","v":{"$error":"#REF!"}},{"$f":"IF('统招（小学）'!#REF!=0,\"\",'统招（小学）'!#REF!)","v":{"$error":"#REF!"}},{"$f":"IF('统招（小学）'!#REF!=0,\"\",'统招（小学）'!#REF!)","v":{"$error":"#REF!"}},{"$f":"IF('统招（小学）'!#REF!=0,\"\",'统招（小学）'!#REF!)","v":{"$error":"#REF!"}},{"$f":"IF('统招（小学）'!#REF!=0,\"\",'统招（小学）'!#REF!)","v":{"$error":"#REF!"}},{"$f":"IF('统招（小学）'!#REF!=0,\"\",'统招（小学）'!#REF!)","v":{"$error":"#REF!"}},{"$f":"IF('统招（小学）'!#REF!=0,\"\",'统招（小学）'!#REF!)","v":{"$error":"#REF!"}},{"$f":"IF('统招（小学）'!#REF!=0,\"\",'统招（小学）'!#REF!)","v":{"$error":"#REF!"}},{"$f":"IF('统招（小学）'!#REF!=0,\"\",'统招（小学）'!#REF!)","v":{"$error":"#REF!"}},{"$f":"IF('统招（小学）'!#REF!=0,\"\",'统招（小学）'!#REF!)","v":{"$error":"#REF!"}},{"$f":"IF('统招（小学）'!#REF!=0,\"\",'统招（小学）'!#REF!)","v":{"$error":"#REF!"}},{"$f":"IF('统招（小学）'!#REF!=0,\"\",'统招（小学）'!#REF!)","v":{"$error":"#REF!"}},{"$f":"IF('统招（小学）'!#REF!=0,\"\",'统招（小学）'!#REF!)","v":{"$error":"#REF!"}},{"$f":"IF('统招（小学）'!#REF!=0,\"\",'统招（小学）'!#REF!)","v":{"$error":"#REF!"}},{"$f":"IF('统招（小学）'!#REF!=0,\"\",'统招（小学）'!#REF!)","v":{"$error":"#REF!"}},{"$error":"#REF!"},{"$nulls":7},0]
["洪州汇仁学校（小学）",40,66,1658,2159,26,38,58,{"v":56.8157894736842,"d":"57"},{"v":91.2,"d":"91"},{"v":113.631578947368,"d":"114"},null,{"v":102.415789473684,"d":"102"},{"v":55.6315789473684,"d":"56"},{"v":55.6315789473684,"d":"56"},{"v":33.2,"d":"33"},{"$f":"IF('统招（小学）'!#REF!=0,\"\",'统招（小学）'!#REF!)","v":{"$error":"#REF!"}},{"$f":"IF('统招（小学）'!#REF!=0,\"\",'统招（小学）'!#REF!)","v":{"$error":"#REF!"}},{"$f":"IF('统招（小学）'!#REF!=0,\"\",'统招（小学）'!#REF!)","v":{"$error":"#REF!"}},{"$f":"IF('统招（小学）'!#REF!=0,\"\",'统招（小学）'!#REF!)","v":{"$error":"#REF!"}},{"$f":"IF('统招（小学）'!#REF!=0,\"\",'统招（小学）'!#REF!)","v":{"$error":"#REF!"}},{"$f":"IF('统招（小学）'!#REF!=0,\"\",'统招（小学）'!#REF!)","v":{"$error":"#REF!"}},{"$f":"IF('统招（小学）'!#REF!=0,\"\",'统招（小学）'!#REF!)","v":{"$error":"#REF!"}},{"$f":"IF('统招（小学）'!#REF!=0,\"\",'统招（小学）'!#REF!)","v":{"$error":"#REF!"}},{"$f":"IF('统招（小学）'!#REF!=0,\"\",'统招（小学）'!#REF!)","v":{"$error":"#REF!"}},{"$f":"IF('统招（小学）'!#REF!=0,\"\",'统招（小学）'!#REF!)","v":{"$error":"#REF!"}},{"$f":"IF('统招（小学）'!#REF!=0,\"\",'统招（小学）'!#REF!)","v":{"$error":"#REF!"}},{"$f":"IF('统招（小学）'!#REF!=0,\"\",'统招（小学）'!#REF!)","v":{"$error":"#REF!"}},{"$f":"IF('统招（小学）'!#REF!=0,\"\",'统招（小学）'!#REF!)","v":{"$error":"#REF!"}},{"$f":"IF('统招（小学）'!#REF!=0,\"\",'统招（小学）'!#REF!)","v":{"$error":"#REF!"}},{"$f":"IF('统招（小学）'!#REF!=0,\"\",'统招（小学）'!#REF!)","v":{"$error":"#REF!"}},{"$f":"IF('统招（小学）'!#REF!=0,\"\",'统招（小学）'!#REF!)","v":{"$error":"#REF!"}},{"$f":"IF('统招（小学）'!#REF!=0,\"\",'统招（小学）'!#REF!)","v":{"$error":"#REF!"}},{"$f":"IF('统招（小学）'!#REF!=0,\"\",'统招（小学）'!#REF!)","v":{"$error":"#REF!"}},{"$f":"IF('统招（小学）'!#REF!=0,\"\",'统招（小学）'!#REF!)","v":{"$error":"#REF!"}},{"$f":"IF('统招（小学）'!#REF!=0,\"\",'统招（小学）'!#REF!)","v":{"$error":"#REF!"}},{"$f":"IF('统招（小学）'!#REF!=0,\"\",'统招（小学）'!#REF!)","v":{"$error":"#REF!"}},{"$f":"IF('统招（小学）'!#REF!=0,\"\",'统招（小学）'!#REF!)","v":{"$error":"#REF!"}},{"$f":"IF('统招（小学）'!#REF!=0,\"\",'统招（小学）'!#REF!)","v":{"$error":"#REF!"}},{"$f":"IF('统招（小学）'!#REF!=0,\"\",'统招（小学）'!#REF!)","v":{"$error":"#REF!"}},{"$f":"IF('统招（小学）'!#REF!=0,\"\",'统招（小学）'!#REF!)","v":{"$error":"#REF!"}},{"$f":"IF('统招（小学）'!#REF!=0,\"\",'统招（小学）'!#REF!)","v":{"$error":"#REF!"}},{"$error":"#REF!"},null,4,2,null,2,null,null,8,{"$error":"#REF!"},{"$error":"#REF!"},{"$error":"#REF!"}]
["洪州汇仁学校（初中）",87,66,679,766,12,14,39,{"v":54.7142857142857,"d":"55"},{"v":39.2,"d":"39"},{"v":56.7407407407407,"d":"57"},{"v":51.8518518518519,"d":"52"},{"$nulls":4},{"$f":"IF('统招（小学）'!#REF!=0,\"\",'统招（小学）'!#REF!)","v":{"$error":"#REF!"}},{"$f":"IF('统招（小学）'!#REF!=0,\"\",'统招（小学）'!#REF!)","v":{"$error":"#REF!"}},{"$f":"IF('统招（小学）'!#REF!=0,\"\",'统招（小学）'!#REF!)","v":{"$error":"#REF!"}},{"$f":"IF('统招（小学）'!#REF!=0,\"\",'统招（小学）'!#REF!)","v":{"$error":"#REF!"}},{"$f":"IF('统招（小学）'!#REF!=0,\"\",'统招（小学）'!#REF!)","v":{"$error":"#REF!"}},{"$f":"IF('统招（小学）'!#REF!=0,\"\",'统招（小学）'!#REF!)","v":{"$error":"#REF!"}},{"$f":"IF('统招（小学）'!#REF!=0,\"\",'统招（小学）'!#REF!)","v":{"$error":"#REF!"}},{"$f":"IF('统招（小学）'!#REF!=0,\"\",'统招（小学）'!#REF!)","v":{"$error":"#REF!"}},{"$f":"IF('统招（小学）'!#REF!=0,\"\",'统招（小学）'!#REF!)","v":{"$error":"#REF!"}},{"$f":"IF('统招（小学）'!#REF!=0,\"\",'统招（小学）'!#REF!)","v":{"$error":"#REF!"}},{"$f":"IF('统招（小学）'!#REF!=0,\"\",'统招（小学）'!#REF!)","v":{"$error":"#REF!"}},{"$f":"IF('统招（小学）'!#REF!=0,\"\",'统招（小学）'!#REF!)","v":{"$error":"#REF!"}},{"$f":"IF('统招（小学）'!#REF!=0,\"\",'统招（小学）'!#REF!)","v":{"$error":"#REF!"}},{"$f":"IF('统招（小学）'!#REF!=0,\"\",'统招（小学）'!#REF!)","v":{"$error":"#REF!"}},{"$f":"IF('统招（小学）'!#REF!=0,\"\",'统招（小学）'!#REF!)","v":{"$error":"#REF!"}},{"$f":"IF('统招（小学）'!#REF!=0,\"\",'统招（小学）'!#REF!)","v":{"$error":"#REF!"}},{"$f":"IF('统招（小学）'!#REF!=0,\"\",'统招（小学）'!#REF!)","v":{"$error":"#REF!"}},{"$f":"IF('统招（小学）'!#REF!=0,\"\",'统招（小学）'!#REF!)","v":{"$error":"#REF!"}},{"$f":"IF('统招（小学）'!#REF!=0,\"\",'统招（小学）'!#REF!)","v":{"$error":"#REF!"}},{"$f":"IF('统招（小学）'!#REF!=0,\"\",'统招（小学）'!#REF!)","v":{"$error":"#REF!"}},{"$f":"IF('统招（小学）'!#REF!=0,\"\",'统招（小学）'!#REF!)","v":{"$error":"#REF!"}},{"$f":"IF('统招（小学）'!#REF!=0,\"\",'统招（小学）'!#REF!)","v":{"$error":"#REF!"}},{"$f":"IF('统招（小学）'!#REF!=0,\"\",'统招（小学）'!#REF!)","v":{"$error":"#REF!"}},{"$f":"IF('统招（小学）'!#REF!=0,\"\",'统招（小学）'!#REF!)","v":{"$error":"#REF!"}},{"$f":"IF('统招（小学）'!#REF!=0,\"\",'统招（小学）'!#REF!)","v":{"$error":"#REF!"}},{"$f":"IF('统招（小学）'!#REF!=0,\"\",'统招（小学）'!#REF!)","v":{"$error":"#REF!"}},{"$error":"#REF!"},null,2,3,{"$nulls":4},5]
["洪燕学校（小学）",41,67,2474,2757,41,49,73,{"v":56.265306122449,"d":"56"},{"$f":"G82*2.4","v":{"v":117.6,"d":"118"}},{"$f":"E82/19","v":{"v":145.105263157895,"d":"145"}},null,{"$f":"(J82+K82)/2","v":{"v":131.352631578947,"d":"131"}},{"$f":"K82-H82","v":{"v":72.1052631578947,"d":"72"}},{"$f":"N82","v":{"v":72.1052631578947,"d":"72"}},{"$f":"J82-H82","v":{"v":44.6,"d":"45"}},{"$f":"IF('统招（小学）'!#REF!=0,\"\",'统招（小学）'!#REF!)","v":{"$error":"#REF!"}},{"$f":"IF('统招（小学）'!#REF!=0,\"\",'统招（小学）'!#REF!)","v":{"$error":"#REF!"}},{"$f":"IF('统招（小学）'!#REF!=0,\"\",'统招（小学）'!#REF!)","v":{"$error":"#REF!"}},{"$f":"IF('统招（小学）'!#REF!=0,\"\",'统招（小学）'!#REF!)","v":{"$error":"#REF!"}},{"$f":"IF('统招（小学）'!#REF!=0,\"\",'统招（小学）'!#REF!)","v":{"$error":"#REF!"}},{"$f":"IF('统招（小学）'!#REF!=0,\"\",'统招（小学）'!#REF!)","v":{"$error":"#REF!"}},{"$f":"IF('统招（小学）'!#REF!=0,\"\",'统招（小学）'!#REF!)","v":{"$error":"#REF!"}},{"$f":"IF('统招（小学）'!#REF!=0,\"\",'统招（小学）'!#REF!)","v":{"$error":"#REF!"}},{"$f":"IF('统招（小学）'!#REF!=0,\"\",'统招（小学）'!#REF!)","v":{"$error":"#REF!"}},{"$f":"IF('统招（小学）'!#REF!=0,\"\",'统招（小学）'!#REF!)","v":{"$error":"#REF!"}},{"$f":"IF('统招（小学）'!#REF!=0,\"\",'统招（小学）'!#REF!)","v":{"$error":"#REF!"}},{"$f":"IF('统招（小学）'!#REF!=0,\"\",'统招（小学）'!#REF!)","v":{"$error":"#REF!"}},{"$f":"IF('统招（小学）'!#REF!=0,\"\",'统招（小学）'!#REF!)","v":{"$error":"#REF!"}},{"$f":"IF('统招（小学）'!#REF!=0,\"\",'统招（小学）'!#REF!)","v":{"$error":"#REF!"}},{"$f":"IF('统招（小学）'!#REF!=0,\"\",'统招（小学）'!#REF!)","v":{"$error":"#REF!"}},{"$f":"IF('统招（小学）'!#REF!=0,\"\",'统招（小学）'!#REF!)","v":{"$error":"#REF!"}},{"$f":"IF('统招（小学）'!#REF!=0,\"\",'统招（小学）'!#REF!)","v":{"$error":"#REF!"}},{"$f":"IF('统招（小学）'!#REF!=0,\"\",'统招（小学）'!#REF!)","v":{"$error":"#REF!"}},{"$f":"IF('统招（小学）'!#REF!=0,\"\",'统招（小学）'!#REF!)","v":{"$error":"#REF!"}},{"$f":"IF('统招（小学）'!#REF!=0,\"\",'统招（小学）'!#REF!)","v":{"$error":"#REF!"}},{"$f":"IF('统招（小学）'!#REF!=0,\"\",'统招（小学）'!#REF!)","v":{"$error":"#REF!"}},{"$f":"IF('统招（小学）'!#REF!=0,\"\",'统招（小学）'!#REF!)","v":{"$error":"#REF!"}},{"$f":"IF('统招（小学）'!#REF!=0,\"\",'统招（小学）'!#REF!)","v":{"$error":"#REF!"}},{"$f":"IF('统招（小学）'!#REF!=0,\"\",'统招（小学）'!#REF!)","v":{"$error":"#REF!"}},{"$f":"IF('统招（小学）'!#REF!=0,\"\",'统招（小学）'!#REF!)","v":{"$error":"#REF!"}},{"$f":"IF('统招（小学）'!#REF!=0,\"\",'统招（小学）'!#REF!)","v":{"$error":"#REF!"}},{"$error":"#REF!"},null,4,4,null,9,null,null,17,{"$f":"SUM(AQ82:AX82)","v":{"$error":"#REF!"}},{"$f":"AZ82-AX82","v":{"$error":"#REF!"}},{"$f":"BA82+H82","v":{"$error":"#REF!"}}]
["洪燕学校（初中）",88,67,807,879,14,16,55,{"v":54.9375,"d":"55"},{"$f":"G83*2.8","v":{"v":44.8,"d":"45"}},{"$f":"E83/13.5","v":{"v":65.1111111111111,"d":"65"}},{"$f":"G83*50/13.5","v":{"v":59.2592592592593,"d":"59"}},{"$nulls":4},{"$f":"IF('统招（小学）'!#REF!=0,\"\",'统招（小学）'!#REF!)","v":{"$error":"#REF!"}},{"$f":"IF('统招（小学）'!#REF!=0,\"\",'统招（小学）'!#REF!)","v":{"$error":"#REF!"}},{"$f":"IF('统招（小学）'!#REF!=0,\"\",'统招（小学）'!#REF!)","v":{"$error":"#REF!"}},{"$f":"IF('统招（小学）'!#REF!=0,\"\",'统招（小学）'!#REF!)","v":{"$error":"#REF!"}},{"$f":"IF('统招（小学）'!#REF!=0,\"\",'统招（小学）'!#REF!)","v":{"$error":"#REF!"}},{"$f":"IF('统招（小学）'!#REF!=0,\"\",'统招（小学）'!#REF!)","v":{"$error":"#REF!"}},{"$f":"IF('统招（小学）'!#REF!=0,\"\",'统招（小学）'!#REF!)","v":{"$error":"#REF!"}},{"$f":"IF('统招（小学）'!#REF!=0,\"\",'统招（小学）'!#REF!)","v":{"$error":"#REF!"}},{"$f":"IF('统招（小学）'!#REF!=0,\"\",'统招（小学）'!#REF!)","v":{"$error":"#REF!"}},{"$f":"IF('统招（小学）'!#REF!=0,\"\",'统招（小学）'!#REF!)","v":{"$error":"#REF!"}},{"$f":"IF('统招（小学）'!#REF!=0,\"\",'统招（小学）'!#REF!)","v":{"$error":"#REF!"}},{"$f":"IF('统招（小学）'!#REF!=0,\"\",'统招（小学）'!#REF!)","v":{"$error":"#REF!"}},{"$f":"IF('统招（小学）'!#REF!=0,\"\",'统招（小学）'!#REF!)","v":{"$error":"#REF!"}},{"$f":"IF('统招（小学）'!#REF!=0,\"\",'统招（小学）'!#REF!)","v":{"$error":"#REF!"}},{"$f":"IF('统招（小学）'!#REF!=0,\"\",'统招（小学）'!#REF!)","v":{"$error":"#REF!"}},{"$f":"IF('统招（小学）'!#REF!=0,\"\",'统招（小学）'!#REF!)","v":{"$error":"#REF!"}},{"$f":"IF('统招（小学）'!#REF!=0,\"\",'统招（小学）'!#REF!)","v":{"$error":"#REF!"}},{"$f":"IF('统招（小学）'!#REF!=0,\"\",'统招（小学）'!#REF!)","v":{"$error":"#REF!"}},{"$f":"IF('统招（小学）'!#REF!=0,\"\",'统招（小学）'!#REF!)","v":{"$error":"#REF!"}},{"$f":"IF('统招（小学）'!#REF!=0,\"\",'统招（小学）'!#REF!)","v":{"$error":"#REF!"}},{"$f":"IF('统招（小学）'!#REF!=0,\"\",'统招（小学）'!#REF!)","v":{"$error":"#REF!"}},{"$f":"IF('统招（小学）'!#REF!=0,\"\",'统招（小学）'!#REF!)","v":{"$error":"#REF!"}},{"$f":"IF('统招（小学）'!#REF!=0,\"\",'统招（小学）'!#REF!)","v":{"$error":"#REF!"}},{"$f":"IF('统招（小学）'!#REF!=0,\"\",'统招（小学）'!#REF!)","v":{"$error":"#REF!"}},{"$f":"IF('统招（小学）'!#REF!=0,\"\",'统招（小学）'!#REF!)","v":{"$error":"#REF!"}},{"$f":"IF('统招（小学）'!#REF!=0,\"\",'统招（小学）'!#REF!)","v":{"$error":"#REF!"}},{"$error":"#REF!"},null,2,2,{"$nulls":4},4]
["洪亿学校（小学）",42,68,618,963,15,22,37,{"v":43.7727272727273,"d":"44"},{"v":52.8,"d":"53"},{"v":50.6842105263158,"d":"51"},null,{"v":51.7421052631579,"d":"52"},{"v":13.6842105263158,"d":"14"},{"v":13.6842105263158,"d":"14"},{"v":15.8,"d":"16"},{"$f":"IF('统招（小学）'!#REF!=0,\"\",'统招（小学）'!#REF!)","v":{"$error":"#REF!"}},{"$f":"IF('统招（小学）'!#REF!=0,\"\",'统招（小学）'!#REF!)","v":{"$error":"#REF!"}},{"$f":"IF('统招（小学）'!#REF!=0,\"\",'统招（小学）'!#REF!)","v":{"$error":"#REF!"}},{"$f":"IF('统招（小学）'!#REF!=0,\"\",'统招（小学）'!#REF!)","v":{"$error":"#REF!"}},{"$f":"IF('统招（小学）'!#REF!=0,\"\",'统招（小学）'!#REF!)","v":{"$error":"#REF!"}},{"$f":"IF('统招（小学）'!#REF!=0,\"\",'统招（小学）'!#REF!)","v":{"$error":"#REF!"}},{"$f":"IF('统招（小学）'!#REF!=0,\"\",'统招（小学）'!#REF!)","v":{"$error":"#REF!"}},{"$f":"IF('统招（小学）'!#REF!=0,\"\",'统招（小学）'!#REF!)","v":{"$error":"#REF!"}},{"$f":"IF('统招（小学）'!#REF!=0,\"\",'统招（小学）'!#REF!)","v":{"$error":"#REF!"}},{"$f":"IF('统招（小学）'!#REF!=0,\"\",'统招（小学）'!#REF!)","v":{"$error":"#REF!"}},{"$f":"IF('统招（小学）'!#REF!=0,\"\",'统招（小学）'!#REF!)","v":{"$error":"#REF!"}},{"$f":"IF('统招（小学）'!#REF!=0,\"\",'统招（小学）'!#REF!)","v":{"$error":"#REF!"}},{"$f":"IF('统招（小学）'!#REF!=0,\"\",'统招（小学）'!#REF!)","v":{"$error":"#REF!"}},{"$f":"IF('统招（小学）'!#REF!=0,\"\",'统招（小学）'!#REF!)","v":{"$error":"#REF!"}},{"$f":"IF('统招（小学）'!#REF!=0,\"\",'统招（小学）'!#REF!)","v":{"$error":"#REF!"}},{"$f":"IF('统招（小学）'!#REF!=0,\"\",'统招（小学）'!#REF!)","v":{"$error":"#REF!"}},{"$f":"IF('统招（小学）'!#REF!=0,\"\",'统招（小学）'!#REF!)","v":{"$error":"#REF!"}},{"$f":"IF('统招（小学）'!#REF!=0,\"\",'统招（小学）'!#REF!)","v":{"$error":"#REF!"}},{"$f":"IF('统招（小学）'!#REF!=0,\"\",'统招（小学）'!#REF!)","v":{"$error":"#REF!"}},{"$f":"IF('统招（小学）'!#REF!=0,\"\",'统招（小学）'!#REF!)","v":{"$error":"#REF!"}},{"$f":"IF('统招（小学）'!#REF!=0,\"\",'统招（小学）'!#REF!)","v":{"$error":"#REF!"}},{"$f":"IF('统招（小学）'!#REF!=0,\"\",'统招（小学）'!#REF!)","v":{"$error":"#REF!"}},{"$f":"IF('统招（小学）'!#REF!=0,\"\",'统招（小学）'!#REF!)","v":{"$error":"#REF!"}},{"$f":"IF('统招（小学）'!#REF!=0,\"\",'统招（小学）'!#REF!)","v":{"$error":"#REF!"}},{"$f":"IF('统招（小学）'!#REF!=0,\"\",'统招（小学）'!#REF!)","v":{"$error":"#REF!"}},{"$f":"IF('统招（小学）'!#REF!=0,\"\",'统招（小学）'!#REF!)","v":{"$error":"#REF!"}},{"$error":"#REF!"},null,3,3,null,2,null,null,8,{"$error":"#REF!"},{"$error":"#REF!"},{"$error":"#REF!"}]
["洪亿学校（初中）",89,68,128,248,3,6,14,{"v":41.3333333333333,"d":"41"},{"v":16.8,"d":"17"},{"v":18.3703703703704,"d":"18"},{"v":22.2222222222222,"d":"22"},{"$nulls":4},{"$f":"IF('统招（小学）'!#REF!=0,\"\",'统招（小学）'!#REF!)","v":{"$error":"#REF!"}},{"$f":"IF('统招（小学）'!#REF!=0,\"\",'统招（小学）'!#REF!)","v":{"$error":"#REF!"}},{"$f":"IF('统招（小学）'!#REF!=0,\"\",'统招（小学）'!#REF!)","v":{"$error":"#REF!"}},{"$f":"IF('统招（小学）'!#REF!=0,\"\",'统招（小学）'!#REF!)","v":{"$error":"#REF!"}},{"$f":"IF('统招（小学）'!#REF!=0,\"\",'统招（小学）'!#REF!)","v":{"$error":"#REF!"}},{"$f":"IF('统招（小学）'!#REF!=0,\"\",'统招（小学）'!#REF!)","v":{"$error":"#REF!"}},{"$f":"IF('统招（小学）'!#REF!=0,\"\",'统招（小学）'!#REF!)","v":{"$error":"#REF!"}},{"$f":"IF('统招（小学）'!#REF!=0,\"\",'统招（小学）'!#REF!)","v":{"$error":"#REF!"}},{"$f":"IF('统招（小学）'!#REF!=0,\"\",'统招（小学）'!#REF!)","v":{"$error":"#REF!"}},{"$f":"IF('统招（小学）'!#REF!=0,\"\",'统招（小学）'!#REF!)","v":{"$error":"#REF!"}},{"$f":"IF('统招（小学）'!#REF!=0,\"\",'统招（小学）'!#REF!)","v":{"$error":"#REF!"}},{"$f":"IF('统招（小学）'!#REF!=0,\"\",'统招（小学）'!#REF!)","v":{"$error":"#REF!"}},{"$f":"IF('统招（小学）'!#REF!=0,\"\",'统招（小学）'!#REF!)","v":{"$error":"#REF!"}},{"$f":"IF('统招（小学）'!#REF!=0,\"\",'统招（小学）'!#REF!)","v":{"$error":"#REF!"}},{"$f":"IF('统招（小学）'!#REF!=0,\"\",'统招（小学）'!#REF!)","v":{"$error":"#REF!"}},{"$f":"IF('统招（小学）'!#REF!=0,\"\",'统招（小学）'!#REF!)","v":{"$error":"#REF!"}},{"$f":"IF('统招（小学）'!#REF!=0,\"\",'统招（小学）'!#REF!)","v":{"$error":"#REF!"}},{"$f":"IF('统招（小学）'!#REF!=0,\"\",'统招（小学）'!#REF!)","v":{"$error":"#REF!"}},{"$f":"IF('统招（小学）'!#REF!=0,\"\",'统招（小学）'!#REF!)","v":{"$error":"#REF!"}},{"$f":"IF('统招（小学）'!#REF!=0,\"\",'统招（小学）'!#REF!)","v":{"$error":"#REF!"}},{"$f":"IF('统招（小学）'!#REF!=0,\"\",'统招（小学）'!#REF!)","v":{"$error":"#REF!"}},{"$f":"IF('统招（小学）'!#REF!=0,\"\",'统招（小学）'!#REF!)","v":{"$error":"#REF!"}},{"$f":"IF('统招（小学）'!#REF!=0,\"\",'统招（小学）'!#REF!)","v":{"$error":"#REF!"}},{"$f":"IF('统招（小学）'!#REF!=0,\"\",'统招（小学）'!#REF!)","v":{"$error":"#REF!"}},{"$f":"IF('统招（小学）'!#REF!=0,\"\",'统招（小学）'!#REF!)","v":{"$error":"#REF!"}},{"$f":"IF('统招（小学）'!#REF!=0,\"\",'统招（小学）'!#REF!)","v":{"$error":"#REF!"}},{"$error":"#REF!"},null,2,2,{"$nulls":4},4]
["洪科小学",43,69,781,1254,20,28,39,{"v":44.7857142857143,"d":"45"},{"v":67.2,"d":"67"},66,null,{"v":66.6,"d":"67"},27,27,{"v":28.2,"d":"28"},{"$f":"IF('统招（小学）'!#REF!=0,\"\",'统招（小学）'!#REF!)","v":{"$error":"#REF!"}},{"$f":"IF('统招（小学）'!#REF!=0,\"\",'统招（小学）'!#REF!)","v":{"$error":"#REF!"}},{"$f":"IF('统招（小学）'!#REF!=0,\"\",'统招（小学）'!#REF!)","v":{"$error":"#REF!"}},{"$f":"IF('统招（小学）'!#REF!=0,\"\",'统招（小学）'!#REF!)","v":{"$error":"#REF!"}},{"$f":"IF('统招（小学）'!#REF!=0,\"\",'统招（小学）'!#REF!)","v":{"$error":"#REF!"}},{"$f":"IF('统招（小学）'!#REF!=0,\"\",'统招（小学）'!#REF!)","v":{"$error":"#REF!"}},{"$f":"IF('统招（小学）'!#REF!=0,\"\",'统招（小学）'!#REF!)","v":{"$error":"#REF!"}},{"$f":"IF('统招（小学）'!#REF!=0,\"\",'统招（小学）'!#REF!)","v":{"$error":"#REF!"}},{"$f":"IF('统招（小学）'!#REF!=0,\"\",'统招（小学）'!#REF!)","v":{"$error":"#REF!"}},{"$f":"IF('统招（小学）'!#REF!=0,\"\",'统招（小学）'!#REF!)","v":{"$error":"#REF!"}},{"$f":"IF('统招（小学）'!#REF!=0,\"\",'统招（小学）'!#REF!)","v":{"$error":"#REF!"}},{"$f":"IF('统招（小学）'!#REF!=0,\"\",'统招（小学）'!#REF!)","v":{"$error":"#REF!"}},{"$f":"IF('统招（小学）'!#REF!=0,\"\",'统招（小学）'!#REF!)","v":{"$error":"#REF!"}},{"$f":"IF('统招（小学）'!#REF!=0,\"\",'统招（小学）'!#REF!)","v":{"$error":"#REF!"}},{"$f":"IF('统招（小学）'!#REF!=0,\"\",'统招（小学）'!#REF!)","v":{"$error":"#REF!"}},{"$f":"IF('统招（小学）'!#REF!=0,\"\",'统招（小学）'!#REF!)","v":{"$error":"#REF!"}},{"$f":"IF('统招（小学）'!#REF!=0,\"\",'统招（小学）'!#REF!)","v":{"$error":"#REF!"}},{"$f":"IF('统招（小学）'!#REF!=0,\"\",'统招（小学）'!#REF!)","v":{"$error":"#REF!"}},{"$f":"IF('统招（小学）'!#REF!=0,\"\",'统招（小学）'!#REF!)","v":{"$error":"#REF!"}},{"$f":"IF('统招（小学）'!#REF!=0,\"\",'统招（小学）'!#REF!)","v":{"$error":"#REF!"}},{"$f":"IF('统招（小学）'!#REF!=0,\"\",'统招（小学）'!#REF!)","v":{"$error":"#REF!"}},{"$f":"IF('统招（小学）'!#REF!=0,\"\",'统招（小学）'!#REF!)","v":{"$error":"#REF!"}},{"$f":"IF('统招（小学）'!#REF!=0,\"\",'统招（小学）'!#REF!)","v":{"$error":"#REF!"}},{"$f":"IF('统招（小学）'!#REF!=0,\"\",'统招（小学）'!#REF!)","v":{"$error":"#REF!"}},{"$f":"IF('统招（小学）'!#REF!=0,\"\",'统招（小学）'!#REF!)","v":{"$error":"#REF!"}},{"$f":"IF('统招（小学）'!#REF!=0,\"\",'统招（小学）'!#REF!)","v":{"$error":"#REF!"}},{"$error":"#REF!"},null,2,5,null,1,null,null,8,{"$error":"#REF!"},{"$error":"#REF!"},{"$error":"#REF!"}]
["莲塘一中八一分校（小学）",44,70,1317,1706,22,28,26,{"v":60.9285714285714,"d":"61"},{"v":67.2,"d":"67"},{"v":89.7894736842105,"d":"90"},null,{"v":78.4947368421053,"d":"78"},{"v":63.7894736842105,"d":"64"},{"v":63.7894736842105,"d":"64"},{"v":41.2,"d":"41"},{"$f":"IF('统招（小学）'!#REF!=0,\"\",'统招（小学）'!#REF!)","v":{"$error":"#REF!"}},{"$f":"IF('统招（小学）'!#REF!=0,\"\",'统招（小学）'!#REF!)","v":{"$error":"#REF!"}},{"$f":"IF('统招（小学）'!#REF!=0,\"\",'统招（小学）'!#REF!)","v":{"$error":"#REF!"}},{"$f":"IF('统招（小学）'!#REF!=0,\"\",'统招（小学）'!#REF!)","v":{"$error":"#REF!"}},{"$f":"IF('统招（小学）'!#REF!=0,\"\",'统招（小学）'!#REF!)","v":{"$error":"#REF!"}},{"$f":"IF('统招（小学）'!#REF!=0,\"\",'统招（小学）'!#REF!)","v":{"$error":"#REF!"}},{"$f":"IF('统招（小学）'!#REF!=0,\"\",'统招（小学）'!#REF!)","v":{"$error":"#REF!"}},{"$f":"IF('统招（小学）'!#REF!=0,\"\",'统招（小学）'!#REF!)","v":{"$error":"#REF!"}},{"$f":"IF('统招（小学）'!#REF!=0,\"\",'统招（小学）'!#REF!)","v":{"$error":"#REF!"}},{"$f":"IF('统招（小学）'!#REF!=0,\"\",'统招（小学）'!#REF!)","v":{"$error":"#REF!"}},{"$f":"IF('统招（小学）'!#REF!=0,\"\",'统招（小学）'!#REF!)","v":{"$error":"#REF!"}},{"$f":"IF('统招（小学）'!#REF!=0,\"\",'统招（小学）'!#REF!)","v":{"$error":"#REF!"}},{"$f":"IF('统招（小学）'!#REF!=0,\"\",'统招（小学）'!#REF!)","v":{"$error":"#REF!"}},{"$f":"IF('统招（小学）'!#REF!=0,\"\",'统招（小学）'!#REF!)","v":{"$error":"#REF!"}},{"$f":"IF('统招（小学）'!#REF!=0,\"\",'统招（小学）'!#REF!)","v":{"$error":"#REF!"}},{"$f":"IF('统招（小学）'!#REF!=0,\"\",'统招（小学）'!#REF!)","v":{"$error":"#REF!"}},{"$f":"IF('统招（小学）'!#REF!=0,\"\",'统招（小学）'!#REF!)","v":{"$error":"#REF!"}},{"$f":"IF('统招（小学）'!#REF!=0,\"\",'统招（小学）'!#REF!)","v":{"$error":"#REF!"}},{"$f":"IF('统招（小学）'!#REF!=0,\"\",'统招（小学）'!#REF!)","v":{"$error":"#REF!"}},{"$f":"IF('统招（小学）'!#REF!=0,\"\",'统招（小学）'!#REF!)","v":{"$error":"#REF!"}},{"$f":"IF('统招（小学）'!#REF!=0,\"\",'统招（小学）'!#REF!)","v":{"$error":"#REF!"}},{"$f":"IF('统招（小学）'!#REF!=0,\"\",'统招（小学）'!#REF!)","v":{"$error":"#REF!"}},{"$f":"IF('统招（小学）'!#REF!=0,\"\",'统招（小学）'!#REF!)","v":{"$error":"#REF!"}},{"$f":"IF('统招（小学）'!#REF!=0,\"\",'统招（小学）'!#REF!)","v":{"$error":"#REF!"}},{"$f":"IF('统招（小学）'!#REF!=0,\"\",'统招（小学）'!#REF!)","v":{"$error":"#REF!"}},{"$f":"IF('统招（小学）'!#REF!=0,\"\",'统招（小学）'!#REF!)","v":{"$error":"#REF!"}},{"$error":"#REF!"},null,3,4,null,4,null,null,11,{"$error":"#REF!"},{"$error":"#REF!"},{"$error":"#REF!"}]
["莲塘一中八一分校（初中）",90,70,414,703,7,12,28,{"v":58.5833333333333,"d":"59"},{"v":33.6,"d":"34"},{"v":52.0740740740741,"d":"52"},{"v":44.4444444444444,"d":"44"},{"$nulls":4},{"$f":"IF('统招（小学）'!#REF!=0,\"\",'统招（小学）'!#REF!)","v":{"$error":"#REF!"}},{"$f":"IF('统招（小学）'!#REF!=0,\"\",'统招（小学）'!#REF!)","v":{"$error":"#REF!"}},{"$f":"IF('统招（小学）'!#REF!=0,\"\",'统招（小学）'!#REF!)","v":{"$error":"#REF!"}},{"$f":"IF('统招（小学）'!#REF!=0,\"\",'统招（小学）'!#REF!)","v":{"$error":"#REF!"}},{"$f":"IF('统招（小学）'!#REF!=0,\"\",'统招（小学）'!#REF!)","v":{"$error":"#REF!"}},{"$f":"IF('统招（小学）'!#REF!=0,\"\",'统招（小学）'!#REF!)","v":{"$error":"#REF!"}},{"$f":"IF('统招（小学）'!#REF!=0,\"\",'统招（小学）'!#REF!)","v":{"$error":"#REF!"}},{"$f":"IF('统招（小学）'!#REF!=0,\"\",'统招（小学）'!#REF!)","v":{"$error":"#REF!"}},{"$f":"IF('统招（小学）'!#REF!=0,\"\",'统招（小学）'!#REF!)","v":{"$error":"#REF!"}},{"$f":"IF('统招（小学）'!#REF!=0,\"\",'统招（小学）'!#REF!)","v":{"$error":"#REF!"}},{"$f":"IF('统招（小学）'!#REF!=0,\"\",'统招（小学）'!#REF!)","v":{"$error":"#REF!"}},{"$f":"IF('统招（小学）'!#REF!=0,\"\",'统招（小学）'!#REF!)","v":{"$error":"#REF!"}},{"$f":"IF('统招（小学）'!#REF!=0,\"\",'统招（小学）'!#REF!)","v":{"$error":"#REF!"}},{"$f":"IF('统招（小学）'!#REF!=0,\"\",'统招（小学）'!#REF!)","v":{"$error":"#REF!"}},{"$f":"IF('统招（小学）'!#REF!=0,\"\",'统招（小学）'!#REF!)","v":{"$error":"#REF!"}},{"$f":"IF('统招（小学）'!#REF!=0,\"\",'统招（小学）'!#REF!)","v":{"$error":"#REF!"}},{"$f":"IF('统招（小学）'!#REF!=0,\"\",'统招（小学）'!#REF!)","v":{"$error":"#REF!"}},{"$f":"IF('统招（小学）'!#REF!=0,\"\",'统招（小学）'!#REF!)","v":{"$error":"#REF!"}},{"$f":"IF('统招（小学）'!#REF!=0,\"\",'统招（小学）'!#REF!)","v":{"$error":"#REF!"}},{"$f":"IF('统招（小学）'!#REF!=0,\"\",'统招（小学）'!#REF!)","v":{"$error":"#REF!"}},{"$f":"IF('统招（小学）'!#REF!=0,\"\",'统招（小学）'!#REF!)","v":{"$error":"#REF!"}},{"$f":"IF('统招（小学）'!#REF!=0,\"\",'统招（小学）'!#REF!)","v":{"$error":"#REF!"}},{"$f":"IF('统招（小学）'!#REF!=0,\"\",'统招（小学）'!#REF!)","v":{"$error":"#REF!"}},{"$f":"IF('统招（小学）'!#REF!=0,\"\",'统招（小学）'!#REF!)","v":{"$error":"#REF!"}},{"$f":"IF('统招（小学）'!#REF!=0,\"\",'统招（小学）'!#REF!)","v":{"$error":"#REF!"}},{"$f":"IF('统招（小学）'!#REF!=0,\"\",'统招（小学）'!#REF!)","v":{"$error":"#REF!"}},{"$error":"#REF!"},null,1,4,{"$nulls":4},5]
["洪范学校（小学）",45,71,595,1122,14,26,33,{"v":43.1538461538462,"d":"43"},{"$f":"G89*2.4","v":{"v":62.4,"d":"62"}},{"$f":"E89/19","v":{"v":59.0526315789474,"d":"59"}},null,{"$f":"(J89+K89)/2","v":{"v":60.7263157894737,"d":"61"}},{"$f":"K89-H89","v":{"v":26.0526315789474,"d":"26"}},{"$f":"N89","v":{"v":26.0526315789474,"d":"26"}},{"$f":"J89-H89","v":{"v":29.4,"d":"29"}},{"$f":"IF('统招（小学）'!#REF!=0,\"\",'统招（小学）'!#REF!)","v":{"$error":"#REF!"}},{"$f":"IF('统招（小学）'!#REF!=0,\"\",'统招（小学）'!#REF!)","v":{"$error":"#REF!"}},{"$f":"IF('统招（小学）'!#REF!=0,\"\",'统招（小学）'!#REF!)","v":{"$error":"#REF!"}},{"$f":"IF('统招（小学）'!#REF!=0,\"\",'统招（小学）'!#REF!)","v":{"$error":"#REF!"}},{"$f":"IF('统招（小学）'!#REF!=0,\"\",'统招（小学）'!#REF!)","v":{"$error":"#REF!"}},{"$f":"IF('统招（小学）'!#REF!=0,\"\",'统招（小学）'!#REF!)","v":{"$error":"#REF!"}},{"$f":"IF('统招（小学）'!#REF!=0,\"\",'统招（小学）'!#REF!)","v":{"$error":"#REF!"}},{"$f":"IF('统招（小学）'!#REF!=0,\"\",'统招（小学）'!#REF!)","v":{"$error":"#REF!"}},{"$f":"IF('统招（小学）'!#REF!=0,\"\",'统招（小学）'!#REF!)","v":{"$error":"#REF!"}},{"$f":"IF('统招（小学）'!#REF!=0,\"\",'统招（小学）'!#REF!)","v":{"$error":"#REF!"}},{"$f":"IF('统招（小学）'!#REF!=0,\"\",'统招（小学）'!#REF!)","v":{"$error":"#REF!"}},{"$f":"IF('统招（小学）'!#REF!=0,\"\",'统招（小学）'!#REF!)","v":{"$error":"#REF!"}},{"$f":"IF('统招（小学）'!#REF!=0,\"\",'统招（小学）'!#REF!)","v":{"$error":"#REF!"}},{"$f":"IF('统招（小学）'!#REF!=0,\"\",'统招（小学）'!#REF!)","v":{"$error":"#REF!"}},{"$f":"IF('统招（小学）'!#REF!=0,\"\",'统招（小学）'!#REF!)","v":{"$error":"#REF!"}},{"$f":"IF('统招（小学）'!#REF!=0,\"\",'统招（小学）'!#REF!)","v":{"$error":"#REF!"}},{"$f":"IF('统招（小学）'!#REF!=0,\"\",'统招（小学）'!#REF!)","v":{"$error":"#REF!"}},{"$f":"IF('统招（小学）'!#REF!=0,\"\",'统招（小学）'!#REF!)","v":{"$error":"#REF!"}},{"$f":"IF('统招（小学）'!#REF!=0,\"\",'统招（小学）'!#REF!)","v":{"$error":"#REF!"}},{"$f":"IF('统招（小学）'!#REF!=0,\"\",'统招（小学）'!#REF!)","v":{"$error":"#REF!"}},{"$f":"IF('统招（小学）'!#REF!=0,\"\",'统招（小学）'!#REF!)","v":{"$error":"#REF!"}},{"$f":"IF('统招（小学）'!#REF!=0,\"\",'统招（小学）'!#REF!)","v":{"$error":"#REF!"}},{"$f":"IF('统招（小学）'!#REF!=0,\"\",'统招（小学）'!#REF!)","v":{"$error":"#REF!"}},{"$f":"IF('统招（小学）'!#REF!=0,\"\",'统招（小学）'!#REF!)","v":{"$error":"#REF!"}},{"$f":"IF('统招（小学）'!#REF!=0,\"\",'统招（小学）'!#REF!)","v":{"$error":"#REF!"}},{"$f":"IF('统招（小学）'!#REF!=0,\"\",'统招（小学）'!#REF!)","v":{"$error":"#REF!"}},{"$error":"#REF!"},null,9,3,null,6,null,null,18,{"$f":"SUM(AQ89:AX89)","v":{"$error":"#REF!"}},{"$f":"AZ89-AX89","v":{"$error":"#REF!"}},{"$f":"BA89+H89","v":{"$error":"#REF!"}}]
["洪范学校（初中）",91,71,370,877,8,19,26,{"v":46.1578947368421,"d":"46"},{"$f":"G90*2.8","v":{"v":53.2,"d":"53"}},{"$f":"E90/13.5","v":{"v":64.962962962963,"d":"65"}},{"$f":"G90*50/13.5","v":{"v":70.3703703703704,"d":"70"}},{"$nulls":4},{"$f":"IF('统招（小学）'!#REF!=0,\"\",'统招（小学）'!#REF!)","v":{"$error":"#REF!"}},{"$f":"IF('统招（小学）'!#REF!=0,\"\",'统招（小学）'!#REF!)","v":{"$error":"#REF!"}},{"$f":"IF('统招（小学）'!#REF!=0,\"\",'统招（小学）'!#REF!)","v":{"$error":"#REF!"}},{"$f":"IF('统招（小学）'!#REF!=0,\"\",'统招（小学）'!#REF!)","v":{"$error":"#REF!"}},{"$f":"IF('统招（小学）'!#REF!=0,\"\",'统招（小学）'!#REF!)","v":{"$error":"#REF!"}},{"$f":"IF('统招（小学）'!#REF!=0,\"\",'统招（小学）'!#REF!)","v":{"$error":"#REF!"}},{"$f":"IF('统招（小学）'!#REF!=0,\"\",'统招（小学）'!#REF!)","v":{"$error":"#REF!"}},{"$f":"IF('统招（小学）'!#REF!=0,\"\",'统招（小学）'!#REF!)","v":{"$error":"#REF!"}},{"$f":"IF('统招（小学）'!#REF!=0,\"\",'统招（小学）'!#REF!)","v":{"$error":"#REF!"}},{"$f":"IF('统招（小学）'!#REF!=0,\"\",'统招（小学）'!#REF!)","v":{"$error":"#REF!"}},{"$f":"IF('统招（小学）'!#REF!=0,\"\",'统招（小学）'!#REF!)","v":{"$error":"#REF!"}},{"$f":"IF('统招（小学）'!#REF!=0,\"\",'统招（小学）'!#REF!)","v":{"$error":"#REF!"}},{"$f":"IF('统招（小学）'!#REF!=0,\"\",'统招（小学）'!#REF!)","v":{"$error":"#REF!"}},{"$f":"IF('统招（小学）'!#REF!=0,\"\",'统招（小学）'!#REF!)","v":{"$error":"#REF!"}},{"$f":"IF('统招（小学）'!#REF!=0,\"\",'统招（小学）'!#REF!)","v":{"$error":"#REF!"}},{"$f":"IF('统招（小学）'!#REF!=0,\"\",'统招（小学）'!#REF!)","v":{"$error":"#REF!"}},{"$f":"IF('统招（小学）'!#REF!=0,\"\",'统招（小学）'!#REF!)","v":{"$error":"#REF!"}},{"$f":"IF('统招（小学）'!#REF!=0,\"\",'统招（小学）'!#REF!)","v":{"$error":"#REF!"}},{"$f":"IF('统招（小学）'!#REF!=0,\"\",'统招（小学）'!#REF!)","v":{"$error":"#REF!"}},{"$f":"IF('统招（小学）'!#REF!=0,\"\",'统招（小学）'!#REF!)","v":{"$error":"#REF!"}},{"$f":"IF('统招（小学）'!#REF!=0,\"\",'统招（小学）'!#REF!)","v":{"$error":"#REF!"}},{"$f":"IF('统招（小学）'!#REF!=0,\"\",'统招（小学）'!#REF!)","v":{"$error":"#REF!"}},{"$f":"IF('统招（小学）'!#REF!=0,\"\",'统招（小学）'!#REF!)","v":{"$error":"#REF!"}},{"$f":"IF('统招（小学）'!#REF!=0,\"\",'统招（小学）'!#REF!)","v":{"$error":"#REF!"}},{"$f":"IF('统招（小学）'!#REF!=0,\"\",'统招（小学）'!#REF!)","v":{"$error":"#REF!"}},{"$f":"IF('统招（小学）'!#REF!=0,\"\",'统招（小学）'!#REF!)","v":{"$error":"#REF!"}},{"$error":"#REF!"},null,6,9,{"$nulls":4},15]
["洪新学校（小学）",46,72,null,646,null,17,25,38,{"v":40.8,"d":"41"},34,null,{"v":37.4,"d":"37"},9,9,{"v":15.8,"d":"16"},{"$f":"IF('统招（小学）'!#REF!=0,\"\",'统招（小学）'!#REF!)","v":{"$error":"#REF!"}},{"$f":"IF('统招（小学）'!#REF!=0,\"\",'统招（小学）'!#REF!)","v":{"$error":"#REF!"}},{"$f":"IF('统招（小学）'!#REF!=0,\"\",'统招（小学）'!#REF!)","v":{"$error":"#REF!"}},{"$f":"IF('统招（小学）'!#REF!=0,\"\",'统招（小学）'!#REF!)","v":{"$error":"#REF!"}},{"$f":"IF('统招（小学）'!#REF!=0,\"\",'统招（小学）'!#REF!)","v":{"$error":"#REF!"}},{"$f":"IF('统招（小学）'!#REF!=0,\"\",'统招（小学）'!#REF!)","v":{"$error":"#REF!"}},{"$f":"IF('统招（小学）'!#REF!=0,\"\",'统招（小学）'!#REF!)","v":{"$error":"#REF!"}},{"$f":"IF('统招（小学）'!#REF!=0,\"\",'统招（小学）'!#REF!)","v":{"$error":"#REF!"}},{"$f":"IF('统招（小学）'!#REF!=0,\"\",'统招（小学）'!#REF!)","v":{"$error":"#REF!"}},{"$f":"IF('统招（小学）'!#REF!=0,\"\",'统招（小学）'!#REF!)","v":{"$error":"#REF!"}},{"$f":"IF('统招（小学）'!#REF!=0,\"\",'统招（小学）'!#REF!)","v":{"$error":"#REF!"}},{"$f":"IF('统招（小学）'!#REF!=0,\"\",'统招（小学）'!#REF!)","v":{"$error":"#REF!"}},{"$f":"IF('统招（小学）'!#REF!=0,\"\",'统招（小学）'!#REF!)","v":{"$error":"#REF!"}},{"$f":"IF('统招（小学）'!#REF!=0,\"\",'统招（小学）'!#REF!)","v":{"$error":"#REF!"}},{"$f":"IF('统招（小学）'!#REF!=0,\"\",'统招（小学）'!#REF!)","v":{"$error":"#REF!"}},{"$f":"IF('统招（小学）'!#REF!=0,\"\",'统招（小学）'!#REF!)","v":{"$error":"#REF!"}},{"$f":"IF('统招（小学）'!#REF!=0,\"\",'统招（小学）'!#REF!)","v":{"$error":"#REF!"}},{"$f":"IF('统招（小学）'!#REF!=0,\"\",'统招（小学）'!#REF!)","v":{"$error":"#REF!"}},{"$f":"IF('统招（小学）'!#REF!=0,\"\",'统招（小学）'!#REF!)","v":{"$error":"#REF!"}},{"$f":"IF('统招（小学）'!#REF!=0,\"\",'统招（小学）'!#REF!)","v":{"$error":"#REF!"}},{"$f":"IF('统招（小学）'!#REF!=0,\"\",'统招（小学）'!#REF!)","v":{"$error":"#REF!"}},{"$f":"IF('统招（小学）'!#REF!=0,\"\",'统招（小学）'!#REF!)","v":{"$error":"#REF!"}},{"$f":"IF('统招（小学）'!#REF!=0,\"\",'统招（小学）'!#REF!)","v":{"$error":"#REF!"}},{"$f":"IF('统招（小学）'!#REF!=0,\"\",'统招（小学）'!#REF!)","v":{"$error":"#REF!"}},{"$f":"IF('统招（小学）'!#REF!=0,\"\",'统招（小学）'!#REF!)","v":{"$error":"#REF!"}},{"$f":"IF('统招（小学）'!#REF!=0,\"\",'统招（小学）'!#REF!)","v":{"$error":"#REF!"}},{"$error":"#REF!"},{"$nulls":7},0,{"$error":"#REF!"},{"$error":"#REF!"},{"$error":"#REF!"}]
["洪新学校（初中）",92,72,null,0,null,0,null,null,0,0,0,{"$nulls":4},{"$f":"IF('统招（小学）'!#REF!=0,\"\",'统招（小学）'!#REF!)","v":{"$error":"#REF!"}},{"$f":"IF('统招（小学）'!#REF!=0,\"\",'统招（小学）'!#REF!)","v":{"$error":"#REF!"}},{"$f":"IF('统招（小学）'!#REF!=0,\"\",'统招（小学）'!#REF!)","v":{"$error":"#REF!"}},{"$f":"IF('统招（小学）'!#REF!=0,\"\",'统招（小学）'!#REF!)","v":{"$error":"#REF!"}},{"$f":"IF('统招（小学）'!#REF!=0,\"\",'统招（小学）'!#REF!)","v":{"$error":"#REF!"}},{"$f":"IF('统招（小学）'!#REF!=0,\"\",'统招（小学）'!#REF!)","v":{"$error":"#REF!"}},{"$f":"IF('统招（小学）'!#REF!=0,\"\",'统招（小学）'!#REF!)","v":{"$error":"#REF!"}},{"$f":"IF('统招（小学）'!#REF!=0,\"\",'统招（小学）'!#REF!)","v":{"$error":"#REF!"}},{"$f":"IF('统招（小学）'!#REF!=0,\"\",'统招（小学）'!#REF!)","v":{"$error":"#REF!"}},{"$f":"IF('统招（小学）'!#REF!=0,\"\",'统招（小学）'!#REF!)","v":{"$error":"#REF!"}},{"$f":"IF('统招（小学）'!#REF!=0,\"\",'统招（小学）'!#REF!)","v":{"$error":"#REF!"}},{"$f":"IF('统招（小学）'!#REF!=0,\"\",'统招（小学）'!#REF!)","v":{"$error":"#REF!"}},{"$f":"IF('统招（小学）'!#REF!=0,\"\",'统招（小学）'!#REF!)","v":{"$error":"#REF!"}},{"$f":"IF('统招（小学）'!#REF!=0,\"\",'统招（小学）'!#REF!)","v":{"$error":"#REF!"}},{"$f":"IF('统招（小学）'!#REF!=0,\"\",'统招（小学）'!#REF!)","v":{"$error":"#REF!"}},{"$f":"IF('统招（小学）'!#REF!=0,\"\",'统招（小学）'!#REF!)","v":{"$error":"#REF!"}},{"$f":"IF('统招（小学）'!#REF!=0,\"\",'统招（小学）'!#REF!)","v":{"$error":"#REF!"}},{"$f":"IF('统招（小学）'!#REF!=0,\"\",'统招（小学）'!#REF!)","v":{"$error":"#REF!"}},{"$f":"IF('统招（小学）'!#REF!=0,\"\",'统招（小学）'!#REF!)","v":{"$error":"#REF!"}},{"$f":"IF('统招（小学）'!#REF!=0,\"\",'统招（小学）'!#REF!)","v":{"$error":"#REF!"}},{"$f":"IF('统招（小学）'!#REF!=0,\"\",'统招（小学）'!#REF!)","v":{"$error":"#REF!"}},{"$f":"IF('统招（小学）'!#REF!=0,\"\",'统招（小学）'!#REF!)","v":{"$error":"#REF!"}},{"$f":"IF('统招（小学）'!#REF!=0,\"\",'统招（小学）'!#REF!)","v":{"$error":"#REF!"}},{"$f":"IF('统招（小学）'!#REF!=0,\"\",'统招（小学）'!#REF!)","v":{"$error":"#REF!"}},{"$f":"IF('统招（小学）'!#REF!=0,\"\",'统招（小学）'!#REF!)","v":{"$error":"#REF!"}},{"$f":"IF('统招（小学）'!#REF!=0,\"\",'统招（小学）'!#REF!)","v":{"$error":"#REF!"}},{"$error":"#REF!"},{"$nulls":7},0]
["城东学校（小学）",47,81,null,646,null,15,null,{"$f":"E93/G93","v":{"v":43.0666666666667,"d":"43"}},36,34,null,35,34,34,36,{"$f":"IF('统招（小学）'!#REF!=0,\"\",'统招（小学）'!#REF!)","v":{"$error":"#REF!"}},{"$f":"IF('统招（小学）'!#REF!=0,\"\",'统招（小学）'!#REF!)","v":{"$error":"#REF!"}},{"$f":"IF('统招（小学）'!#REF!=0,\"\",'统招（小学）'!#REF!)","v":{"$error":"#REF!"}},{"$f":"IF('统招（小学）'!#REF!=0,\"\",'统招（小学）'!#REF!)","v":{"$error":"#REF!"}},{"$f":"IF('统招（小学）'!#REF!=0,\"\",'统招（小学）'!#REF!)","v":{"$error":"#REF!"}},{"$f":"IF('统招（小学）'!#REF!=0,\"\",'统招（小学）'!#REF!)","v":{"$error":"#REF!"}},{"$f":"IF('统招（小学）'!#REF!=0,\"\",'统招（小学）'!#REF!)","v":{"$error":"#REF!"}},{"$f":"IF('统招（小学）'!#REF!=0,\"\",'统招（小学）'!#REF!)","v":{"$error":"#REF!"}},{"$f":"IF('统招（小学）'!#REF!=0,\"\",'统招（小学）'!#REF!)","v":{"$error":"#REF!"}},{"$f":"IF('统招（小学）'!#REF!=0,\"\",'统招（小学）'!#REF!)","v":{"$error":"#REF!"}},{"$f":"IF('统招（小学）'!#REF!=0,\"\",'统招（小学）'!#REF!)","v":{"$error":"#REF!"}},{"$f":"IF('统招（小学）'!#REF!=0,\"\",'统招（小学）'!#REF!)","v":{"$error":"#REF!"}},{"$f":"IF('统招（小学）'!#REF!=0,\"\",'统招（小学）'!#REF!)","v":{"$error":"#REF!"}},{"$f":"IF('统招（小学）'!#REF!=0,\"\",'统招（小学）'!#REF!)","v":{"$error":"#REF!"}},{"$f":"IF('统招（小学）'!#REF!=0,\"\",'统招（小学）'!#REF!)","v":{"$error":"#REF!"}},{"$f":"IF('统招（小学）'!#REF!=0,\"\",'统招（小学）'!#REF!)","v":{"$error":"#REF!"}},{"$f":"IF('统招（小学）'!#REF!=0,\"\",'统招（小学）'!#REF!)","v":{"$error":"#REF!"}},{"$f":"IF('统招（小学）'!#REF!=0,\"\",'统招（小学）'!#REF!)","v":{"$error":"#REF!"}},{"$f":"IF('统招（小学）'!#REF!=0,\"\",'统招（小学）'!#REF!)","v":{"$error":"#REF!"}},{"$f":"IF('统招（小学）'!#REF!=0,\"\",'统招（小学）'!#REF!)","v":{"$error":"#REF!"}},{"$f":"IF('统招（小学）'!#REF!=0,\"\",'统招（小学）'!#REF!)","v":{"$error":"#REF!"}},{"$f":"IF('统招（小学）'!#REF!=0,\"\",'统招（小学）'!#REF!)","v":{"$error":"#REF!"}},{"$f":"IF('统招（小学）'!#REF!=0,\"\",'统招（小学）'!#REF!)","v":{"$error":"#REF!"}},{"$f":"IF('统招（小学）'!#REF!=0,\"\",'统招（小学）'!#REF!)","v":{"$error":"#REF!"}},{"$f":"IF('统招（小学）'!#REF!=0,\"\",'统招（小学）'!#REF!)","v":{"$error":"#REF!"}},{"$f":"IF('统招（小学）'!#REF!=0,\"\",'统招（小学）'!#REF!)","v":{"$error":"#REF!"}},{"$error":"#REF!"},{"$nulls":4},2,null,null,2,{"$error":"#REF!"},{"$error":"#REF!"},{"$error":"#REF!"}]
["城东学校（初中）",93,81,null,102,null,3,null,{"$f":"E94/G94","v":34},{"v":8.4,"d":"8"},{"v":7.55555555555556,"d":"8"},{"v":11.1111111111111,"d":"11"},{"$nulls":4},{"$f":"IF('统招（小学）'!#REF!=0,\"\",'统招（小学）'!#REF!)","v":{"$error":"#REF!"}},{"$f":"IF('统招（小学）'!#REF!=0,\"\",'统招（小学）'!#REF!)","v":{"$error":"#REF!"}},{"$f":"IF('统招（小学）'!#REF!=0,\"\",'统招（小学）'!#REF!)","v":{"$error":"#REF!"}},{"$f":"IF('统招（小学）'!#REF!=0,\"\",'统招（小学）'!#REF!)","v":{"$error":"#REF!"}},{"$f":"IF('统招（小学）'!#REF!=0,\"\",'统招（小学）'!#REF!)","v":{"$error":"#REF!"}},{"$f":"IF('统招（小学）'!#REF!=0,\"\",'统招（小学）'!#REF!)","v":{"$error":"#REF!"}},{"$f":"IF('统招（小学）'!#REF!=0,\"\",'统招（小学）'!#REF!)","v":{"$error":"#REF!"}},{"$f":"IF('统招（小学）'!#REF!=0,\"\",'统招（小学）'!#REF!)","v":{"$error":"#REF!"}},{"$f":"IF('统招（小学）'!#REF!=0,\"\",'统招（小学）'!#REF!)","v":{"$error":"#REF!"}},{"$f":"IF('统招（小学）'!#REF!=0,\"\",'统招（小学）'!#REF!)","v":{"$error":"#REF!"}},{"$f":"IF('统招（小学）'!#REF!=0,\"\",'统招（小学）'!#REF!)","v":{"$error":"#REF!"}},{"$f":"IF('统招（小学）'!#REF!=0,\"\",'统招（小学）'!#REF!)","v":{"$error":"#REF!"}},{"$f":"IF('统招（小学）'!#REF!=0,\"\",'统招（小学）'!#REF!)","v":{"$error":"#REF!"}},{"$f":"IF('统招（小学）'!#REF!=0,\"\",'统招（小学）'!#REF!)","v":{"$error":"#REF!"}},{"$f":"IF('统招（小学）'!#REF!=0,\"\",'统招（小学）'!#REF!)","v":{"$error":"#REF!"}},{"$f":"IF('统招（小学）'!#REF!=0,\"\",'统招（小学）'!#REF!)","v":{"$error":"#REF!"}},{"$f":"IF('统招（小学）'!#REF!=0,\"\",'统招（小学）'!#REF!)","v":{"$error":"#REF!"}},{"$f":"IF('统招（小学）'!#REF!=0,\"\",'统招（小学）'!#REF!)","v":{"$error":"#REF!"}},{"$f":"IF('统招（小学）'!#REF!=0,\"\",'统招（小学）'!#REF!)","v":{"$error":"#REF!"}},{"$f":"IF('统招（小学）'!#REF!=0,\"\",'统招（小学）'!#REF!)","v":{"$error":"#REF!"}},{"$f":"IF('统招（小学）'!#REF!=0,\"\",'统招（小学）'!#REF!)","v":{"$error":"#REF!"}},{"$f":"IF('统招（小学）'!#REF!=0,\"\",'统招（小学）'!#REF!)","v":{"$error":"#REF!"}},{"$f":"IF('统招（小学）'!#REF!=0,\"\",'统招（小学）'!#REF!)","v":{"$error":"#REF!"}},{"$f":"IF('统招（小学）'!#REF!=0,\"\",'统招（小学）'!#REF!)","v":{"$error":"#REF!"}},{"$f":"IF('统招（小学）'!#REF!=0,\"\",'统招（小学）'!#REF!)","v":{"$error":"#REF!"}},{"$f":"IF('统招（小学）'!#REF!=0,\"\",'统招（小学）'!#REF!)","v":{"$error":"#REF!"}},{"$error":"#REF!"},{"$nulls":7},0]
[null,21]
["小学合计",48,null,{"$f":"SUM(D49:D95)","v":56221},62458,994,1164,2949,{"$nulls":8},{"$f":"SUM(Q49:Q95)","v":{"$error":"#REF!"}},null,{"$error":"#REF!"},{"$error":"#REF!"},{"$error":"#REF!"},{"$error":"#REF!"},{"$error":"#REF!"},{"$error":"#REF!"},{"$error":"#REF!"},{"$error":"#REF!"},{"$error":"#REF!"},{"$error":"#REF!"},{"$error":"#REF!"},{"$error":"#REF!"},{"$error":"#REF!"},{"$error":"#REF!"},{"$nulls":9},{"$f":"SUM(AP49:AP95)","v":{"$error":"#REF!"}},{"$f":"SUM(Q96:AP96)","v":{"$error":"#REF!"}},10,56,60,0,66,9,0,201,{"$error":"#REF!"}]
["学校名称",49,null,"2019年秋季学生数","2020.09在校生数","2019年秋季班级数","2020.09班级数","截止2020年8月31日实有教师数","平均\n班额","班师比","师生比","标准\n师生比","（班师比+师生比）/2","需求数-现有教师数（生师比）","差额2（超额归零处理）","需求数-现有教师数（班师比）","思品A","思品B","语文A","语文B","数学A","数学B","英语A","英语B","音乐",null,"体育A","体育B","美术",{"$nulls":3},"物理A","物理B","化学A","化学B","生物","历史A","历史B","地理","心理健康教育","信息技术","合计","特岗教师","全省选调","县内选调","2015定向师范","2016定向师范实习","2017公费师范实习生","2019编外幼儿园","合计2","合计3","合计（不含编外幼儿园）"]
["动态监测（小计）",50,{"$nulls":14},{"$f":"IF(Q99-Q142=0,\"\",Q99-Q142)","v":5},1,11,5,9,4,9,3,3,null,{"$f":"IF(AA99-AA142=0,\"\",AA99-AA142)","v":6},2,3,{"$nulls":3},{"$f":"IF(AG99-AG142=0,\"\",AG99-AG142)","v":6},2,6,1,2,6,1,2,2,2,91]
["初中岗位（小计）",51,{"$nulls":14},5,1,11,5,9,4,9,3,3,null,6,2,3,{"$nulls":3},6,2,6,1,2,6,1,2,2,2,{"$f":"SUM(Q99:AP99)","v":91}]
[null,52]
[null,74]
["初中合计",94,null,{"$f":"SUM(D61:D101)","v":102527},115138,1782,2120,5169,{"$nulls":8},{"$f":"SUM(Q61:Q101)","v":{"$error":"#REF!"}},{"$error":"#REF!"},{"$error":"#REF!"},{"$error":"#REF!"},{"$error":"#REF!"},{"$error":"#REF!"},{"$error":"#REF!"},{"$error":"#REF!"},{"$error":"#REF!"},null,{"$f":"SUM(AA61:AA101)","v":{"$error":"#REF!"}},{"$error":"#REF!"},{"$error":"#REF!"},{"$nulls":3},{"$f":"SUM(AG61:AG101)","v":{"$error":"#REF!"}},{"$error":"#REF!"},{"$error":"#REF!"},{"$error":"#REF!"},{"$error":"#REF!"},{"$error":"#REF!"},{"$error":"#REF!"},{"$error":"#REF!"},{"$error":"#REF!"},{"$error":"#REF!"},{"$f":"SUM(Q102:AP102)","v":{"$error":"#REF!"}},{"$f":"SUM(AR61:AR101)","v":10},110,120,0,132,18,0,{"$f":"SUM(AR102:AX102)","v":390}]
[]
["合计",95,null,{"$f":"D56+D102","v":102731},{"$f":"SUM(E9:E94)","v":124502},2685,2773,6861,{"$nulls":8},{"$f":"SUM(Q9:Q94)","v":{"$error":"#REF!"}},{"$f":"SUM(R9:R94)","v":{"$error":"#REF!"}},{"$error":"#REF!"},{"$error":"#REF!"},{"$error":"#REF!"},{"$error":"#REF!"},{"$error":"#REF!"},{"$error":"#REF!"},{"$error":"#REF!"},{"$error":"#REF!"},{"$error":"#REF!"},{"$error":"#REF!"},{"$error":"#REF!"},{"$error":"#REF!"},{"$error":"#REF!"},{"$error":"#REF!"},{"$error":"#REF!"},{"$error":"#REF!"},{"$error":"#REF!"},{"$error":"#REF!"},{"$error":"#REF!"},{"$error":"#REF!"},{"$error":"#REF!"},{"$error":"#REF!"},{"$error":"#REF!"},{"$error":"#REF!"},{"$error":"#REF!"},{"$f":"SUM(AR9:AR94)","v":50},63,66,50,78,9,44,360,{"$error":"#REF!"}]

{"sheet":"统招（初中）","index":17,"n_rows":29,"n_cols":28,"rows_kept":29,"merged":[[0,0,0,27],[28,0,28,1]]}
["南昌县2022年全省中小学教师招聘岗位分解表（初中）"]
["序号","学校名称","语文\nA岗","语文\nB岗","数学\nA岗","数学\nB岗","英语\nA岗","英语\nB岗","道德与法治\nA岗","道德与法治\nB岗","音乐A岗","音乐B岗","体育与健康\nA岗","体育与健康\nB岗","美术A岗","美术B岗","综合实践活动 含信息技术","物理\nA岗","物理\nB岗","化学\nA岗","化学\nB岗","历史\nA岗","历史\nB岗","地理\nA岗","地理\nB岗","生物\nA岗","生物\nB岗","合计"]
[1,"南昌县塘南中学",{"$nulls":3},1,{"$nulls":21},{"$f":"IF(SUM(C3:AA3)=0,\"\",SUM(C3:AA3))","v":1}]
[2,"南昌县武阳中学",1,{"$nulls":24},{"$f":"IF(SUM(C4:AA4)=0,\"\",SUM(C4:AA4))","v":1}]
[3,"南昌县向塘实验学校（初中）",{"$nulls":3},1,{"$nulls":16},1,{"$nulls":4},2]
[4,"南昌县三江中学",null,1,{"$nulls":3},1,{"$nulls":19},2]
[5,"南昌县广福第一中学",null,1,{"$nulls":23},1]
[6,"南昌县广福第二中学",{"$nulls":6},1,{"$nulls":18},1]
[7,"南昌县东新中学（莲塘一中东新中学）",{"$nulls":18},1,{"$nulls":3},1,null,null,2]
[8,"南昌县莲塘实验学校（新莲塘六中）\n（初中）",null,null,1,{"$nulls":6},1,null,1,{"$nulls":12},1,4]
[9,"南昌县昌南实验学校（初中）",{"$nulls":3},1,null,1,{"$nulls":19},2]
[10,"南昌县银三角实验学校（初中）",{"$nulls":13},1,{"$nulls":11},1]
[11,"南昌县莲塘第四中学",{"$nulls":11},1,{"$nulls":3},1,null,1,{"$nulls":7},3]
[12,"南昌县莲塘第五中学",{"$nulls":6},1,{"$nulls":18},1]
[13,"南昌县莲塘第六中学",null,null,1,null,1,{"$nulls":20},2]
[14,"南昌县莲塘第七中学",1,{"$nulls":5},1,1,{"$nulls":3},1,{"$nulls":4},1,null,1,null,1,{"$nulls":4},7]
[15,"南昌县银河学校（初中）",{"$nulls":8},1,{"$nulls":3},1,{"$nulls":12},2]
[16,"南昌县洪州学校(初中）",{"$nulls":8},1,null,1,{"$nulls":4},1,{"$nulls":7},1,null,4]
[17,"南昌县新城学校（初中）",null,1,{"$nulls":5},1,null,null,1,{"$nulls":7},1,1,{"$nulls":4},1,6]
[18,"南昌县诚义学校（初中）",1,null,1,{"$nulls":3},1,{"$nulls":12},1,{"$nulls":3},1,null,5]
[19,"南昌县洪州汇仁学校（初中）",{"$nulls":10},1,{"$nulls":5},1,{"$nulls":8},2]
[20,"南昌县洪燕学校（初中）",1,{"$nulls":9},1,{"$nulls":6},1,{"$nulls":7},3]
[21,"南昌县洪亿学校（初中）",1,{"$nulls":5},1,{"$nulls":8},1,{"$nulls":3},1,null,1,null,1,null,6]
[22,"南昌县莲塘第一中学八一分校（初中）",1,{"$nulls":6},1,{"$nulls":8},1,{"$nulls":8},3]
[23,"南昌县洪范学校（初中）",1,1,{"$nulls":8},1,{"$nulls":4},1,1,{"$nulls":8},5]
[24,"南昌县城东学校（初中）",null,null,1,null,1,{"$nulls":11},1,{"$nulls":8},3]
[25,"南昌县文山路学校（初中）",null,1,null,null,1,{"$nulls":6},1,{"$nulls":3},1,{"$nulls":3},1,null,1,null,1,null,7]
[26,"南昌县城南学校（初中）",null,null,1,{"$nulls":9},1,null,1,null,null,1,{"$nulls":7},4]
["合计",null,{"$f":"SUM(C3:C28)","v":7},{"$f":"SUM(D3:D28)","v":5},{"$f":"SUM(E3:E28)","v":5},{"$f":"SUM(F3:F28)","v":3},3,2,5,3,2,1,5,4,2,1,1,5,5,3,3,4,2,2,1,4,2,80]

{"sheet":"统招（高中）","index":18,"n_rows":8,"n_cols":17,"rows_kept":8,"merged":[[0,0,0,16],[5,0,5,1]]}
["南昌县2022年全省中小学教师招聘岗位分解表（高中）"]
["序号","学校名称","语文\nA岗","语文\nB岗","数学\nA岗","数学\nB岗","英语","思想政治","信息技术和通用技术","物理\nA岗","物理\nB岗","化学\nA岗","化学\nB岗","地理","生物\nA岗","生物\nB岗","合计"]
[1,"南昌县莲塘第一中学",null,null,1,{"$nulls":11},{"$f":"IF(SUM(C3:P3)=0,\"\",SUM(C3:P3))","v":1}]
[2,"南昌县莲塘第二中学",{"$nulls":4},1,null,1,{"$nulls":7},{"$f":"IF(SUM(C4:P4)=0,\"\",SUM(C4:P4))","v":2}]
[3,"南昌县莲塘第三中学",1,1,null,1,null,1,null,2,1,1,1,1,1,1,{"$f":"IF(SUM(C5:P5)=0,\"\",SUM(C5:P5))","v":12}]
["合计",null,{"$f":"SUM(C3:C5)","v":1},1,1,1,1,1,1,2,1,1,1,1,1,1,15]
[null,null,1,1,1,1,1,1,1,2,1,1,1,1,1,1]
[null,null,{"$f":"C7-C6","v":0},0,0,0,0,0,0,0,0,0,0,0,0,0]

{"sheet":"附D 全省选调录用63人（分解）","index":19,"n_rows":97,"n_cols":15,"rows_kept":97,"hidden":true,"merged":[[0,0,0,14],[1,0,2,0],[1,1,1,13],[1,14,2,14],[13,0,13,14],[29,0,29,14],[33,0,33,14],[34,0,35,0],[34,1,34,13],[34,14,35,14],[46,0,46,14],[62,0,62,14],[66,0,66,14],[67,0,68,0],[67,1,67,13],[67,14,68,14],[79,0,79,14],[95,0,95,14]]}
["南昌县2020年面向全省选调在编教师岗位分解表(公告）"]
["学校名称","具体岗位分配数",{"$nulls":12},"合计"]
[null,"思想品德","语文","数学","英语","音乐","体育","美术","物理","化学","历史","地理","科学","信息技术"]
["武阳中学",null,1,1,{"$nulls":5},1,{"$nulls":4},{"$f":"SUM(B4:L4)","v":3}]
["向塘实验学校（初中）",null,null,1,{"$nulls":4},1,1,{"$nulls":4},3]
["莲塘四中",1,1,{"$nulls":7},1,{"$nulls":3},3]
["新城学校（初中）",1,{"$nulls":4},1,{"$nulls":3},1,{"$nulls":3},3]
["洪州汇仁学校（初中）",{"$nulls":4},1,null,1,{"$nulls":6},2]
["洪燕学校（初中）",null,null,1,null,null,1,{"$nulls":4},1,null,null,3]
["洪亿学校（初中）",1,null,1,{"$nulls":10},2]
["莲塘一中八一分校（初中）",null,1,null,1,{"$nulls":9},2]
["洪范学校（初中）",null,2,2,1,{"$nulls":3},2,{"$nulls":5},7]
["初中合计",{"$f":"SUM(B4:B12)","v":3},5,6,2,1,2,1,3,2,2,1,null,null,{"$f":"SUM(O4:O12)","v":28}]
[]
["向塘中心小学",null,null,1,1,{"$nulls":9},{"$f":"SUM(B15:N15)","v":2}]
["莲塘中心小学(城东学校）",{"$nulls":4},1,1,1,{"$nulls":6},3]
["金沙路小学",null,1,1,{"$nulls":10},2]
["振兴路小学",null,1,null,1,{"$nulls":9},2]
["墨山街小学",{"$nulls":4},1,1,{"$nulls":7},2]
["银河学校（小学）",null,1,2,{"$nulls":10},3]
["洪州学校（小学）",null,2,2,{"$nulls":10},4]
["新城学校（小学）",null,1,2,1,{"$nulls":9},4]
["洪州汇仁学校（小学）",null,2,2,{"$nulls":10},4]
["洪燕学校（小学）",1,1,1,1,{"$nulls":9},4]
["洪亿学校（小学）",null,1,2,{"$nulls":10},3]
["洪科小学",null,2,2,{"$nulls":9},1,5]
["莲塘一中八一分校（小学）",1,1,2,{"$nulls":8},1,null,5]
["洪范学校（小学）",null,3,4,1,null,null,1,{"$nulls":6},9]
["小学合计",{"$f":"SUM(B15:B28)","v":2},16,21,5,2,2,2,{"$nulls":4},{"$f":"SUM(M15:M28)","v":1},{"$f":"SUM(N15:N28)","v":1},52]
[]
["合计",{"$f":"B13+B29","v":5},21,27,7,3,4,3,3,2,2,1,1,1,80]
[]
[]
["南昌县2020年面向全省选调在编教师岗位分解表（录用）"]
["学校名称","具体岗位分配数",{"$nulls":12},"合计"]
[null,"思想品德","语文","数学","英语","音乐","体育","美术","物理","化学","历史","地理","科学","信息技术"]
["武阳中学",null,1,{"$nulls":11},{"$f":"SUM(B37:L37)","v":1}]
["向塘实验学校（初中）",{"$nulls":8},1,{"$nulls":4},1]
["莲塘四中",1,1,{"$nulls":7},1,{"$nulls":3},3]
["新城学校（初中）",1,{"$nulls":4},1,{"$nulls":3},1,{"$nulls":3},3]
["洪州汇仁学校（初中）",{"$nulls":4},1,null,1,{"$nulls":6},2]
["洪燕学校（初中）",{"$nulls":5},1,{"$nulls":4},1,null,null,2]
["洪亿学校（初中）",1,null,1,{"$nulls":10},2]
["莲塘一中八一分校（初中）",null,1,{"$nulls":11},1]
["洪范学校（初中）",null,2,1,1,{"$nulls":3},2,{"$nulls":5},6]
["初中合计",{"$f":"SUM(B37:B45)","v":3},5,2,1,1,2,1,2,1,2,1,null,null,{"$f":"SUM(O37:O45)","v":21}]
[]
["向塘中心小学",{"$nulls":13},{"$f":"SUM(B48:N48)","v":0}]
["莲塘中心小学(城东学校）",{"$nulls":5},1,{"$nulls":7},1]
["金沙路小学",null,1,1,{"$nulls":10},2]
["振兴路小学",null,1,null,1,{"$nulls":9},2]
["墨山街小学",{"$nulls":4},1,1,{"$nulls":7},2]
["银河学校（小学）",null,1,2,{"$nulls":10},3]
["洪州学校（小学）",null,2,2,{"$nulls":10},4]
["新城学校（小学）",null,1,2,{"$nulls":10},3]
["洪州汇仁学校（小学）",null,2,2,{"$nulls":10},4]
["洪燕学校（小学）",1,1,1,1,{"$nulls":9},4]
["洪亿学校（小学）",null,1,2,{"$nulls":10},3]
["洪科小学",null,null,2,{"$nulls":10},2]
["莲塘一中八一分校（小学）",1,null,1,{"$nulls":8},1,null,3]
["洪范学校（小学）",null,3,4,1,null,null,1,{"$nulls":6},9]
["小学合计",{"$f":"SUM(B48:B61)","v":2},13,19,3,1,2,1,{"$nulls":4},{"$f":"SUM(M48:M61)","v":1},{"$f":"SUM(N48:N61)","v":0},42]
[]
["合计",{"$f":"B46+B62","v":5},18,21,4,2,4,2,2,1,2,1,1,0,63]
[]
[]
["南昌县2020年面向全省选调在编教师岗位分解表（差额）"]
["学校名称","具体岗位分配数",{"$nulls":12},"合计"]
[null,"思想品德","语文","数学","英语","音乐","体育","美术","物理","化学","历史","地理","科学","信息技术"]
["武阳中学",{"$f":"IF(B4-B37=0,\"\",B4-B37)","v":""},"",1,"","","","","",1,"","","","",{"$f":"SUM(B70:L70)","v":2}]
["向塘实验学校（初中）",{"$f":"IF(B5-B38=0,\"\",B5-B38)","v":""},"",1,"","","","",1,"","","","","",2]
["莲塘四中",{"$f":"IF(B6-B39=0,\"\",B6-B39)","v":""},"","","","","","","","","","","","",0]
["新城学校（初中）",{"$f":"IF(B7-B40=0,\"\",B7-B40)","v":""},"","","","","","","","","","","","",0]
["洪州汇仁学校（初中）",{"$f":"IF(B8-B41=0,\"\",B8-B41)","v":""},"","","","","","","","","","","","",0]
["洪燕学校（初中）",{"$f":"IF(B9-B42=0,\"\",B9-B42)","v":""},"",1,"","","","","","","","","","",1]
["洪亿学校（初中）",{"$f":"IF(B10-B43=0,\"\",B10-B43)","v":""},"","","","","","","","","","","","",0]
["莲塘一中八一分校（初中）",{"$f":"IF(B11-B44=0,\"\",B11-B44)","v":""},"","",1,"","","","","","","","","",1]
["洪范学校（初中）",{"$f":"IF(B12-B45=0,\"\",B12-B45)","v":""},"",1,"","","","","","","","","","",1]
["初中合计",{"$f":"SUM(B70:B78)","v":0},0,4,1,0,0,0,1,1,0,0,null,null,{"$f":"SUM(O70:O78)","v":7}]
[]
["向塘中心小学",{"$f":"IF(B15-B48=0,\"\",B15-B48)","v":""},"",1,1,"","","","","","","","","",{"$f":"SUM(B81:N81)","v":2}]
["莲塘中心小学(城东学校）",{"$f":"IF(B16-B49=0,\"\",B16-B49)","v":""},"","","",1,"",1,"","","","","","",2]
["金沙路小学",{"$f":"IF(B17-B50=0,\"\",B17-B50)","v":""},"","","","","","","","","","","","",0]
["振兴路小学",{"$f":"IF(B18-B51=0,\"\",B18-B51)","v":""},"","","","","","","","","","","","",0]
["墨山街小学",{"$f":"IF(B19-B52=0,\"\",B19-B52)","v":""},"","","","","","","","","","","","",0]
["银河学校（小学）",{"$f":"IF(B20-B53=0,\"\",B20-B53)","v":""},"","","","","","","","","","","","",0]
["洪州学校（小学）",{"$f":"IF(B21-B54=0,\"\",B21-B54)","v":""},"","","","","","","","","","","","",0]
["新城学校（小学）",{"$f":"IF(B22-B55=0,\"\",B22-B55)","v":""},"","",1,"","","","","","","","","",1]
["洪州汇仁学校（小学）",{"$f":"IF(B23-B56=0,\"\",B23-B56)","v":""},"","","","","","","","","","","","",0]
["洪燕学校（小学）",{"$f":"IF(B24-B57=0,\"\",B24-B57)","v":""},"","","","","","","","","","","","",0]
["洪亿学校（小学）",{"$f":"IF(B25-B58=0,\"\",B25-B58)","v":""},"","","","","","","","","","","","",0]
["洪科小学",{"$f":"IF(B26-B59=0,\"\",B26-B59)","v":""},2,"","","","","","","","","","",1,3]
["莲塘一中八一分校（小学）",{"$f":"IF(B27-B60=0,\"\",B27-B60)","v":""},1,1,"","","","","","","","","","",2]
["洪范学校（小学）",{"$f":"IF(B28-B61=0,\"\",B28-B61)","v":""},"","","","","","","","","","","","",0]
["小学合计",{"$f":"SUM(B81:B94)","v":0},3,2,2,1,0,1,{"$nulls":4},{"$f":"SUM(M81:M94)","v":0},{"$f":"SUM(N81:N94)","v":1},10]
[]
["合计",{"$f":"B79+B95","v":0},3,6,3,1,0,1,1,1,0,0,0,1,17]

{"sheet":"附E 县内选调录用66人（分解）","index":20,"n_rows":75,"n_cols":18,"rows_kept":75,"hidden":true,"merged":[[1,0,1,16],[2,0,3,0],[2,1,3,1],[2,2,2,16],[2,17,3,17],[13,0,13,17],[23,0,23,17],[26,0,26,16],[27,0,28,0],[27,1,28,1],[27,2,27,16],[27,17,28,17],[38,0,38,17],[48,0,48,17],[51,0,51,16],[52,0,53,0],[52,1,53,1],[52,2,52,16],[52,17,53,17],[63,0,63,17],[73,0,73,17]]}
[]
["南昌县2020年县内选调在编中小学教师岗位分解表（公告）"]
["招聘岗位","招聘\n人数","具体招聘岗位",{"$nulls":14},"总计"]
[null,null,"金沙路\n小学","振兴路小学","斗柏路\n小学","莲塘四中","银河学校","洪州学校","新城学校","诚义学校","芳草学校","洪州汇仁学校","洪燕学校","洪亿学校","洪科小学","莲塘一中八一分校","洪范学校"]
["初中思品",{"$f":"SUM(C5:Q5)","v":3},{"$nulls":6},1,{"$nulls":3},1,{"$nulls":3},1,{"$f":"SUM(C5:Q5)","v":3}]
["初中语文",7,{"$nulls":3},2,{"$nulls":5},1,{"$nulls":3},2,2,7]
["初中数学",7,{"$nulls":3},2,{"$nulls":5},1,null,1,null,1,2,7]
["初中英语",6,{"$nulls":3},1,{"$nulls":5},1,null,1,null,1,2,6]
["初中物理",2,{"$nulls":5},1,{"$nulls":8},1,2]
["初中化学",2,{"$nulls":4},1,{"$nulls":8},1,null,2]
["初中历史",1,{"$nulls":14},1,1]
["初中体育",2,{"$nulls":3},1,{"$nulls":6},1,{"$nulls":4},2]
["初中小计",30,{"$nulls":3},{"$f":"SUM(F5:F12)","v":6},1,1,1,null,null,{"$f":"SUM(L5:L12)","v":3},2,2,null,{"$f":"SUM(P5:P12)","v":5},{"$f":"SUM(Q5:Q12)","v":9},30]
[]
["小学语文",{"$f":"SUM(C15:Q15)","v":12},1,{"$nulls":3},1,1,1,1,1,1,1,1,1,1,1,{"$f":"SUM(C15:Q15)","v":12}]
["小学数学",15,1,{"$nulls":3},1,1,1,1,1,1,1,2,2,1,2,15]
["小学英语",6,1,1,1,{"$nulls":3},1,{"$nulls":5},1,1,null,6]
["小学思品",1,{"$nulls":10},1,{"$nulls":4},1]
["小学音乐",2,{"$nulls":10},1,null,1,null,null,2]
["小学体育",1,1,{"$nulls":14},1]
["小学美术",2,{"$nulls":10},1,null,null,1,null,2]
["小学科学",1,{"$nulls":13},1,null,1]
["小学小计",40,{"$f":"SUM(C15:C22)","v":4},1,1,null,2,2,3,2,2,2,5,3,5,5,3,40]
[]
["合计",{"$f":"SUM(C25:Q25)","v":70},{"$f":"C13+C23","v":4},1,1,6,3,3,4,2,2,5,7,5,5,10,12,70]
[]
["南昌县2020年县内选调在编中小学教师岗位分解表（录用）"]
["招聘岗位","招聘\n人数","具体招聘岗位",{"$nulls":14},"总计"]
[null,null,"金沙路\n小学","振兴路小学","斗柏路\n小学","莲塘四中","银河学校","洪州学校","新城学校","诚义学校","芳草学校","洪州汇仁学校","洪燕学校","洪亿学校","洪科小学","莲塘一中八一分校","洪范学校"]
["初中思品",{"$f":"SUM(C30:Q30)","v":2},{"$nulls":10},1,{"$nulls":3},1,{"$f":"SUM(C30:Q30)","v":2}]
["初中语文",7,{"$nulls":3},2,{"$nulls":5},1,{"$nulls":3},2,2,7]
["初中数学",7,{"$nulls":3},2,{"$nulls":5},1,null,1,null,1,2,7]
["初中英语",5,{"$nulls":3},1,{"$nulls":5},1,null,1,null,null,2,5]
["初中物理",2,{"$nulls":5},1,{"$nulls":8},1,2]
["初中化学",2,{"$nulls":4},1,{"$nulls":8},1,null,2]
["初中历史",1,{"$nulls":14},1,1]
["初中体育",2,{"$nulls":3},1,{"$nulls":6},1,{"$nulls":4},2]
["初中小计",28,{"$nulls":3},{"$f":"SUM(F30:F37)","v":6},1,1,0,null,null,{"$f":"SUM(L30:L37)","v":3},2,2,null,{"$f":"SUM(P30:P37)","v":4},{"$f":"SUM(Q30:Q37)","v":9},28]
[]
["小学语文",{"$f":"SUM(C40:Q40)","v":12},1,{"$nulls":3},1,1,1,1,1,1,1,1,1,1,1,{"$f":"SUM(C40:Q40)","v":12}]
["小学数学",15,1,{"$nulls":3},1,1,1,1,1,1,1,2,2,1,2,15]
["小学英语",6,1,1,1,{"$nulls":3},1,{"$nulls":5},1,1,null,6]
["小学思品",0,{"$nulls":15},0]
["小学音乐",2,{"$nulls":10},1,null,1,null,null,2]
["小学体育",1,1,{"$nulls":14},1]
["小学美术",2,{"$nulls":10},1,null,null,1,null,2]
["小学科学",0,{"$nulls":15},0]
["小学小计",38,{"$f":"SUM(C40:C47)","v":4},1,1,null,2,2,3,2,2,2,4,3,5,4,3,38]
[]
["合计",{"$f":"SUM(C50:Q50)","v":66},{"$f":"C38+C48","v":4},1,1,6,3,3,3,2,2,5,6,5,5,8,12,66]
[]
["南昌县2020年县内选调在编中小学教师岗位分解表（差额）"]
["招聘岗位","招聘\n人数","具体招聘岗位",{"$nulls":14},"总计"]
[null,null,"金沙路\n小学","振兴路小学","斗柏路\n小学","莲塘四中","银河学校","洪州学校","新城学校","诚义学校","芳草学校","洪州汇仁学校","洪燕学校","洪亿学校","洪科小学","莲塘一中八一分校","洪范学校"]
["初中思品",{"$f":"SUM(C55:Q55)","v":1},{"$f":"IF(C5-C30=0,\"\",C5-C30)","v":""},"","","","","",1,"","","","","","","","",{"$f":"SUM(C55:Q55)","v":1}]
["初中语文",0,{"$f":"IF(C6-C31=0,\"\",C6-C31)","v":""},"","","","","","","","","","","","","","",0]
["初中数学",0,{"$f":"IF(C7-C32=0,\"\",C7-C32)","v":""},"","","","","","","","","","","","","","",0]
["初中英语",1,{"$f":"IF(C8-C33=0,\"\",C8-C33)","v":""},"","","","","","","","","","","","",1,"",1]
["初中物理",0,{"$f":"IF(C9-C34=0,\"\",C9-C34)","v":""},"","","","","","","","","","","","","","",0]
["初中化学",0,{"$f":"IF(C10-C35=0,\"\",C10-C35)","v":""},"","","","","","","","","","","","","","",0]
["初中历史",0,{"$f":"IF(C11-C36=0,\"\",C11-C36)","v":""},"","","","","","","","","","","","","","",0]
["初中体育",0,{"$f":"IF(C12-C37=0,\"\",C12-C37)","v":""},"","","","","","","","","","","","","","",0]
["初中小计",2,{"$nulls":3},{"$f":"SUM(F55:F62)","v":0},0,0,1,null,null,{"$f":"SUM(L55:L62)","v":0},0,0,null,{"$f":"SUM(P55:P62)","v":1},{"$f":"SUM(Q55:Q62)","v":0},2]
[]
["小学语文",{"$f":"SUM(C65:Q65)","v":0},{"$f":"IF(C15-C40=0,\"\",C15-C40)","v":""},"","","","","","","","","","","","","","",{"$f":"SUM(C65:Q65)","v":0}]
["小学数学",0,{"$f":"IF(C16-C41=0,\"\",C16-C41)","v":""},"","","","","","","","","","","","","","",0]
["小学英语",0,{"$f":"IF(C17-C42=0,\"\",C17-C42)","v":""},"","","","","","","","","","","","","","",0]
["小学思品",1,{"$f":"IF(C18-C43=0,\"\",C18-C43)","v":""},"","","","","","","","","",1,"","","","",1]
["小学音乐",0,{"$f":"IF(C19-C44=0,\"\",C19-C44)","v":""},"","","","","","","","","","","","","","",0]
["小学体育",0,{"$f":"IF(C20-C45=0,\"\",C20-C45)","v":""},"","","","","","","","","","","","","","",0]
["小学美术",0,{"$f":"IF(C21-C46=0,\"\",C21-C46)","v":""},"","","","","","","","","","","","","","",0]
["小学科学",1,{"$f":"IF(C22-C47=0,\"\",C22-C47)","v":""},"","","","","","","","","","","","",1,"",1]
["小学小计",2,{"$f":"SUM(C65:C72)","v":0},0,0,null,0,0,0,0,0,0,1,0,0,1,0,2]
[]
["合计",{"$f":"SUM(C75:Q75)","v":4},{"$f":"C63+C73","v":0},0,0,0,0,0,1,0,0,0,1,0,0,2,0,4]

{"sheet":"附F  2015定向师范生50人（分解）","index":21,"n_rows":10,"n_cols":12,"rows_kept":10,"hidden":true,"merged":[[0,0,0,11],[1,4,1,11]]}
["南昌县2015级豫章师范定向师范生"]
["学校编号","拟分配学校","报考乡镇","拟分配人数","拟分配教师名单"]
[1,"南新中小","南新乡",8,"宋家棋","罗蓓","刘敏","刘洁","胡佳煜","张佳丽","江娴","杨丰华"]
[2,"蒋巷中小","蒋巷镇",8,"高红","饶禄梦","徐洋洋","王腊根","应思云","龚子薇","万云凤","罗薇"]
[3,"塘南中小","塘南镇",8,"熊樱","骆欣宇","李科镓","梅梦丹","杨文兰","宗欣","周雯蕙","陶然然"]
[4,"泾口中小","泾口乡",8,"舒伟森","付诺诚","罗梦","舒志勇","万芳芳","熊雨欣","姜乐彤","陶蕾"]
[8,"黄马中小","黄马乡",4,"黄冬娇","周能","饶美娟","王斯颖"]
[9,"三江中小","三江镇",3,"杜颖","万丽晨","徐笑"]
[11,"广福中小","广福镇",3,"罗娇","陈欢欢","李茹"]
[39,"幽兰学校","幽兰镇",8,"万思琦","杨帅","詹诗颖","刘阳","刘思敏","张笑","喻璜莹","陶佳琪"]

{"sheet":"附G 2016定向师范实习生78人（分解）","index":22,"n_rows":79,"n_cols":12,"rows_kept":79,"hidden":true}
["序号","序号","专业","姓名","性别","定向单位所在（县区）","定向单位                    （乡镇或学校）","联系电话","家庭住址（现居住地）","班级","班主任、联系电话","实习学校"]
["13","1","小教","黄一星","女","南昌县","蒋巷镇",19179106980,"江西省南昌市南昌县蒋巷镇旱上村黄聂自然村114","516小教（1） ","叶琳静15946800563","诚义学校"]
["17","2","小教","肖雄","男","南昌县","蒋巷镇",18279129038,"江西省南昌市南昌县蒋巷镇碧水湾小区6栋二单元501","516小教（1） ","叶琳静15946800563","诚义学校"]
["18","3","小教","黄智宇","男","南昌县","蒋巷镇",17379118821,"江西省南昌县蒋巷镇洲头村蚌粉黄家自然村163号附2号","516小教（1） ","叶琳静15946800563","诚义学校"]
["21","4","小教","李佳","女","南昌县","塘南镇",15180133226,"江西省南昌市青山湖区恒茂国际新城一单元18栋601室","516小教（1） ","叶琳静15946800563","诚义学校"]
["23","5","小教","叶利君","女","南昌县","塘南镇",13576039568,"江西省南昌市南昌县泾口乡东阳村上叶自然村18号","516小教（1） ","叶琳静15946800563","诚义学校"]
["25","6","小教","黄丽平","女","南昌县","塘南镇",15070986109,"江西省南昌市南昌县塘南镇红星村黄家自然村100号附1号","516小教（1） ","叶琳静15946800563","诚义学校"]
["29","7","小教","陈佳雯","女","南昌县","泾口乡",13677911614,"江西省南昌市高新南大道鑫和园小区20栋一单元402","516小教（1） ","叶琳静15946800563","诚义学校"]
["33","8","小教","姜菁菁","女","南昌县","泾口乡",15179450994,"江西省南昌市南昌县澄湖东路200号","516小教（1） ","叶琳静15946800563","诚义学校"]
["37","9","小教","樊斌斌","男","南昌县","泾口乡",15717096903,"江西省南昌县泾口乡北山村","516小教（1） ","叶琳静15946800563","诚义学校"]
["31","10","小教","黄越","女","南昌县","泾囗乡",15270820590,"江西省南昌市南昌县莲塘镇澄湖中路1单元701室","516小教（1） ","叶琳静15946800563","城东学校"]
["32","11","小教","李一珊","女","南昌县","泾口乡",15180113068,"江西省南昌市南昌县泾口乡胡李村137号","516小教（1） ","叶琳静15946800563","城东学校"]
["30","12","小教","涂思颖","女","南昌县","泾口乡",13698091073,"江西省南昌市南昌县象湖伟梦清水湾洗尘香苑24栋103","516小教（1） ","叶琳静15946800563","斗柏路小学"]
["50","13","小教","罗梦婷","女","南昌县","黄马乡",18170887836,"江西省南昌市南昌县莲塘镇斗柏路369号阳光丽景7栋2单元302室","516小教（1） ","叶琳静15946800563","斗柏路小学"]
["2","14","小教","徐雯燕","女","南昌县","南新乡",18720918533,"江西省南昌市南昌县南新乡爱民村南边自然村54号","516小教（1） ","叶琳静15946800563","芳草学校"]
["3","15","小教","徐淑芬","女","南昌县","南新乡",15979170144,"江西省南昌市南昌县南新乡爱民村104号","516小教（1） ","叶琳静15946800563","芳草学校"]
["4","16","小教","徐诗琴","女","南昌县","南新乡",15970647860,"江西省南昌市南昌县南新乡黄渡村上徐自然村211号","516小教（1） ","叶琳静15946800563","芳草学校"]
["45","17","小教","黄耀群","男","南昌县","幽兰镇",13077959356,"江西省南昌县莲塘镇新莲武路保利春天里1栋1单元601室","516小教（1） ","叶琳静15946800563","芳草学校"]
["5","18","小教","熊欢","女","南昌县","南新乡",18702613151,"江西省南昌市南昌县岗上镇晋安村桥熊自然村49号","516小教（1） ","叶琳静15946800563","芳草学校"]
["6","19","小教","聂琪","女","南昌县","南新乡",15907086656,"江西省南昌市南昌县蒋巷镇富民路46号","516小教（1） ","叶琳静15946800563","芳草学校"]
["7","20","小教","罗文静","女","南昌县","南新乡",13177910902,"江西省南昌市南昌县莲塘镇名坊雅苑4栋901","516小教（1） ","叶琳静15946800563","芳草学校"]
["8","21","小教","聂思慧","女","南昌县","南新乡",13037229587,"江西省南昌市南昌县南新乡友好村大村聂家自然村116附2号","516小教（1） ","叶琳静15946800563","芳草学校"]
["22","22","小教","熊思敏","女","南昌县","塘南镇",15180111852,"江西省南昌市莲塘镇蓝天花园","516小教（1） ","叶琳静15946800563","洪范学校"]
["26","23","小教","万冉","女","南昌县","塘南镇",15180113887,"江西省南昌市南昌县三江镇桥头自然村68附1号 ","516小教（1） ","叶琳静15946800563","洪范学校"]
["35","24","小教","樊紫艳","女","南昌县","泾口乡",15970496250,"江西省南昌市南昌县莲塘镇澄湖西路中央首府31栋","516小教（1） ","叶琳静15946800563","洪范学校"]
["39","25","小教","万雨晗","女","南昌县","幽兰镇",18270878657,"江西省南昌县澄湖北大道锦绣365","516小教（1） ","叶琳静15946800563","洪范学校"]
["40","26","小教","龚慧","女","南昌县","幽兰镇",15717912828,"江西省南昌市南昌县莲塘镇迎宾中大道贵都国际花城91栋3单元501室","516小教（1） ","叶琳静15946800563","洪范学校"]
["41","27","小教","刘斯勇","男","南昌县","幽兰镇",17679107627,"江西省南昌市南昌县幽兰镇胡陶村枥门刘家自然村46号","516小教（1） ","叶琳静15946800563","洪范学校"]
["72","28","小教","熊佳怡","女","南昌县","向塘镇",15979082691,"江西省南昌市南昌县莲塘镇湖东一路星洲国际小区","516小教（1） ","叶琳静15946800563","洪科小学"]
["15","29","小教","姚思敏","女","南昌县","蒋巷镇",13576019249,"江西省南昌市象湖幸福时光一期44栋一单元","516小教（1） ","叶琳静15946800563","洪燕学校"]
["24","30","小教","黄娟","女","南昌县","塘南镇",18379197563,"江西省南昌市高新区艾溪湖南路88号","516小教（1） ","叶琳静15946800563","洪燕学校"]
["63","31","小教","杨雨轩","女","南昌县","广福镇",13037229709,"江西省南昌市南昌县广福镇广福街","516小教（1） ","叶琳静15946800563","洪燕学校"]
["64","32","小教","万慧","女","南昌县","广福镇",17770069325,"江西省南昌市南昌县向塘镇新村村下付策自然村","516小教（1） ","叶琳静15946800563","洪燕学校"]
["65","33","小教","罗文新","男","南昌县","广福镇",13479164457,"江西省南昌市南昌县广福镇官塘村委会罗家村","516小教（1） ","叶琳静15946800563","洪燕学校"]
["66","34","小教","卢新雨","女","南昌县","武阳镇",13767950873,null,"516小教（1） ","叶琳静15946800563","洪燕学校"]
["67","35","小教","殷佳敏","女","南昌县","武阳镇",15180115996,"江西省南昌市南昌县小蓝经济开发区沥山村高村","516小教（1） ","叶琳静15946800563","洪燕学校"]
["68","36","小教","吴嘉仪","女","南昌县","武阳镇",18779154112,"江西省南昌市南昌县莲塘镇幸福雅苑小区三栋201","516小教（1） ","叶琳静15946800563","洪燕学校"]
["69","37","小教","李亚轩","女","南昌县","武阳镇",18270829150,"江西省南昌市南昌县蒋巷镇柏岗山后李村1号","516小教（1） ","叶琳静15946800563","洪燕学校"]
["44","38","小教","王量","男","南昌县","幽兰镇",15797818903,"江西省南昌市南昌县小蓝经济开发区雄溪村东村自然村529号","516小教（1） ","叶琳静15946800563","洪亿学校"]
["46","39","小教","万谋迟","男","南昌县","泾口乡",15879165153,"江西省南昌市南昌县幽兰镇厚田村河下自然村60号","516小教（1） ","叶琳静15946800563","洪亿学校"]
["51","40","小教","章怡霞","女","南昌县","黄马乡",18702528296,"江西省南昌市南昌县汇仁阳光花园2期9栋1202室","516小教（1） ","叶琳静15946800563","洪州汇仁学校"]
["53","41","小教","章蕾","女","南昌县","黄马乡",15270025828,"江西省南昌市南昌县莲塘镇府前西路1号","516小教（1） ","叶琳静15946800563","洪州汇仁学校"]
["20","42","小教","吁思齐","女","南昌县","塘南镇",18170078560,"江西省南昌市南昌县莲塘镇毕加索花园7栋三单元102室","516小教（1） ","叶琳静15946800563","洪州学校"]
["36","43","小教","赵彤","女","南昌县","泾口乡",15797713239,"江西省南昌市南昌县岗上镇蚕石村月池自然村16号","516小教（1） ","叶琳静15946800563","洪州学校"]
["38","44","小教","舒胡赞","男","南昌县","塘南镇",15797789118,"江西省南昌市南昌县莲塘镇华林桃源丰景九栋二单元1103室","516小教（1） ","叶琳静15946800563","洪州学校"]
["10","45","小教","樊宇晴","女","南昌县","蒋巷镇",13870915731,"江西省南昌市南昌县蒋巷镇蒋巷街71号","516小教（1） ","叶琳静15946800563","金沙路小学"]
["11","46","小教","刘思艳","女","南昌县","蒋巷镇",15070935039,"江西省南昌市南昌县蒋巷镇蒋巷村牌楼后边刘家自然村26号","516小教（1） ","叶琳静15946800563","金沙路小学"]
["12","47","小教","黄烨","女","南昌县","蒋巷镇",17770883670,"江西省南昌市南昌县蒋巷镇蒋巷村大门徐家自然村102号","516小教（1） ","叶琳静15946800563","莲塘三小"]
["27","48","小教","邓凯文","男","南昌县","武阳镇",13517910714,"江西省南昌市南昌县小蓝经济开发区玉沙村","516小教（1） ","叶琳静15946800563","金沙路小学"]
["9","49","小教","滕书慧","女","南昌县","蒋巷镇",13307001767,"江西省南昌市南昌县蒋巷镇旱上村滕卢自然村12号","516小教（1） ","叶琳静15946800563","金沙路小学"]
["16","50","小教","曾佳欣","女","南昌县","蒋巷镇",15797837533,"江西省南昌县三江镇学府路43号","516小教（1） ","叶琳静15946800563","莲塘四小"]
["19","51","小教","周诗琪","女","南昌县","塘南镇",18720952212,"江西省南昌市南昌县莲塘镇梦里水乡天一3号楼","516小教（1） ","叶琳静15946800563","莲塘四小"]
["42","52","小教","魏晨川","男","南昌县","幽兰镇",18070021746,"江西省南昌市南昌县莲塘镇农贸西路86号体育馆住宅区16栋5单元302室","516小教（1） ","叶琳静15946800563","莲塘四小"]
["28","53","小教","万来平","男","南昌县","莲塘镇",18270832663,"江西省 南昌县莲塘镇斗柏路528号6栋2单元202","516小教（1） ","叶琳静15946800563","莲塘四中"]
["70","54","小教","龚欣羽","女","南昌县","向塘镇",13576928661,"江西省南昌市南昌县向阳镇腰甫村22号","516小教（1） ","叶琳静15946800563","莲塘四中"]
["71","55","小教","谭瑾","女","南昌县","向塘镇",15170023449,"江西省南昌市南昌县冈上镇安仁南头自然村","516小教（1） ","叶琳静15946800563","莲塘四中"]
["73","56","小教","万欣余","女","南昌县","广福镇",15070046779,"江西省南昌市南昌县八一乡莲谢中路510号","516小教（1） ","叶琳静15946800563","莲塘四中"]
["74","57","小教","罗伟康","男","南昌县","向塘镇",18270914901,"江西省南昌市南昌县莲塘镇莲西路955号凤凰宝坻5栋2单元402","516小教（1） ","叶琳静15946800563","莲塘四中"]
["1","58","小教","蒋娜娜","女","南昌县","南新乡",18317914369,"江西省南昌市南昌县南新乡爱民村蒋家村","516小教（1） ","叶琳静15946800563","莲塘一中八一分校"]
["14","59","小教","邬倩倩","女","南昌县","蒋巷镇",13367004612,"江西省南昌市南昌县广福镇广福中心小学科教园3附2栋1单元201号","516小教（1） ","叶琳静15946800563","莲塘一中八一分校"]
["43","60","小教","李嘉欣","女","南昌县","幽兰镇",15270915359,"江西省南昌市南昌县莲塘镇澄湖西路2088号泰然雅居6栋一单元1502","516小教（1） ","叶琳静15946800563","莲塘一中八一分校"]
["47","61","小教","康品","男","南昌县","幽兰镇",17770801749,"江西省南昌市南昌县莲塘镇澄湖西路189号二栋一单元301室","516小教（1） ","叶琳静15946800563","莲塘一中八一分校"]
["34","62","小教","李亚婷","女","南昌县","泾口乡",18070129226,"江西省南昌市象湖新城金沙大道2133号新力愉景湾22栋1单元1302","516小教（1） ","叶琳静15946800563","新城学校"]
["52","63","小教","蔡丽娜","女","南昌县","黄马乡",18279188036,"江西省南昌市南昌县三江镇三江村南街自然村","516小教（1） ","叶琳静15946800563","新城学校"]
["60","64","小教","邹意","女","南昌县","三江镇",13576058197,"江西省南昌市南昌县三江镇松林村后坊自然村","516小教（1） ","叶琳静15946800563","新城学校"]
["61","65","小教","余玲","女","南昌县","广福镇",18270910371,"江西省南昌市南昌县三江镇东余村50附1号","516小教（1） ","叶琳静15946800563","新城学校"]
["62","66","小教","涂启东","男","南昌县","三江镇",15279175513,"江西省南昌市南昌县象胡景城名郡h16栋1单元302","516小教（1） ","叶琳静15946800563","新城学校"]
["75","67","小教","黄能","男","南昌县","向塘镇",13155832268,"江西省南昌市南昌县黄马乡华标村庙下自然村","516小教（1） ","叶琳静15946800563","新城学校"]
[null,"76","数学","胡泽程","女","南昌县","武溪小学（新单位：南昌麻丘二中）",15970609272,"江西省南昌市高新区麻丘镇绿地未来城"," 516数教班","高晓妹13970872196","新城学校"]
[null,"77","数学","闵甜甜","女","南昌县","金凤小学",13576041128,"江西省南昌市高新区麻丘镇瑶湖春天小区"," 516数教班","高晓妹13970872196","新城学校"]
[null,"78","数学","刘迁","男","南昌县",null,15180176208,"江西省南昌市高新区火炬二路150栋101"," 516数教班","高晓妹13970872196","新城学校"]
["54","68","小教","陈永琪","男","南昌县","武阳镇",15180183932,"江西省南昌市南昌县银三角水悦湾二区","516小教（1） ","叶琳静15946800563","银河学校"]
["55","69","小教","闵翘楚","男","南昌县","黄马乡",15079032091,"江西省南昌市南昌县莲塘镇梦里水乡小区天一12栋1705室","516小教（1） ","叶琳静15946800563","银河学校"]
["56","70","小教","李厚民","男","南昌县","黄马乡",15270037830,"江西省南昌市南昌县黄马乡罗渡村港头自然村55号","516小教（1） ","叶琳静15946800563","银河学校"]
["57","71","小教","刘轩","女","南昌县","三江镇",13576941564,"江西省南昌市南昌县三江镇松林村后余自然村2号","516小教（1） ","叶琳静15946800563","银河学校"]
["58","72","小教","蔡立苗","女","南昌县","三江镇",15079122662,"江西省南昌市南昌县三江镇郎官第26号","516小教（1） ","叶琳静15946800563","银河学校"]
["59","73","小教","万云","女","南昌县","三江镇",15797843007,"江西省南昌市南昌县三江镇东庄村前万自然村13号","516小教（1） ","叶琳静15946800563","银河学校"]
["48","74","小教","徐懿萱","女","南昌县","黄马乡",15270939223,"江西省南昌市南昌县莲塘镇馨雅北苑5栋1单元","516小教（1） ","叶琳静15946800563","莲塘三小"]
["49","75","小教","涂婉清","女","南昌县","黄马乡",13576925771,"江西省南昌市南昌县富山乡名坊雅苑2栋2单元201室","516小教（1） ","叶琳静15946800563","振兴路小学"]

{"sheet":"附I 2017公费师范实习生11人（分解）","index":23,"n_rows":17,"n_cols":11,"rows_kept":17,"hidden":true,"merged":[[1,0,1,9],[2,0,2,9]]}
["附件2"]
["江西师范大学2017级公费师范生教育实习安排表"]
["设区市、省直管县（市）教育局：（盖章）"]
["序号","县（市、区）","姓名","性别","专业","实习学校","学校负责人","学校负责人电话","实习指导教师","实习指导教师联系电话","实习生电话"]
[1,"南昌县","万敏","女","汉语言文学","莲塘四中",{"$nulls":4},"15907092329"]
[2,"南昌县","骆芷涵","女","汉语言文学","莲塘四中",{"$nulls":4},"13576052712"]
[3,"南昌县","王惠雯","女","数学与应用数学","莲塘四中",{"$nulls":4},"15070073618"]
[4,"南昌县","张谨云","女","数学与应用数学","莲塘二中",{"$nulls":4},"13870676595"]
[5,"南昌县","戴梦怡","女","英语","洪州学校",{"$nulls":4},"15079163143"]
[6,"南昌县","张超越","女","英语","莲塘四中",{"$nulls":4},"15879117871"]
[7,"南昌县","刘培","女","英语","莲塘四中",{"$nulls":4},"13755679521"]
[8,"南昌县","廖翼蝶","女","英语","诚义学校",{"$nulls":4},"13870096210"]
[9,"南昌县","张青","女","英语","诚义学校",{"$nulls":4},"18942235125"]
[10,"南昌县","徐佩君","女","英语","莲塘四中",{"$nulls":4},"18807099005"]
[11,"南昌县","涂佳欣","女","物理","莲塘二中",{"$nulls":4},"18720095660"]
[]
[null,null,"8月15日前安排好"]

{"sheet":"2.2《急需排序表》说明","index":24,"n_rows":5,"n_cols":3,"rows_kept":5,"hidden":true}
["序号","包含意义（含义）","表现形式"]
[1,"县内选调","蓝色字体蓝色字体蓝色字体"]
[2,"合计补充教师数(A+B)","红色字体红色字体红色字体（蓝色字体蓝色字体蓝色字体）"]
[3,"摸底核准补充教师数(A)","11号字体加粗(11号字体加粗)"]
[4,"新增班级补充教师数(B)","9号字体下划线(9号字体下划线)"]