{"text_format":"3","workbook":"xlsx","n_sheets":2,"sheets":["Sheet1","Sheet2"],"not_rendered":{"images":3},"read":"whole","date_system":"1900"}

{"sheet":"Sheet1","index":0,"n_rows":7459,"n_cols":6,"rows_kept":7459}
["序号","姓名","岗位代码","准考证号","岗位排名","最低入闱成绩"]
[1,"胡苏云",360105203001,154012907510,1,{"$f":"VLOOKUP(C2,Sheet2!A:B,2,FALSE)","v":185.5}]
[2,"聂敏",360105203001,154012908518,2,{"$f":"VLOOKUP(C3,Sheet2!A:B,2,FALSE)","v":185.5}]
[3,"王帆",360105203001,154012908502,3,{"$f":"VLOOKUP(C4,Sheet2!A:B,2,FALSE)","v":185.5}]
[4,"陈振斌",360105205001,154211002411,1,{"$f":"VLOOKUP(C5,Sheet2!A:B,2,FALSE)","v":144}]
[5,"龚远聪",360105205001,154012804102,2,{"$f":"VLOOKUP(C6,Sheet2!A:B,2,FALSE)","v":144}]
[6,"王殿斑",360105205001,154012804416,3,{"$f":"VLOOKUP(C7,Sheet2!A:B,2,FALSE)","v":144}]
[7,"章倩倩",360105206001,154012701704,1,{"$f":"VLOOKUP(C8,Sheet2!A:B,2,FALSE)","v":188.5}]
[8,"欧阳文茜",360105206001,154012702726,2,{"$f":"VLOOKUP(C9,Sheet2!A:B,2,FALSE)","v":188.5}]
[9,"芦赛",360105206001,154012702307,3,{"$f":"VLOOKUP(C10,Sheet2!A:B,2,FALSE)","v":188.5}]
[10,"朱江燕",360120201008,154210902623,1,{"$f":"VLOOKUP(C11,Sheet2!A:B,2,FALSE)","v":137}]
[11,"范素琴",360120201008,154012700916,2,{"$f":"VLOOKUP(C12,Sheet2!A:B,2,FALSE)","v":137}]
[12,"廖秋玲",360120201008,154012700624,3,{"$f":"VLOOKUP(C13,Sheet2!A:B,2,FALSE)","v":137}]
[13,"李雪梅",360120201008,154012701322,4,{"$f":"VLOOKUP(C14,Sheet2!A:B,2,FALSE)","v":137}]
[14,"杨雅思",360120201008,154210901621,5,{"$f":"VLOOKUP(C15,Sheet2!A:B,2,FALSE)","v":137}]
[15,"刘婷",360120201008,154210900518,6,{"$f":"VLOOKUP(C16,Sheet2!A:B,2,FALSE)","v":137}]
[16,"杨晴",360120201008,154210902815,7,{"$f":"VLOOKUP(C17,Sheet2!A:B,2,FALSE)","v":137}]
[17,"杨晴",360120201008,154210903229,8,{"$f":"VLOOKUP(C18,Sheet2!A:B,2,FALSE)","v":137}]
[18,"管春春",360120201008,154210902206,9,{"$f":"VLOOKUP(C19,Sheet2!A:B,2,FALSE)","v":137}]
[19,"钟慧玲",360120201008,154210901322,10,{"$f":"VLOOKUP(C20,Sheet2!A:B,2,FALSE)","v":137}]
[20,"郭园红",360120201008,154210902626,11,{"$f":"VLOOKUP(C21,Sheet2!A:B,2,FALSE)","v":137}]
[21,"钟伟庭",360120201008,154210903114,12,{"$f":"VLOOKUP(C22,Sheet2!A:B,2,FALSE)","v":137}]
[22,"肖凤",360120201008,154210901710,13,{"$f":"VLOOKUP(C23,Sheet2!A:B,2,FALSE)","v":137}]
[23,"杨凌芳",360120201008,154210902211,14,{"$f":"VLOOKUP(C24,Sheet2!A:B,2,FALSE)","v":137}]
[24,"刘淦丽",360120201008,154210901920,15,{"$f":"VLOOKUP(C25,Sheet2!A:B,2,FALSE)","v":137}]
[25,"朱雅茜",360120201008,154210903102,16,{"$f":"VLOOKUP(C26,Sheet2!A:B,2,FALSE)","v":137}]
[26,"钟孟池",360120201008,154210900110,17,{"$f":"VLOOKUP(C27,Sheet2!A:B,2,FALSE)","v":137}]
[27,"雷慧",360120201008,154210902117,18,{"$f":"VLOOKUP(C28,Sheet2!A:B,2,FALSE)","v":137}]
[28,"王雅茹",360120201008,154012700220,19,{"$f":"VLOOKUP(C29,Sheet2!A:B,2,FALSE)","v":137}]
[29,"杨蕊萌",360120201008,154012701512,20,{"$f":"VLOOKUP(C30,Sheet2!A:B,2,FALSE)","v":137}]
[30,"刘欣",360120202008,154210201511,1,{"$f":"VLOOKUP(C31,Sheet2!A:B,2,FALSE)","v":127.5}]
[31,"王敏",360120202008,154210201512,2,{"$f":"VLOOKUP(C32,Sheet2!A:B,2,FALSE)","v":127.5}]
[32,"钟慧敏",360120202008,154210201918,3,{"$f":"VLOOKUP(C33,Sheet2!A:B,2,FALSE)","v":127.5}]
[33,"丁贝娅",360120202008,154210200606,4,{"$f":"VLOOKUP(C34,Sheet2!A:B,2,FALSE)","v":127.5}]
[34,"赖丽",360120202008,154210201104,5,{"$f":"VLOOKUP(C35,Sheet2!A:B,2,FALSE)","v":127.5}]
[35,"唐盈盈",360120202008,154242703222,6,{"$f":"VLOOKUP(C36,Sheet2!A:B,2,FALSE)","v":127.5}]
[36,"钟海兰",360120202008,154210200230,7,{"$f":"VLOOKUP(C37,Sheet2!A:B,2,FALSE)","v":127.5}]
[37,"钟楚林",360120202008,154210201217,8,{"$f":"VLOOKUP(C38,Sheet2!A:B,2,FALSE)","v":127.5}]
[38,"钟荣",360120202008,154221405024,10,{"$f":"VLOOKUP(C39,Sheet2!A:B,2,FALSE)","v":127.5}]
[39,"李文清",360120202008,154242703127,9,{"$f":"VLOOKUP(C40,Sheet2!A:B,2,FALSE)","v":127.5}]
[40,"朱亚晴",360120202008,154210201311,11,{"$f":"VLOOKUP(C41,Sheet2!A:B,2,FALSE)","v":127.5}]
[41,"葛春红",360120202008,154210201604,12,{"$f":"VLOOKUP(C42,Sheet2!A:B,2,FALSE)","v":127.5}]
[42,"李婷",360120202008,154210200930,13,{"$f":"VLOOKUP(C43,Sheet2!A:B,2,FALSE)","v":127.5}]
[43,"张凯",360120202008,154210201530,14,{"$f":"VLOOKUP(C44,Sheet2!A:B,2,FALSE)","v":127.5}]
[44,"肖莉",360120202008,154012906303,15,{"$f":"VLOOKUP(C45,Sheet2!A:B,2,FALSE)","v":127.5}]
[45,"胡燕",360120202008,154210201121,16,{"$f":"VLOOKUP(C46,Sheet2!A:B,2,FALSE)","v":127.5}]
[46,"彭春玉",360120202008,154210201808,17,{"$f":"VLOOKUP(C47,Sheet2!A:B,2,FALSE)","v":127.5}]
[47,"卢艳",360120202008,154020500801,18,{"$f":"VLOOKUP(C48,Sheet2!A:B,2,FALSE)","v":127.5}]
[48,"张秀芹",360120202008,154210200830,19,{"$f":"VLOOKUP(C49,Sheet2!A:B,2,FALSE)","v":127.5}]
[49,"吴月美",360120202008,154210200314,20,{"$f":"VLOOKUP(C50,Sheet2!A:B,2,FALSE)","v":127.5}]
[50,"林平香",360120203008,154012805907,1,{"$f":"VLOOKUP(C51,Sheet2!A:B,2,FALSE)","v":168.5}]
[51,"罗双",360120203008,154210703111,2,{"$f":"VLOOKUP(C52,Sheet2!A:B,2,FALSE)","v":168.5}]
[52,"曾佳敏",360120203008,154210701705,3,{"$f":"VLOOKUP(C53,Sheet2!A:B,2,FALSE)","v":168.5}]
[53,"黄云",360120203008,154210701527,4,{"$f":"VLOOKUP(C54,Sheet2!A:B,2,FALSE)","v":168.5}]
[54,"钟芳丽",360120203008,154012804629,5,{"$f":"VLOOKUP(C55,Sheet2!A:B,2,FALSE)","v":168.5}]
[55,"方六女",360120203008,154210703204,6,{"$f":"VLOOKUP(C56,Sheet2!A:B,2,FALSE)","v":168.5}]
[56,"邱晓雯",360120203008,154012805721,7,{"$f":"VLOOKUP(C57,Sheet2!A:B,2,FALSE)","v":168.5}]
[57,"毛洋燕",360120203008,154210703909,8,{"$f":"VLOOKUP(C58,Sheet2!A:B,2,FALSE)","v":168.5}]
[58,"廖绮欣",360120203008,154012908204,9,{"$f":"VLOOKUP(C59,Sheet2!A:B,2,FALSE)","v":168.5}]
[59,"余宏佳",360120203008,154210701220,10,{"$f":"VLOOKUP(C60,Sheet2!A:B,2,FALSE)","v":168.5}]
[60,"刘婧",360120203008,154210702326,11,{"$f":"VLOOKUP(C61,Sheet2!A:B,2,FALSE)","v":168.5}]
[61,"刘丽芳",360120203008,154210703920,12,{"$f":"VLOOKUP(C62,Sheet2!A:B,2,FALSE)","v":168.5}]
[62,"邹淑梅",360120203008,154012908416,13,{"$f":"VLOOKUP(C63,Sheet2!A:B,2,FALSE)","v":168.5}]
[63,"谢玲",360120203008,154210700804,14,{"$f":"VLOOKUP(C64,Sheet2!A:B,2,FALSE)","v":168.5}]
[64,"罗婷",360120203008,154012805809,15,{"$f":"VLOOKUP(C65,Sheet2!A:B,2,FALSE)","v":168.5}]
[65,"熊黎之",360120203008,154210700507,16,{"$f":"VLOOKUP(C66,Sheet2!A:B,2,FALSE)","v":168.5}]
[66,"杨华英",360120203008,154210702824,17,{"$f":"VLOOKUP(C67,Sheet2!A:B,2,FALSE)","v":168.5}]
[67,"胡彩娇",360120203008,154210701125,18,{"$f":"VLOOKUP(C68,Sheet2!A:B,2,FALSE)","v":168.5}]
[68,"杨婷",360120203008,154210700609,19,{"$f":"VLOOKUP(C69,Sheet2!A:B,2,FALSE)","v":168.5}]
[69,"周兰娇",360120203008,154020501119,20,{"$f":"VLOOKUP(C70,Sheet2!A:B,2,FALSE)","v":168.5}]
[70,"杨婷",360120204005,154012908818,1,{"$f":"VLOOKUP(C71,Sheet2!A:B,2,FALSE)","v":118}]
[71,"朱媛媛",360120204005,154210202305,2,{"$f":"VLOOKUP(C72,Sheet2!A:B,2,FALSE)","v":118}]
[72,"谢雪莉",360120204005,154030306303,3,{"$f":"VLOOKUP(C73,Sheet2!A:B,2,FALSE)","v":118}]
[73,"杨丽贞",360120204005,154210202626,4,{"$f":"VLOOKUP(C74,Sheet2!A:B,2,FALSE)","v":118}]
[74,"黄佳鸿",360120204005,154210202728,5,{"$f":"VLOOKUP(C75,Sheet2!A:B,2,FALSE)","v":118}]
[75,"李思锐",360120205005,154211003115,1,{"$f":"VLOOKUP(C76,Sheet2!A:B,2,FALSE)","v":128}]
[76,"肖良坤",360120205005,154211002901,2,{"$f":"VLOOKUP(C77,Sheet2!A:B,2,FALSE)","v":128}]
[77,"胡鹏",360120205005,154211003312,3,{"$f":"VLOOKUP(C78,Sheet2!A:B,2,FALSE)","v":128}]
[78,"毛俊俊",360120205005,154012804221,4,{"$f":"VLOOKUP(C79,Sheet2!A:B,2,FALSE)","v":128}]
[79,"钟海宁",360120205005,154211002227,5,{"$f":"VLOOKUP(C80,Sheet2!A:B,2,FALSE)","v":128}]
[80,"刘艳山",360120205005,154211002418,6,{"$f":"VLOOKUP(C81,Sheet2!A:B,2,FALSE)","v":128}]
[81,"黄丽",360120205005,154211002124,7,{"$f":"VLOOKUP(C82,Sheet2!A:B,2,FALSE)","v":128}]
[82,"赖雯瑶",360120205005,154211002305,8,{"$f":"VLOOKUP(C83,Sheet2!A:B,2,FALSE)","v":128}]
[83,"肖剑",360120205005,154211003317,9,{"$f":"VLOOKUP(C84,Sheet2!A:B,2,FALSE)","v":128}]
[84,"邱粮昌",360120205005,154012804201,10,{"$f":"VLOOKUP(C85,Sheet2!A:B,2,FALSE)","v":128}]
[85,"钟跃俊",360120205005,154012405829,11,{"$f":"VLOOKUP(C86,Sheet2!A:B,2,FALSE)","v":128}]
[86,"刘昌金",360120205005,154211002207,12,{"$f":"VLOOKUP(C87,Sheet2!A:B,2,FALSE)","v":128}]
[87,"陈华香",360120205005,154211001919,13,{"$f":"VLOOKUP(C88,Sheet2!A:B,2,FALSE)","v":128}]
[88,"邱美田",360120205005,154211002507,14,{"$f":"VLOOKUP(C89,Sheet2!A:B,2,FALSE)","v":128}]
[89,"蔡伟平",360120205005,154211001502,15,{"$f":"VLOOKUP(C90,Sheet2!A:B,2,FALSE)","v":128}]
[90,"钟梦婷",360120205005,154211002708,16,{"$f":"VLOOKUP(C91,Sheet2!A:B,2,FALSE)","v":128}]
[91,"刘文强",360120206002,154210502326,1,{"$f":"VLOOKUP(C92,Sheet2!A:B,2,FALSE)","v":179.5}]
[92,"梁琳英",360120206002,154210502220,2,{"$f":"VLOOKUP(C93,Sheet2!A:B,2,FALSE)","v":179.5}]
[93,"刘林林",360120206002,154012702624,3,{"$f":"VLOOKUP(C94,Sheet2!A:B,2,FALSE)","v":179.5}]
[94,"钟欢",360120206002,154210502517,4,{"$f":"VLOOKUP(C95,Sheet2!A:B,2,FALSE)","v":179.5}]
[95,"谢路林",360120206002,154012702027,5,{"$f":"VLOOKUP(C96,Sheet2!A:B,2,FALSE)","v":179.5}]
[96,"刘瑶",360120206002,154210501309,6,{"$f":"VLOOKUP(C97,Sheet2!A:B,2,FALSE)","v":179.5}]
[97,"陈丽华",360120207002,154210402018,1,{"$f":"VLOOKUP(C98,Sheet2!A:B,2,FALSE)","v":161.5}]
[98,"杨威",360120207002,154210401202,2,{"$f":"VLOOKUP(C99,Sheet2!A:B,2,FALSE)","v":161.5}]
[99,"曾旋",360120207002,154210402230,3,{"$f":"VLOOKUP(C100,Sheet2!A:B,2,FALSE)","v":161.5}]
[100,"陈莉芬",360120207002,154012702926,4,{"$f":"VLOOKUP(C101,Sheet2!A:B,2,FALSE)","v":161.5}]
[101,"杨旗",360120207002,154210401616,5,{"$f":"VLOOKUP(C102,Sheet2!A:B,2,FALSE)","v":161.5}]
[102,"宋小美",360120207002,154210401915,6,{"$f":"VLOOKUP(C103,Sheet2!A:B,2,FALSE)","v":161.5}]
[103,"杨温予",360120208002,154210303601,1,{"$f":"VLOOKUP(C104,Sheet2!A:B,2,FALSE)","v":133}]
[104,"蔡雅婷",360120209002,154210402819,2,{"$f":"VLOOKUP(C105,Sheet2!A:B,2,FALSE)","v":145}]
[105,"邓瑶",360120209002,154040803506,1,{"$f":"VLOOKUP(C106,Sheet2!A:B,2,FALSE)","v":145}]
[106,"张瑶",360120209002,154210403013,3,{"$f":"VLOOKUP(C107,Sheet2!A:B,2,FALSE)","v":145}]
[107,"陈炜雄",360120210002,154210304227,1,{"$f":"VLOOKUP(C108,Sheet2!A:B,2,FALSE)","v":98}]
[108,"张燕",360120210002,154210304102,2,{"$f":"VLOOKUP(C109,Sheet2!A:B,2,FALSE)","v":98}]
[109,"许俊伟",360120211004,154012803607,1,{"$f":"VLOOKUP(C110,Sheet2!A:B,2,FALSE)","v":122}]
[110,"李雨馨",360120211004,154211000910,2,{"$f":"VLOOKUP(C111,Sheet2!A:B,2,FALSE)","v":122}]
[111,"邹鹏",360120211004,154211001027,3,{"$f":"VLOOKUP(C112,Sheet2!A:B,2,FALSE)","v":122}]
[112,"邓贤",360120212002,154231505401,1,{"$f":"VLOOKUP(C113,Sheet2!A:B,2,FALSE)","v":130.5}]
[113,"徐孟诚",360122101009,154012102310,1,{"$f":"VLOOKUP(C114,Sheet2!A:B,2,FALSE)","v":188}]
[114,"胡婷婷",360122101009,154012302708,2,{"$f":"VLOOKUP(C115,Sheet2!A:B,2,FALSE)","v":188}]
[115,"方菲",360122101009,154012302330,3,{"$f":"VLOOKUP(C116,Sheet2!A:B,2,FALSE)","v":188}]
[116,"夏远",360122101009,154012102720,4,{"$f":"VLOOKUP(C117,Sheet2!A:B,2,FALSE)","v":188}]
[117,"李旭丽",360122101009,154012300214,5,{"$f":"VLOOKUP(C118,Sheet2!A:B,2,FALSE)","v":188}]
[118,"吴玉晨",360122101009,154012101303,6,{"$f":"VLOOKUP(C119,Sheet2!A:B,2,FALSE)","v":188}]
[119,"江仁琴",360122101009,154012300926,7,{"$f":"VLOOKUP(C120,Sheet2!A:B,2,FALSE)","v":188}]
[120,"胡小芳",360122101009,154012300426,9,{"$f":"VLOOKUP(C121,Sheet2!A:B,2,FALSE)","v":188}]
[121,"熊茜",360122101009,154012102430,8,{"$f":"VLOOKUP(C122,Sheet2!A:B,2,FALSE)","v":188}]
[122,"陈雅珍",360122101009,154012101220,10,{"$f":"VLOOKUP(C123,Sheet2!A:B,2,FALSE)","v":188}]
[123,"吴珍珍",360122101009,154242402113,11,{"$f":"VLOOKUP(C124,Sheet2!A:B,2,FALSE)","v":188}]
[124,"张君琦",360122101009,154040700110,12,{"$f":"VLOOKUP(C125,Sheet2!A:B,2,FALSE)","v":188}]
[125,"熊周媗",360122101009,154012301530,13,{"$f":"VLOOKUP(C126,Sheet2!A:B,2,FALSE)","v":188}]
[126,"胡雨萱",360122101009,154012302710,14,{"$f":"VLOOKUP(C127,Sheet2!A:B,2,FALSE)","v":188}]
[127,"闵思琴",360122101009,154012102510,16,{"$f":"VLOOKUP(C128,Sheet2!A:B,2,FALSE)","v":188}]
[128,"郑小姣",360122101009,154012301522,17,{"$f":"VLOOKUP(C129,Sheet2!A:B,2,FALSE)","v":188}]
[129,"邹宇淑",360122101009,154012101321,15,{"$f":"VLOOKUP(C130,Sheet2!A:B,2,FALSE)","v":188}]
[130,"陈晴",360122101009,154012101827,18,{"$f":"VLOOKUP(C131,Sheet2!A:B,2,FALSE)","v":188}]
[131,"赵惠惠",360122101009,154012302320,19,{"$f":"VLOOKUP(C132,Sheet2!A:B,2,FALSE)","v":188}]
[132,"陈可欣",360122101009,154012302227,22,{"$f":"VLOOKUP(C133,Sheet2!A:B,2,FALSE)","v":188}]
[133,"陈瑶",360122101009,154012102613,20,{"$f":"VLOOKUP(C134,Sheet2!A:B,2,FALSE)","v":188}]
[134,"黄燕",360122101009,154012301313,21,{"$f":"VLOOKUP(C135,Sheet2!A:B,2,FALSE)","v":188}]
[135,"蔡甜甜",360122101009,154012102420,23,{"$f":"VLOOKUP(C136,Sheet2!A:B,2,FALSE)","v":188}]
[136,"万明慧",360122102008,154250103208,1,{"$f":"VLOOKUP(C137,Sheet2!A:B,2,FALSE)","v":184.5}]
[137,"程秋霞",360122102008,154012203122,2,{"$f":"VLOOKUP(C138,Sheet2!A:B,2,FALSE)","v":184.5}]
[138,"罗梦真",360122102008,154012203504,3,{"$f":"VLOOKUP(C139,Sheet2!A:B,2,FALSE)","v":184.5}]
[139,"熊知",360122102008,154012203814,4,{"$f":"VLOOKUP(C140,Sheet2!A:B,2,FALSE)","v":184.5}]
[140,"邹梦馨",360122102008,154012202201,5,{"$f":"VLOOKUP(C141,Sheet2!A:B,2,FALSE)","v":184.5}]
[141,"邹可",360122102008,154012202525,6,{"$f":"VLOOKUP(C142,Sheet2!A:B,2,FALSE)","v":184.5}]
[142,"贺思敏",360122102008,154232404229,8,{"$f":"VLOOKUP(C143,Sheet2!A:B,2,FALSE)","v":184.5}]
[143,"熊诗瑜",360122102008,154012202110,9,{"$f":"VLOOKUP(C144,Sheet2!A:B,2,FALSE)","v":184.5}]
[144,"黄亚云",360122102008,154250102210,7,{"$f":"VLOOKUP(C145,Sheet2!A:B,2,FALSE)","v":184.5}]
[145,"邬莹莹",360122102008,154012303111,10,{"$f":"VLOOKUP(C146,Sheet2!A:B,2,FALSE)","v":184.5}]
[146,"蔡思思",360122102008,154012200414,11,{"$f":"VLOOKUP(C147,Sheet2!A:B,2,FALSE)","v":184.5}]
[147,"袁雨倩",360122102008,154250102926,12,{"$f":"VLOOKUP(C148,Sheet2!A:B,2,FALSE)","v":184.5}]
[148,"魏淇",360122102008,154012201505,13,{"$f":"VLOOKUP(C149,Sheet2!A:B,2,FALSE)","v":184.5}]
[149,"李甘甘",360122102008,154012201609,14,{"$f":"VLOOKUP(C150,Sheet2!A:B,2,FALSE)","v":184.5}]
[150,"胡瑶菱",360122102008,154012203521,16,{"$f":"VLOOKUP(C151,Sheet2!A:B,2,FALSE)","v":184.5}]
[151,"余晓宇",360122102008,154012201018,15,{"$f":"VLOOKUP(C152,Sheet2!A:B,2,FALSE)","v":184.5}]
[152,"孙莹",360122102008,154012201603,17,{"$f":"VLOOKUP(C153,Sheet2!A:B,2,FALSE)","v":184.5}]
[153,"闵佳",360122102008,154232402712,18,{"$f":"VLOOKUP(C154,Sheet2!A:B,2,FALSE)","v":184.5}]
[154,"毛青",360122102008,154221402319,19,{"$f":"VLOOKUP(C155,Sheet2!A:B,2,FALSE)","v":184.5}]
[155,"夏慧晴",360122102008,154012202001,20,{"$f":"VLOOKUP(C156,Sheet2!A:B,2,FALSE)","v":184.5}]
[156,"万心霓",360122103004,154012501130,1,{"$f":"VLOOKUP(C157,Sheet2!A:B,2,FALSE)","v":182.5}]
[157,"汪莹",360122103004,154012502326,2,{"$f":"VLOOKUP(C158,Sheet2!A:B,2,FALSE)","v":182.5}]
[158,"蔡涵琪",360122103004,154012500124,3,{"$f":"VLOOKUP(C159,Sheet2!A:B,2,FALSE)","v":182.5}]
[159,"谌浩莹",360122103004,154012502122,4,{"$f":"VLOOKUP(C160,Sheet2!A:B,2,FALSE)","v":182.5}]
[160,"邓丽",360122103004,154012500828,5,{"$f":"VLOOKUP(C161,Sheet2!A:B,2,FALSE)","v":182.5}]
[161,"熊磊",360122103004,154012500318,6,{"$f":"VLOOKUP(C162,Sheet2!A:B,2,FALSE)","v":182.5}]
[162,"陈淑芳",360122103004,154012502117,7,{"$f":"VLOOKUP(C163,Sheet2!A:B,2,FALSE)","v":182.5}]
[163,"戴梦越",360122103004,154012502215,8,{"$f":"VLOOKUP(C164,Sheet2!A:B,2,FALSE)","v":182.5}]
[164,"赖严情",360122103004,154012501115,9,{"$f":"VLOOKUP(C165,Sheet2!A:B,2,FALSE)","v":182.5}]
[165,"罗飘",360122103004,154012501817,10,{"$f":"VLOOKUP(C166,Sheet2!A:B,2,FALSE)","v":182.5}]
[166,"张艳",360122103004,154012502225,11,{"$f":"VLOOKUP(C167,Sheet2!A:B,2,FALSE)","v":182.5}]
[167,"游莎",360122103004,154012500509,12,{"$f":"VLOOKUP(C168,Sheet2!A:B,2,FALSE)","v":182.5}]
[168,"熊航梓",360122105003,154012601228,1,{"$f":"VLOOKUP(C169,Sheet2!A:B,2,FALSE)","v":141.5}]
[169,"张煜",360122105003,154012601913,2,{"$f":"VLOOKUP(C170,Sheet2!A:B,2,FALSE)","v":141.5}]
[170,"熊子健",360122105003,154012601316,3,{"$f":"VLOOKUP(C171,Sheet2!A:B,2,FALSE)","v":141.5}]
[171,"余章琪",360122105003,154012601723,4,{"$f":"VLOOKUP(C172,Sheet2!A:B,2,FALSE)","v":141.5}]
[172,"邱俊杰",360122105003,154012601618,5,{"$f":"VLOOKUP(C173,Sheet2!A:B,2,FALSE)","v":141.5}]
[173,"裘子辉",360122105003,154012601518,6,{"$f":"VLOOKUP(C174,Sheet2!A:B,2,FALSE)","v":141.5}]
[174,"付燕霞",360122105003,154012601508,7,{"$f":"VLOOKUP(C175,Sheet2!A:B,2,FALSE)","v":141.5}]
[175,"赵红越",360122105003,154012601613,8,{"$f":"VLOOKUP(C176,Sheet2!A:B,2,FALSE)","v":141.5}]
[176,"詹明",360122105003,154012601409,9,{"$f":"VLOOKUP(C177,Sheet2!A:B,2,FALSE)","v":141.5}]
[177,"熊琴",360122106003,154012603325,1,{"$f":"VLOOKUP(C178,Sheet2!A:B,2,FALSE)","v":177.5}]
[178,"胡玉婷",360122106003,154012602809,2,{"$f":"VLOOKUP(C179,Sheet2!A:B,2,FALSE)","v":177.5}]
[179,"凌蓉妹",360122106003,154012603517,3,{"$f":"VLOOKUP(C180,Sheet2!A:B,2,FALSE)","v":177.5}]
[180,"钟婷",360122106003,154012602621,4,{"$f":"VLOOKUP(C181,Sheet2!A:B,2,FALSE)","v":177.5}]
[181,"蔡紫涵",360122106003,154012603718,5,{"$f":"VLOOKUP(C182,Sheet2!A:B,2,FALSE)","v":177.5}]
[182,"杨慧",360122106003,154012603413,6,{"$f":"VLOOKUP(C183,Sheet2!A:B,2,FALSE)","v":177.5}]
[183,"葛江云",360122106003,154012603410,7,{"$f":"VLOOKUP(C184,Sheet2!A:B,2,FALSE)","v":177.5}]
[184,"文怡斓",360122106003,154012603324,8,{"$f":"VLOOKUP(C185,Sheet2!A:B,2,FALSE)","v":177.5}]
[185,"吴庭红",360122106003,154012602415,9,{"$f":"VLOOKUP(C186,Sheet2!A:B,2,FALSE)","v":177.5}]
[186,"万志豪",360122107003,154012503019,1,{"$f":"VLOOKUP(C187,Sheet2!A:B,2,FALSE)","v":147.5}]
[187,"熊文瑄",360122107003,154012502928,2,{"$f":"VLOOKUP(C188,Sheet2!A:B,2,FALSE)","v":147.5}]
[188,"万家钰",360122107003,154012503017,3,{"$f":"VLOOKUP(C189,Sheet2!A:B,2,FALSE)","v":147.5}]
[189,"夏颖苗",360122107003,154012502925,4,{"$f":"VLOOKUP(C190,Sheet2!A:B,2,FALSE)","v":147.5}]
[190,"夏琬琪",360122107003,154012503005,5,{"$f":"VLOOKUP(C191,Sheet2!A:B,2,FALSE)","v":147.5}]
[191,"胡雯",360122107003,154012502709,6,{"$f":"VLOOKUP(C192,Sheet2!A:B,2,FALSE)","v":147.5}]
[192,"艾瑞琪",360122107003,154012502608,7,{"$f":"VLOOKUP(C193,Sheet2!A:B,2,FALSE)","v":147.5}]
[193,"刘杨",360122107003,154012502717,8,{"$f":"VLOOKUP(C194,Sheet2!A:B,2,FALSE)","v":147.5}]
[194,"姜璐",360122107003,154012503027,9,{"$f":"VLOOKUP(C195,Sheet2!A:B,2,FALSE)","v":147.5}]
[195,"贾晓婷",360122107003,154012502713,10,{"$f":"VLOOKUP(C196,Sheet2!A:B,2,FALSE)","v":147.5}]
[196,"陈秀兰",360202101001,154020401112,1,{"$f":"VLOOKUP(C197,Sheet2!A:B,2,FALSE)","v":182.5}]
[197,"朱菁伊",360202101001,154020400124,2,{"$f":"VLOOKUP(C198,Sheet2!A:B,2,FALSE)","v":182.5}]
[198,"段紫婷",360202101001,154020401025,3,{"$f":"VLOOKUP(C199,Sheet2!A:B,2,FALSE)","v":182.5}]
[199,"饶芷芸",360202104002,154012600505,1,{"$f":"VLOOKUP(C200,Sheet2!A:B,2,FALSE)","v":208.5}]
[200,"邱梦雅",360202104002,154012600819,2,{"$f":"VLOOKUP(C201,Sheet2!A:B,2,FALSE)","v":208.5}]
[201,"华美玲",360202104002,154012600129,3,{"$f":"VLOOKUP(C202,Sheet2!A:B,2,FALSE)","v":208.5}]
[202,"范新月",360202104002,154012600524,4,{"$f":"VLOOKUP(C203,Sheet2!A:B,2,FALSE)","v":208.5}]
[203,"李娜",360202104002,154012600405,5,{"$f":"VLOOKUP(C204,Sheet2!A:B,2,FALSE)","v":208.5}]
[204,"杨梦",360202104002,154012600628,6,{"$f":"VLOOKUP(C205,Sheet2!A:B,2,FALSE)","v":208.5}]
[205,"刘淑仪",360202105001,154012601611,1,{"$f":"VLOOKUP(C206,Sheet2!A:B,2,FALSE)","v":133}]
[206,"朱凯",360202105001,154020402914,2,{"$f":"VLOOKUP(C207,Sheet2!A:B,2,FALSE)","v":133}]
[207,"严博韦",360202105001,154012601812,3,{"$f":"VLOOKUP(C208,Sheet2!A:B,2,FALSE)","v":133}]
[208,"黎惠璇",360202106001,154020403310,1,{"$f":"VLOOKUP(C209,Sheet2!A:B,2,FALSE)","v":171}]
[209,"王雅婷",360202106001,154020403625,2,{"$f":"VLOOKUP(C210,Sheet2!A:B,2,FALSE)","v":171}]
[210,"陈慧铃",360202106001,154020403429,3,{"$f":"VLOOKUP(C211,Sheet2!A:B,2,FALSE)","v":171}]
[211,"陈丽娟",360202201001,154020500121,1,{"$f":"VLOOKUP(C212,Sheet2!A:B,2,FALSE)","v":157}]
[212,"于瑶",360202201001,154020500123,2,{"$f":"VLOOKUP(C213,Sheet2!A:B,2,FALSE)","v":157}]
[213,"叶擎雨",360202201001,154020500109,3,{"$f":"VLOOKUP(C214,Sheet2!A:B,2,FALSE)","v":157}]
[214,"汪紫燕",360202201001,154020500423,4,{"$f":"VLOOKUP(C215,Sheet2!A:B,2,FALSE)","v":157}]
[215,"万僮潭",360202202002,154020500716,1,{"$f":"VLOOKUP(C216,Sheet2!A:B,2,FALSE)","v":173}]
[216,"方淑琪",360202202002,154040803207,2,{"$f":"VLOOKUP(C217,Sheet2!A:B,2,FALSE)","v":173}]
[217,"童梦珍",360202202002,154020501009,3,{"$f":"VLOOKUP(C218,Sheet2!A:B,2,FALSE)","v":173}]
[218,"何华珍",360202202002,154020500723,4,{"$f":"VLOOKUP(C219,Sheet2!A:B,2,FALSE)","v":173}]
[219,"乐玉婷",360202202002,154020500908,5,{"$f":"VLOOKUP(C220,Sheet2!A:B,2,FALSE)","v":173}]
[220,"王芷瑶",360202202002,154020500730,6,{"$f":"VLOOKUP(C221,Sheet2!A:B,2,FALSE)","v":173}]
[221,"徐玲珠",360202203001,154020501514,1,{"$f":"VLOOKUP(C222,Sheet2!A:B,2,FALSE)","v":161}]
[222,"王美华",360202203001,154020501415,2,{"$f":"VLOOKUP(C223,Sheet2!A:B,2,FALSE)","v":161}]
[223,"高文清",360202203001,154020501107,3,{"$f":"VLOOKUP(C224,Sheet2!A:B,2,FALSE)","v":161}]
[224,"李丹丹",360202204003,154020501926,1,{"$f":"VLOOKUP(C225,Sheet2!A:B,2,FALSE)","v":160.5}]
[225,"钱程",360202204003,154020501814,2,{"$f":"VLOOKUP(C226,Sheet2!A:B,2,FALSE)","v":160.5}]
[226,"傅青青",360202204003,154020501903,3,{"$f":"VLOOKUP(C227,Sheet2!A:B,2,FALSE)","v":160.5}]
[227,"余玉玲",360202204003,154020501815,4,{"$f":"VLOOKUP(C228,Sheet2!A:B,2,FALSE)","v":160.5}]
[228,"王瑱",360202204003,154020501824,5,{"$f":"VLOOKUP(C229,Sheet2!A:B,2,FALSE)","v":160.5}]
[229,"蒋婷婷",360202204003,154012909011,6,{"$f":"VLOOKUP(C230,Sheet2!A:B,2,FALSE)","v":160.5}]
[230,"王智超",360202204003,154020501901,7,{"$f":"VLOOKUP(C231,Sheet2!A:B,2,FALSE)","v":160.5}]
[231,"王彦凌",360202204003,154020501917,8,{"$f":"VLOOKUP(C232,Sheet2!A:B,2,FALSE)","v":160.5}]
[232,"陈亚楠",360202204003,154040603217,9,{"$f":"VLOOKUP(C233,Sheet2!A:B,2,FALSE)","v":160.5}]
[233,"汪璐如",360202209001,154020502802,1,{"$f":"VLOOKUP(C234,Sheet2!A:B,2,FALSE)","v":137}]
[234,"余百惠",360202209001,154020502811,2,{"$f":"VLOOKUP(C235,Sheet2!A:B,2,FALSE)","v":137}]
[235,"何文中",360202209001,154012406816,3,{"$f":"VLOOKUP(C236,Sheet2!A:B,2,FALSE)","v":137}]
[236,"吕秀婷",360202210003,154020502901,1,{"$f":"VLOOKUP(C237,Sheet2!A:B,2,FALSE)","v":135}]
[237,"倪郑一航",360202210003,154231504924,2,{"$f":"VLOOKUP(C238,Sheet2!A:B,2,FALSE)","v":135}]
[238,"全美芳",360202210003,154020502923,3,{"$f":"VLOOKUP(C239,Sheet2!A:B,2,FALSE)","v":135}]
[239,"孔冯瑶",360202210003,154020503006,4,{"$f":"VLOOKUP(C240,Sheet2!A:B,2,FALSE)","v":135}]
[240,"朱明慧",360202210003,154020502915,5,{"$f":"VLOOKUP(C241,Sheet2!A:B,2,FALSE)","v":135}]
[241,"谭政威",360202210003,154020503005,6,{"$f":"VLOOKUP(C242,Sheet2!A:B,2,FALSE)","v":135}]
[242,"吴洁",360202210003,154040803714,7,{"$f":"VLOOKUP(C243,Sheet2!A:B,2,FALSE)","v":135}]
[243,"冯鑫鹏",360202210003,154020502928,8,{"$f":"VLOOKUP(C244,Sheet2!A:B,2,FALSE)","v":135}]
[244,"徐燕捷",360202210003,154231504815,9,{"$f":"VLOOKUP(C245,Sheet2!A:B,2,FALSE)","v":135}]
[245,"余学文",360202211003,154020503213,1,{"$f":"VLOOKUP(C246,Sheet2!A:B,2,FALSE)","v":147.5}]
[246,"童中钺",360202211003,154020503124,2,{"$f":"VLOOKUP(C247,Sheet2!A:B,2,FALSE)","v":147.5}]
[247,"张圆",360202211003,154250106807,3,{"$f":"VLOOKUP(C248,Sheet2!A:B,2,FALSE)","v":147.5}]
[248,"彭雨祺",360202211003,154020503107,4,{"$f":"VLOOKUP(C249,Sheet2!A:B,2,FALSE)","v":147.5}]
[249,"郑泓宇",360202211003,154020503214,5,{"$f":"VLOOKUP(C250,Sheet2!A:B,2,FALSE)","v":147.5}]
[250,"徐诺纳",360202211003,154020503118,6,{"$f":"VLOOKUP(C251,Sheet2!A:B,2,FALSE)","v":147.5}]
[251,"江美霞",360202211003,154020503302,7,{"$f":"VLOOKUP(C252,Sheet2!A:B,2,FALSE)","v":147.5}]
[252,"曹雨浓",360202211003,154221409109,8,{"$f":"VLOOKUP(C253,Sheet2!A:B,2,FALSE)","v":147.5}]
[253,"叶兆辉",360202211003,154020503210,9,{"$f":"VLOOKUP(C254,Sheet2!A:B,2,FALSE)","v":147.5}]
[254,"谭娟",360202212001,154020503401,1,{"$f":"VLOOKUP(C255,Sheet2!A:B,2,FALSE)","v":161.5}]
[255,"姜乐",360202212001,154020503408,2,{"$f":"VLOOKUP(C256,Sheet2!A:B,2,FALSE)","v":161.5}]
[256,"詹红君",360202212001,154020503413,3,{"$f":"VLOOKUP(C257,Sheet2!A:B,2,FALSE)","v":161.5}]
[257,"洪友琴",360281101002,154012301914,1,{"$f":"VLOOKUP(C258,Sheet2!A:B,2,FALSE)","v":189}]
[258,"王少芸",360281101002,154232400607,2,{"$f":"VLOOKUP(C259,Sheet2!A:B,2,FALSE)","v":189}]
[259,"朱雯",360281101002,154012301824,3,{"$f":"VLOOKUP(C260,Sheet2!A:B,2,FALSE)","v":189}]
[260,"王玲",360281101002,154012101613,4,{"$f":"VLOOKUP(C261,Sheet2!A:B,2,FALSE)","v":189}]
[261,"吴蕾",360281101002,154020400327,5,{"$f":"VLOOKUP(C262,Sheet2!A:B,2,FALSE)","v":189}]
[262,"余柳秀",360281101002,154020400807,6,{"$f":"VLOOKUP(C263,Sheet2!A:B,2,FALSE)","v":189}]
[263,"董玉琪",360281102002,154012200227,1,{"$f":"VLOOKUP(C264,Sheet2!A:B,2,FALSE)","v":179.5}]
[264,"曾玲钰",360281102002,154020401515,2,{"$f":"VLOOKUP(C265,Sheet2!A:B,2,FALSE)","v":179.5}]
[265,"胡丽英",360281102002,154012303322,3,{"$f":"VLOOKUP(C266,Sheet2!A:B,2,FALSE)","v":179.5}]
[266,"彭淑芬",360281102002,154020401404,4,{"$f":"VLOOKUP(C267,Sheet2!A:B,2,FALSE)","v":179.5}]
[267,"徐梦圆",360281102002,154020401914,5,{"$f":"VLOOKUP(C268,Sheet2!A:B,2,FALSE)","v":179.5}]
[268,"温义柔",360281102002,154020401507,6,{"$f":"VLOOKUP(C269,Sheet2!A:B,2,FALSE)","v":179.5}]
[269,"董芝琴",360281103002,154012501715,1,{"$f":"VLOOKUP(C270,Sheet2!A:B,2,FALSE)","v":172}]
[270,"汪姿妍",360281103002,154020402420,2,{"$f":"VLOOKUP(C271,Sheet2!A:B,2,FALSE)","v":172}]
[271,"钟嘉雯",360281103002,154020402416,3,{"$f":"VLOOKUP(C272,Sheet2!A:B,2,FALSE)","v":172}]
[272,"李伶",360281103002,154242503714,4,{"$f":"VLOOKUP(C273,Sheet2!A:B,2,FALSE)","v":172}]
[273,"刘颖",360281103002,154020402322,5,{"$f":"VLOOKUP(C274,Sheet2!A:B,2,FALSE)","v":172}]
[274,"吴晓蓉",360281103002,154012501029,6,{"$f":"VLOOKUP(C275,Sheet2!A:B,2,FALSE)","v":172}]
[275,"杨小玉",360281105003,154232407109,1,{"$f":"VLOOKUP(C276,Sheet2!A:B,2,FALSE)","v":149.5}]
[276,"林熙媛",360281105003,154232406918,2,{"$f":"VLOOKUP(C277,Sheet2!A:B,2,FALSE)","v":149.5}]
[277,"董雨晴",360281105003,154012602210,3,{"$f":"VLOOKUP(C278,Sheet2!A:B,2,FALSE)","v":149.5}]
[278,"高兰峰",360281105003,154221403206,4,{"$f":"VLOOKUP(C279,Sheet2!A:B,2,FALSE)","v":149.5}]
[279,"冯旭琴",360281105003,154250104224,5,{"$f":"VLOOKUP(C280,Sheet2!A:B,2,FALSE)","v":149.5}]
[280,"蔡如伟",360281105003,154020403011,6,{"$f":"VLOOKUP(C281,Sheet2!A:B,2,FALSE)","v":149.5}]
[281,"叶明霞",360281105003,154020402919,7,{"$f":"VLOOKUP(C282,Sheet2!A:B,2,FALSE)","v":149.5}]
[282,"周佳丽",360281105003,154232406525,8,{"$f":"VLOOKUP(C283,Sheet2!A:B,2,FALSE)","v":149.5}]
[283,"吴佳",360281105003,154020402929,9,{"$f":"VLOOKUP(C284,Sheet2!A:B,2,FALSE)","v":149.5}]
[284,"余圣鹏",360281106002,154020403414,1,{"$f":"VLOOKUP(C285,Sheet2!A:B,2,FALSE)","v":131}]
[285,"刘燕",360281106002,154020403610,2,{"$f":"VLOOKUP(C286,Sheet2!A:B,2,FALSE)","v":131}]
[286,"许婕珺",360281106002,154020403126,3,{"$f":"VLOOKUP(C287,Sheet2!A:B,2,FALSE)","v":131}]
[287,"应淑婷",360281106002,154012603330,4,{"$f":"VLOOKUP(C288,Sheet2!A:B,2,FALSE)","v":131}]
[288,"陈莎莎",360281106002,154020403224,5,{"$f":"VLOOKUP(C289,Sheet2!A:B,2,FALSE)","v":131}]
[289,"甘雅丽",360281106002,154020403501,6,{"$f":"VLOOKUP(C290,Sheet2!A:B,2,FALSE)","v":131}]
[290,"洪诗弦",360281107002,154012502718,1,{"$f":"VLOOKUP(C291,Sheet2!A:B,2,FALSE)","v":104}]
[291,"卢炽俊",360281107002,154020403816,2,{"$f":"VLOOKUP(C292,Sheet2!A:B,2,FALSE)","v":104}]
[292,"温梦甜",360281107002,154020403822,3,{"$f":"VLOOKUP(C293,Sheet2!A:B,2,FALSE)","v":104}]
[293,"舒颖莹",360281107002,154020403908,4,{"$f":"VLOOKUP(C294,Sheet2!A:B,2,FALSE)","v":104}]
[294,"吴振芝",360281107002,154020403817,5,{"$f":"VLOOKUP(C295,Sheet2!A:B,2,FALSE)","v":104}]
[295,"雷舒琪",360281107002,154020403811,6,{"$f":"VLOOKUP(C296,Sheet2!A:B,2,FALSE)","v":104}]
[296,"朱紫月",360281116001,154012405303,1,{"$f":"VLOOKUP(C297,Sheet2!A:B,2,FALSE)","v":166.5}]
[297,"熊流红",360281116001,154012405009,2,{"$f":"VLOOKUP(C298,Sheet2!A:B,2,FALSE)","v":166.5}]
[298,"李嘉雯",360281116001,154012405407,3,{"$f":"VLOOKUP(C299,Sheet2!A:B,2,FALSE)","v":166.5}]
[299,"陈希谦",360281201015,154040601612,1,{"$f":"VLOOKUP(C300,Sheet2!A:B,2,FALSE)","v":149.5}]
[300,"程娟",360281201015,154020500316,2,{"$f":"VLOOKUP(C301,Sheet2!A:B,2,FALSE)","v":149.5}]
[301,"杨嘉雯",360281201015,154040601915,3,{"$f":"VLOOKUP(C302,Sheet2!A:B,2,FALSE)","v":149.5}]
[302,"叶子莹",360281201015,154012701201,4,{"$f":"VLOOKUP(C303,Sheet2!A:B,2,FALSE)","v":149.5}]
[303,"张帆平",360281201015,154012700724,6,{"$f":"VLOOKUP(C304,Sheet2!A:B,2,FALSE)","v":149.5}]
[304,"黎志丹",360281201015,154250105305,5,{"$f":"VLOOKUP(C305,Sheet2!A:B,2,FALSE)","v":149.5}]
[305,"饶婉娟",360281201015,154040601922,7,{"$f":"VLOOKUP(C306,Sheet2!A:B,2,FALSE)","v":149.5}]
[306,"罗雨晴",360281201015,154020500115,8,{"$f":"VLOOKUP(C307,Sheet2!A:B,2,FALSE)","v":149.5}]
[307,"鲍文晶",360281201015,154020500321,9,{"$f":"VLOOKUP(C308,Sheet2!A:B,2,FALSE)","v":149.5}]
[308,"张一丹",360281201015,154020500211,10,{"$f":"VLOOKUP(C309,Sheet2!A:B,2,FALSE)","v":149.5}]
[309,"马彩凤",360281201015,154020500101,11,{"$f":"VLOOKUP(C310,Sheet2!A:B,2,FALSE)","v":149.5}]
[310,"夏预长",360281201015,154231500513,12,{"$f":"VLOOKUP(C311,Sheet2!A:B,2,FALSE)","v":149.5}]
[311,"李钰琦",360281201015,154020500104,13,{"$f":"VLOOKUP(C312,Sheet2!A:B,2,FALSE)","v":149.5}]
[312,"程慧婷",360281201015,154040601619,14,{"$f":"VLOOKUP(C313,Sheet2!A:B,2,FALSE)","v":149.5}]
[313,"王婷",360281201015,154020500415,15,{"$f":"VLOOKUP(C314,Sheet2!A:B,2,FALSE)","v":149.5}]
[314,"吕芳",360281201015,154060603124,17,{"$f":"VLOOKUP(C315,Sheet2!A:B,2,FALSE)","v":149.5}]
[315,"朱佳慧",360281201015,154020500317,16,{"$f":"VLOOKUP(C316,Sheet2!A:B,2,FALSE)","v":149.5}]
[316,"柴依帆",360281201015,154020500414,18,{"$f":"VLOOKUP(C317,Sheet2!A:B,2,FALSE)","v":149.5}]
[317,"张玉萍",360281201015,154060603123,19,{"$f":"VLOOKUP(C318,Sheet2!A:B,2,FALSE)","v":149.5}]
[318,"尹陈琪",360281201015,154020500417,20,{"$f":"VLOOKUP(C319,Sheet2!A:B,2,FALSE)","v":149.5}]
[319,"谢莉琦",360281201015,154030305006,21,{"$f":"VLOOKUP(C320,Sheet2!A:B,2,FALSE)","v":149.5}]
[320,"石紫洋",360281201015,154030304822,22,{"$f":"VLOOKUP(C321,Sheet2!A:B,2,FALSE)","v":149.5}]
[321,"张慧敏",360281201015,154012701425,23,{"$f":"VLOOKUP(C322,Sheet2!A:B,2,FALSE)","v":149.5}]
[322,"徐佳佳",360281201015,154012701515,24,{"$f":"VLOOKUP(C323,Sheet2!A:B,2,FALSE)","v":149.5}]
[323,"李静",360281201015,154221404513,25,{"$f":"VLOOKUP(C324,Sheet2!A:B,2,FALSE)","v":149.5}]
[324,"周薇",360281201015,154012700121,26,{"$f":"VLOOKUP(C325,Sheet2!A:B,2,FALSE)","v":149.5}]
[325,"程更新",360281201015,154020500315,27,{"$f":"VLOOKUP(C326,Sheet2!A:B,2,FALSE)","v":149.5}]
[326,"徐嘉祯",360281201015,154020500222,28,{"$f":"VLOOKUP(C327,Sheet2!A:B,2,FALSE)","v":149.5}]
[327,"汤小丽",360281201015,154012701120,29,{"$f":"VLOOKUP(C328,Sheet2!A:B,2,FALSE)","v":149.5}]
[328,"黄柳婧",360281201015,154012701410,30,{"$f":"VLOOKUP(C329,Sheet2!A:B,2,FALSE)","v":149.5}]
[329,"徐玉平",360281202015,154012907314,1,{"$f":"VLOOKUP(C330,Sheet2!A:B,2,FALSE)","v":168}]
[330,"张盈盈",360281202015,154040803019,2,{"$f":"VLOOKUP(C331,Sheet2!A:B,2,FALSE)","v":168}]
[331,"程耀豪",360281202015,154020500616,3,{"$f":"VLOOKUP(C332,Sheet2!A:B,2,FALSE)","v":168}]
[332,"徐婷婷",360281202015,154050315108,4,{"$f":"VLOOKUP(C333,Sheet2!A:B,2,FALSE)","v":168}]
[333,"廖俊奕",360281202015,154012906806,5,{"$f":"VLOOKUP(C334,Sheet2!A:B,2,FALSE)","v":168}]
[334,"黄李兵",360281202015,154012906518,6,{"$f":"VLOOKUP(C335,Sheet2!A:B,2,FALSE)","v":168}]
[335,"陈婉婷",360281202015,154050315107,8,{"$f":"VLOOKUP(C336,Sheet2!A:B,2,FALSE)","v":168}]
[336,"许紫依",360281202015,154040803017,7,{"$f":"VLOOKUP(C337,Sheet2!A:B,2,FALSE)","v":168}]
[337,"邵小甜",360281202015,154012906822,9,{"$f":"VLOOKUP(C338,Sheet2!A:B,2,FALSE)","v":168}]
[338,"陈梦林",360281202015,154020500812,11,{"$f":"VLOOKUP(C339,Sheet2!A:B,2,FALSE)","v":168}]
[339,"张逸雪",360281202015,154020500617,10,{"$f":"VLOOKUP(C340,Sheet2!A:B,2,FALSE)","v":168}]
[340,"郑琳慧",360281202015,154020500804,12,{"$f":"VLOOKUP(C341,Sheet2!A:B,2,FALSE)","v":168}]
[341,"洪仁飞",360281202015,154040803209,13,{"$f":"VLOOKUP(C342,Sheet2!A:B,2,FALSE)","v":168}]
[342,"邹新莲",360281202015,154020500813,14,{"$f":"VLOOKUP(C343,Sheet2!A:B,2,FALSE)","v":168}]
[343,"胡永坤",360281202015,154020500906,15,{"$f":"VLOOKUP(C344,Sheet2!A:B,2,FALSE)","v":168}]
[344,"李慧琴",360281202015,154012906302,16,{"$f":"VLOOKUP(C345,Sheet2!A:B,2,FALSE)","v":168}]
[345,"赖晓芮",360281202015,154020500629,18,{"$f":"VLOOKUP(C346,Sheet2!A:B,2,FALSE)","v":168}]
[346,"陈美鲜",360281202015,154020500814,17,{"$f":"VLOOKUP(C347,Sheet2!A:B,2,FALSE)","v":168}]
[347,"朱礼祥",360281202015,154020500720,19,{"$f":"VLOOKUP(C348,Sheet2!A:B,2,FALSE)","v":168}]
[348,"帅姝环",360281202015,154020500930,20,{"$f":"VLOOKUP(C349,Sheet2!A:B,2,FALSE)","v":168}]
[349,"华志伟",360281202015,154012907323,21,{"$f":"VLOOKUP(C350,Sheet2!A:B,2,FALSE)","v":168}]
[350,"王澄源",360281202015,154231501114,22,{"$f":"VLOOKUP(C351,Sheet2!A:B,2,FALSE)","v":168}]
[351,"叶丽萍",360281202015,154020500630,23,{"$f":"VLOOKUP(C352,Sheet2!A:B,2,FALSE)","v":168}]
[352,"周玉丹",360281202015,154020500713,24,{"$f":"VLOOKUP(C353,Sheet2!A:B,2,FALSE)","v":168}]
[353,"孙国浩",360281202015,154020500601,25,{"$f":"VLOOKUP(C354,Sheet2!A:B,2,FALSE)","v":168}]
[354,"叶皇敏",360281202015,154231500816,26,{"$f":"VLOOKUP(C355,Sheet2!A:B,2,FALSE)","v":168}]
[355,"王晓妹",360281202015,154020500726,28,{"$f":"VLOOKUP(C356,Sheet2!A:B,2,FALSE)","v":168}]
[356,"程玉华",360281202015,154020500919,27,{"$f":"VLOOKUP(C357,Sheet2!A:B,2,FALSE)","v":168}]
[357,"欧阳丽萍",360281202015,154012907108,29,{"$f":"VLOOKUP(C358,Sheet2!A:B,2,FALSE)","v":168}]
[358,"程赞",360281202015,154012907129,30,{"$f":"VLOOKUP(C359,Sheet2!A:B,2,FALSE)","v":168}]
[359,"余晨",360281202015,154020500907,31,{"$f":"VLOOKUP(C360,Sheet2!A:B,2,FALSE)","v":168}]
[360,"吴晶晶",360281203016,154020501326,1,{"$f":"VLOOKUP(C361,Sheet2!A:B,2,FALSE)","v":182.5}]
[361,"刘海云",360281203016,154012907908,3,{"$f":"VLOOKUP(C362,Sheet2!A:B,2,FALSE)","v":182.5}]
[362,"孙珊珊",360281203016,154020501709,2,{"$f":"VLOOKUP(C363,Sheet2!A:B,2,FALSE)","v":182.5}]
[363,"彭淑芬",360281203016,154012804723,4,{"$f":"VLOOKUP(C364,Sheet2!A:B,2,FALSE)","v":182.5}]
[364,"柯丽钧",360281203016,154040602602,5,{"$f":"VLOOKUP(C365,Sheet2!A:B,2,FALSE)","v":182.5}]
[365,"陈梦静",360281203016,154012907511,6,{"$f":"VLOOKUP(C366,Sheet2!A:B,2,FALSE)","v":182.5}]
[366,"程薇",360281203016,154020501303,7,{"$f":"VLOOKUP(C367,Sheet2!A:B,2,FALSE)","v":182.5}]
[367,"盛聪敏",360281203016,154020501218,8,{"$f":"VLOOKUP(C368,Sheet2!A:B,2,FALSE)","v":182.5}]
[368,"朱翠婷",360281203016,154020501605,9,{"$f":"VLOOKUP(C369,Sheet2!A:B,2,FALSE)","v":182.5}]
[369,"程紫玉",360281203016,154020501608,10,{"$f":"VLOOKUP(C370,Sheet2!A:B,2,FALSE)","v":182.5}]
[370,"齐思颖",360281203016,154020501403,11,{"$f":"VLOOKUP(C371,Sheet2!A:B,2,FALSE)","v":182.5}]
[371,"钱新如",360281203016,154020501707,12,{"$f":"VLOOKUP(C372,Sheet2!A:B,2,FALSE)","v":182.5}]
[372,"徐梦婷",360281203016,154012805021,13,{"$f":"VLOOKUP(C373,Sheet2!A:B,2,FALSE)","v":182.5}]
[373,"汪嘉雯",360281203016,154012908101,14,{"$f":"VLOOKUP(C374,Sheet2!A:B,2,FALSE)","v":182.5}]
[374,"濮钰鑫",360281203016,154012805616,15,{"$f":"VLOOKUP(C375,Sheet2!A:B,2,FALSE)","v":182.5}]
[375,"肖瑶",360281203016,154030305719,16,{"$f":"VLOOKUP(C376,Sheet2!A:B,2,FALSE)","v":182.5}]
[376,"方雨蝶",360281203016,154020501625,17,{"$f":"VLOOKUP(C377,Sheet2!A:B,2,FALSE)","v":182.5}]
[377,"汪芳梅",360281203016,154012907812,18,{"$f":"VLOOKUP(C378,Sheet2!A:B,2,FALSE)","v":182.5}]
[378,"陈双双",360281203016,154012908116,19,{"$f":"VLOOKUP(C379,Sheet2!A:B,2,FALSE)","v":182.5}]
[379,"鲍丽琴",360281203016,154020501216,22,{"$f":"VLOOKUP(C380,Sheet2!A:B,2,FALSE)","v":182.5}]
[380,"王锦文",360281203016,154020501512,21,{"$f":"VLOOKUP(C381,Sheet2!A:B,2,FALSE)","v":182.5}]
[381,"詹伦莹",360281203016,154231502316,20,{"$f":"VLOOKUP(C382,Sheet2!A:B,2,FALSE)","v":182.5}]
[382,"叶颖",360281203016,154020501526,23,{"$f":"VLOOKUP(C383,Sheet2!A:B,2,FALSE)","v":182.5}]
[383,"饶珍",360281203016,154012804610,24,{"$f":"VLOOKUP(C384,Sheet2!A:B,2,FALSE)","v":182.5}]
[384,"盛婉怡",360281203016,154012805905,26,{"$f":"VLOOKUP(C385,Sheet2!A:B,2,FALSE)","v":182.5}]
[385,"刘丹",360281203016,154012908607,25,{"$f":"VLOOKUP(C386,Sheet2!A:B,2,FALSE)","v":182.5}]
[386,"王丽颖",360281203016,154020501324,27,{"$f":"VLOOKUP(C387,Sheet2!A:B,2,FALSE)","v":182.5}]
[387,"周星",360281203016,154020501304,28,{"$f":"VLOOKUP(C388,Sheet2!A:B,2,FALSE)","v":182.5}]
[388,"方宜静",360281203016,154040602612,29,{"$f":"VLOOKUP(C389,Sheet2!A:B,2,FALSE)","v":182.5}]
[389,"吴琬亭",360281203016,154020501128,30,{"$f":"VLOOKUP(C390,Sheet2!A:B,2,FALSE)","v":182.5}]
[390,"余春燕",360281203016,154020501111,31,{"$f":"VLOOKUP(C391,Sheet2!A:B,2,FALSE)","v":182.5}]
[391,"朱涌平",360281203016,154012805830,32,{"$f":"VLOOKUP(C392,Sheet2!A:B,2,FALSE)","v":182.5}]
[392,"石珺玥",360281203016,154020501329,33,{"$f":"VLOOKUP(C393,Sheet2!A:B,2,FALSE)","v":182.5}]
[393,"朱烟云",360281204002,154020501805,1,{"$f":"VLOOKUP(C394,Sheet2!A:B,2,FALSE)","v":97.5}]
[394,"段玉云",360281204002,154020501919,2,{"$f":"VLOOKUP(C395,Sheet2!A:B,2,FALSE)","v":97.5}]
[395,"管晓玲",360281204002,154012908907,3,{"$f":"VLOOKUP(C396,Sheet2!A:B,2,FALSE)","v":97.5}]
[396,"王丽娜",360281204002,154020501804,4,{"$f":"VLOOKUP(C397,Sheet2!A:B,2,FALSE)","v":97.5}]
[397,"钟阳",360281204002,154020501912,5,{"$f":"VLOOKUP(C398,Sheet2!A:B,2,FALSE)","v":97.5}]
[398,"王佩杰",360281204002,154020501821,6,{"$f":"VLOOKUP(C399,Sheet2!A:B,2,FALSE)","v":97.5}]
[399,"鄢晓东",360281205005,154231503001,1,{"$f":"VLOOKUP(C400,Sheet2!A:B,2,FALSE)","v":122}]
[400,"范智恩",360281205005,154012804310,2,{"$f":"VLOOKUP(C401,Sheet2!A:B,2,FALSE)","v":122}]
[401,"吴涛",360281205005,154231502926,3,{"$f":"VLOOKUP(C402,Sheet2!A:B,2,FALSE)","v":122}]
[402,"占建宁",360281205005,154231503402,4,{"$f":"VLOOKUP(C403,Sheet2!A:B,2,FALSE)","v":122}]
[403,"应天文",360281205005,154050315605,5,{"$f":"VLOOKUP(C404,Sheet2!A:B,2,FALSE)","v":122}]
[404,"陶贵敏",360281205005,154020502103,6,{"$f":"VLOOKUP(C405,Sheet2!A:B,2,FALSE)","v":122}]
[405,"彭志鹏",360281205005,154012804105,7,{"$f":"VLOOKUP(C406,Sheet2!A:B,2,FALSE)","v":122}]
[406,"陶剑",360281205005,154020502110,8,{"$f":"VLOOKUP(C407,Sheet2!A:B,2,FALSE)","v":122}]
[407,"童峰",360281205005,154231503321,9,{"$f":"VLOOKUP(C408,Sheet2!A:B,2,FALSE)","v":122}]
[408,"程伟",360281205005,154231503030,10,{"$f":"VLOOKUP(C409,Sheet2!A:B,2,FALSE)","v":122}]
[409,"聂火凤",360281205005,154012406205,11,{"$f":"VLOOKUP(C410,Sheet2!A:B,2,FALSE)","v":122}]
[410,"叶倩宏",360281205005,154020502109,12,{"$f":"VLOOKUP(C411,Sheet2!A:B,2,FALSE)","v":122}]
[411,"郑德俊",360281205005,154231503209,13,{"$f":"VLOOKUP(C412,Sheet2!A:B,2,FALSE)","v":122}]
[412,"钟金露",360281205005,154231503226,14,{"$f":"VLOOKUP(C413,Sheet2!A:B,2,FALSE)","v":122}]
[413,"杨镇炜",360281205005,154231503010,15,{"$f":"VLOOKUP(C414,Sheet2!A:B,2,FALSE)","v":122}]
[414,"张莹",360281210005,154020502919,1,{"$f":"VLOOKUP(C415,Sheet2!A:B,2,FALSE)","v":152}]
[415,"蒋新璇",360281210005,154020503004,2,{"$f":"VLOOKUP(C416,Sheet2!A:B,2,FALSE)","v":152}]
[416,"张洁",360281210005,154020502909,3,{"$f":"VLOOKUP(C417,Sheet2!A:B,2,FALSE)","v":152}]
[417,"汪慧敏",360281210005,154231504916,4,{"$f":"VLOOKUP(C418,Sheet2!A:B,2,FALSE)","v":152}]
[418,"胡智琴",360281210005,154020502925,5,{"$f":"VLOOKUP(C419,Sheet2!A:B,2,FALSE)","v":152}]
[419,"盛薇薇",360281210005,154020502906,6,{"$f":"VLOOKUP(C420,Sheet2!A:B,2,FALSE)","v":152}]
[420,"邹佳美",360281210005,154020502918,7,{"$f":"VLOOKUP(C421,Sheet2!A:B,2,FALSE)","v":152}]
[421,"程文慧",360281210005,154020502920,8,{"$f":"VLOOKUP(C422,Sheet2!A:B,2,FALSE)","v":152}]
[422,"谭瑞阳",360281210005,154020502903,9,{"$f":"VLOOKUP(C423,Sheet2!A:B,2,FALSE)","v":152}]
[423,"夏颖",360281210005,154020502921,11,{"$f":"VLOOKUP(C424,Sheet2!A:B,2,FALSE)","v":152}]
[424,"王怡青",360281210005,154020502927,10,{"$f":"VLOOKUP(C425,Sheet2!A:B,2,FALSE)","v":152}]
[425,"夏金平",360281210005,154012803110,12,{"$f":"VLOOKUP(C426,Sheet2!A:B,2,FALSE)","v":152}]
[426,"吴俊辉",360281210005,154020503002,13,{"$f":"VLOOKUP(C427,Sheet2!A:B,2,FALSE)","v":152}]
[427,"余婷",360281210005,154012803318,14,{"$f":"VLOOKUP(C428,Sheet2!A:B,2,FALSE)","v":152}]
[428,"程春利",360281210005,154242703804,15,{"$f":"VLOOKUP(C429,Sheet2!A:B,2,FALSE)","v":152}]
[429,"程慧敏",360281211007,154020503112,1,{"$f":"VLOOKUP(C430,Sheet2!A:B,2,FALSE)","v":113.5}]
[430,"李文慧",360281211007,154020503307,2,{"$f":"VLOOKUP(C431,Sheet2!A:B,2,FALSE)","v":113.5}]
[431,"张熙然",360281211007,154020503104,3,{"$f":"VLOOKUP(C432,Sheet2!A:B,2,FALSE)","v":113.5}]
[432,"蔡胜胜",360281211007,154012803721,4,{"$f":"VLOOKUP(C433,Sheet2!A:B,2,FALSE)","v":113.5}]
[433,"叶梦婷",360281211007,154020503208,5,{"$f":"VLOOKUP(C434,Sheet2!A:B,2,FALSE)","v":113.5}]
[434,"柴逢原",360281211007,154020503130,6,{"$f":"VLOOKUP(C435,Sheet2!A:B,2,FALSE)","v":113.5}]
[435,"吴远宏",360281211007,154020503111,7,{"$f":"VLOOKUP(C436,Sheet2!A:B,2,FALSE)","v":113.5}]
[436,"韩宇晨",360281211007,154020503226,8,{"$f":"VLOOKUP(C437,Sheet2!A:B,2,FALSE)","v":113.5}]
[437,"程宇星",360281211007,154020503304,9,{"$f":"VLOOKUP(C438,Sheet2!A:B,2,FALSE)","v":113.5}]
[438,"王玲",360281211007,154020503222,10,{"$f":"VLOOKUP(C439,Sheet2!A:B,2,FALSE)","v":113.5}]
[439,"阳奡菲",360281211007,154020503230,11,{"$f":"VLOOKUP(C440,Sheet2!A:B,2,FALSE)","v":113.5}]
[440,"汪元松",360281211007,154231505204,12,{"$f":"VLOOKUP(C441,Sheet2!A:B,2,FALSE)","v":113.5}]
[441,"汪荷梦瑶",360281211007,154012803726,13,{"$f":"VLOOKUP(C442,Sheet2!A:B,2,FALSE)","v":113.5}]
[442,"王英杰",360281211007,154020503209,14,{"$f":"VLOOKUP(C443,Sheet2!A:B,2,FALSE)","v":113.5}]
[443,"朱文寿",360281211007,154211000702,15,{"$f":"VLOOKUP(C444,Sheet2!A:B,2,FALSE)","v":113.5}]
[444,"孟秋景",360281211007,154020503224,16,{"$f":"VLOOKUP(C445,Sheet2!A:B,2,FALSE)","v":113.5}]
[445,"刘世美",360281211007,154020503121,17,{"$f":"VLOOKUP(C446,Sheet2!A:B,2,FALSE)","v":113.5}]
[446,"徐翰秋",360281211007,154020503309,18,{"$f":"VLOOKUP(C447,Sheet2!A:B,2,FALSE)","v":113.5}]
[447,"胡玉珊",360281212001,154020503405,1,{"$f":"VLOOKUP(C448,Sheet2!A:B,2,FALSE)","v":160.5}]
[448,"王璐",360281212001,154020503414,2,{"$f":"VLOOKUP(C449,Sheet2!A:B,2,FALSE)","v":160.5}]
[449,"谢洁丽",360281212001,154231505418,3,{"$f":"VLOOKUP(C450,Sheet2!A:B,2,FALSE)","v":160.5}]
[450,"陈咏琪",360321201003,154012701018,1,{"$f":"VLOOKUP(C451,Sheet2!A:B,2,FALSE)","v":122.5}]
[451,"尹慧敏",360321201003,154030305120,2,{"$f":"VLOOKUP(C452,Sheet2!A:B,2,FALSE)","v":122.5}]
[452,"刘惠玲",360321201003,154030304812,3,{"$f":"VLOOKUP(C453,Sheet2!A:B,2,FALSE)","v":122.5}]
[453,"刘梦婷",360321201003,154030304921,4,{"$f":"VLOOKUP(C454,Sheet2!A:B,2,FALSE)","v":122.5}]
[454,"朱丽萍",360321201003,154210900510,5,{"$f":"VLOOKUP(C455,Sheet2!A:B,2,FALSE)","v":122.5}]
[455,"段天盈",360321201003,154242601425,6,{"$f":"VLOOKUP(C456,Sheet2!A:B,2,FALSE)","v":122.5}]
[456,"贺淼蓝",360321201003,154030305102,7,{"$f":"VLOOKUP(C457,Sheet2!A:B,2,FALSE)","v":122.5}]
[457,"刘文琪",360321201003,154030305113,8,{"$f":"VLOOKUP(C458,Sheet2!A:B,2,FALSE)","v":122.5}]
[458,"贺晨宇",360321201003,154030304905,9,{"$f":"VLOOKUP(C459,Sheet2!A:B,2,FALSE)","v":122.5}]
[459,"邬小婉",360321202003,154030305519,1,{"$f":"VLOOKUP(C460,Sheet2!A:B,2,FALSE)","v":158.5}]
[460,"彭艳梅",360321202003,154210201119,2,{"$f":"VLOOKUP(C461,Sheet2!A:B,2,FALSE)","v":158.5}]
[461,"刘慧颖",360321202003,154012906810,3,{"$f":"VLOOKUP(C462,Sheet2!A:B,2,FALSE)","v":158.5}]
[462,"李丽霞",360321202003,154221405127,4,{"$f":"VLOOKUP(C463,Sheet2!A:B,2,FALSE)","v":158.5}]
[463,"彭颖欣",360321202003,154030305328,5,{"$f":"VLOOKUP(C464,Sheet2!A:B,2,FALSE)","v":158.5}]
[464,"谭明娜",360321202003,154030305325,6,{"$f":"VLOOKUP(C465,Sheet2!A:B,2,FALSE)","v":158.5}]
[465,"冯丹萍",360321202003,154012907001,7,{"$f":"VLOOKUP(C466,Sheet2!A:B,2,FALSE)","v":158.5}]
[466,"朱杨丽",360321202003,154221405215,8,{"$f":"VLOOKUP(C467,Sheet2!A:B,2,FALSE)","v":158.5}]
[467,"刘玉琴",360321202003,154030305305,9,{"$f":"VLOOKUP(C468,Sheet2!A:B,2,FALSE)","v":158.5}]
[468,"李琳云",360321203002,154012804503,1,{"$f":"VLOOKUP(C469,Sheet2!A:B,2,FALSE)","v":183}]
[469,"邓嘉茹",360321203002,154030306002,2,{"$f":"VLOOKUP(C470,Sheet2!A:B,2,FALSE)","v":183}]
[470,"朱小玲",360321203002,154030305917,3,{"$f":"VLOOKUP(C471,Sheet2!A:B,2,FALSE)","v":183}]
[471,"胡子靓",360321203002,154012908426,4,{"$f":"VLOOKUP(C472,Sheet2!A:B,2,FALSE)","v":183}]
[472,"陈洁",360321203002,154012908010,5,{"$f":"VLOOKUP(C473,Sheet2!A:B,2,FALSE)","v":183}]
[473,"卢永莉",360321203002,154030305623,6,{"$f":"VLOOKUP(C474,Sheet2!A:B,2,FALSE)","v":183}]
[474,"胡家琪",360321204003,154030306220,1,{"$f":"VLOOKUP(C475,Sheet2!A:B,2,FALSE)","v":143.5}]
[475,"刘诗婷",360321204003,154030306223,2,{"$f":"VLOOKUP(C476,Sheet2!A:B,2,FALSE)","v":143.5}]
[476,"贺丽君",360321204003,154242403429,3,{"$f":"VLOOKUP(C477,Sheet2!A:B,2,FALSE)","v":143.5}]
[477,"杨洁",360321205002,154030306711,1,{"$f":"VLOOKUP(C478,Sheet2!A:B,2,FALSE)","v":121.5}]
[478,"段益锋",360321205002,154030306612,2,{"$f":"VLOOKUP(C479,Sheet2!A:B,2,FALSE)","v":121.5}]
[479,"贺江铭",360321205002,154012406207,3,{"$f":"VLOOKUP(C480,Sheet2!A:B,2,FALSE)","v":121.5}]
[480,"梅云琨",360321205002,154030306522,4,{"$f":"VLOOKUP(C481,Sheet2!A:B,2,FALSE)","v":121.5}]
[481,"陈智妃",360321205002,154012804128,5,{"$f":"VLOOKUP(C482,Sheet2!A:B,2,FALSE)","v":121.5}]
[482,"朱曌钦",360321205002,154030306515,6,{"$f":"VLOOKUP(C483,Sheet2!A:B,2,FALSE)","v":121.5}]
[483,"余雯琪",360321206002,154012702808,1,{"$f":"VLOOKUP(C484,Sheet2!A:B,2,FALSE)","v":156.5}]
[484,"肖逸辰",360321206002,154012702605,2,{"$f":"VLOOKUP(C485,Sheet2!A:B,2,FALSE)","v":156.5}]
[485,"苏巧灵",360321206002,154030306913,3,{"$f":"VLOOKUP(C486,Sheet2!A:B,2,FALSE)","v":156.5}]
[486,"王湲",360321206002,154030306908,4,{"$f":"VLOOKUP(C487,Sheet2!A:B,2,FALSE)","v":156.5}]
[487,"李世坤",360321206002,154030306916,5,{"$f":"VLOOKUP(C488,Sheet2!A:B,2,FALSE)","v":156.5}]
[488,"尹世贤",360321206002,154030307002,6,{"$f":"VLOOKUP(C489,Sheet2!A:B,2,FALSE)","v":156.5}]
[489,"吴茜",360321207002,154030307305,1,{"$f":"VLOOKUP(C490,Sheet2!A:B,2,FALSE)","v":122.5}]
[490,"陈敏",360321207002,154030307209,2,{"$f":"VLOOKUP(C491,Sheet2!A:B,2,FALSE)","v":122.5}]
[491,"张世龙",360321207002,154030307217,3,{"$f":"VLOOKUP(C492,Sheet2!A:B,2,FALSE)","v":122.5}]
[492,"彭薇",360321207002,154030307207,4,{"$f":"VLOOKUP(C493,Sheet2!A:B,2,FALSE)","v":122.5}]
[493,"周琨杰",360321207002,154030307208,5,{"$f":"VLOOKUP(C494,Sheet2!A:B,2,FALSE)","v":122.5}]
[494,"孟楚璇",360321207002,154030307224,6,{"$f":"VLOOKUP(C495,Sheet2!A:B,2,FALSE)","v":122.5}]
[495,"王酉景",360321208002,154210303429,1,{"$f":"VLOOKUP(C496,Sheet2!A:B,2,FALSE)","v":158.5}]
[496,"刘艳婷",360321208002,154231504526,2,{"$f":"VLOOKUP(C497,Sheet2!A:B,2,FALSE)","v":158.5}]
[497,"谭建兵",360321209002,154210403018,1,{"$f":"VLOOKUP(C498,Sheet2!A:B,2,FALSE)","v":139}]
[498,"尹盼",360321209002,154242603923,2,{"$f":"VLOOKUP(C499,Sheet2!A:B,2,FALSE)","v":139}]
[499,"周根红",360321209002,154012406906,3,{"$f":"VLOOKUP(C500,Sheet2!A:B,2,FALSE)","v":139}]
[500,"李利玉",360321210003,154030307623,1,{"$f":"VLOOKUP(C501,Sheet2!A:B,2,FALSE)","v":101}]
[501,"肖俊璐",360321210003,154030307626,2,{"$f":"VLOOKUP(C502,Sheet2!A:B,2,FALSE)","v":101}]
[502,"郭清",360321210003,154221408904,3,{"$f":"VLOOKUP(C503,Sheet2!A:B,2,FALSE)","v":101}]
[503,"赵正林",360321210003,154030307611,4,{"$f":"VLOOKUP(C504,Sheet2!A:B,2,FALSE)","v":101}]
[504,"陈仁杰",360321210003,154030307621,5,{"$f":"VLOOKUP(C505,Sheet2!A:B,2,FALSE)","v":101}]
[505,"张文霞",360321210003,154050316301,6,{"$f":"VLOOKUP(C506,Sheet2!A:B,2,FALSE)","v":101}]
[506,"冯宝灯",360321210003,154210304001,7,{"$f":"VLOOKUP(C507,Sheet2!A:B,2,FALSE)","v":101}]
[507,"李鑫鑫",360321210003,154030307607,8,{"$f":"VLOOKUP(C508,Sheet2!A:B,2,FALSE)","v":101}]
[508,"欧阳涛",360321211003,154030307716,1,{"$f":"VLOOKUP(C509,Sheet2!A:B,2,FALSE)","v":107.5}]
[509,"唐刘浩",360321211003,154030307703,2,{"$f":"VLOOKUP(C510,Sheet2!A:B,2,FALSE)","v":107.5}]
[510,"贺威棋",360321211003,154030307722,3,{"$f":"VLOOKUP(C511,Sheet2!A:B,2,FALSE)","v":107.5}]
[511,"马杰",360321211003,154030307730,4,{"$f":"VLOOKUP(C512,Sheet2!A:B,2,FALSE)","v":107.5}]
[512,"谭涛",360321211003,154030307723,5,{"$f":"VLOOKUP(C513,Sheet2!A:B,2,FALSE)","v":107.5}]
[513,"贺嘉辉",360321211003,154231505205,6,{"$f":"VLOOKUP(C514,Sheet2!A:B,2,FALSE)","v":107.5}]
[514,"颜燕",360321211003,154030307713,7,{"$f":"VLOOKUP(C515,Sheet2!A:B,2,FALSE)","v":107.5}]
[515,"焦振涛",360321212003,154030307908,1,{"$f":"VLOOKUP(C516,Sheet2!A:B,2,FALSE)","v":123.5}]
[516,"刘双双",360321212003,154030307912,2,{"$f":"VLOOKUP(C517,Sheet2!A:B,2,FALSE)","v":123.5}]
[517,"潘正美",360321212003,154030307909,3,{"$f":"VLOOKUP(C518,Sheet2!A:B,2,FALSE)","v":123.5}]
[518,"沈会",360321212003,154030307902,4,{"$f":"VLOOKUP(C519,Sheet2!A:B,2,FALSE)","v":123.5}]
[519,"朱巧蓓",360321212003,154030307915,5,{"$f":"VLOOKUP(C520,Sheet2!A:B,2,FALSE)","v":123.5}]
[520,"易束",360322101006,154242402718,1,{"$f":"VLOOKUP(C521,Sheet2!A:B,2,FALSE)","v":195.5}]
[521,"卢世欣",360322101006,154221400608,2,{"$f":"VLOOKUP(C522,Sheet2!A:B,2,FALSE)","v":195.5}]
[522,"何雅琴",360322101006,154030300312,3,{"$f":"VLOOKUP(C523,Sheet2!A:B,2,FALSE)","v":195.5}]
[523,"文典",360322101006,154030300310,4,{"$f":"VLOOKUP(C524,Sheet2!A:B,2,FALSE)","v":195.5}]
[524,"郭文婷",360322101006,154040700523,5,{"$f":"VLOOKUP(C525,Sheet2!A:B,2,FALSE)","v":195.5}]
[525,"荣雅妮",360322101006,154030301116,6,{"$f":"VLOOKUP(C526,Sheet2!A:B,2,FALSE)","v":195.5}]
[526,"钟淑冰",360322101006,154030300107,7,{"$f":"VLOOKUP(C527,Sheet2!A:B,2,FALSE)","v":195.5}]
[527,"徐水琳",360322101006,154221401001,8,{"$f":"VLOOKUP(C528,Sheet2!A:B,2,FALSE)","v":195.5}]
[528,"龙佳丽",360322101006,154030300326,9,{"$f":"VLOOKUP(C529,Sheet2!A:B,2,FALSE)","v":195.5}]
[529,"刘宁",360322101006,154030300927,10,{"$f":"VLOOKUP(C530,Sheet2!A:B,2,FALSE)","v":195.5}]
[530,"李鸿锦",360322101006,154030300701,11,{"$f":"VLOOKUP(C531,Sheet2!A:B,2,FALSE)","v":195.5}]
[531,"周莹",360322101006,154221400717,12,{"$f":"VLOOKUP(C532,Sheet2!A:B,2,FALSE)","v":195.5}]
[532,"胡玉瑶",360322101006,154012302808,13,{"$f":"VLOOKUP(C533,Sheet2!A:B,2,FALSE)","v":195.5}]
[533,"蔡艳屏",360322101006,154050313023,14,{"$f":"VLOOKUP(C534,Sheet2!A:B,2,FALSE)","v":195.5}]
[534,"李绍华",360322101006,154030300928,15,{"$f":"VLOOKUP(C535,Sheet2!A:B,2,FALSE)","v":195.5}]
[535,"胡芳",360322102006,154221401718,1,{"$f":"VLOOKUP(C536,Sheet2!A:B,2,FALSE)","v":190.5}]
[536,"刘曼婷",360322102006,154030301724,2,{"$f":"VLOOKUP(C537,Sheet2!A:B,2,FALSE)","v":190.5}]
[537,"刘洁琦",360322102006,154030302519,3,{"$f":"VLOOKUP(C538,Sheet2!A:B,2,FALSE)","v":190.5}]
[538,"朱鑫霖",360322102006,154012202206,4,{"$f":"VLOOKUP(C539,Sheet2!A:B,2,FALSE)","v":190.5}]
[539,"贺小芬",360322102006,154242700924,5,{"$f":"VLOOKUP(C540,Sheet2!A:B,2,FALSE)","v":190.5}]
[540,"谭紫微",360322102006,154012203009,6,{"$f":"VLOOKUP(C541,Sheet2!A:B,2,FALSE)","v":190.5}]
[541,"文卫",360322102006,154030302507,7,{"$f":"VLOOKUP(C542,Sheet2!A:B,2,FALSE)","v":190.5}]
[542,"邓兰花",360322102006,154221402021,8,{"$f":"VLOOKUP(C543,Sheet2!A:B,2,FALSE)","v":190.5}]
[543,"胡锴",360322102006,154030301609,9,{"$f":"VLOOKUP(C544,Sheet2!A:B,2,FALSE)","v":190.5}]
[544,"周鹤",360322102006,154242700922,10,{"$f":"VLOOKUP(C545,Sheet2!A:B,2,FALSE)","v":190.5}]
[545,"李如柔",360322102006,154030302109,11,{"$f":"VLOOKUP(C546,Sheet2!A:B,2,FALSE)","v":190.5}]
[546,"谢铃",360322102006,154221401915,12,{"$f":"VLOOKUP(C547,Sheet2!A:B,2,FALSE)","v":190.5}]
[547,"连紫薇",360322102006,154242701927,13,{"$f":"VLOOKUP(C548,Sheet2!A:B,2,FALSE)","v":190.5}]
[548,"袁珊",360322102006,154030302328,14,{"$f":"VLOOKUP(C549,Sheet2!A:B,2,FALSE)","v":190.5}]
[549,"梁珍贞",360322102006,154030301907,15,{"$f":"VLOOKUP(C550,Sheet2!A:B,2,FALSE)","v":190.5}]
[550,"王佳力",360322103004,154012501514,1,{"$f":"VLOOKUP(C551,Sheet2!A:B,2,FALSE)","v":180.5}]
[551,"梁欢",360322103004,154012502505,2,{"$f":"VLOOKUP(C552,Sheet2!A:B,2,FALSE)","v":180.5}]
[552,"梁惠",360322103004,154030302705,4,{"$f":"VLOOKUP(C553,Sheet2!A:B,2,FALSE)","v":180.5}]
[553,"周田",360322103004,154030302919,3,{"$f":"VLOOKUP(C554,Sheet2!A:B,2,FALSE)","v":180.5}]
[554,"伍文庭",360322103004,154030303215,5,{"$f":"VLOOKUP(C555,Sheet2!A:B,2,FALSE)","v":180.5}]
[555,"周菲",360322103004,154221402403,6,{"$f":"VLOOKUP(C556,Sheet2!A:B,2,FALSE)","v":180.5}]
[556,"张思",360322103004,154030303028,7,{"$f":"VLOOKUP(C557,Sheet2!A:B,2,FALSE)","v":180.5}]
[557,"黄滴答",360322103004,154030302930,8,{"$f":"VLOOKUP(C558,Sheet2!A:B,2,FALSE)","v":180.5}]
[558,"晏小英",360322103004,154050313623,9,{"$f":"VLOOKUP(C559,Sheet2!A:B,2,FALSE)","v":180.5}]
[559,"李紫晴",360322103004,154030303121,10,{"$f":"VLOOKUP(C560,Sheet2!A:B,2,FALSE)","v":180.5}]
[560,"王璐璐",360322103004,154030303005,11,{"$f":"VLOOKUP(C561,Sheet2!A:B,2,FALSE)","v":180.5}]
[561,"李凤娇",360322103004,154030302710,13,{"$f":"VLOOKUP(C562,Sheet2!A:B,2,FALSE)","v":180.5}]
[562,"杨可佳",360322103004,154030303224,12,{"$f":"VLOOKUP(C563,Sheet2!A:B,2,FALSE)","v":180.5}]
[563,"彭佳毓",360322105006,154030303725,1,{"$f":"VLOOKUP(C564,Sheet2!A:B,2,FALSE)","v":151}]
[564,"刘涛",360322105006,154030303609,2,{"$f":"VLOOKUP(C565,Sheet2!A:B,2,FALSE)","v":151}]
[565,"吴志成",360322105006,154030303610,3,{"$f":"VLOOKUP(C566,Sheet2!A:B,2,FALSE)","v":151}]
[566,"朱诗雅",360322105006,154030303520,4,{"$f":"VLOOKUP(C567,Sheet2!A:B,2,FALSE)","v":151}]
[567,"黄玉凤",360322105006,154221403221,5,{"$f":"VLOOKUP(C568,Sheet2!A:B,2,FALSE)","v":151}]
[568,"彭娟",360322105006,154030303713,6,{"$f":"VLOOKUP(C569,Sheet2!A:B,2,FALSE)","v":151}]
[569,"罗星",360322105006,154221403223,7,{"$f":"VLOOKUP(C570,Sheet2!A:B,2,FALSE)","v":151}]
[570,"谭如意",360322105006,154221403322,8,{"$f":"VLOOKUP(C571,Sheet2!A:B,2,FALSE)","v":151}]
[571,"张丽清",360322105006,154221403305,9,{"$f":"VLOOKUP(C572,Sheet2!A:B,2,FALSE)","v":151}]
[572,"唐艳平",360322105006,154221403214,10,{"$f":"VLOOKUP(C573,Sheet2!A:B,2,FALSE)","v":151}]
[573,"谌姝琪",360322105006,154221403318,11,{"$f":"VLOOKUP(C574,Sheet2!A:B,2,FALSE)","v":151}]
[574,"谢峰",360322105006,154012601705,12,{"$f":"VLOOKUP(C575,Sheet2!A:B,2,FALSE)","v":151}]
[575,"彭昌黎",360322105006,154012601819,13,{"$f":"VLOOKUP(C576,Sheet2!A:B,2,FALSE)","v":151}]
[576,"李鑫",360322105006,154030303504,14,{"$f":"VLOOKUP(C577,Sheet2!A:B,2,FALSE)","v":151}]
[577,"胡鑫",360322105006,154030303512,15,{"$f":"VLOOKUP(C578,Sheet2!A:B,2,FALSE)","v":151}]
[578,"刘佳卉",360322106004,154030303919,1,{"$f":"VLOOKUP(C579,Sheet2!A:B,2,FALSE)","v":158}]
[579,"喻佳羽",360322106004,154030303824,3,{"$f":"VLOOKUP(C580,Sheet2!A:B,2,FALSE)","v":158}]
[580,"汪梦婷",360322106004,154012603319,2,{"$f":"VLOOKUP(C581,Sheet2!A:B,2,FALSE)","v":158}]
[581,"吴玉琴",360322106004,154030304012,4,{"$f":"VLOOKUP(C582,Sheet2!A:B,2,FALSE)","v":158}]
[582,"何盈盈",360322106004,154030304027,5,{"$f":"VLOOKUP(C583,Sheet2!A:B,2,FALSE)","v":158}]
[583,"郑茜",360322106004,154030303825,6,{"$f":"VLOOKUP(C584,Sheet2!A:B,2,FALSE)","v":158}]
[584,"左可馨",360322106004,154012603409,7,{"$f":"VLOOKUP(C585,Sheet2!A:B,2,FALSE)","v":158}]
[585,"张靖",360322106004,154030304003,8,{"$f":"VLOOKUP(C586,Sheet2!A:B,2,FALSE)","v":158}]
[586,"黎思玉",360322106004,154030303823,9,{"$f":"VLOOKUP(C587,Sheet2!A:B,2,FALSE)","v":158}]
[587,"刘丰玉",360322106004,154012602727,10,{"$f":"VLOOKUP(C588,Sheet2!A:B,2,FALSE)","v":158}]
[588,"单玉婷",360322106004,154030303924,11,{"$f":"VLOOKUP(C589,Sheet2!A:B,2,FALSE)","v":158}]
[589,"巫嘉欣",360322106004,154030303829,12,{"$f":"VLOOKUP(C590,Sheet2!A:B,2,FALSE)","v":158}]
[590,"沈燕萍",360322107004,154030304105,1,{"$f":"VLOOKUP(C591,Sheet2!A:B,2,FALSE)","v":157}]
[591,"廖颂煜",360322107004,154030304224,2,{"$f":"VLOOKUP(C592,Sheet2!A:B,2,FALSE)","v":157}]
[592,"邓丽娜",360322107004,154030304217,3,{"$f":"VLOOKUP(C593,Sheet2!A:B,2,FALSE)","v":157}]
[593,"朱嘉怡",360322107004,154030304210,4,{"$f":"VLOOKUP(C594,Sheet2!A:B,2,FALSE)","v":157}]
[594,"王紫卉",360322107004,154030304208,5,{"$f":"VLOOKUP(C595,Sheet2!A:B,2,FALSE)","v":157}]
[595,"黄裔天",360322107004,154012404115,6,{"$f":"VLOOKUP(C596,Sheet2!A:B,2,FALSE)","v":157}]
[596,"刘意茹",360322107004,154221403617,7,{"$f":"VLOOKUP(C597,Sheet2!A:B,2,FALSE)","v":157}]
[597,"罗菁",360322107004,154030304123,8,{"$f":"VLOOKUP(C598,Sheet2!A:B,2,FALSE)","v":157}]
[598,"周冰洁",360322107004,154040703521,9,{"$f":"VLOOKUP(C599,Sheet2!A:B,2,FALSE)","v":157}]
[599,"陈觅",360322107004,154012502829,10,{"$f":"VLOOKUP(C600,Sheet2!A:B,2,FALSE)","v":157}]
[600,"赵佳雪",360322107004,154221403626,11,{"$f":"VLOOKUP(C601,Sheet2!A:B,2,FALSE)","v":157}]
[601,"易新",360322107004,154221403714,12,{"$f":"VLOOKUP(C602,Sheet2!A:B,2,FALSE)","v":157}]
[602,"贺青",360322201003,154030305018,1,{"$f":"VLOOKUP(C603,Sheet2!A:B,2,FALSE)","v":134}]
[603,"肖雯文",360322201003,154030305030,2,{"$f":"VLOOKUP(C604,Sheet2!A:B,2,FALSE)","v":134}]
[604,"邓莹倩",360322201003,154030305104,3,{"$f":"VLOOKUP(C605,Sheet2!A:B,2,FALSE)","v":134}]
[605,"唐祯",360322201003,154030305105,4,{"$f":"VLOOKUP(C606,Sheet2!A:B,2,FALSE)","v":134}]
[606,"欧阳丹",360322201003,154030305013,5,{"$f":"VLOOKUP(C607,Sheet2!A:B,2,FALSE)","v":134}]
[607,"黎安琪",360322201003,154030305103,6,{"$f":"VLOOKUP(C608,Sheet2!A:B,2,FALSE)","v":134}]
[608,"胡玉婷",360322201003,154030304810,7,{"$f":"VLOOKUP(C609,Sheet2!A:B,2,FALSE)","v":134}]
[609,"欧阳增凡",360322201003,154030304902,8,{"$f":"VLOOKUP(C610,Sheet2!A:B,2,FALSE)","v":134}]
[610,"彭一波",360322201003,154030304917,9,{"$f":"VLOOKUP(C611,Sheet2!A:B,2,FALSE)","v":134}]
[611,"徐娜",360322202003,154012906317,1,{"$f":"VLOOKUP(C612,Sheet2!A:B,2,FALSE)","v":149.5}]
[612,"张冀",360322202003,154030305508,2,{"$f":"VLOOKUP(C613,Sheet2!A:B,2,FALSE)","v":149.5}]
[613,"邓泽祥",360322202003,154030305303,3,{"$f":"VLOOKUP(C614,Sheet2!A:B,2,FALSE)","v":149.5}]
[614,"邬雨涵",360322202003,154030305425,4,{"$f":"VLOOKUP(C615,Sheet2!A:B,2,FALSE)","v":149.5}]
[615,"叶丽克",360322202003,154030305301,5,{"$f":"VLOOKUP(C616,Sheet2!A:B,2,FALSE)","v":149.5}]
[616,"李美娟",360322202003,154030305528,6,{"$f":"VLOOKUP(C617,Sheet2!A:B,2,FALSE)","v":149.5}]
[617,"朱磊",360322202003,154030305312,7,{"$f":"VLOOKUP(C618,Sheet2!A:B,2,FALSE)","v":149.5}]
[618,"赖敏",360322202003,154030305419,9,{"$f":"VLOOKUP(C619,Sheet2!A:B,2,FALSE)","v":149.5}]
[619,"梁玉林",360322202003,154231501109,8,{"$f":"VLOOKUP(C620,Sheet2!A:B,2,FALSE)","v":149.5}]
[620,"谢珊",360322203002,154030305803,1,{"$f":"VLOOKUP(C621,Sheet2!A:B,2,FALSE)","v":167}]
[621,"杨雅婷",360322203002,154030305607,2,{"$f":"VLOOKUP(C622,Sheet2!A:B,2,FALSE)","v":167}]
[622,"黄青",360322203002,154030306005,3,{"$f":"VLOOKUP(C623,Sheet2!A:B,2,FALSE)","v":167}]
[623,"陈梦怡",360322203002,154030306025,4,{"$f":"VLOOKUP(C624,Sheet2!A:B,2,FALSE)","v":167}]
[624,"巢玲玲",360322203002,154030305629,5,{"$f":"VLOOKUP(C625,Sheet2!A:B,2,FALSE)","v":167}]
[625,"甘根萍",360322203002,154030306127,6,{"$f":"VLOOKUP(C626,Sheet2!A:B,2,FALSE)","v":167}]
[626,"黄庭月",360322204002,154030306309,1,{"$f":"VLOOKUP(C627,Sheet2!A:B,2,FALSE)","v":138.5}]
[627,"黄欣",360322204002,154030306311,2,{"$f":"VLOOKUP(C628,Sheet2!A:B,2,FALSE)","v":138.5}]
[628,"肖湘",360322204002,154030306227,3,{"$f":"VLOOKUP(C629,Sheet2!A:B,2,FALSE)","v":138.5}]
[629,"黄雨欣",360322204002,154012405511,4,{"$f":"VLOOKUP(C630,Sheet2!A:B,2,FALSE)","v":138.5}]
[630,"李仪欣",360322205002,154030306507,1,{"$f":"VLOOKUP(C631,Sheet2!A:B,2,FALSE)","v":167.5}]
[631,"欧阳宇祥",360322205002,154030306516,2,{"$f":"VLOOKUP(C632,Sheet2!A:B,2,FALSE)","v":167.5}]
[632,"李珊",360322205002,154030306626,3,{"$f":"VLOOKUP(C633,Sheet2!A:B,2,FALSE)","v":167.5}]
[633,"钟满",360322205002,154030306616,4,{"$f":"VLOOKUP(C634,Sheet2!A:B,2,FALSE)","v":167.5}]
[634,"叶运根",360322205002,154030306816,5,{"$f":"VLOOKUP(C635,Sheet2!A:B,2,FALSE)","v":167.5}]
[635,"彭花",360322205002,154030306817,6,{"$f":"VLOOKUP(C636,Sheet2!A:B,2,FALSE)","v":167.5}]
[636,"李奕宸",360322209002,154221408614,1,{"$f":"VLOOKUP(C637,Sheet2!A:B,2,FALSE)","v":135.5}]
[637,"邬磊",360322209002,154012406802,2,{"$f":"VLOOKUP(C638,Sheet2!A:B,2,FALSE)","v":135.5}]
[638,"王香萍",360322210002,154030307603,1,{"$f":"VLOOKUP(C639,Sheet2!A:B,2,FALSE)","v":128}]
[639,"陶汝亮",360322210002,154030307629,2,{"$f":"VLOOKUP(C640,Sheet2!A:B,2,FALSE)","v":128}]
[640,"陈艳玲",360322210002,154030307630,3,{"$f":"VLOOKUP(C641,Sheet2!A:B,2,FALSE)","v":128}]
[641,"文佳慧",360322210002,154030307616,4,{"$f":"VLOOKUP(C642,Sheet2!A:B,2,FALSE)","v":128}]
[642,"易冰",360322210002,154030307622,5,{"$f":"VLOOKUP(C643,Sheet2!A:B,2,FALSE)","v":128}]
[643,"唐浩楠",360322210002,154030307618,6,{"$f":"VLOOKUP(C644,Sheet2!A:B,2,FALSE)","v":128}]
[644,"谭艺",360322211002,154030307802,1,{"$f":"VLOOKUP(C645,Sheet2!A:B,2,FALSE)","v":137}]
[645,"曾伟南",360322211002,154030307728,2,{"$f":"VLOOKUP(C646,Sheet2!A:B,2,FALSE)","v":137}]
[646,"吴戈",360322211002,154030307721,3,{"$f":"VLOOKUP(C647,Sheet2!A:B,2,FALSE)","v":137}]
[647,"廖欢",360322211002,154030307705,4,{"$f":"VLOOKUP(C648,Sheet2!A:B,2,FALSE)","v":137}]
[648,"陈天宇",360322211002,154030307718,5,{"$f":"VLOOKUP(C649,Sheet2!A:B,2,FALSE)","v":137}]
[649,"张思益",360322211002,154242704030,6,{"$f":"VLOOKUP(C650,Sheet2!A:B,2,FALSE)","v":137}]
[650,"兰珍妮",360322212002,154030307919,1,{"$f":"VLOOKUP(C651,Sheet2!A:B,2,FALSE)","v":161.5}]
[651,"刘佳",360322212002,154231505407,2,{"$f":"VLOOKUP(C652,Sheet2!A:B,2,FALSE)","v":161.5}]
[652,"邓敏",360322212002,154030307929,3,{"$f":"VLOOKUP(C653,Sheet2!A:B,2,FALSE)","v":161.5}]
[653,"张佳丽",360322212002,154012407111,4,{"$f":"VLOOKUP(C654,Sheet2!A:B,2,FALSE)","v":161.5}]
[654,"何玉琳",360322212002,154040803903,5,{"$f":"VLOOKUP(C655,Sheet2!A:B,2,FALSE)","v":161.5}]
[655,"刘娜",360322212002,154030307926,6,{"$f":"VLOOKUP(C656,Sheet2!A:B,2,FALSE)","v":161.5}]
[656,"卢钰",360323102002,154030302322,1,{"$f":"VLOOKUP(C657,Sheet2!A:B,2,FALSE)","v":193.5}]
[657,"彭秀丽",360323102002,154221401303,2,{"$f":"VLOOKUP(C658,Sheet2!A:B,2,FALSE)","v":193.5}]
[658,"朱利佳",360323102002,154012200125,3,{"$f":"VLOOKUP(C659,Sheet2!A:B,2,FALSE)","v":193.5}]
[659,"朱蕾",360323102002,154030301727,4,{"$f":"VLOOKUP(C660,Sheet2!A:B,2,FALSE)","v":193.5}]
[660,"曾珮瑶",360323102002,154012201021,5,{"$f":"VLOOKUP(C661,Sheet2!A:B,2,FALSE)","v":193.5}]
[661,"习小青",360323102002,154012203426,6,{"$f":"VLOOKUP(C662,Sheet2!A:B,2,FALSE)","v":193.5}]
[662,"徐纤纤",360323103002,154030302720,1,{"$f":"VLOOKUP(C663,Sheet2!A:B,2,FALSE)","v":180.5}]
[663,"郑璐",360323103002,154030303228,2,{"$f":"VLOOKUP(C664,Sheet2!A:B,2,FALSE)","v":180.5}]
[664,"李思慧",360323103002,154030302716,3,{"$f":"VLOOKUP(C665,Sheet2!A:B,2,FALSE)","v":180.5}]
[665,"彭福欣",360323103002,154030303015,4,{"$f":"VLOOKUP(C666,Sheet2!A:B,2,FALSE)","v":180.5}]
[666,"文金",360323103002,154030303219,5,{"$f":"VLOOKUP(C667,Sheet2!A:B,2,FALSE)","v":180.5}]
[667,"李洁颖",360323103002,154030303221,6,{"$f":"VLOOKUP(C668,Sheet2!A:B,2,FALSE)","v":180.5}]
[668,"欧阳小兰",360323105002,154030303511,1,{"$f":"VLOOKUP(C669,Sheet2!A:B,2,FALSE)","v":115.5}]
[669,"张忠燕",360323105002,154040703210,2,{"$f":"VLOOKUP(C670,Sheet2!A:B,2,FALSE)","v":115.5}]
[670,"曾文俊",360323105002,154030303711,3,{"$f":"VLOOKUP(C671,Sheet2!A:B,2,FALSE)","v":115.5}]
[671,"肖宇锋",360323105002,154030303621,4,{"$f":"VLOOKUP(C672,Sheet2!A:B,2,FALSE)","v":115.5}]
[672,"易雪琴",360323105002,154221403116,5,{"$f":"VLOOKUP(C673,Sheet2!A:B,2,FALSE)","v":115.5}]
[673,"钟萍",360323105002,154030303727,6,{"$f":"VLOOKUP(C674,Sheet2!A:B,2,FALSE)","v":115.5}]
[674,"许飘月",360323107002,154221403711,1,{"$f":"VLOOKUP(C675,Sheet2!A:B,2,FALSE)","v":155.5}]
[675,"张红",360323107002,154012502830,2,{"$f":"VLOOKUP(C676,Sheet2!A:B,2,FALSE)","v":155.5}]
[676,"钟声",360323107002,154221403719,3,{"$f":"VLOOKUP(C677,Sheet2!A:B,2,FALSE)","v":155.5}]
[677,"尹秀舟",360323107002,154221403718,4,{"$f":"VLOOKUP(C678,Sheet2!A:B,2,FALSE)","v":155.5}]
[678,"黄雨旋",360323107002,154250104614,5,{"$f":"VLOOKUP(C679,Sheet2!A:B,2,FALSE)","v":155.5}]
[679,"文丰玉",360323107002,154030304128,6,{"$f":"VLOOKUP(C680,Sheet2!A:B,2,FALSE)","v":155.5}]
[680,"彭佳美",360323116002,154012405222,1,{"$f":"VLOOKUP(C681,Sheet2!A:B,2,FALSE)","v":172}]
[681,"赖静宜",360323116002,154030304713,2,{"$f":"VLOOKUP(C682,Sheet2!A:B,2,FALSE)","v":172}]
[682,"许慧婷",360323116002,154242403108,3,{"$f":"VLOOKUP(C683,Sheet2!A:B,2,FALSE)","v":172}]
[683,"刘海霞",360323116002,154030304715,4,{"$f":"VLOOKUP(C684,Sheet2!A:B,2,FALSE)","v":172}]
[684,"李知",360323116002,154250105104,5,{"$f":"VLOOKUP(C685,Sheet2!A:B,2,FALSE)","v":172}]
[685,"颜金晶",360323116002,154012405022,6,{"$f":"VLOOKUP(C686,Sheet2!A:B,2,FALSE)","v":172}]
[686,"刘菲",360323201003,154030305014,1,{"$f":"VLOOKUP(C687,Sheet2!A:B,2,FALSE)","v":151}]
[687,"陈雨晴",360323201003,154030305015,2,{"$f":"VLOOKUP(C688,Sheet2!A:B,2,FALSE)","v":151}]
[688,"谢爱潮",360323201003,154030304926,3,{"$f":"VLOOKUP(C689,Sheet2!A:B,2,FALSE)","v":151}]
[689,"文思婉",360323201003,154030304930,4,{"$f":"VLOOKUP(C690,Sheet2!A:B,2,FALSE)","v":151}]
[690,"温宇滕",360323201003,154012701316,5,{"$f":"VLOOKUP(C691,Sheet2!A:B,2,FALSE)","v":151}]
[691,"林新芳",360323201003,154030304808,6,{"$f":"VLOOKUP(C692,Sheet2!A:B,2,FALSE)","v":151}]
[692,"易琬钦",360323201003,154030305204,7,{"$f":"VLOOKUP(C693,Sheet2!A:B,2,FALSE)","v":151}]
[693,"陈瑶",360323201003,154030305125,8,{"$f":"VLOOKUP(C694,Sheet2!A:B,2,FALSE)","v":151}]
[694,"何姿",360323201003,154030305008,9,{"$f":"VLOOKUP(C695,Sheet2!A:B,2,FALSE)","v":151}]
[695,"韩燕",360323202004,154030305315,1,{"$f":"VLOOKUP(C696,Sheet2!A:B,2,FALSE)","v":155}]
[696,"范宇婷",360323202004,154030305513,2,{"$f":"VLOOKUP(C697,Sheet2!A:B,2,FALSE)","v":155}]
[697,"张文",360323202004,154030305320,3,{"$f":"VLOOKUP(C698,Sheet2!A:B,2,FALSE)","v":155}]
[698,"胡英杰",360323202004,154030305512,5,{"$f":"VLOOKUP(C699,Sheet2!A:B,2,FALSE)","v":155}]
[699,"敖琳钰",360323202004,154012906129,4,{"$f":"VLOOKUP(C700,Sheet2!A:B,2,FALSE)","v":155}]
[700,"周丹",360323202004,154030305502,6,{"$f":"VLOOKUP(C701,Sheet2!A:B,2,FALSE)","v":155}]
[701,"戴娇",360323202004,154030305307,7,{"$f":"VLOOKUP(C702,Sheet2!A:B,2,FALSE)","v":155}]
[702,"谢浪",360323202004,154030305412,8,{"$f":"VLOOKUP(C703,Sheet2!A:B,2,FALSE)","v":155}]
[703,"黄鑫",360323202004,154030305520,9,{"$f":"VLOOKUP(C704,Sheet2!A:B,2,FALSE)","v":155}]
[704,"李龙",360323202004,154030305403,10,{"$f":"VLOOKUP(C705,Sheet2!A:B,2,FALSE)","v":155}]
[705,"周青",360323202004,154030305414,11,{"$f":"VLOOKUP(C706,Sheet2!A:B,2,FALSE)","v":155}]
[706,"汤露",360323202004,154030305324,12,{"$f":"VLOOKUP(C707,Sheet2!A:B,2,FALSE)","v":155}]
[707,"陈佳婷",360323204003,154030306202,1,{"$f":"VLOOKUP(C708,Sheet2!A:B,2,FALSE)","v":110}]
[708,"贾钰",360323204003,154030306217,2,{"$f":"VLOOKUP(C709,Sheet2!A:B,2,FALSE)","v":110}]
[709,"丁湘娜",360323204003,154030306230,3,{"$f":"VLOOKUP(C710,Sheet2!A:B,2,FALSE)","v":110}]
[710,"尹秀",360323204003,154030306218,4,{"$f":"VLOOKUP(C711,Sheet2!A:B,2,FALSE)","v":110}]
[711,"钟莞晗",360323208003,154030307415,1,{"$f":"VLOOKUP(C712,Sheet2!A:B,2,FALSE)","v":145.5}]
[712,"李巧",360323208003,154231504428,2,{"$f":"VLOOKUP(C713,Sheet2!A:B,2,FALSE)","v":145.5}]
[713,"曾紫仪",360323208003,154210303113,3,{"$f":"VLOOKUP(C714,Sheet2!A:B,2,FALSE)","v":145.5}]
[714,"王洁怡",360323208003,154030307419,4,{"$f":"VLOOKUP(C715,Sheet2!A:B,2,FALSE)","v":145.5}]
[715,"冯丽城",360323210002,154012803211,1,{"$f":"VLOOKUP(C716,Sheet2!A:B,2,FALSE)","v":141}]
[716,"叶文",360323210002,154030307601,2,{"$f":"VLOOKUP(C717,Sheet2!A:B,2,FALSE)","v":141}]
[717,"邹海红",360323210002,154030307604,3,{"$f":"VLOOKUP(C718,Sheet2!A:B,2,FALSE)","v":141}]
[718,"邱佳玲",360323210002,154030307628,4,{"$f":"VLOOKUP(C719,Sheet2!A:B,2,FALSE)","v":141}]
[719,"贺西玲",360323210002,154030307620,5,{"$f":"VLOOKUP(C720,Sheet2!A:B,2,FALSE)","v":141}]
[720,"肖艳梅",360323210002,154030307608,6,{"$f":"VLOOKUP(C721,Sheet2!A:B,2,FALSE)","v":141}]
[721,"彭紫微",360323211003,154030307727,1,{"$f":"VLOOKUP(C722,Sheet2!A:B,2,FALSE)","v":130}]
[722,"彭铄轩",360323211003,154030307725,2,{"$f":"VLOOKUP(C723,Sheet2!A:B,2,FALSE)","v":130}]
[723,"曾琳",360323211003,154030307707,3,{"$f":"VLOOKUP(C724,Sheet2!A:B,2,FALSE)","v":130}]
[724,"曾思情",360323211003,154242704021,4,{"$f":"VLOOKUP(C725,Sheet2!A:B,2,FALSE)","v":130}]
[725,"曾芳",360323211003,154030307710,5,{"$f":"VLOOKUP(C726,Sheet2!A:B,2,FALSE)","v":130}]
[726,"刘涛",360323211003,154012803616,6,{"$f":"VLOOKUP(C727,Sheet2!A:B,2,FALSE)","v":130}]
[727,"贺雨",360323211003,154030307715,7,{"$f":"VLOOKUP(C728,Sheet2!A:B,2,FALSE)","v":130}]
[728,"朱中意",360323211003,154030307714,8,{"$f":"VLOOKUP(C729,Sheet2!A:B,2,FALSE)","v":130}]
[729,"黄燚",360323211003,154030307726,9,{"$f":"VLOOKUP(C730,Sheet2!A:B,2,FALSE)","v":130}]
[730,"石灵",360323212002,154030307918,1,{"$f":"VLOOKUP(C731,Sheet2!A:B,2,FALSE)","v":165}]
[731,"刘茜",360323212002,154030308002,2,{"$f":"VLOOKUP(C732,Sheet2!A:B,2,FALSE)","v":165}]
[732,"吴细林",360323212002,154210801001,3,{"$f":"VLOOKUP(C733,Sheet2!A:B,2,FALSE)","v":165}]
[733,"李莎",360323212002,154050316501,4,{"$f":"VLOOKUP(C734,Sheet2!A:B,2,FALSE)","v":165}]
[734,"曾桂花",360323212002,154231505411,5,{"$f":"VLOOKUP(C735,Sheet2!A:B,2,FALSE)","v":165}]
[735,"谭晓倩",360323212002,154012407127,6,{"$f":"VLOOKUP(C736,Sheet2!A:B,2,FALSE)","v":165}]
[736,"王红娜",360425101002,154040701620,1,{"$f":"VLOOKUP(C737,Sheet2!A:B,2,FALSE)","v":190}]
[737,"江文文",360425101002,154040701918,2,{"$f":"VLOOKUP(C738,Sheet2!A:B,2,FALSE)","v":190}]
[738,"卢镰",360425101002,154040701419,3,{"$f":"VLOOKUP(C739,Sheet2!A:B,2,FALSE)","v":190}]
[739,"涂佳琪",360425101002,154012102203,4,{"$f":"VLOOKUP(C740,Sheet2!A:B,2,FALSE)","v":190}]
[740,"汪昭丽",360425101002,154040700812,5,{"$f":"VLOOKUP(C741,Sheet2!A:B,2,FALSE)","v":190}]
[741,"陈思莎",360425101002,154012301429,6,{"$f":"VLOOKUP(C742,Sheet2!A:B,2,FALSE)","v":190}]
[742,"周璐",360425102002,154012202426,1,{"$f":"VLOOKUP(C743,Sheet2!A:B,2,FALSE)","v":192.5}]
[743,"熊姝",360425102002,154040801528,2,{"$f":"VLOOKUP(C744,Sheet2!A:B,2,FALSE)","v":192.5}]
[744,"王素清",360425102002,154012303510,3,{"$f":"VLOOKUP(C745,Sheet2!A:B,2,FALSE)","v":192.5}]
[745,"周慧",360425102002,154012303304,4,{"$f":"VLOOKUP(C746,Sheet2!A:B,2,FALSE)","v":192.5}]
[746,"宋闽华",360425102002,154040801716,6,{"$f":"VLOOKUP(C747,Sheet2!A:B,2,FALSE)","v":192.5}]
[747,"桂婷敏",360425102002,154040800511,5,{"$f":"VLOOKUP(C748,Sheet2!A:B,2,FALSE)","v":192.5}]
[748,"艾小琴",360425103001,154040601112,1,{"$f":"VLOOKUP(C749,Sheet2!A:B,2,FALSE)","v":171.5}]
[749,"王宇",360425103001,154012502325,2,{"$f":"VLOOKUP(C750,Sheet2!A:B,2,FALSE)","v":171.5}]
[750,"胡佳敏",360425103001,154221402513,3,{"$f":"VLOOKUP(C751,Sheet2!A:B,2,FALSE)","v":171.5}]
[751,"王静",360425104001,154012600110,1,{"$f":"VLOOKUP(C752,Sheet2!A:B,2,FALSE)","v":168.5}]
[752,"赖小凡",360425104001,154012600118,2,{"$f":"VLOOKUP(C753,Sheet2!A:B,2,FALSE)","v":168.5}]
[753,"徐洁",360425104001,154232406215,3,{"$f":"VLOOKUP(C754,Sheet2!A:B,2,FALSE)","v":168.5}]
[754,"潘星慧",360425105002,154040703225,1,{"$f":"VLOOKUP(C755,Sheet2!A:B,2,FALSE)","v":149}]
[755,"万佳慧",360425105002,154012601412,2,{"$f":"VLOOKUP(C756,Sheet2!A:B,2,FALSE)","v":149}]
[756,"柳淑玉",360425105002,154040703119,3,{"$f":"VLOOKUP(C757,Sheet2!A:B,2,FALSE)","v":149}]
[757,"江秀丽",360425105002,154040703304,4,{"$f":"VLOOKUP(C758,Sheet2!A:B,2,FALSE)","v":149}]
[758,"蔡霞",360425105002,154012602213,5,{"$f":"VLOOKUP(C759,Sheet2!A:B,2,FALSE)","v":149}]
[759,"胡慧琳",360425105002,154012601610,6,{"$f":"VLOOKUP(C760,Sheet2!A:B,2,FALSE)","v":149}]
[760,"胡桃花",360425106002,154012602418,1,{"$f":"VLOOKUP(C761,Sheet2!A:B,2,FALSE)","v":172}]
[761,"谈子珊",360425106002,154012603601,2,{"$f":"VLOOKUP(C762,Sheet2!A:B,2,FALSE)","v":172}]
[762,"黄佳惠",360425106002,154040802101,3,{"$f":"VLOOKUP(C763,Sheet2!A:B,2,FALSE)","v":172}]
[763,"李心慧",360425106002,154040802310,4,{"$f":"VLOOKUP(C764,Sheet2!A:B,2,FALSE)","v":172}]
[764,"朱元旦",360425106002,154040802218,5,{"$f":"VLOOKUP(C765,Sheet2!A:B,2,FALSE)","v":172}]
[765,"何琳琳",360425106002,154012602717,6,{"$f":"VLOOKUP(C766,Sheet2!A:B,2,FALSE)","v":172}]
[766,"吴常欢",360425107001,154040703415,1,{"$f":"VLOOKUP(C767,Sheet2!A:B,2,FALSE)","v":162.5}]
[767,"黄颖",360425107001,154040703527,3,{"$f":"VLOOKUP(C768,Sheet2!A:B,2,FALSE)","v":162.5}]
[768,"熊雨欣",360425107001,154012502701,2,{"$f":"VLOOKUP(C769,Sheet2!A:B,2,FALSE)","v":162.5}]
[769,"许涛",360425114001,154012404602,1,{"$f":"VLOOKUP(C770,Sheet2!A:B,2,FALSE)","v":199}]
[770,"左嘉丽",360425114001,154012404606,2,{"$f":"VLOOKUP(C771,Sheet2!A:B,2,FALSE)","v":199}]
[771,"淦琦新",360425114001,154012404521,3,{"$f":"VLOOKUP(C772,Sheet2!A:B,2,FALSE)","v":199}]
[772,"姜文惠",360425116001,154012405002,1,{"$f":"VLOOKUP(C773,Sheet2!A:B,2,FALSE)","v":184}]
[773,"邓甜",360425116001,154012405404,2,{"$f":"VLOOKUP(C774,Sheet2!A:B,2,FALSE)","v":184}]
[774,"章帅",360425116001,154012405329,4,{"$f":"VLOOKUP(C775,Sheet2!A:B,2,FALSE)","v":184}]
[775,"戴雅丽",360425116001,154040802714,3,{"$f":"VLOOKUP(C776,Sheet2!A:B,2,FALSE)","v":184}]
[776,"左耀华",360425201003,154040601722,1,{"$f":"VLOOKUP(C777,Sheet2!A:B,2,FALSE)","v":142.5}]
[777,"黄苏苏",360425201003,154040601701,2,{"$f":"VLOOKUP(C778,Sheet2!A:B,2,FALSE)","v":142.5}]
[778,"赵佳颖",360425201003,154040601909,3,{"$f":"VLOOKUP(C779,Sheet2!A:B,2,FALSE)","v":142.5}]
[779,"李海鹃",360425201003,154012700518,4,{"$f":"VLOOKUP(C780,Sheet2!A:B,2,FALSE)","v":142.5}]
[780,"吴韫贤",360425201003,154012700912,5,{"$f":"VLOOKUP(C781,Sheet2!A:B,2,FALSE)","v":142.5}]
[781,"曾思晴",360425201003,154012701421,6,{"$f":"VLOOKUP(C782,Sheet2!A:B,2,FALSE)","v":142.5}]
[782,"余思敏",360425201003,154012701327,7,{"$f":"VLOOKUP(C783,Sheet2!A:B,2,FALSE)","v":142.5}]
[783,"黎媛媛",360425201003,154040601913,8,{"$f":"VLOOKUP(C784,Sheet2!A:B,2,FALSE)","v":142.5}]
[784,"洪芝",360425201003,154012700209,10,{"$f":"VLOOKUP(C785,Sheet2!A:B,2,FALSE)","v":142.5}]
[785,"刘章亭",360425201003,154040601930,9,{"$f":"VLOOKUP(C786,Sheet2!A:B,2,FALSE)","v":142.5}]
[786,"熊泽婷",360425202005,154012907220,1,{"$f":"VLOOKUP(C787,Sheet2!A:B,2,FALSE)","v":178.5}]
[787,"顾雅琴",360425202005,154012906903,2,{"$f":"VLOOKUP(C788,Sheet2!A:B,2,FALSE)","v":178.5}]
[788,"徐战",360425202005,154040803208,3,{"$f":"VLOOKUP(C789,Sheet2!A:B,2,FALSE)","v":178.5}]
[789,"龙雪燕",360425202005,154040803003,4,{"$f":"VLOOKUP(C790,Sheet2!A:B,2,FALSE)","v":178.5}]
[790,"秦佳慧",360425202005,154012906316,5,{"$f":"VLOOKUP(C791,Sheet2!A:B,2,FALSE)","v":178.5}]
[791,"徐芬芬",360425202005,154012906607,6,{"$f":"VLOOKUP(C792,Sheet2!A:B,2,FALSE)","v":178.5}]
[792,"邓琦琦",360425202005,154012906605,7,{"$f":"VLOOKUP(C793,Sheet2!A:B,2,FALSE)","v":178.5}]
[793,"姜美玲",360425202005,154040802913,8,{"$f":"VLOOKUP(C794,Sheet2!A:B,2,FALSE)","v":178.5}]
[794,"景春丽",360425202005,154012907315,9,{"$f":"VLOOKUP(C795,Sheet2!A:B,2,FALSE)","v":178.5}]
[795,"郭雨涵",360425202005,154040803326,10,{"$f":"VLOOKUP(C796,Sheet2!A:B,2,FALSE)","v":178.5}]
[796,"彭尹康",360425202005,154040802905,11,{"$f":"VLOOKUP(C797,Sheet2!A:B,2,FALSE)","v":178.5}]
[797,"饶敏",360425202005,154012907020,12,{"$f":"VLOOKUP(C798,Sheet2!A:B,2,FALSE)","v":178.5}]
[798,"钱兰歆",360425202005,154040803318,13,{"$f":"VLOOKUP(C799,Sheet2!A:B,2,FALSE)","v":178.5}]
[799,"杜佳雯",360425202005,154040803024,14,{"$f":"VLOOKUP(C800,Sheet2!A:B,2,FALSE)","v":178.5}]
[800,"欧阳莲莲",360425202005,154012907216,15,{"$f":"VLOOKUP(C801,Sheet2!A:B,2,FALSE)","v":178.5}]
[801,"沈漫娜",360425203004,154012908024,1,{"$f":"VLOOKUP(C802,Sheet2!A:B,2,FALSE)","v":187.5}]
[802,"杨平",360425203004,154012805627,2,{"$f":"VLOOKUP(C803,Sheet2!A:B,2,FALSE)","v":187.5}]
[803,"许子晴",360425203004,154040602429,3,{"$f":"VLOOKUP(C804,Sheet2!A:B,2,FALSE)","v":187.5}]
[804,"邓鹃尖",360425203004,154012908122,4,{"$f":"VLOOKUP(C805,Sheet2!A:B,2,FALSE)","v":187.5}]
[805,"潘晶",360425203004,154012907624,5,{"$f":"VLOOKUP(C806,Sheet2!A:B,2,FALSE)","v":187.5}]
[806,"陈蓉",360425203004,154012805810,6,{"$f":"VLOOKUP(C807,Sheet2!A:B,2,FALSE)","v":187.5}]
[807,"刘春运",360425203004,154040602623,7,{"$f":"VLOOKUP(C808,Sheet2!A:B,2,FALSE)","v":187.5}]
[808,"刘子怡",360425203004,154012805708,8,{"$f":"VLOOKUP(C809,Sheet2!A:B,2,FALSE)","v":187.5}]
[809,"吴梦雪",360425203004,154040602912,9,{"$f":"VLOOKUP(C810,Sheet2!A:B,2,FALSE)","v":187.5}]
[810,"陈嘉瑶",360425203004,154040603004,11,{"$f":"VLOOKUP(C811,Sheet2!A:B,2,FALSE)","v":187.5}]
[811,"高凡凡",360425203004,154040602820,10,{"$f":"VLOOKUP(C812,Sheet2!A:B,2,FALSE)","v":187.5}]
[812,"郭露",360425203004,154012805701,12,{"$f":"VLOOKUP(C813,Sheet2!A:B,2,FALSE)","v":187.5}]
[813,"张梦",360425204002,154012405608,1,{"$f":"VLOOKUP(C814,Sheet2!A:B,2,FALSE)","v":200.5}]
[814,"汤丽珍",360425204002,154040603203,2,{"$f":"VLOOKUP(C815,Sheet2!A:B,2,FALSE)","v":200.5}]
[815,"董梦妃",360425204002,154012909016,3,{"$f":"VLOOKUP(C816,Sheet2!A:B,2,FALSE)","v":200.5}]
[816,"熊明珍",360425204002,154012908720,4,{"$f":"VLOOKUP(C817,Sheet2!A:B,2,FALSE)","v":200.5}]
[817,"文娟",360425204002,154012909027,5,{"$f":"VLOOKUP(C818,Sheet2!A:B,2,FALSE)","v":200.5}]
[818,"刘娇",360425204002,154012909025,6,{"$f":"VLOOKUP(C819,Sheet2!A:B,2,FALSE)","v":200.5}]
[819,"彭翰宇",360425205003,154040603615,1,{"$f":"VLOOKUP(C820,Sheet2!A:B,2,FALSE)","v":83.5}]
[820,"曾祥雨",360425205003,154040603510,2,{"$f":"VLOOKUP(C821,Sheet2!A:B,2,FALSE)","v":83.5}]
[821,"桂心灵",360425205003,154030306426,3,{"$f":"VLOOKUP(C822,Sheet2!A:B,2,FALSE)","v":83.5}]
[822,"虞绍诚",360425205003,154040603502,4,{"$f":"VLOOKUP(C823,Sheet2!A:B,2,FALSE)","v":83.5}]
[823,"袁飞翔",360425205003,154012406021,5,{"$f":"VLOOKUP(C824,Sheet2!A:B,2,FALSE)","v":83.5}]
[824,"王强",360425205003,154012405907,6,{"$f":"VLOOKUP(C825,Sheet2!A:B,2,FALSE)","v":83.5}]
[825,"黄逸轩",360425205003,154012406127,7,{"$f":"VLOOKUP(C826,Sheet2!A:B,2,FALSE)","v":83.5}]
[826,"李顺辉",360425205003,154040603601,8,{"$f":"VLOOKUP(C827,Sheet2!A:B,2,FALSE)","v":83.5}]
[827,"鲁兴越",360425205003,154012406001,9,{"$f":"VLOOKUP(C828,Sheet2!A:B,2,FALSE)","v":83.5}]
[828,"邓凯文",360425208001,154040604425,1,{"$f":"VLOOKUP(C829,Sheet2!A:B,2,FALSE)","v":177.5}]
[829,"曾斌",360425208001,154012406604,2,{"$f":"VLOOKUP(C830,Sheet2!A:B,2,FALSE)","v":177.5}]
[830,"黄青青",360425208001,154250106503,3,{"$f":"VLOOKUP(C831,Sheet2!A:B,2,FALSE)","v":177.5}]
[831,"叶浔生",360425209001,154040803522,1,{"$f":"VLOOKUP(C832,Sheet2!A:B,2,FALSE)","v":198}]
[832,"何文琪",360425209001,154012407001,2,{"$f":"VLOOKUP(C833,Sheet2!A:B,2,FALSE)","v":198}]
[833,"刘小姣",360425209001,154012406903,3,{"$f":"VLOOKUP(C834,Sheet2!A:B,2,FALSE)","v":198}]
[834,"匡慧慧",360425211003,154012803608,1,{"$f":"VLOOKUP(C835,Sheet2!A:B,2,FALSE)","v":102.5}]
[835,"王霞",360425211003,154040604608,2,{"$f":"VLOOKUP(C836,Sheet2!A:B,2,FALSE)","v":102.5}]
[836,"邓怡青",360425211003,154012803722,3,{"$f":"VLOOKUP(C837,Sheet2!A:B,2,FALSE)","v":102.5}]
[837,"徐紫铱",360425211003,154012803901,4,{"$f":"VLOOKUP(C838,Sheet2!A:B,2,FALSE)","v":102.5}]
[838,"王威威",360425211003,154040604606,5,{"$f":"VLOOKUP(C839,Sheet2!A:B,2,FALSE)","v":102.5}]
[839,"纪凯强",360425211003,154012803602,6,{"$f":"VLOOKUP(C840,Sheet2!A:B,2,FALSE)","v":102.5}]
[840,"王丽",360425211003,154040604611,7,{"$f":"VLOOKUP(C841,Sheet2!A:B,2,FALSE)","v":102.5}]
[841,"邓海伦",360425211003,154012803802,8,{"$f":"VLOOKUP(C842,Sheet2!A:B,2,FALSE)","v":102.5}]
[842,"陈燕",360425212001,154012407229,1,{"$f":"VLOOKUP(C843,Sheet2!A:B,2,FALSE)","v":168}]
[843,"应珊珊",360425212001,154012407104,2,{"$f":"VLOOKUP(C844,Sheet2!A:B,2,FALSE)","v":168}]
[844,"温欣",360425212001,154012407212,3,{"$f":"VLOOKUP(C845,Sheet2!A:B,2,FALSE)","v":168}]
[845,"陈俊梦",360426101001,154012102309,1,{"$f":"VLOOKUP(C846,Sheet2!A:B,2,FALSE)","v":189}]
[846,"熊康洁",360426101001,154040701903,2,{"$f":"VLOOKUP(C847,Sheet2!A:B,2,FALSE)","v":189}]
[847,"卢舒玲",360426101001,154012101428,3,{"$f":"VLOOKUP(C848,Sheet2!A:B,2,FALSE)","v":189}]
[848,"陶云兰",360426102001,154012201426,1,{"$f":"VLOOKUP(C849,Sheet2!A:B,2,FALSE)","v":156.5}]
[849,"曹志环",360426102001,154040800824,2,{"$f":"VLOOKUP(C850,Sheet2!A:B,2,FALSE)","v":156.5}]
[850,"周志明",360426102001,154040800226,3,{"$f":"VLOOKUP(C851,Sheet2!A:B,2,FALSE)","v":156.5}]
[851,"曹彩雯",360426103001,154040600317,1,{"$f":"VLOOKUP(C852,Sheet2!A:B,2,FALSE)","v":167}]
[852,"魏倩",360426103001,154040600724,2,{"$f":"VLOOKUP(C853,Sheet2!A:B,2,FALSE)","v":167}]
[853,"曹艳敏",360426103001,154040600408,3,{"$f":"VLOOKUP(C854,Sheet2!A:B,2,FALSE)","v":167}]
[854,"查启琪",360426201002,154050314702,1,{"$f":"VLOOKUP(C855,Sheet2!A:B,2,FALSE)","v":127.5}]
[855,"李文君",360426201002,154040602015,2,{"$f":"VLOOKUP(C856,Sheet2!A:B,2,FALSE)","v":127.5}]
[856,"周锦秀",360426201002,154040602011,3,{"$f":"VLOOKUP(C857,Sheet2!A:B,2,FALSE)","v":127.5}]
[857,"张玉洁",360426201002,154231500529,4,{"$f":"VLOOKUP(C858,Sheet2!A:B,2,FALSE)","v":127.5}]
[858,"熊燕燕",360426201002,154020500128,5,{"$f":"VLOOKUP(C859,Sheet2!A:B,2,FALSE)","v":127.5}]
[859,"余应晴",360426201002,154040601928,6,{"$f":"VLOOKUP(C860,Sheet2!A:B,2,FALSE)","v":127.5}]
[860,"邱磊",360426202002,154040802921,1,{"$f":"VLOOKUP(C861,Sheet2!A:B,2,FALSE)","v":106}]
[861,"梅光晴",360426202002,154040803026,2,{"$f":"VLOOKUP(C862,Sheet2!A:B,2,FALSE)","v":106}]
[862,"周铭",360426202002,154040803121,3,{"$f":"VLOOKUP(C863,Sheet2!A:B,2,FALSE)","v":106}]
[863,"吕钰",360426202002,154040803315,4,{"$f":"VLOOKUP(C864,Sheet2!A:B,2,FALSE)","v":106}]
[864,"潘洋",360426202002,154040802912,5,{"$f":"VLOOKUP(C865,Sheet2!A:B,2,FALSE)","v":106}]
[865,"陈剑波",360426202002,154040803010,6,{"$f":"VLOOKUP(C866,Sheet2!A:B,2,FALSE)","v":106}]
[866,"陈可欣",360426203002,154012907515,1,{"$f":"VLOOKUP(C867,Sheet2!A:B,2,FALSE)","v":184.5}]
[867,"邹秀依",360426203002,154040602919,2,{"$f":"VLOOKUP(C868,Sheet2!A:B,2,FALSE)","v":184.5}]
[868,"曾梅",360426203002,154012907523,3,{"$f":"VLOOKUP(C869,Sheet2!A:B,2,FALSE)","v":184.5}]
[869,"罗佳敏",360426203002,154040602908,4,{"$f":"VLOOKUP(C870,Sheet2!A:B,2,FALSE)","v":184.5}]
[870,"欧阳姮",360426203002,154012805808,5,{"$f":"VLOOKUP(C871,Sheet2!A:B,2,FALSE)","v":184.5}]
[871,"郭凌宇",360426203002,154012805203,6,{"$f":"VLOOKUP(C872,Sheet2!A:B,2,FALSE)","v":184.5}]
[872,"周昕",360426204001,154040603118,1,{"$f":"VLOOKUP(C873,Sheet2!A:B,2,FALSE)","v":147}]
[873,"杨青",360426204001,154040603213,2,{"$f":"VLOOKUP(C874,Sheet2!A:B,2,FALSE)","v":147}]
[874,"肖彤晖",360426204001,154012908903,3,{"$f":"VLOOKUP(C875,Sheet2!A:B,2,FALSE)","v":147}]
[875,"何世玉",360426205001,154012804326,1,{"$f":"VLOOKUP(C876,Sheet2!A:B,2,FALSE)","v":59.5}]
[876,"洪程",360426205001,154040603408,2,{"$f":"VLOOKUP(C877,Sheet2!A:B,2,FALSE)","v":59.5}]
[877,"余策民",360426208001,154040604429,1,{"$f":"VLOOKUP(C878,Sheet2!A:B,2,FALSE)","v":147.5}]
[878,"闵涛",360426208001,154040604504,2,{"$f":"VLOOKUP(C879,Sheet2!A:B,2,FALSE)","v":147.5}]
[879,"赵明",360426208001,154040604424,3,{"$f":"VLOOKUP(C880,Sheet2!A:B,2,FALSE)","v":147.5}]
[880,"杨洁",360426209001,154012406821,1,{"$f":"VLOOKUP(C881,Sheet2!A:B,2,FALSE)","v":196}]
[881,"何婷",360426209001,154040803601,2,{"$f":"VLOOKUP(C882,Sheet2!A:B,2,FALSE)","v":196}]
[882,"李可",360426209001,154040803504,3,{"$f":"VLOOKUP(C883,Sheet2!A:B,2,FALSE)","v":196}]
[883,"乐丹宁",360426210003,154040803807,1,{"$f":"VLOOKUP(C884,Sheet2!A:B,2,FALSE)","v":64}]
[884,"龚婕鸿",360426210003,154012803410,2,{"$f":"VLOOKUP(C885,Sheet2!A:B,2,FALSE)","v":64}]
[885,"谈婷婷",360426210003,154040803709,3,{"$f":"VLOOKUP(C886,Sheet2!A:B,2,FALSE)","v":64}]
[886,"王瑞瑞",360426210003,154040803806,4,{"$f":"VLOOKUP(C887,Sheet2!A:B,2,FALSE)","v":64}]
[887,"王茹",360426210003,154040803803,5,{"$f":"VLOOKUP(C888,Sheet2!A:B,2,FALSE)","v":64}]
[888,"袁一鸣",360426210003,154040803701,6,{"$f":"VLOOKUP(C889,Sheet2!A:B,2,FALSE)","v":64}]
[889,"刘慎俊",360426210003,154040803703,7,{"$f":"VLOOKUP(C890,Sheet2!A:B,2,FALSE)","v":64}]
[890,"威嘉海",360426210003,154040803720,8,{"$f":"VLOOKUP(C891,Sheet2!A:B,2,FALSE)","v":64}]
[891,"黄彩",360426210003,154040803801,9,{"$f":"VLOOKUP(C892,Sheet2!A:B,2,FALSE)","v":64}]
[892,"郑洪洪",360426211003,154211000729,1,{"$f":"VLOOKUP(C893,Sheet2!A:B,2,FALSE)","v":91}]
[893,"程振宇",360426211003,154040604618,2,{"$f":"VLOOKUP(C894,Sheet2!A:B,2,FALSE)","v":91}]
[894,"朱胜名",360426211003,154040604619,3,{"$f":"VLOOKUP(C895,Sheet2!A:B,2,FALSE)","v":91}]
[895,"丁靓",360426211003,154040604605,4,{"$f":"VLOOKUP(C896,Sheet2!A:B,2,FALSE)","v":91}]
[896,"李敏",360426211003,154040604617,5,{"$f":"VLOOKUP(C897,Sheet2!A:B,2,FALSE)","v":91}]
[897,"郭昌翔",360426211003,154231505127,6,{"$f":"VLOOKUP(C898,Sheet2!A:B,2,FALSE)","v":91}]
[898,"欧阳志明",360426211003,154012803604,7,{"$f":"VLOOKUP(C899,Sheet2!A:B,2,FALSE)","v":91}]
[899,"刘梅芳",360426212001,154040803904,1,{"$f":"VLOOKUP(C900,Sheet2!A:B,2,FALSE)","v":176.5}]
[900,"徐婕",360426212001,154040803913,2,{"$f":"VLOOKUP(C901,Sheet2!A:B,2,FALSE)","v":176.5}]
[901,"曹薇薇",360426212001,154040803908,3,{"$f":"VLOOKUP(C902,Sheet2!A:B,2,FALSE)","v":176.5}]
[902,"秦茜",360428101017,154012102418,1,{"$f":"VLOOKUP(C903,Sheet2!A:B,2,FALSE)","v":188.5}]
[903,"董心雨",360428101017,154232400109,2,{"$f":"VLOOKUP(C904,Sheet2!A:B,2,FALSE)","v":188.5}]
[904,"李思佳",360428101017,154040701920,3,{"$f":"VLOOKUP(C905,Sheet2!A:B,2,FALSE)","v":188.5}]
[905,"黄文",360428101017,154012102106,5,{"$f":"VLOOKUP(C906,Sheet2!A:B,2,FALSE)","v":188.5}]
[906,"程洁语",360428101017,154020400423,4,{"$f":"VLOOKUP(C907,Sheet2!A:B,2,FALSE)","v":188.5}]
[907,"李慧敏",360428101017,154040700515,6,{"$f":"VLOOKUP(C908,Sheet2!A:B,2,FALSE)","v":188.5}]
[908,"欧阳幸",360428101017,154012100311,7,{"$f":"VLOOKUP(C909,Sheet2!A:B,2,FALSE)","v":188.5}]
[909,"肖璐",360428101017,154012301905,8,{"$f":"VLOOKUP(C910,Sheet2!A:B,2,FALSE)","v":188.5}]
[910,"汪久红",360428101017,154040701228,11,{"$f":"VLOOKUP(C911,Sheet2!A:B,2,FALSE)","v":188.5}]
[911,"陈淑婷",360428101017,154012301019,10,{"$f":"VLOOKUP(C912,Sheet2!A:B,2,FALSE)","v":188.5}]
[912,"邓春云",360428101017,154250100204,14,{"$f":"VLOOKUP(C913,Sheet2!A:B,2,FALSE)","v":188.5}]
[913,"唐思奇",360428101017,154012302122,9,{"$f":"VLOOKUP(C914,Sheet2!A:B,2,FALSE)","v":188.5}]
[914,"樊娓红",360428101017,154040700702,12,{"$f":"VLOOKUP(C915,Sheet2!A:B,2,FALSE)","v":188.5}]
[915,"程欣雨",360428101017,154040700718,13,{"$f":"VLOOKUP(C916,Sheet2!A:B,2,FALSE)","v":188.5}]
[916,"万珍珍",360428101017,154012301001,15,{"$f":"VLOOKUP(C917,Sheet2!A:B,2,FALSE)","v":188.5}]
[917,"卢晓晴",360428101017,154012301702,16,{"$f":"VLOOKUP(C918,Sheet2!A:B,2,FALSE)","v":188.5}]
[918,"周芝任",360428101017,154242401416,17,{"$f":"VLOOKUP(C919,Sheet2!A:B,2,FALSE)","v":188.5}]
[919,"刘庆芸",360428101017,154012301419,18,{"$f":"VLOOKUP(C920,Sheet2!A:B,2,FALSE)","v":188.5}]
[920,"陈冬艳",360428101017,154012100624,19,{"$f":"VLOOKUP(C921,Sheet2!A:B,2,FALSE)","v":188.5}]
[921,"刘艳美",360428101017,154012300513,20,{"$f":"VLOOKUP(C922,Sheet2!A:B,2,FALSE)","v":188.5}]
[922,"范梦玲",360428101017,154012302818,21,{"$f":"VLOOKUP(C923,Sheet2!A:B,2,FALSE)","v":188.5}]
[923,"石明慧",360428101017,154040700421,26,{"$f":"VLOOKUP(C924,Sheet2!A:B,2,FALSE)","v":188.5}]
[924,"余梦琴",360428101017,154040702316,25,{"$f":"VLOOKUP(C925,Sheet2!A:B,2,FALSE)","v":188.5}]
[925,"刘珊",360428101017,154012301715,23,{"$f":"VLOOKUP(C926,Sheet2!A:B,2,FALSE)","v":188.5}]
[926,"邹恩迟",360428101017,154040702412,22,{"$f":"VLOOKUP(C927,Sheet2!A:B,2,FALSE)","v":188.5}]
[927,"戴苗苗",360428101017,154012300602,24,{"$f":"VLOOKUP(C928,Sheet2!A:B,2,FALSE)","v":188.5}]
[928,"王芬",360428101017,154012101017,27,{"$f":"VLOOKUP(C929,Sheet2!A:B,2,FALSE)","v":188.5}]
[929,"胥玲柯",360428101017,154012302524,28,{"$f":"VLOOKUP(C930,Sheet2!A:B,2,FALSE)","v":188.5}]
[930,"袁汐媛媛",360428101017,154040702317,29,{"$f":"VLOOKUP(C931,Sheet2!A:B,2,FALSE)","v":188.5}]
[931,"尹荣珍",360428101017,154012101020,30,{"$f":"VLOOKUP(C932,Sheet2!A:B,2,FALSE)","v":188.5}]
[932,"江芬芬",360428101017,154040701430,31,{"$f":"VLOOKUP(C933,Sheet2!A:B,2,FALSE)","v":188.5}]
[933,"曾妮",360428101017,154040700124,33,{"$f":"VLOOKUP(C934,Sheet2!A:B,2,FALSE)","v":188.5}]
[934,"梅娜",360428101017,154040701802,32,{"$f":"VLOOKUP(C935,Sheet2!A:B,2,FALSE)","v":188.5}]
[935,"吴娇娇",360428101017,154040701421,35,{"$f":"VLOOKUP(C936,Sheet2!A:B,2,FALSE)","v":188.5}]
[936,"卢玲玲",360428101017,154012302414,34,{"$f":"VLOOKUP(C937,Sheet2!A:B,2,FALSE)","v":188.5}]
[937,"占宇奇",360428102017,154040800108,1,{"$f":"VLOOKUP(C938,Sheet2!A:B,2,FALSE)","v":186}]
[938,"江剑瑛",360428102017,154040801806,2,{"$f":"VLOOKUP(C939,Sheet2!A:B,2,FALSE)","v":186}]
[939,"占舒华",360428102017,154012203413,3,{"$f":"VLOOKUP(C940,Sheet2!A:B,2,FALSE)","v":186}]
[940,"魏忠霞",360428102017,154012203803,5,{"$f":"VLOOKUP(C941,Sheet2!A:B,2,FALSE)","v":186}]
[941,"刘飞鸿",360428102017,154040800101,4,{"$f":"VLOOKUP(C942,Sheet2!A:B,2,FALSE)","v":186}]
[942,"许仟仟",360428102017,154012201528,6,{"$f":"VLOOKUP(C943,Sheet2!A:B,2,FALSE)","v":186}]
[943,"侯敏",360428102017,154012203519,7,{"$f":"VLOOKUP(C944,Sheet2!A:B,2,FALSE)","v":186}]
[944,"余静",360428102017,154060601718,8,{"$f":"VLOOKUP(C945,Sheet2!A:B,2,FALSE)","v":186}]
[945,"蒋舒芬",360428102017,154012303622,9,{"$f":"VLOOKUP(C946,Sheet2!A:B,2,FALSE)","v":186}]
[946,"叶思颖",360428102017,154040800312,10,{"$f":"VLOOKUP(C947,Sheet2!A:B,2,FALSE)","v":186}]
[947,"左卉",360428102017,154040800502,11,{"$f":"VLOOKUP(C948,Sheet2!A:B,2,FALSE)","v":186}]
[948,"陈心如",360428102017,154040800421,12,{"$f":"VLOOKUP(C949,Sheet2!A:B,2,FALSE)","v":186}]
[949,"孙苇",360428102017,154012203101,13,{"$f":"VLOOKUP(C950,Sheet2!A:B,2,FALSE)","v":186}]
[950,"慎海丽",360428102017,154040800315,16,{"$f":"VLOOKUP(C951,Sheet2!A:B,2,FALSE)","v":186}]
[951,"张超",360428102017,154012200513,14,{"$f":"VLOOKUP(C952,Sheet2!A:B,2,FALSE)","v":186}]
[952,"于小小",360428102017,154040800227,15,{"$f":"VLOOKUP(C953,Sheet2!A:B,2,FALSE)","v":186}]
[953,"尤丽梅",360428102017,154232403324,17,{"$f":"VLOOKUP(C954,Sheet2!A:B,2,FALSE)","v":186}]
[954,"程维维",360428102017,154040801515,18,{"$f":"VLOOKUP(C955,Sheet2!A:B,2,FALSE)","v":186}]
[955,"吴琨",360428102017,154012303703,19,{"$f":"VLOOKUP(C956,Sheet2!A:B,2,FALSE)","v":186}]
[956,"胡志欣",360428102017,154060601405,20,{"$f":"VLOOKUP(C957,Sheet2!A:B,2,FALSE)","v":186}]
[957,"洪私芳",360428102017,154040800524,21,{"$f":"VLOOKUP(C958,Sheet2!A:B,2,FALSE)","v":186}]
[958,"冯员妹",360428102017,154012201224,22,{"$f":"VLOOKUP(C959,Sheet2!A:B,2,FALSE)","v":186}]
[959,"曹文文",360428102017,154020401523,23,{"$f":"VLOOKUP(C960,Sheet2!A:B,2,FALSE)","v":186}]
[960,"张升红",360428102017,154040801219,25,{"$f":"VLOOKUP(C961,Sheet2!A:B,2,FALSE)","v":186}]
[961,"程鹏鹏",360428102017,154040800604,24,{"$f":"VLOOKUP(C962,Sheet2!A:B,2,FALSE)","v":186}]
[962,"王丹",360428102017,154040800314,27,{"$f":"VLOOKUP(C963,Sheet2!A:B,2,FALSE)","v":186}]
[963,"何银清",360428102017,154040800102,26,{"$f":"VLOOKUP(C964,Sheet2!A:B,2,FALSE)","v":186}]
[964,"洪桂平",360428102017,154012202502,28,{"$f":"VLOOKUP(C965,Sheet2!A:B,2,FALSE)","v":186}]
[965,"李琴",360428102017,154012203123,29,{"$f":"VLOOKUP(C966,Sheet2!A:B,2,FALSE)","v":186}]
[966,"夏金霞",360428102017,154040800813,31,{"$f":"VLOOKUP(C967,Sheet2!A:B,2,FALSE)","v":186}]
[967,"黄霞",360428102017,154012202623,30,{"$f":"VLOOKUP(C968,Sheet2!A:B,2,FALSE)","v":186}]
[968,"李颖",360428102017,154012201012,32,{"$f":"VLOOKUP(C969,Sheet2!A:B,2,FALSE)","v":186}]
[969,"吴秋霞",360428102017,154250102417,33,{"$f":"VLOOKUP(C970,Sheet2!A:B,2,FALSE)","v":186}]
[970,"张安洁",360428102017,154012200621,34,{"$f":"VLOOKUP(C971,Sheet2!A:B,2,FALSE)","v":186}]
[971,"鲁小梅",360428103007,154012500816,1,{"$f":"VLOOKUP(C972,Sheet2!A:B,2,FALSE)","v":183}]
[972,"刘江铃",360428103007,154040601104,2,{"$f":"VLOOKUP(C973,Sheet2!A:B,2,FALSE)","v":183}]
[973,"肖玲丽",360428103007,154040600813,3,{"$f":"VLOOKUP(C974,Sheet2!A:B,2,FALSE)","v":183}]
[974,"黄婷婷",360428103007,154012501122,4,{"$f":"VLOOKUP(C975,Sheet2!A:B,2,FALSE)","v":183}]
[975,"李洁",360428103007,154040601016,7,{"$f":"VLOOKUP(C976,Sheet2!A:B,2,FALSE)","v":183}]
[976,"饶聪",360428103007,154012501701,5,{"$f":"VLOOKUP(C977,Sheet2!A:B,2,FALSE)","v":183}]
[977,"何胡蝶",360428103007,154012500125,6,{"$f":"VLOOKUP(C978,Sheet2!A:B,2,FALSE)","v":183}]
[978,"朱美琦",360428103007,154040601207,8,{"$f":"VLOOKUP(C979,Sheet2!A:B,2,FALSE)","v":183}]
[979,"王琪",360428103007,154012501810,9,{"$f":"VLOOKUP(C980,Sheet2!A:B,2,FALSE)","v":183}]
[980,"吴晓娟",360428103007,154040601121,11,{"$f":"VLOOKUP(C981,Sheet2!A:B,2,FALSE)","v":183}]
[981,"戴龙梦",360428103007,154012502107,10,{"$f":"VLOOKUP(C982,Sheet2!A:B,2,FALSE)","v":183}]
[982,"罗小燕",360428103007,154040600702,13,{"$f":"VLOOKUP(C983,Sheet2!A:B,2,FALSE)","v":183}]
[983,"邵火霞",360428103007,154012501308,12,{"$f":"VLOOKUP(C984,Sheet2!A:B,2,FALSE)","v":183}]
[984,"陈恋",360428103007,154040601117,14,{"$f":"VLOOKUP(C985,Sheet2!A:B,2,FALSE)","v":183}]
[985,"吕梦洁",360428103007,154250103726,15,{"$f":"VLOOKUP(C986,Sheet2!A:B,2,FALSE)","v":183}]
[986,"刘静",360428103007,154012501127,16,{"$f":"VLOOKUP(C987,Sheet2!A:B,2,FALSE)","v":183}]
[987,"侯宇敏",360428103007,154040600503,18,{"$f":"VLOOKUP(C988,Sheet2!A:B,2,FALSE)","v":183}]
[988,"余梦洁",360428103007,154012500605,17,{"$f":"VLOOKUP(C989,Sheet2!A:B,2,FALSE)","v":183}]
[989,"单淑针",360428104003,154232406114,1,{"$f":"VLOOKUP(C990,Sheet2!A:B,2,FALSE)","v":202.5}]
[990,"邵欣欣",360428104003,154012600218,2,{"$f":"VLOOKUP(C991,Sheet2!A:B,2,FALSE)","v":202.5}]
[991,"柳春花",360428104003,154012600829,3,{"$f":"VLOOKUP(C992,Sheet2!A:B,2,FALSE)","v":202.5}]
[992,"李思盼",360428104003,154250103920,4,{"$f":"VLOOKUP(C993,Sheet2!A:B,2,FALSE)","v":202.5}]
[993,"熊婷",360428104003,154012601108,5,{"$f":"VLOOKUP(C994,Sheet2!A:B,2,FALSE)","v":202.5}]
[994,"刘婷",360428104003,154012601015,6,{"$f":"VLOOKUP(C995,Sheet2!A:B,2,FALSE)","v":202.5}]
[995,"陈祉玲",360428104003,154012600915,7,{"$f":"VLOOKUP(C996,Sheet2!A:B,2,FALSE)","v":202.5}]
[996,"刘迎",360428104003,154040702525,8,{"$f":"VLOOKUP(C997,Sheet2!A:B,2,FALSE)","v":202.5}]
[997,"杨雅雯",360428104003,154232406421,9,{"$f":"VLOOKUP(C998,Sheet2!A:B,2,FALSE)","v":202.5}]
[998,"胡佳霞",360428105006,154250104314,1,{"$f":"VLOOKUP(C999,Sheet2!A:B,2,FALSE)","v":148}]
[999,"章佳佳",360428105006,154250104222,2,{"$f":"VLOOKUP(C1000,Sheet2!A:B,2,FALSE)","v":148}]
[1000,"肖小琴",360428105006,154012602004,3,{"$f":"VLOOKUP(C1001,Sheet2!A:B,2,FALSE)","v":148}]
[1001,"邹乐颖",360428105006,154250104305,4,{"$f":"VLOOKUP(C1002,Sheet2!A:B,2,FALSE)","v":148}]
[1002,"匡先先",360428105006,154040703308,5,{"$f":"VLOOKUP(C1003,Sheet2!A:B,2,FALSE)","v":148}]
[1003,"柳欣欣",360428105006,154221403212,6,{"$f":"VLOOKUP(C1004,Sheet2!A:B,2,FALSE)","v":148}]
[1004,"王王",360428105006,154040703204,7,{"$f":"VLOOKUP(C1005,Sheet2!A:B,2,FALSE)","v":148}]
[1005,"周泽鑫",360428105006,154242600308,8,{"$f":"VLOOKUP(C1006,Sheet2!A:B,2,FALSE)","v":148}]
[1006,"杨洪晨",360428105006,154221403220,10,{"$f":"VLOOKUP(C1007,Sheet2!A:B,2,FALSE)","v":148}]
[1007,"于文彪",360428105006,154012601506,9,{"$f":"VLOOKUP(C1008,Sheet2!A:B,2,FALSE)","v":148}]
[1008,"黄颖",360428105006,154250104205,11,{"$f":"VLOOKUP(C1009,Sheet2!A:B,2,FALSE)","v":148}]
[1009,"潘豪裴",360428105006,154030303530,12,{"$f":"VLOOKUP(C1010,Sheet2!A:B,2,FALSE)","v":148}]
[1010,"叶子楠",360428105006,154040702915,13,{"$f":"VLOOKUP(C1011,Sheet2!A:B,2,FALSE)","v":148}]
[1011,"蔡利娟",360428105006,154040703101,14,{"$f":"VLOOKUP(C1012,Sheet2!A:B,2,FALSE)","v":148}]
[1012,"郭婉潇",360428105006,154242600228,15,{"$f":"VLOOKUP(C1013,Sheet2!A:B,2,FALSE)","v":148}]
[1013,"徐志瑶",360428106006,154012603220,1,{"$f":"VLOOKUP(C1014,Sheet2!A:B,2,FALSE)","v":160}]
[1014,"胡晴",360428106006,154040802303,2,{"$f":"VLOOKUP(C1015,Sheet2!A:B,2,FALSE)","v":160}]
[1015,"计宇虹",360428106006,154012602427,3,{"$f":"VLOOKUP(C1016,Sheet2!A:B,2,FALSE)","v":160}]
[1016,"周欣",360428106006,154040802330,4,{"$f":"VLOOKUP(C1017,Sheet2!A:B,2,FALSE)","v":160}]
[1017,"胡澄淑",360428106006,154012603618,5,{"$f":"VLOOKUP(C1018,Sheet2!A:B,2,FALSE)","v":160}]
[1018,"桑佳敏",360428106006,154020403602,6,{"$f":"VLOOKUP(C1019,Sheet2!A:B,2,FALSE)","v":160}]
[1019,"戴艳",360428106006,154012603102,7,{"$f":"VLOOKUP(C1020,Sheet2!A:B,2,FALSE)","v":160}]
[1020,"宋欣悦",360428106006,154040802329,9,{"$f":"VLOOKUP(C1021,Sheet2!A:B,2,FALSE)","v":160}]
[1021,"王莹观",360428106006,154012603308,8,{"$f":"VLOOKUP(C1022,Sheet2!A:B,2,FALSE)","v":160}]
[1022,"黄祥",360428106006,154040802120,10,{"$f":"VLOOKUP(C1023,Sheet2!A:B,2,FALSE)","v":160}]
[1023,"王当当",360428106006,154012603327,11,{"$f":"VLOOKUP(C1024,Sheet2!A:B,2,FALSE)","v":160}]
[1024,"包艳娇",360428106006,154040802118,12,{"$f":"VLOOKUP(C1025,Sheet2!A:B,2,FALSE)","v":160}]
[1025,"江芬芬",360428106006,154020403217,13,{"$f":"VLOOKUP(C1026,Sheet2!A:B,2,FALSE)","v":160}]
[1026,"付微",360428106006,154012603021,14,{"$f":"VLOOKUP(C1027,Sheet2!A:B,2,FALSE)","v":160}]
[1027,"吴梓墨",360428106006,154040802002,15,{"$f":"VLOOKUP(C1028,Sheet2!A:B,2,FALSE)","v":160}]
[1028,"王蓉",360428107006,154012503011,1,{"$f":"VLOOKUP(C1029,Sheet2!A:B,2,FALSE)","v":109}]
[1029,"周欣",360428107006,154040703409,2,{"$f":"VLOOKUP(C1030,Sheet2!A:B,2,FALSE)","v":109}]
[1030,"熊可轩",360428107006,154012404113,3,{"$f":"VLOOKUP(C1031,Sheet2!A:B,2,FALSE)","v":109}]
[1031,"范译文",360428107006,154040703526,4,{"$f":"VLOOKUP(C1032,Sheet2!A:B,2,FALSE)","v":109}]
[1032,"许国菁",360428107006,154040703524,5,{"$f":"VLOOKUP(C1033,Sheet2!A:B,2,FALSE)","v":109}]
[1033,"闵功秋",360428107006,154040703407,6,{"$f":"VLOOKUP(C1034,Sheet2!A:B,2,FALSE)","v":109}]
[1034,"李婷睿",360428107006,154040703511,7,{"$f":"VLOOKUP(C1035,Sheet2!A:B,2,FALSE)","v":109}]
[1035,"曹娜",360428107006,154040703427,8,{"$f":"VLOOKUP(C1036,Sheet2!A:B,2,FALSE)","v":109}]
[1036,"罗蕾",360428107006,154030304117,9,{"$f":"VLOOKUP(C1037,Sheet2!A:B,2,FALSE)","v":109}]
[1037,"万莹",360428107006,154210301507,10,{"$f":"VLOOKUP(C1038,Sheet2!A:B,2,FALSE)","v":109}]
[1038,"刘苏华",360428107006,154040703401,11,{"$f":"VLOOKUP(C1039,Sheet2!A:B,2,FALSE)","v":109}]
[1039,"袁梦瑶",360428107006,154232408102,12,{"$f":"VLOOKUP(C1040,Sheet2!A:B,2,FALSE)","v":109}]
[1040,"刘雁楠",360428107006,154040703512,13,{"$f":"VLOOKUP(C1041,Sheet2!A:B,2,FALSE)","v":109}]
[1041,"程功宇",360428107006,154040703420,14,{"$f":"VLOOKUP(C1042,Sheet2!A:B,2,FALSE)","v":109}]
[1042,"樊好",360428107006,154012404108,15,{"$f":"VLOOKUP(C1043,Sheet2!A:B,2,FALSE)","v":109}]
[1043,"江丽玛",360428116001,154040802702,1,{"$f":"VLOOKUP(C1044,Sheet2!A:B,2,FALSE)","v":152}]
[1044,"张文文",360428116001,154210301912,2,{"$f":"VLOOKUP(C1045,Sheet2!A:B,2,FALSE)","v":152}]
[1045,"龚双秀",360428116001,154012405311,3,{"$f":"VLOOKUP(C1046,Sheet2!A:B,2,FALSE)","v":152}]
[1046,"巢可影",360428201002,154040601727,1,{"$f":"VLOOKUP(C1047,Sheet2!A:B,2,FALSE)","v":117}]
[1047,"刘文丽",360428201002,154040601901,2,{"$f":"VLOOKUP(C1048,Sheet2!A:B,2,FALSE)","v":117}]
[1048,"胡齐琦",360428201002,154040601618,3,{"$f":"VLOOKUP(C1049,Sheet2!A:B,2,FALSE)","v":117}]
[1049,"张颖",360428201002,154012701318,5,{"$f":"VLOOKUP(C1050,Sheet2!A:B,2,FALSE)","v":117}]
[1050,"蔡慧敏",360428201002,154040601729,4,{"$f":"VLOOKUP(C1051,Sheet2!A:B,2,FALSE)","v":117}]
[1051,"马智姣",360428201002,154040601816,6,{"$f":"VLOOKUP(C1052,Sheet2!A:B,2,FALSE)","v":117}]
[1052,"程玮",360428202004,154040803021,1,{"$f":"VLOOKUP(C1053,Sheet2!A:B,2,FALSE)","v":145}]
[1053,"吕力力",360428202004,154012906530,2,{"$f":"VLOOKUP(C1054,Sheet2!A:B,2,FALSE)","v":145}]
[1054,"占旭芳",360428202004,154040803223,3,{"$f":"VLOOKUP(C1055,Sheet2!A:B,2,FALSE)","v":145}]
[1055,"陶小敏",360428202004,154012907028,4,{"$f":"VLOOKUP(C1056,Sheet2!A:B,2,FALSE)","v":145}]
[1056,"陈诺",360428202004,154012907117,5,{"$f":"VLOOKUP(C1057,Sheet2!A:B,2,FALSE)","v":145}]
[1057,"蔡烨",360428202004,154012906829,6,{"$f":"VLOOKUP(C1058,Sheet2!A:B,2,FALSE)","v":145}]
[1058,"干习启",360428202004,154040803216,7,{"$f":"VLOOKUP(C1059,Sheet2!A:B,2,FALSE)","v":145}]
[1059,"黄亚菲",360428202004,154040803001,8,{"$f":"VLOOKUP(C1060,Sheet2!A:B,2,FALSE)","v":145}]
[1060,"裘玉蓉",360428202004,154012907025,9,{"$f":"VLOOKUP(C1061,Sheet2!A:B,2,FALSE)","v":145}]
[1061,"刘芬",360428202004,154040803325,10,{"$f":"VLOOKUP(C1062,Sheet2!A:B,2,FALSE)","v":145}]
[1062,"杜家鑫",360428202004,154250105502,11,{"$f":"VLOOKUP(C1063,Sheet2!A:B,2,FALSE)","v":145}]
[1063,"杨子雄",360428202004,154040803317,12,{"$f":"VLOOKUP(C1064,Sheet2!A:B,2,FALSE)","v":145}]
[1064,"冯玲慧",360428203004,154040602607,1,{"$f":"VLOOKUP(C1065,Sheet2!A:B,2,FALSE)","v":180.5}]
[1065,"刘鑫",360428203004,154012805114,2,{"$f":"VLOOKUP(C1066,Sheet2!A:B,2,FALSE)","v":180.5}]
[1066,"曹兰霞",360428203004,154040602326,3,{"$f":"VLOOKUP(C1067,Sheet2!A:B,2,FALSE)","v":180.5}]
[1067,"汪盼盼",360428203004,154040602404,4,{"$f":"VLOOKUP(C1068,Sheet2!A:B,2,FALSE)","v":180.5}]
[1068,"邵文萱",360428203004,154040602217,5,{"$f":"VLOOKUP(C1069,Sheet2!A:B,2,FALSE)","v":180.5}]
[1069,"陈燕",360428203004,154040602324,6,{"$f":"VLOOKUP(C1070,Sheet2!A:B,2,FALSE)","v":180.5}]
[1070,"冯加欣",360428203004,154040603002,7,{"$f":"VLOOKUP(C1071,Sheet2!A:B,2,FALSE)","v":180.5}]
[1071,"曹钦霞",360428203004,154012907509,8,{"$f":"VLOOKUP(C1072,Sheet2!A:B,2,FALSE)","v":180.5}]
[1072,"江文君",360428203004,154012805711,9,{"$f":"VLOOKUP(C1073,Sheet2!A:B,2,FALSE)","v":180.5}]
[1073,"刘小芳",360428203004,154012804617,10,{"$f":"VLOOKUP(C1074,Sheet2!A:B,2,FALSE)","v":180.5}]
[1074,"陈圆圆",360428203004,154040602630,11,{"$f":"VLOOKUP(C1075,Sheet2!A:B,2,FALSE)","v":180.5}]
[1075,"熊梦引",360428203004,154040602311,12,{"$f":"VLOOKUP(C1076,Sheet2!A:B,2,FALSE)","v":180.5}]
[1076,"吴琴",360428204002,154040603120,1,{"$f":"VLOOKUP(C1077,Sheet2!A:B,2,FALSE)","v":126.5}]
[1077,"邱全瑜",360428204002,154020501803,2,{"$f":"VLOOKUP(C1078,Sheet2!A:B,2,FALSE)","v":126.5}]
[1078,"杨梦琦",360428204002,154040603303,3,{"$f":"VLOOKUP(C1079,Sheet2!A:B,2,FALSE)","v":126.5}]
[1079,"夏子琪",360428204002,154040603110,4,{"$f":"VLOOKUP(C1080,Sheet2!A:B,2,FALSE)","v":126.5}]
[1080,"陈柳清",360428205005,154012406102,1,{"$f":"VLOOKUP(C1081,Sheet2!A:B,2,FALSE)","v":96}]
[1081,"张子昕",360428205005,154040603512,2,{"$f":"VLOOKUP(C1082,Sheet2!A:B,2,FALSE)","v":96}]
[1082,"谢伟",360428205005,154030306618,3,{"$f":"VLOOKUP(C1083,Sheet2!A:B,2,FALSE)","v":96}]
[1083,"汪飞宇",360428205005,154040603514,4,{"$f":"VLOOKUP(C1084,Sheet2!A:B,2,FALSE)","v":96}]
[1084,"程旦",360428205005,154040603416,5,{"$f":"VLOOKUP(C1085,Sheet2!A:B,2,FALSE)","v":96}]
[1085,"段洋洋",360428205005,154040603517,6,{"$f":"VLOOKUP(C1086,Sheet2!A:B,2,FALSE)","v":96}]
[1086,"刘孟政",360428205005,154020502209,7,{"$f":"VLOOKUP(C1087,Sheet2!A:B,2,FALSE)","v":96}]
[1087,"宋遥",360428205005,154040603622,8,{"$f":"VLOOKUP(C1088,Sheet2!A:B,2,FALSE)","v":96}]
[1088,"卢永强",360428205005,154040603404,9,{"$f":"VLOOKUP(C1089,Sheet2!A:B,2,FALSE)","v":96}]
[1089,"余振华",360428205005,154040603612,10,{"$f":"VLOOKUP(C1090,Sheet2!A:B,2,FALSE)","v":96}]
[1090,"彭瑛",360428205005,154040603527,11,{"$f":"VLOOKUP(C1091,Sheet2!A:B,2,FALSE)","v":96}]
[1091,"刘锰锰",360428205005,154040603412,12,{"$f":"VLOOKUP(C1092,Sheet2!A:B,2,FALSE)","v":96}]
[1092,"程艳艳",360428205005,154012804318,13,{"$f":"VLOOKUP(C1093,Sheet2!A:B,2,FALSE)","v":96}]
[1093,"陈春波",360428205005,154030306806,14,{"$f":"VLOOKUP(C1094,Sheet2!A:B,2,FALSE)","v":96}]
[1094,"王创",360428205005,154040603420,15,{"$f":"VLOOKUP(C1095,Sheet2!A:B,2,FALSE)","v":96}]
[1095,"张梦华",360428206005,154012702713,1,{"$f":"VLOOKUP(C1096,Sheet2!A:B,2,FALSE)","v":159}]
[1096,"王萍",360428206005,154012702417,2,{"$f":"VLOOKUP(C1097,Sheet2!A:B,2,FALSE)","v":159}]
[1097,"王琴",360428206005,154012702614,3,{"$f":"VLOOKUP(C1098,Sheet2!A:B,2,FALSE)","v":159}]
[1098,"詹善鑫",360428206005,154040603801,4,{"$f":"VLOOKUP(C1099,Sheet2!A:B,2,FALSE)","v":159}]
[1099,"周子娴",360428206005,154012701809,5,{"$f":"VLOOKUP(C1100,Sheet2!A:B,2,FALSE)","v":159}]
[1100,"万尤",360428206005,154012702203,6,{"$f":"VLOOKUP(C1101,Sheet2!A:B,2,FALSE)","v":159}]
[1101,"黄婷",360428206005,154020502416,7,{"$f":"VLOOKUP(C1102,Sheet2!A:B,2,FALSE)","v":159}]
[1102,"吴紫金",360428206005,154020502401,8,{"$f":"VLOOKUP(C1103,Sheet2!A:B,2,FALSE)","v":159}]
[1103,"黄梦琴",360428206005,154231503528,9,{"$f":"VLOOKUP(C1104,Sheet2!A:B,2,FALSE)","v":159}]
[1104,"陈子微",360428206005,154040604026,10,{"$f":"VLOOKUP(C1105,Sheet2!A:B,2,FALSE)","v":159}]
[1105,"孙佳佳",360428206005,154012702022,11,{"$f":"VLOOKUP(C1106,Sheet2!A:B,2,FALSE)","v":159}]
[1106,"吴美新",360428206005,154040604106,12,{"$f":"VLOOKUP(C1107,Sheet2!A:B,2,FALSE)","v":159}]
[1107,"赵文张",360428206005,154012702819,13,{"$f":"VLOOKUP(C1108,Sheet2!A:B,2,FALSE)","v":159}]
[1108,"詹婷婷",360428206005,154020502329,14,{"$f":"VLOOKUP(C1109,Sheet2!A:B,2,FALSE)","v":159}]
[1109,"毛晓敏",360428206005,154020502413,15,{"$f":"VLOOKUP(C1110,Sheet2!A:B,2,FALSE)","v":159}]
[1110,"邹玉标",360428207005,154040604223,1,{"$f":"VLOOKUP(C1111,Sheet2!A:B,2,FALSE)","v":91}]
[1111,"李春雨",360428207005,154040604304,2,{"$f":"VLOOKUP(C1112,Sheet2!A:B,2,FALSE)","v":91}]
[1112,"刘威",360428207005,154040604228,3,{"$f":"VLOOKUP(C1113,Sheet2!A:B,2,FALSE)","v":91}]
[1113,"丁文倩",360428207005,154040604221,4,{"$f":"VLOOKUP(C1114,Sheet2!A:B,2,FALSE)","v":91}]
[1114,"沈晓恬",360428207005,154040604212,5,{"$f":"VLOOKUP(C1115,Sheet2!A:B,2,FALSE)","v":91}]
[1115,"冯星",360428207005,154012703003,6,{"$f":"VLOOKUP(C1116,Sheet2!A:B,2,FALSE)","v":91}]
[1116,"汪浩",360428207005,154040604227,7,{"$f":"VLOOKUP(C1117,Sheet2!A:B,2,FALSE)","v":91}]
[1117,"潘思敏",360428207005,154040604207,8,{"$f":"VLOOKUP(C1118,Sheet2!A:B,2,FALSE)","v":91}]
[1118,"胡梦玲",360428207005,154012406407,9,{"$f":"VLOOKUP(C1119,Sheet2!A:B,2,FALSE)","v":91}]
[1119,"胡一诺",360428207005,154040604225,10,{"$f":"VLOOKUP(C1120,Sheet2!A:B,2,FALSE)","v":91}]
[1120,"刘家兴",360428207005,154040604209,11,{"$f":"VLOOKUP(C1121,Sheet2!A:B,2,FALSE)","v":91}]
[1121,"郭剑萍",360428207005,154012406327,12,{"$f":"VLOOKUP(C1122,Sheet2!A:B,2,FALSE)","v":91}]
[1122,"陈丽娟",360428207005,154040604222,13,{"$f":"VLOOKUP(C1123,Sheet2!A:B,2,FALSE)","v":91}]
[1123,"戴功卿",360428207005,154040604226,14,{"$f":"VLOOKUP(C1124,Sheet2!A:B,2,FALSE)","v":91}]
[1124,"李继凡",360428207005,154040604302,15,{"$f":"VLOOKUP(C1125,Sheet2!A:B,2,FALSE)","v":91}]
[1125,"赵微",360428210004,154012803210,1,{"$f":"VLOOKUP(C1126,Sheet2!A:B,2,FALSE)","v":50.5}]
[1126,"黄熙凤",360428210004,154242703910,2,{"$f":"VLOOKUP(C1127,Sheet2!A:B,2,FALSE)","v":50.5}]
[1127,"方道露",360428210004,154012803202,3,{"$f":"VLOOKUP(C1128,Sheet2!A:B,2,FALSE)","v":50.5}]
[1128,"吴祥武",360428210004,154012803224,4,{"$f":"VLOOKUP(C1129,Sheet2!A:B,2,FALSE)","v":50.5}]
[1129,"彭斯佳",360428210004,154040803717,5,{"$f":"VLOOKUP(C1130,Sheet2!A:B,2,FALSE)","v":50.5}]
[1130,"朱琪琪",360428210004,154012803204,6,{"$f":"VLOOKUP(C1131,Sheet2!A:B,2,FALSE)","v":50.5}]
[1131,"刘娜娜",360428210004,154040803715,7,{"$f":"VLOOKUP(C1132,Sheet2!A:B,2,FALSE)","v":50.5}]
[1132,"汪斯",360428210004,154040803702,8,{"$f":"VLOOKUP(C1133,Sheet2!A:B,2,FALSE)","v":50.5}]
[1133,"王雯",360428210004,154012803122,9,{"$f":"VLOOKUP(C1134,Sheet2!A:B,2,FALSE)","v":50.5}]
[1134,"赵馨",360428210004,154040803721,10,{"$f":"VLOOKUP(C1135,Sheet2!A:B,2,FALSE)","v":50.5}]
[1135,"何育锋",360428211005,154040604603,1,{"$f":"VLOOKUP(C1136,Sheet2!A:B,2,FALSE)","v":101}]
[1136,"万金辉",360428211005,154040604626,2,{"$f":"VLOOKUP(C1137,Sheet2!A:B,2,FALSE)","v":101}]
[1137,"余辉聪",360428211005,154242704111,3,{"$f":"VLOOKUP(C1138,Sheet2!A:B,2,FALSE)","v":101}]
[1138,"徐聪聪",360428211005,154040604612,4,{"$f":"VLOOKUP(C1139,Sheet2!A:B,2,FALSE)","v":101}]
[1139,"彭小凤",360428211005,154040604628,5,{"$f":"VLOOKUP(C1140,Sheet2!A:B,2,FALSE)","v":101}]
[1140,"付佳聪",360428211005,154040604607,6,{"$f":"VLOOKUP(C1141,Sheet2!A:B,2,FALSE)","v":101}]
[1141,"冯上勇",360428211005,154040604602,7,{"$f":"VLOOKUP(C1142,Sheet2!A:B,2,FALSE)","v":101}]
[1142,"夏成",360428211005,154040604614,8,{"$f":"VLOOKUP(C1143,Sheet2!A:B,2,FALSE)","v":101}]
[1143,"王维",360428211005,154012803502,9,{"$f":"VLOOKUP(C1144,Sheet2!A:B,2,FALSE)","v":101}]
[1144,"冯超男",360428215001,154040703806,1,{"$f":"VLOOKUP(C1145,Sheet2!A:B,2,FALSE)","v":132.5}]
[1145,"陶金珍",360428215001,154012407801,2,{"$f":"VLOOKUP(C1146,Sheet2!A:B,2,FALSE)","v":132.5}]
[1146,"张欣",360428215001,154231505712,3,{"$f":"VLOOKUP(C1147,Sheet2!A:B,2,FALSE)","v":132.5}]
[1147,"周爽",360430101002,154040701712,1,{"$f":"VLOOKUP(C1148,Sheet2!A:B,2,FALSE)","v":173.5}]
[1148,"何翠翠",360430101002,154012301229,2,{"$f":"VLOOKUP(C1149,Sheet2!A:B,2,FALSE)","v":173.5}]
[1149,"查子婷",360430101002,154040701415,3,{"$f":"VLOOKUP(C1150,Sheet2!A:B,2,FALSE)","v":173.5}]
[1150,"刘欣",360430101002,154242401028,4,{"$f":"VLOOKUP(C1151,Sheet2!A:B,2,FALSE)","v":173.5}]
[1151,"杨淑涵",360430101002,154040700320,5,{"$f":"VLOOKUP(C1152,Sheet2!A:B,2,FALSE)","v":173.5}]
[1152,"张丹丹",360430101002,154040701811,6,{"$f":"VLOOKUP(C1153,Sheet2!A:B,2,FALSE)","v":173.5}]
[1153,"余意",360430102002,154040800324,1,{"$f":"VLOOKUP(C1154,Sheet2!A:B,2,FALSE)","v":182.5}]
[1154,"汪波",360430102002,154040801215,2,{"$f":"VLOOKUP(C1155,Sheet2!A:B,2,FALSE)","v":182.5}]
[1155,"余佳怡",360430102002,154012203206,3,{"$f":"VLOOKUP(C1156,Sheet2!A:B,2,FALSE)","v":182.5}]
[1156,"欧阳珊",360430102002,154040801525,4,{"$f":"VLOOKUP(C1157,Sheet2!A:B,2,FALSE)","v":182.5}]
[1157,"吴添娇",360430102002,154040801504,5,{"$f":"VLOOKUP(C1158,Sheet2!A:B,2,FALSE)","v":182.5}]
[1158,"吴玲玲",360430102002,154040801307,6,{"$f":"VLOOKUP(C1159,Sheet2!A:B,2,FALSE)","v":182.5}]
[1159,"张健健",360430103001,154040601109,1,{"$f":"VLOOKUP(C1160,Sheet2!A:B,2,FALSE)","v":180}]
[1160,"伍叶",360430103001,154012500728,2,{"$f":"VLOOKUP(C1161,Sheet2!A:B,2,FALSE)","v":180}]
[1161,"颜蓉",360430103001,154040600525,3,{"$f":"VLOOKUP(C1162,Sheet2!A:B,2,FALSE)","v":180}]
[1162,"阳志广",360430105001,154040703129,1,{"$f":"VLOOKUP(C1163,Sheet2!A:B,2,FALSE)","v":166.5}]
[1163,"刘露露",360430105001,154040703015,2,{"$f":"VLOOKUP(C1164,Sheet2!A:B,2,FALSE)","v":166.5}]
[1164,"胡方璟",360430105001,154040703007,3,{"$f":"VLOOKUP(C1165,Sheet2!A:B,2,FALSE)","v":166.5}]
[1165,"汪子依",360430106002,154012602711,1,{"$f":"VLOOKUP(C1166,Sheet2!A:B,2,FALSE)","v":109.5}]
[1166,"孟宪奇",360430106002,154040802114,2,{"$f":"VLOOKUP(C1167,Sheet2!A:B,2,FALSE)","v":109.5}]
[1167,"黄欢欢",360430106002,154012602305,3,{"$f":"VLOOKUP(C1168,Sheet2!A:B,2,FALSE)","v":109.5}]
[1168,"徐玉",360430106002,154040802008,4,{"$f":"VLOOKUP(C1169,Sheet2!A:B,2,FALSE)","v":109.5}]
[1169,"鲍意如",360430106002,154040802214,5,{"$f":"VLOOKUP(C1170,Sheet2!A:B,2,FALSE)","v":109.5}]
[1170,"陈姣姣",360430106002,154020403603,6,{"$f":"VLOOKUP(C1171,Sheet2!A:B,2,FALSE)","v":109.5}]
[1171,"张欢欢",360430107002,154040703528,1,{"$f":"VLOOKUP(C1172,Sheet2!A:B,2,FALSE)","v":127}]
[1172,"杨佳璇",360430107002,154040703530,2,{"$f":"VLOOKUP(C1173,Sheet2!A:B,2,FALSE)","v":127}]
[1173,"欧阳熠",360430107002,154040703408,3,{"$f":"VLOOKUP(C1174,Sheet2!A:B,2,FALSE)","v":127}]
[1174,"宋琴",360430107002,154040703423,4,{"$f":"VLOOKUP(C1175,Sheet2!A:B,2,FALSE)","v":127}]
[1175,"洪文静",360430107002,154012502806,5,{"$f":"VLOOKUP(C1176,Sheet2!A:B,2,FALSE)","v":127}]
[1176,"李思敏",360430107002,154040703419,6,{"$f":"VLOOKUP(C1177,Sheet2!A:B,2,FALSE)","v":127}]
[1177,"胡泽华",360430205001,154040603629,1,{"$f":"VLOOKUP(C1178,Sheet2!A:B,2,FALSE)","v":88}]
[1178,"何睿承",360430205001,154040603602,2,{"$f":"VLOOKUP(C1179,Sheet2!A:B,2,FALSE)","v":88}]
[1179,"李君",360430205001,154040603513,3,{"$f":"VLOOKUP(C1180,Sheet2!A:B,2,FALSE)","v":88}]
[1180,"何焰岚",360430206002,154012702328,1,{"$f":"VLOOKUP(C1181,Sheet2!A:B,2,FALSE)","v":146}]
[1181,"罗蔓莎",360430206002,154040603707,2,{"$f":"VLOOKUP(C1182,Sheet2!A:B,2,FALSE)","v":146}]
[1182,"李璐",360430206002,154040603706,3,{"$f":"VLOOKUP(C1183,Sheet2!A:B,2,FALSE)","v":146}]
[1183,"胡可",360430206002,154040604029,4,{"$f":"VLOOKUP(C1184,Sheet2!A:B,2,FALSE)","v":146}]
[1184,"喻子怡",360430206002,154040603811,5,{"$f":"VLOOKUP(C1185,Sheet2!A:B,2,FALSE)","v":146}]
[1185,"张潇方",360430206002,154040603815,6,{"$f":"VLOOKUP(C1186,Sheet2!A:B,2,FALSE)","v":146}]
[1186,"徐越楠",360430207002,154040604217,1,{"$f":"VLOOKUP(C1187,Sheet2!A:B,2,FALSE)","v":94.5}]
[1187,"周良",360430207002,154040604229,2,{"$f":"VLOOKUP(C1188,Sheet2!A:B,2,FALSE)","v":94.5}]
[1188,"景志诚",360430207002,154040604303,3,{"$f":"VLOOKUP(C1189,Sheet2!A:B,2,FALSE)","v":94.5}]
[1189,"陈曼欣",360430207002,154040604220,4,{"$f":"VLOOKUP(C1190,Sheet2!A:B,2,FALSE)","v":94.5}]
[1190,"王嘉浩",360430207002,154040604208,5,{"$f":"VLOOKUP(C1191,Sheet2!A:B,2,FALSE)","v":94.5}]
[1191,"张淑珍",360430210001,154012803402,1,{"$f":"VLOOKUP(C1192,Sheet2!A:B,2,FALSE)","v":124}]
[1192,"汪坤",360430210001,154040803716,2,{"$f":"VLOOKUP(C1193,Sheet2!A:B,2,FALSE)","v":124}]
[1193,"柯朝勇",360430211001,154040604604,1,{"$f":"VLOOKUP(C1194,Sheet2!A:B,2,FALSE)","v":135}]
[1194,"周瑜",360481101009,154012101307,1,{"$f":"VLOOKUP(C1195,Sheet2!A:B,2,FALSE)","v":189}]
[1195,"江琳",360481101009,154012100816,2,{"$f":"VLOOKUP(C1196,Sheet2!A:B,2,FALSE)","v":189}]
[1196,"周玉",360481101009,154040700715,3,{"$f":"VLOOKUP(C1197,Sheet2!A:B,2,FALSE)","v":189}]
[1197,"肖艳",360481101009,154012302827,4,{"$f":"VLOOKUP(C1198,Sheet2!A:B,2,FALSE)","v":189}]
[1198,"幸梦婷",360481101009,154012300521,5,{"$f":"VLOOKUP(C1199,Sheet2!A:B,2,FALSE)","v":189}]
[1199,"李兰",360481101009,154040700614,7,{"$f":"VLOOKUP(C1200,Sheet2!A:B,2,FALSE)","v":189}]
[1200,"方思思",360481101009,154040700114,6,{"$f":"VLOOKUP(C1201,Sheet2!A:B,2,FALSE)","v":189}]
[1201,"李晶晶",360481101009,154012101425,8,{"$f":"VLOOKUP(C1202,Sheet2!A:B,2,FALSE)","v":189}]
[1202,"黄冬燕",360481101009,154012300328,9,{"$f":"VLOOKUP(C1203,Sheet2!A:B,2,FALSE)","v":189}]
[1203,"张彬芸",360481101009,154040701427,10,{"$f":"VLOOKUP(C1204,Sheet2!A:B,2,FALSE)","v":189}]
[1204,"夏懿资",360481101009,154040700611,11,{"$f":"VLOOKUP(C1205,Sheet2!A:B,2,FALSE)","v":189}]
[1205,"陈少琪",360481101009,154012100622,12,{"$f":"VLOOKUP(C1206,Sheet2!A:B,2,FALSE)","v":189}]
[1206,"周子怡",360481101009,154040701220,13,{"$f":"VLOOKUP(C1207,Sheet2!A:B,2,FALSE)","v":189}]
[1207,"邹鑫",360481101009,154012102810,14,{"$f":"VLOOKUP(C1208,Sheet2!A:B,2,FALSE)","v":189}]
[1208,"王千惠",360481101009,154040702106,15,{"$f":"VLOOKUP(C1209,Sheet2!A:B,2,FALSE)","v":189}]
[1209,"余梦",360481101009,154012302612,16,{"$f":"VLOOKUP(C1210,Sheet2!A:B,2,FALSE)","v":189}]
[1210,"舒丽霓",360481101009,154012101530,18,{"$f":"VLOOKUP(C1211,Sheet2!A:B,2,FALSE)","v":189}]
[1211,"邱玲健",360481101009,154012302329,17,{"$f":"VLOOKUP(C1212,Sheet2!A:B,2,FALSE)","v":189}]
[1212,"陈瑶",360481101009,154012102301,19,{"$f":"VLOOKUP(C1213,Sheet2!A:B,2,FALSE)","v":189}]
[1213,"余婉芝",360481101009,154012101426,20,{"$f":"VLOOKUP(C1214,Sheet2!A:B,2,FALSE)","v":189}]
[1214,"付涵宇",360481101009,154012102028,21,{"$f":"VLOOKUP(C1215,Sheet2!A:B,2,FALSE)","v":189}]
[1215,"王子熠",360481101009,154012301510,22,{"$f":"VLOOKUP(C1216,Sheet2!A:B,2,FALSE)","v":189}]
[1216,"李晨",360481101009,154012300520,23,{"$f":"VLOOKUP(C1217,Sheet2!A:B,2,FALSE)","v":189}]
[1217,"冷清龙",360481102009,154012303612,1,{"$f":"VLOOKUP(C1218,Sheet2!A:B,2,FALSE)","v":192.5}]
[1218,"邹心悦",360481102009,154012203302,2,{"$f":"VLOOKUP(C1219,Sheet2!A:B,2,FALSE)","v":192.5}]
[1219,"戴堂印",360481102009,154040801522,3,{"$f":"VLOOKUP(C1220,Sheet2!A:B,2,FALSE)","v":192.5}]
[1220,"胡柳",360481102009,154040801521,5,{"$f":"VLOOKUP(C1221,Sheet2!A:B,2,FALSE)","v":192.5}]
[1221,"杨滔",360481102009,154040800119,4,{"$f":"VLOOKUP(C1222,Sheet2!A:B,2,FALSE)","v":192.5}]
[1222,"柯梦嫒",360481102009,154040801119,6,{"$f":"VLOOKUP(C1223,Sheet2!A:B,2,FALSE)","v":192.5}]
[1223,"饶薇",360481102009,154250102311,7,{"$f":"VLOOKUP(C1224,Sheet2!A:B,2,FALSE)","v":192.5}]
[1224,"徐影",360481102009,154040800120,8,{"$f":"VLOOKUP(C1225,Sheet2!A:B,2,FALSE)","v":192.5}]
[1225,"黄萱",360481102009,154012201318,10,{"$f":"VLOOKUP(C1226,Sheet2!A:B,2,FALSE)","v":192.5}]
[1226,"詹欣怡",360481102009,154012303816,9,{"$f":"VLOOKUP(C1227,Sheet2!A:B,2,FALSE)","v":192.5}]
[1227,"黄夏敏",360481102009,154250103024,11,{"$f":"VLOOKUP(C1228,Sheet2!A:B,2,FALSE)","v":192.5}]
[1228,"夏避云",360481102009,154012202405,12,{"$f":"VLOOKUP(C1229,Sheet2!A:B,2,FALSE)","v":192.5}]
[1229,"熊紫玲",360481102009,154012200826,13,{"$f":"VLOOKUP(C1230,Sheet2!A:B,2,FALSE)","v":192.5}]
[1230,"魏亚男",360481102009,154040801304,14,{"$f":"VLOOKUP(C1231,Sheet2!A:B,2,FALSE)","v":192.5}]
[1231,"胡柳",360481102009,154012303129,15,{"$f":"VLOOKUP(C1232,Sheet2!A:B,2,FALSE)","v":192.5}]
[1232,"冷玉玲",360481102009,154040800311,17,{"$f":"VLOOKUP(C1233,Sheet2!A:B,2,FALSE)","v":192.5}]
[1233,"徐露燕",360481102009,154250102006,16,{"$f":"VLOOKUP(C1234,Sheet2!A:B,2,FALSE)","v":192.5}]
[1234,"谢丽娟",360481102009,154012200207,18,{"$f":"VLOOKUP(C1235,Sheet2!A:B,2,FALSE)","v":192.5}]
[1235,"孙淑金",360481102009,154250102724,22,{"$f":"VLOOKUP(C1236,Sheet2!A:B,2,FALSE)","v":192.5}]
[1236,"周丹",360481102009,154012201204,19,{"$f":"VLOOKUP(C1237,Sheet2!A:B,2,FALSE)","v":192.5}]
[1237,"李建春",360481102009,154012202618,20,{"$f":"VLOOKUP(C1238,Sheet2!A:B,2,FALSE)","v":192.5}]
[1238,"郑文文",360481102009,154040800408,21,{"$f":"VLOOKUP(C1239,Sheet2!A:B,2,FALSE)","v":192.5}]
[1239,"温美红",360481102009,154012202904,24,{"$f":"VLOOKUP(C1240,Sheet2!A:B,2,FALSE)","v":192.5}]
[1240,"贾卓学",360481102009,154012203627,23,{"$f":"VLOOKUP(C1241,Sheet2!A:B,2,FALSE)","v":192.5}]
[1241,"胡甜甜",360481103006,154040600512,1,{"$f":"VLOOKUP(C1242,Sheet2!A:B,2,FALSE)","v":181}]
[1242,"高佳佳",360481103006,154012501903,3,{"$f":"VLOOKUP(C1243,Sheet2!A:B,2,FALSE)","v":181}]
[1243,"熊紫依",360481103006,154040601023,2,{"$f":"VLOOKUP(C1244,Sheet2!A:B,2,FALSE)","v":181}]
[1244,"陈勤",360481103006,154040600810,4,{"$f":"VLOOKUP(C1245,Sheet2!A:B,2,FALSE)","v":181}]
[1245,"吴燕红",360481103006,154012500319,6,{"$f":"VLOOKUP(C1246,Sheet2!A:B,2,FALSE)","v":181}]
[1246,"罗钰倩",360481103006,154040600402,5,{"$f":"VLOOKUP(C1247,Sheet2!A:B,2,FALSE)","v":181}]
[1247,"刘玲",360481103006,154012500324,7,{"$f":"VLOOKUP(C1248,Sheet2!A:B,2,FALSE)","v":181}]
[1248,"周安琴",360481103006,154012501021,8,{"$f":"VLOOKUP(C1249,Sheet2!A:B,2,FALSE)","v":181}]
[1249,"陈思敏",360481103006,154040600425,9,{"$f":"VLOOKUP(C1250,Sheet2!A:B,2,FALSE)","v":181}]
[1250,"郭香",360481103006,154012500718,11,{"$f":"VLOOKUP(C1251,Sheet2!A:B,2,FALSE)","v":181}]
[1251,"高沅",360481103006,154012501617,10,{"$f":"VLOOKUP(C1252,Sheet2!A:B,2,FALSE)","v":181}]
[1252,"高艺璇",360481103006,154040600218,12,{"$f":"VLOOKUP(C1253,Sheet2!A:B,2,FALSE)","v":181}]
[1253,"汤玲",360481103006,154040601301,13,{"$f":"VLOOKUP(C1254,Sheet2!A:B,2,FALSE)","v":181}]
[1254,"宗纤纤",360481103006,154040601006,14,{"$f":"VLOOKUP(C1255,Sheet2!A:B,2,FALSE)","v":181}]
[1255,"黄雯雯",360481103006,154012501305,15,{"$f":"VLOOKUP(C1256,Sheet2!A:B,2,FALSE)","v":181}]
[1256,"胡思琴",360481104002,154250103907,1,{"$f":"VLOOKUP(C1257,Sheet2!A:B,2,FALSE)","v":196}]
[1257,"刘婷云",360481104002,154040702524,2,{"$f":"VLOOKUP(C1258,Sheet2!A:B,2,FALSE)","v":196}]
[1258,"查琴琴",360481104002,154040702501,3,{"$f":"VLOOKUP(C1259,Sheet2!A:B,2,FALSE)","v":196}]
[1259,"方龙龙",360481104002,154232406209,4,{"$f":"VLOOKUP(C1260,Sheet2!A:B,2,FALSE)","v":196}]
[1260,"沈思",360481104002,154040702623,5,{"$f":"VLOOKUP(C1261,Sheet2!A:B,2,FALSE)","v":196}]
[1261,"龚莹鑫",360481104002,154040702713,6,{"$f":"VLOOKUP(C1262,Sheet2!A:B,2,FALSE)","v":196}]
[1262,"揭蓉蓉",360481105002,154012601718,1,{"$f":"VLOOKUP(C1263,Sheet2!A:B,2,FALSE)","v":159}]
[1263,"邹子俊",360481105002,154040703303,2,{"$f":"VLOOKUP(C1264,Sheet2!A:B,2,FALSE)","v":159}]
[1264,"戴安琪",360481105002,154060602401,3,{"$f":"VLOOKUP(C1265,Sheet2!A:B,2,FALSE)","v":159}]
[1265,"樊康伟",360481105002,154040703230,4,{"$f":"VLOOKUP(C1266,Sheet2!A:B,2,FALSE)","v":159}]
[1266,"罗凌",360481105002,154012601203,5,{"$f":"VLOOKUP(C1267,Sheet2!A:B,2,FALSE)","v":159}]
[1267,"易慧敏",360481105002,154040703116,6,{"$f":"VLOOKUP(C1268,Sheet2!A:B,2,FALSE)","v":159}]
[1268,"周梦梦",360481106003,154040802018,1,{"$f":"VLOOKUP(C1269,Sheet2!A:B,2,FALSE)","v":146.5}]
[1269,"夏苠月",360481106003,154012602508,2,{"$f":"VLOOKUP(C1270,Sheet2!A:B,2,FALSE)","v":146.5}]
[1270,"张耀方",360481106003,154040802104,3,{"$f":"VLOOKUP(C1271,Sheet2!A:B,2,FALSE)","v":146.5}]
[1271,"何子仪",360481106003,154040802402,4,{"$f":"VLOOKUP(C1272,Sheet2!A:B,2,FALSE)","v":146.5}]
[1272,"樊奕",360481106003,154012602506,5,{"$f":"VLOOKUP(C1273,Sheet2!A:B,2,FALSE)","v":146.5}]
[1273,"刘爽",360481106003,154040802024,6,{"$f":"VLOOKUP(C1274,Sheet2!A:B,2,FALSE)","v":146.5}]
[1274,"熊锦",360481106003,154040802110,7,{"$f":"VLOOKUP(C1275,Sheet2!A:B,2,FALSE)","v":146.5}]
[1275,"周梦",360481106003,154040802007,8,{"$f":"VLOOKUP(C1276,Sheet2!A:B,2,FALSE)","v":146.5}]
[1276,"葛浩",360481106003,154040802206,9,{"$f":"VLOOKUP(C1277,Sheet2!A:B,2,FALSE)","v":146.5}]
[1277,"吴颖",360481107001,154040703402,1,{"$f":"VLOOKUP(C1278,Sheet2!A:B,2,FALSE)","v":128.5}]
[1278,"张龙生",360481107001,154040703505,2,{"$f":"VLOOKUP(C1279,Sheet2!A:B,2,FALSE)","v":128.5}]
[1279,"张子怡",360481107001,154040703503,3,{"$f":"VLOOKUP(C1280,Sheet2!A:B,2,FALSE)","v":128.5}]
[1280,"江佳",360481113001,154012604013,1,{"$f":"VLOOKUP(C1281,Sheet2!A:B,2,FALSE)","v":170}]
[1281,"曹凌佳",360481113001,154040601515,2,{"$f":"VLOOKUP(C1282,Sheet2!A:B,2,FALSE)","v":170}]
[1282,"周千颜",360481113001,154012603925,3,{"$f":"VLOOKUP(C1283,Sheet2!A:B,2,FALSE)","v":170}]
[1283,"荣云秀",360481115001,154040802606,1,{"$f":"VLOOKUP(C1284,Sheet2!A:B,2,FALSE)","v":210.5}]
[1284,"黄丽",360481115001,154012404710,2,{"$f":"VLOOKUP(C1285,Sheet2!A:B,2,FALSE)","v":210.5}]
[1285,"陈慧",360481115001,154040802522,3,{"$f":"VLOOKUP(C1286,Sheet2!A:B,2,FALSE)","v":210.5}]
[1286,"余温龙",360481116001,154210302230,1,{"$f":"VLOOKUP(C1287,Sheet2!A:B,2,FALSE)","v":184}]
[1287,"张锦怡",360481116001,154040802805,2,{"$f":"VLOOKUP(C1288,Sheet2!A:B,2,FALSE)","v":184}]
[1288,"匡津龙",360481116001,154012405122,3,{"$f":"VLOOKUP(C1289,Sheet2!A:B,2,FALSE)","v":184}]
[1289,"郭秀秀",360481201004,154040601927,1,{"$f":"VLOOKUP(C1290,Sheet2!A:B,2,FALSE)","v":152.5}]
[1290,"谈珊珊",360481201004,154040601906,2,{"$f":"VLOOKUP(C1291,Sheet2!A:B,2,FALSE)","v":152.5}]
[1291,"郭雅萌",360481201004,154012701501,3,{"$f":"VLOOKUP(C1292,Sheet2!A:B,2,FALSE)","v":152.5}]
[1292,"刘晨曦",360481201004,154012700918,4,{"$f":"VLOOKUP(C1293,Sheet2!A:B,2,FALSE)","v":152.5}]
[1293,"江玲玲",360481201004,154040601815,5,{"$f":"VLOOKUP(C1294,Sheet2!A:B,2,FALSE)","v":152.5}]
[1294,"赵心远",360481201004,154040602109,6,{"$f":"VLOOKUP(C1295,Sheet2!A:B,2,FALSE)","v":152.5}]
[1295,"吴雨露",360481201004,154012701227,7,{"$f":"VLOOKUP(C1296,Sheet2!A:B,2,FALSE)","v":152.5}]
[1296,"周鹏娟",360481201004,154040602030,8,{"$f":"VLOOKUP(C1297,Sheet2!A:B,2,FALSE)","v":152.5}]
[1297,"董康",360481201004,154012701003,9,{"$f":"VLOOKUP(C1298,Sheet2!A:B,2,FALSE)","v":152.5}]
[1298,"柏海峰",360481201004,154040601708,10,{"$f":"VLOOKUP(C1299,Sheet2!A:B,2,FALSE)","v":152.5}]
[1299,"周敏",360481201004,154040601623,11,{"$f":"VLOOKUP(C1300,Sheet2!A:B,2,FALSE)","v":152.5}]
[1300,"熊敏",360481201004,154040601817,12,{"$f":"VLOOKUP(C1301,Sheet2!A:B,2,FALSE)","v":152.5}]
[1301,"文华",360481202006,154040803111,1,{"$f":"VLOOKUP(C1302,Sheet2!A:B,2,FALSE)","v":147}]
[1302,"何锴",360481202006,154040802927,2,{"$f":"VLOOKUP(C1303,Sheet2!A:B,2,FALSE)","v":147}]
[1303,"胡涛涛",360481202006,154012907021,3,{"$f":"VLOOKUP(C1304,Sheet2!A:B,2,FALSE)","v":147}]
[1304,"雷紫依",360481202006,154040803015,4,{"$f":"VLOOKUP(C1305,Sheet2!A:B,2,FALSE)","v":147}]
[1305,"吕雪玲",360481202006,154210201425,5,{"$f":"VLOOKUP(C1306,Sheet2!A:B,2,FALSE)","v":147}]
[1306,"金欣宇",360481202006,154040802917,6,{"$f":"VLOOKUP(C1307,Sheet2!A:B,2,FALSE)","v":147}]
[1307,"严淑娴",360481202006,154040802924,7,{"$f":"VLOOKUP(C1308,Sheet2!A:B,2,FALSE)","v":147}]
[1308,"曹永荣",360481202006,154040803104,8,{"$f":"VLOOKUP(C1309,Sheet2!A:B,2,FALSE)","v":147}]
[1309,"胡清",360481202006,154040803101,9,{"$f":"VLOOKUP(C1310,Sheet2!A:B,2,FALSE)","v":147}]
[1310,"彭榆林",360481202006,154012906425,10,{"$f":"VLOOKUP(C1311,Sheet2!A:B,2,FALSE)","v":147}]
[1311,"程中秀",360481202006,154040802926,11,{"$f":"VLOOKUP(C1312,Sheet2!A:B,2,FALSE)","v":147}]
[1312,"王海江",360481202006,154040803309,12,{"$f":"VLOOKUP(C1313,Sheet2!A:B,2,FALSE)","v":147}]
[1313,"李智超",360481202006,154040803311,13,{"$f":"VLOOKUP(C1314,Sheet2!A:B,2,FALSE)","v":147}]
[1314,"罗凤",360481202006,154040803214,14,{"$f":"VLOOKUP(C1315,Sheet2!A:B,2,FALSE)","v":147}]
[1315,"熊昌钊",360481202006,154012906614,15,{"$f":"VLOOKUP(C1316,Sheet2!A:B,2,FALSE)","v":147}]
[1316,"李青云",360481203003,154040602813,1,{"$f":"VLOOKUP(C1317,Sheet2!A:B,2,FALSE)","v":188}]
[1317,"姜阳镁",360481203003,154040602611,2,{"$f":"VLOOKUP(C1318,Sheet2!A:B,2,FALSE)","v":188}]
[1318,"肖梦琪",360481203003,154040602220,3,{"$f":"VLOOKUP(C1319,Sheet2!A:B,2,FALSE)","v":188}]
[1319,"杨小芳",360481203003,154040602817,6,{"$f":"VLOOKUP(C1320,Sheet2!A:B,2,FALSE)","v":188}]
[1320,"黄慧云",360481203003,154040602226,5,{"$f":"VLOOKUP(C1321,Sheet2!A:B,2,FALSE)","v":188}]
[1321,"吴洪野",360481203003,154040602701,4,{"$f":"VLOOKUP(C1322,Sheet2!A:B,2,FALSE)","v":188}]
[1322,"何煜佳",360481203003,154040602328,7,{"$f":"VLOOKUP(C1323,Sheet2!A:B,2,FALSE)","v":188}]
[1323,"罗心怡",360481203003,154040602806,8,{"$f":"VLOOKUP(C1324,Sheet2!A:B,2,FALSE)","v":188}]
[1324,"方婷",360481203003,154040602921,9,{"$f":"VLOOKUP(C1325,Sheet2!A:B,2,FALSE)","v":188}]
[1325,"张楚冰",360481204002,154040603301,1,{"$f":"VLOOKUP(C1326,Sheet2!A:B,2,FALSE)","v":148.5}]
[1326,"曹英英",360481204002,154012908801,2,{"$f":"VLOOKUP(C1327,Sheet2!A:B,2,FALSE)","v":148.5}]
[1327,"刘禄",360481204002,154040603216,3,{"$f":"VLOOKUP(C1328,Sheet2!A:B,2,FALSE)","v":148.5}]
[1328,"柯妍",360481204002,154040603207,4,{"$f":"VLOOKUP(C1329,Sheet2!A:B,2,FALSE)","v":148.5}]
[1329,"李思慧",360481204002,154040603102,5,{"$f":"VLOOKUP(C1330,Sheet2!A:B,2,FALSE)","v":148.5}]
[1330,"王敏",360481204002,154040603130,6,{"$f":"VLOOKUP(C1331,Sheet2!A:B,2,FALSE)","v":148.5}]
[1331,"蔡亚敏",360481205002,154040603414,1,{"$f":"VLOOKUP(C1332,Sheet2!A:B,2,FALSE)","v":111.5}]
[1332,"周鑫",360481205002,154040603608,2,{"$f":"VLOOKUP(C1333,Sheet2!A:B,2,FALSE)","v":111.5}]
[1333,"张锋成",360481205002,154040603425,3,{"$f":"VLOOKUP(C1334,Sheet2!A:B,2,FALSE)","v":111.5}]
[1334,"柯于辉",360481205002,154040603501,4,{"$f":"VLOOKUP(C1335,Sheet2!A:B,2,FALSE)","v":111.5}]
[1335,"罗景",360481205002,154040603505,5,{"$f":"VLOOKUP(C1336,Sheet2!A:B,2,FALSE)","v":111.5}]
[1336,"张俊",360481205002,154040603504,6,{"$f":"VLOOKUP(C1337,Sheet2!A:B,2,FALSE)","v":111.5}]
[1337,"周梓楠",360481206003,154040604024,1,{"$f":"VLOOKUP(C1338,Sheet2!A:B,2,FALSE)","v":175}]
[1338,"丁娟",360481206003,154012702323,2,{"$f":"VLOOKUP(C1339,Sheet2!A:B,2,FALSE)","v":175}]
[1339,"夏紫莉",360481206003,154012701817,3,{"$f":"VLOOKUP(C1340,Sheet2!A:B,2,FALSE)","v":175}]
[1340,"王琪",360481206003,154040603911,4,{"$f":"VLOOKUP(C1341,Sheet2!A:B,2,FALSE)","v":175}]
[1341,"段佳翼",360481206003,154040603816,6,{"$f":"VLOOKUP(C1342,Sheet2!A:B,2,FALSE)","v":175}]
[1342,"焦敏",360481206003,154040603930,5,{"$f":"VLOOKUP(C1343,Sheet2!A:B,2,FALSE)","v":175}]
[1343,"张思念",360481206003,154040603923,7,{"$f":"VLOOKUP(C1344,Sheet2!A:B,2,FALSE)","v":175}]
[1344,"冷晗",360481206003,154012702229,8,{"$f":"VLOOKUP(C1345,Sheet2!A:B,2,FALSE)","v":175}]
[1345,"潘玮滕",360481206003,154012702110,9,{"$f":"VLOOKUP(C1346,Sheet2!A:B,2,FALSE)","v":175}]
[1346,"范紫燕",360481207001,154040604206,1,{"$f":"VLOOKUP(C1347,Sheet2!A:B,2,FALSE)","v":113}]
[1347,"沈茗茗",360481207001,154040604213,2,{"$f":"VLOOKUP(C1348,Sheet2!A:B,2,FALSE)","v":113}]
[1348,"陈奕颉",360481207001,154040604201,3,{"$f":"VLOOKUP(C1349,Sheet2!A:B,2,FALSE)","v":113}]
[1349,"欧阳琪英",360481209002,154012406823,1,{"$f":"VLOOKUP(C1350,Sheet2!A:B,2,FALSE)","v":187}]
[1350,"姜美霞",360481209002,154040803509,2,{"$f":"VLOOKUP(C1351,Sheet2!A:B,2,FALSE)","v":187}]
[1351,"柯健",360481209002,154040803528,3,{"$f":"VLOOKUP(C1352,Sheet2!A:B,2,FALSE)","v":187}]
[1352,"何育亮",360481209002,154020502801,4,{"$f":"VLOOKUP(C1353,Sheet2!A:B,2,FALSE)","v":187}]
[1353,"欧阳婷婷",360481209002,154040803503,5,{"$f":"VLOOKUP(C1354,Sheet2!A:B,2,FALSE)","v":187}]
[1354,"蔡月",360481209002,154040803520,6,{"$f":"VLOOKUP(C1355,Sheet2!A:B,2,FALSE)","v":187}]
[1355,"向洪瑞",360481210001,154040803718,1,{"$f":"VLOOKUP(C1356,Sheet2!A:B,2,FALSE)","v":142}]
[1356,"樊序三",360481210001,154040803730,2,{"$f":"VLOOKUP(C1357,Sheet2!A:B,2,FALSE)","v":142}]
[1357,"曹萌萌",360481210001,154040803711,3,{"$f":"VLOOKUP(C1358,Sheet2!A:B,2,FALSE)","v":142}]
[1358,"冯天舜",360481211001,154012803506,1,{"$f":"VLOOKUP(C1359,Sheet2!A:B,2,FALSE)","v":121.5}]
[1359,"叶培顺",360481211001,154040604625,2,{"$f":"VLOOKUP(C1360,Sheet2!A:B,2,FALSE)","v":121.5}]
[1360,"刘薇",360481211001,154040604627,3,{"$f":"VLOOKUP(C1361,Sheet2!A:B,2,FALSE)","v":121.5}]
[1361,"周资颖",360622101004,154012300217,1,{"$f":"VLOOKUP(C1362,Sheet2!A:B,2,FALSE)","v":186.5}]
[1362,"张韵頔",360622101004,154060600319,2,{"$f":"VLOOKUP(C1363,Sheet2!A:B,2,FALSE)","v":186.5}]
[1363,"周慧",360622101004,154012101202,3,{"$f":"VLOOKUP(C1364,Sheet2!A:B,2,FALSE)","v":186.5}]
[1364,"李素婷",360622101004,154250100404,4,{"$f":"VLOOKUP(C1365,Sheet2!A:B,2,FALSE)","v":186.5}]
[1365,"范罗珍",360622101004,154221400805,5,{"$f":"VLOOKUP(C1366,Sheet2!A:B,2,FALSE)","v":186.5}]
[1366,"伍美婷",360622101004,154012300117,6,{"$f":"VLOOKUP(C1367,Sheet2!A:B,2,FALSE)","v":186.5}]
[1367,"左佳凤",360622101004,154060600816,7,{"$f":"VLOOKUP(C1368,Sheet2!A:B,2,FALSE)","v":186.5}]
[1368,"付雯露",360622101004,154012103004,8,{"$f":"VLOOKUP(C1369,Sheet2!A:B,2,FALSE)","v":186.5}]
[1369,"陈倩颖",360622101004,154012302214,9,{"$f":"VLOOKUP(C1370,Sheet2!A:B,2,FALSE)","v":186.5}]
[1370,"徐梦怡",360622101004,154060600208,11,{"$f":"VLOOKUP(C1371,Sheet2!A:B,2,FALSE)","v":186.5}]
[1371,"陈雨茹",360622101004,154012301101,10,{"$f":"VLOOKUP(C1372,Sheet2!A:B,2,FALSE)","v":186.5}]
[1372,"吴佳欣",360622101004,154060600719,12,{"$f":"VLOOKUP(C1373,Sheet2!A:B,2,FALSE)","v":186.5}]
[1373,"许可",360622102004,154060601005,1,{"$f":"VLOOKUP(C1374,Sheet2!A:B,2,FALSE)","v":189.5}]
[1374,"钟迟",360622102004,154012203422,2,{"$f":"VLOOKUP(C1375,Sheet2!A:B,2,FALSE)","v":189.5}]
[1375,"刘珊珊",360622102004,154012303518,3,{"$f":"VLOOKUP(C1376,Sheet2!A:B,2,FALSE)","v":189.5}]
[1376,"杨莹",360622102004,154012304022,4,{"$f":"VLOOKUP(C1377,Sheet2!A:B,2,FALSE)","v":189.5}]
[1377,"李梦婷",360622102004,154012201730,5,{"$f":"VLOOKUP(C1378,Sheet2!A:B,2,FALSE)","v":189.5}]
[1378,"艾雨婷",360622102004,154012202213,6,{"$f":"VLOOKUP(C1379,Sheet2!A:B,2,FALSE)","v":189.5}]
[1379,"黄嘉妮",360622102004,154250102419,7,{"$f":"VLOOKUP(C1380,Sheet2!A:B,2,FALSE)","v":189.5}]
[1380,"廖嫱荟",360622102004,154012203509,8,{"$f":"VLOOKUP(C1381,Sheet2!A:B,2,FALSE)","v":189.5}]
[1381,"熊燕",360622102004,154012201013,9,{"$f":"VLOOKUP(C1382,Sheet2!A:B,2,FALSE)","v":189.5}]
[1382,"金慧",360622102004,154012303116,10,{"$f":"VLOOKUP(C1383,Sheet2!A:B,2,FALSE)","v":189.5}]
[1383,"陈静敏",360622102004,154060601525,11,{"$f":"VLOOKUP(C1384,Sheet2!A:B,2,FALSE)","v":189.5}]
[1384,"张淑琴",360622102004,154012203817,12,{"$f":"VLOOKUP(C1385,Sheet2!A:B,2,FALSE)","v":189.5}]
[1385,"汪静雯",360622105001,154060602409,1,{"$f":"VLOOKUP(C1386,Sheet2!A:B,2,FALSE)","v":137.5}]
[1386,"吴佳琪",360622105001,154060602423,2,{"$f":"VLOOKUP(C1387,Sheet2!A:B,2,FALSE)","v":137.5}]
[1387,"王婧雯",360622105001,154060602420,3,{"$f":"VLOOKUP(C1388,Sheet2!A:B,2,FALSE)","v":137.5}]
[1388,"罗梦",360622106001,154060602514,1,{"$f":"VLOOKUP(C1389,Sheet2!A:B,2,FALSE)","v":134}]
[1389,"熊梦",360622106001,154060602605,2,{"$f":"VLOOKUP(C1390,Sheet2!A:B,2,FALSE)","v":134}]
[1390,"冷薇薇",360622106001,154012602519,3,{"$f":"VLOOKUP(C1391,Sheet2!A:B,2,FALSE)","v":134}]
[1391,"何勇鑫",360622107001,154060410002,1,{"$f":"VLOOKUP(C1392,Sheet2!A:B,2,FALSE)","v":123.5}]
[1392,"童晨芝",360622107001,154060410015,2,{"$f":"VLOOKUP(C1393,Sheet2!A:B,2,FALSE)","v":123.5}]
[1393,"李巧",360622107001,154060410006,3,{"$f":"VLOOKUP(C1394,Sheet2!A:B,2,FALSE)","v":123.5}]
[1394,"宋慧云",360622113003,154060602708,1,{"$f":"VLOOKUP(C1395,Sheet2!A:B,2,FALSE)","v":165.5}]
[1395,"庄环",360622113003,154060602714,2,{"$f":"VLOOKUP(C1396,Sheet2!A:B,2,FALSE)","v":165.5}]
[1396,"邓莉雅",360622113003,154060602720,3,{"$f":"VLOOKUP(C1397,Sheet2!A:B,2,FALSE)","v":165.5}]
[1397,"孙娟",360622113003,154221403804,4,{"$f":"VLOOKUP(C1398,Sheet2!A:B,2,FALSE)","v":165.5}]
[1398,"陈兰兰",360622113003,154250104710,5,{"$f":"VLOOKUP(C1399,Sheet2!A:B,2,FALSE)","v":165.5}]
[1399,"卢钰",360622113003,154242601008,6,{"$f":"VLOOKUP(C1400,Sheet2!A:B,2,FALSE)","v":165.5}]
[1400,"章莎",360622113003,154250104712,9,{"$f":"VLOOKUP(C1401,Sheet2!A:B,2,FALSE)","v":165.5}]
[1401,"戴仙林",360622113003,154040601416,8,{"$f":"VLOOKUP(C1402,Sheet2!A:B,2,FALSE)","v":165.5}]
[1402,"万隆",360622113003,154250104711,7,{"$f":"VLOOKUP(C1403,Sheet2!A:B,2,FALSE)","v":165.5}]
[1403,"侯玉霞",360622203003,154060603623,1,{"$f":"VLOOKUP(C1404,Sheet2!A:B,2,FALSE)","v":182.5}]
[1404,"于慧馨",360622203003,154060603523,2,{"$f":"VLOOKUP(C1405,Sheet2!A:B,2,FALSE)","v":182.5}]
[1405,"李思雨",360622203003,154060603614,3,{"$f":"VLOOKUP(C1406,Sheet2!A:B,2,FALSE)","v":182.5}]
[1406,"宋亚文",360622203003,154060603820,4,{"$f":"VLOOKUP(C1407,Sheet2!A:B,2,FALSE)","v":182.5}]
[1407,"罗桂芳",360622203003,154060603514,5,{"$f":"VLOOKUP(C1408,Sheet2!A:B,2,FALSE)","v":182.5}]
[1408,"桂紫微",360622203003,154060603613,6,{"$f":"VLOOKUP(C1409,Sheet2!A:B,2,FALSE)","v":182.5}]
[1409,"张斯琪",360622203003,154060603810,7,{"$f":"VLOOKUP(C1410,Sheet2!A:B,2,FALSE)","v":182.5}]
[1410,"周敏",360622203003,154060603712,8,{"$f":"VLOOKUP(C1411,Sheet2!A:B,2,FALSE)","v":182.5}]
[1411,"李盼",360622203003,154250105622,9,{"$f":"VLOOKUP(C1412,Sheet2!A:B,2,FALSE)","v":182.5}]
[1412,"吴彩凤",360622203003,154012805401,10,{"$f":"VLOOKUP(C1413,Sheet2!A:B,2,FALSE)","v":182.5}]
[1413,"吴会会",360622204002,154012405504,1,{"$f":"VLOOKUP(C1414,Sheet2!A:B,2,FALSE)","v":177}]
[1414,"赵慧娜",360622204002,154060603911,2,{"$f":"VLOOKUP(C1415,Sheet2!A:B,2,FALSE)","v":177}]
[1415,"吴甜",360622204002,154060603925,3,{"$f":"VLOOKUP(C1416,Sheet2!A:B,2,FALSE)","v":177}]
[1416,"赖园婷",360622204002,154250106013,4,{"$f":"VLOOKUP(C1417,Sheet2!A:B,2,FALSE)","v":177}]
[1417,"孙晓文",360622204002,154060603913,5,{"$f":"VLOOKUP(C1418,Sheet2!A:B,2,FALSE)","v":177}]
[1418,"李莹琳",360622204002,154060603915,6,{"$f":"VLOOKUP(C1419,Sheet2!A:B,2,FALSE)","v":177}]
[1419,"叶继伟",360622205002,154060604007,1,{"$f":"VLOOKUP(C1420,Sheet2!A:B,2,FALSE)","v":80.5}]
[1420,"周俊",360622205002,154060604016,2,{"$f":"VLOOKUP(C1421,Sheet2!A:B,2,FALSE)","v":80.5}]
[1421,"张煌昊",360622205002,154060604003,3,{"$f":"VLOOKUP(C1422,Sheet2!A:B,2,FALSE)","v":80.5}]
[1422,"朱芳蓉",360622205002,154060604024,4,{"$f":"VLOOKUP(C1423,Sheet2!A:B,2,FALSE)","v":80.5}]
[1423,"凌彦清",360622205002,154211001518,5,{"$f":"VLOOKUP(C1424,Sheet2!A:B,2,FALSE)","v":80.5}]
[1424,"毛清林",360622205002,154060604026,6,{"$f":"VLOOKUP(C1425,Sheet2!A:B,2,FALSE)","v":80.5}]
[1425,"周莹",360622206002,154060604108,1,{"$f":"VLOOKUP(C1426,Sheet2!A:B,2,FALSE)","v":168.5}]
[1426,"徐婧",360622206002,154012702024,2,{"$f":"VLOOKUP(C1427,Sheet2!A:B,2,FALSE)","v":168.5}]
[1427,"邵紫燕",360622206002,154060604101,3,{"$f":"VLOOKUP(C1428,Sheet2!A:B,2,FALSE)","v":168.5}]
[1428,"陈可",360622206002,154060604120,4,{"$f":"VLOOKUP(C1429,Sheet2!A:B,2,FALSE)","v":168.5}]
[1429,"程智玲",360622206002,154231503519,5,{"$f":"VLOOKUP(C1430,Sheet2!A:B,2,FALSE)","v":168.5}]
[1430,"杨玲",360622206002,154060604104,6,{"$f":"VLOOKUP(C1431,Sheet2!A:B,2,FALSE)","v":168.5}]
[1431,"翁溪玥",360622207002,154060604216,1,{"$f":"VLOOKUP(C1432,Sheet2!A:B,2,FALSE)","v":108}]
[1432,"余慧娜",360622207002,154060604212,2,{"$f":"VLOOKUP(C1433,Sheet2!A:B,2,FALSE)","v":108}]
[1433,"童阳星",360622207002,154060604210,3,{"$f":"VLOOKUP(C1434,Sheet2!A:B,2,FALSE)","v":108}]
[1434,"程思琦",360622207002,154060604209,4,{"$f":"VLOOKUP(C1435,Sheet2!A:B,2,FALSE)","v":108}]
[1435,"刘源",360622207002,154060604214,5,{"$f":"VLOOKUP(C1436,Sheet2!A:B,2,FALSE)","v":108}]
[1436,"汪诚信",360622207002,154060604204,6,{"$f":"VLOOKUP(C1437,Sheet2!A:B,2,FALSE)","v":108}]
[1437,"李玉纯子",360681101001,154060600523,1,{"$f":"VLOOKUP(C1438,Sheet2!A:B,2,FALSE)","v":177.5}]
[1438,"徐芳园",360681101001,154012300930,2,{"$f":"VLOOKUP(C1439,Sheet2!A:B,2,FALSE)","v":177.5}]
[1439,"曾星月",360681101001,154012100623,3,{"$f":"VLOOKUP(C1440,Sheet2!A:B,2,FALSE)","v":177.5}]
[1440,"刘芳",360681102004,154060601610,1,{"$f":"VLOOKUP(C1441,Sheet2!A:B,2,FALSE)","v":189}]
[1441,"朱丽杰",360681102004,154060601825,2,{"$f":"VLOOKUP(C1442,Sheet2!A:B,2,FALSE)","v":189}]
[1442,"肖玉玲",360681102004,154060601103,3,{"$f":"VLOOKUP(C1443,Sheet2!A:B,2,FALSE)","v":189}]
[1443,"苏紫佾",360681102004,154060601208,4,{"$f":"VLOOKUP(C1444,Sheet2!A:B,2,FALSE)","v":189}]
[1444,"张琴",360681102004,154060601524,5,{"$f":"VLOOKUP(C1445,Sheet2!A:B,2,FALSE)","v":189}]
[1445,"黄玲萍",360681102004,154060601728,6,{"$f":"VLOOKUP(C1446,Sheet2!A:B,2,FALSE)","v":189}]
[1446,"刘思怡",360681102004,154060601609,7,{"$f":"VLOOKUP(C1447,Sheet2!A:B,2,FALSE)","v":189}]
[1447,"胡格",360681102004,154012203301,8,{"$f":"VLOOKUP(C1448,Sheet2!A:B,2,FALSE)","v":189}]
[1448,"汪依",360681102004,154060601206,9,{"$f":"VLOOKUP(C1449,Sheet2!A:B,2,FALSE)","v":189}]
[1449,"蔡欢欢",360681102004,154250103226,10,{"$f":"VLOOKUP(C1450,Sheet2!A:B,2,FALSE)","v":189}]
[1450,"龚春云",360681102004,154012200720,11,{"$f":"VLOOKUP(C1451,Sheet2!A:B,2,FALSE)","v":189}]
[1451,"汤勤",360681102004,154060601427,12,{"$f":"VLOOKUP(C1452,Sheet2!A:B,2,FALSE)","v":189}]
[1452,"张莹",360681103001,154060602123,1,{"$f":"VLOOKUP(C1453,Sheet2!A:B,2,FALSE)","v":166.5}]
[1453,"陈茜",360681103001,154060602109,2,{"$f":"VLOOKUP(C1454,Sheet2!A:B,2,FALSE)","v":166.5}]
[1454,"周烨",360681103001,154232405324,3,{"$f":"VLOOKUP(C1455,Sheet2!A:B,2,FALSE)","v":166.5}]
[1455,"周盈",360681103001,154060602002,4,{"$f":"VLOOKUP(C1456,Sheet2!A:B,2,FALSE)","v":166.5}]
[1456,"郑芷娴",360681106002,154060602505,1,{"$f":"VLOOKUP(C1457,Sheet2!A:B,2,FALSE)","v":147.5}]
[1457,"张诗芸",360681106002,154060602609,2,{"$f":"VLOOKUP(C1458,Sheet2!A:B,2,FALSE)","v":147.5}]
[1458,"刘宇轩",360681106002,154060602508,3,{"$f":"VLOOKUP(C1459,Sheet2!A:B,2,FALSE)","v":147.5}]
[1459,"彭佳明",360681106002,154020403314,4,{"$f":"VLOOKUP(C1460,Sheet2!A:B,2,FALSE)","v":147.5}]
[1460,"张佩芝",360681106002,154060602608,5,{"$f":"VLOOKUP(C1461,Sheet2!A:B,2,FALSE)","v":147.5}]
[1461,"秦艺",360681106002,154012602905,6,{"$f":"VLOOKUP(C1462,Sheet2!A:B,2,FALSE)","v":147.5}]
[1462,"江芳兰",360681107001,154060410018,1,{"$f":"VLOOKUP(C1463,Sheet2!A:B,2,FALSE)","v":117}]
[1463,"左伊",360681107001,154060410009,2,{"$f":"VLOOKUP(C1464,Sheet2!A:B,2,FALSE)","v":117}]
[1464,"江艳婷",360681107001,154060410003,3,{"$f":"VLOOKUP(C1465,Sheet2!A:B,2,FALSE)","v":117}]
[1465,"江翩",360681201005,154060603106,1,{"$f":"VLOOKUP(C1466,Sheet2!A:B,2,FALSE)","v":143}]
[1466,"雷洁",360681201005,154060603111,2,{"$f":"VLOOKUP(C1467,Sheet2!A:B,2,FALSE)","v":143}]
[1467,"琚菲燕",360681201005,154060603215,3,{"$f":"VLOOKUP(C1468,Sheet2!A:B,2,FALSE)","v":143}]
[1468,"徐晓颜",360681201005,154060603128,4,{"$f":"VLOOKUP(C1469,Sheet2!A:B,2,FALSE)","v":143}]
[1469,"李海鲜",360681201005,154060603129,5,{"$f":"VLOOKUP(C1470,Sheet2!A:B,2,FALSE)","v":143}]
[1470,"翁文茜",360681201005,154060603208,6,{"$f":"VLOOKUP(C1471,Sheet2!A:B,2,FALSE)","v":143}]
[1471,"罗星芝",360681201005,154060603121,7,{"$f":"VLOOKUP(C1472,Sheet2!A:B,2,FALSE)","v":143}]
[1472,"王子甜",360681201005,154060603126,8,{"$f":"VLOOKUP(C1473,Sheet2!A:B,2,FALSE)","v":143}]
[1473,"姚鸿艳",360681201005,154060603115,9,{"$f":"VLOOKUP(C1474,Sheet2!A:B,2,FALSE)","v":143}]
[1474,"曾静萍",360681201005,154012701118,10,{"$f":"VLOOKUP(C1475,Sheet2!A:B,2,FALSE)","v":143}]
[1475,"王苏锋",360681201005,154012700628,11,{"$f":"VLOOKUP(C1476,Sheet2!A:B,2,FALSE)","v":143}]
[1476,"项艳平",360681201005,154060603201,12,{"$f":"VLOOKUP(C1477,Sheet2!A:B,2,FALSE)","v":143}]
[1477,"张智清",360681201005,154060603217,13,{"$f":"VLOOKUP(C1478,Sheet2!A:B,2,FALSE)","v":143}]
[1478,"吴紫妍",360681201005,154012700324,14,{"$f":"VLOOKUP(C1479,Sheet2!A:B,2,FALSE)","v":143}]
[1479,"薛怡莎",360681201005,154060603212,15,{"$f":"VLOOKUP(C1480,Sheet2!A:B,2,FALSE)","v":143}]
[1480,"胡思佳",360681202005,154060603324,1,{"$f":"VLOOKUP(C1481,Sheet2!A:B,2,FALSE)","v":151.5}]
[1481,"邱安琪",360681202005,154012907102,2,{"$f":"VLOOKUP(C1482,Sheet2!A:B,2,FALSE)","v":151.5}]
[1482,"吴紫艳",360681202005,154060603322,3,{"$f":"VLOOKUP(C1483,Sheet2!A:B,2,FALSE)","v":151.5}]
[1483,"肖俭",360681202005,154012907211,4,{"$f":"VLOOKUP(C1484,Sheet2!A:B,2,FALSE)","v":151.5}]
[1484,"徐梦玲",360681202005,154012906110,5,{"$f":"VLOOKUP(C1485,Sheet2!A:B,2,FALSE)","v":151.5}]
[1485,"谢丽萍",360681202005,154060603304,6,{"$f":"VLOOKUP(C1486,Sheet2!A:B,2,FALSE)","v":151.5}]
[1486,"黄彩云",360681202005,154060603409,7,{"$f":"VLOOKUP(C1487,Sheet2!A:B,2,FALSE)","v":151.5}]
[1487,"李妍",360681202005,154060603309,8,{"$f":"VLOOKUP(C1488,Sheet2!A:B,2,FALSE)","v":151.5}]
[1488,"王天锋",360681202005,154060603308,9,{"$f":"VLOOKUP(C1489,Sheet2!A:B,2,FALSE)","v":151.5}]
[1489,"颜红萍",360681202005,154060603408,10,{"$f":"VLOOKUP(C1490,Sheet2!A:B,2,FALSE)","v":151.5}]
[1490,"乐彤",360681202005,154012906405,11,{"$f":"VLOOKUP(C1491,Sheet2!A:B,2,FALSE)","v":151.5}]
[1491,"黄茂娟",360681202005,154231500801,12,{"$f":"VLOOKUP(C1492,Sheet2!A:B,2,FALSE)","v":151.5}]
[1492,"杨珊",360681202005,154060603327,13,{"$f":"VLOOKUP(C1493,Sheet2!A:B,2,FALSE)","v":151.5}]
[1493,"梅艳艳",360681202005,154250105409,14,{"$f":"VLOOKUP(C1494,Sheet2!A:B,2,FALSE)","v":151.5}]
[1494,"曹蔓青",360681202005,154012906124,15,{"$f":"VLOOKUP(C1495,Sheet2!A:B,2,FALSE)","v":151.5}]
[1495,"张莹",360681203002,154012805612,1,{"$f":"VLOOKUP(C1496,Sheet2!A:B,2,FALSE)","v":173.5}]
[1496,"陈梦",360681203002,154012804826,2,{"$f":"VLOOKUP(C1497,Sheet2!A:B,2,FALSE)","v":173.5}]
[1497,"刘晞",360681203002,154012804919,3,{"$f":"VLOOKUP(C1498,Sheet2!A:B,2,FALSE)","v":173.5}]
[1498,"张小英",360681203002,154060603528,4,{"$f":"VLOOKUP(C1499,Sheet2!A:B,2,FALSE)","v":173.5}]
[1499,"张小恋",360681203002,154060603511,5,{"$f":"VLOOKUP(C1500,Sheet2!A:B,2,FALSE)","v":173.5}]
[1500,"龚文彬",360681203002,154060603812,6,{"$f":"VLOOKUP(C1501,Sheet2!A:B,2,FALSE)","v":173.5}]
[1501,"童镘",360681204002,154060603919,1,{"$f":"VLOOKUP(C1502,Sheet2!A:B,2,FALSE)","v":136}]
[1502,"詹苗",360681204002,154060603918,2,{"$f":"VLOOKUP(C1503,Sheet2!A:B,2,FALSE)","v":136}]
[1503,"刘静莹",360681204002,154060603904,3,{"$f":"VLOOKUP(C1504,Sheet2!A:B,2,FALSE)","v":136}]
[1504,"汪依",360681204002,154060603905,4,{"$f":"VLOOKUP(C1505,Sheet2!A:B,2,FALSE)","v":136}]
[1505,"周惠子",360681204002,154060603920,5,{"$f":"VLOOKUP(C1506,Sheet2!A:B,2,FALSE)","v":136}]
[1506,"邱旭升",360681204002,154060603917,6,{"$f":"VLOOKUP(C1507,Sheet2!A:B,2,FALSE)","v":136}]
[1507,"姚献政",360681205002,154060604009,1,{"$f":"VLOOKUP(C1508,Sheet2!A:B,2,FALSE)","v":117}]
[1508,"叶超",360681205002,154060604017,2,{"$f":"VLOOKUP(C1509,Sheet2!A:B,2,FALSE)","v":117}]
[1509,"聂臣梅",360681205002,154012406107,3,{"$f":"VLOOKUP(C1510,Sheet2!A:B,2,FALSE)","v":117}]
[1510,"江旖",360681205002,154060604015,4,{"$f":"VLOOKUP(C1511,Sheet2!A:B,2,FALSE)","v":117}]
[1511,"陆赛华",360681205002,154060604002,5,{"$f":"VLOOKUP(C1512,Sheet2!A:B,2,FALSE)","v":117}]
[1512,"周子璇",360681205002,154060604029,6,{"$f":"VLOOKUP(C1513,Sheet2!A:B,2,FALSE)","v":117}]
[1513,"宋劭琦",360681208001,154060604308,1,{"$f":"VLOOKUP(C1514,Sheet2!A:B,2,FALSE)","v":112}]
[1514,"卢琪琪",360681208001,154020502709,2,{"$f":"VLOOKUP(C1515,Sheet2!A:B,2,FALSE)","v":112}]
[1515,"张嘉凤",360681208001,154250106506,3,{"$f":"VLOOKUP(C1516,Sheet2!A:B,2,FALSE)","v":112}]
[1516,"朱梦琪",360681209001,154060604408,1,{"$f":"VLOOKUP(C1517,Sheet2!A:B,2,FALSE)","v":143.5}]
[1517,"饶沙",360681209001,154012407003,2,{"$f":"VLOOKUP(C1518,Sheet2!A:B,2,FALSE)","v":143.5}]
[1518,"曾宪平",360681209001,154060604404,3,{"$f":"VLOOKUP(C1519,Sheet2!A:B,2,FALSE)","v":143.5}]
[1519,"郭玲燕",360681210003,154060604503,1,{"$f":"VLOOKUP(C1520,Sheet2!A:B,2,FALSE)","v":147}]
[1520,"赵宇菲",360681210003,154012803218,2,{"$f":"VLOOKUP(C1521,Sheet2!A:B,2,FALSE)","v":147}]
[1521,"徐梦婷",360681210003,154060604507,3,{"$f":"VLOOKUP(C1522,Sheet2!A:B,2,FALSE)","v":147}]
[1522,"左亮",360681210003,154060604509,4,{"$f":"VLOOKUP(C1523,Sheet2!A:B,2,FALSE)","v":147}]
[1523,"李若琳",360681210003,154242703912,5,{"$f":"VLOOKUP(C1524,Sheet2!A:B,2,FALSE)","v":147}]
[1524,"陈婷",360681210003,154060604517,6,{"$f":"VLOOKUP(C1525,Sheet2!A:B,2,FALSE)","v":147}]
[1525,"刘丽敏",360681210003,154060604512,7,{"$f":"VLOOKUP(C1526,Sheet2!A:B,2,FALSE)","v":147}]
[1526,"杨丽萍",360681210003,154060604516,8,{"$f":"VLOOKUP(C1527,Sheet2!A:B,2,FALSE)","v":147}]
[1527,"赵唐金",360681210003,154231504904,9,{"$f":"VLOOKUP(C1528,Sheet2!A:B,2,FALSE)","v":147}]
[1528,"徐程锋",360681211003,154060604609,1,{"$f":"VLOOKUP(C1529,Sheet2!A:B,2,FALSE)","v":109}]
[1529,"冯志华",360681211003,154060604601,2,{"$f":"VLOOKUP(C1530,Sheet2!A:B,2,FALSE)","v":109}]
[1530,"熊嵩",360681211003,154221409028,3,{"$f":"VLOOKUP(C1531,Sheet2!A:B,2,FALSE)","v":109}]
[1531,"吴思慧",360681211003,154060604606,4,{"$f":"VLOOKUP(C1532,Sheet2!A:B,2,FALSE)","v":109}]
[1532,"张月萍",360681211003,154060604603,5,{"$f":"VLOOKUP(C1533,Sheet2!A:B,2,FALSE)","v":109}]
[1533,"江奕河",360681211003,154060604607,6,{"$f":"VLOOKUP(C1534,Sheet2!A:B,2,FALSE)","v":109}]
[1534,"沈宁强",360681212001,154060604706,1,{"$f":"VLOOKUP(C1535,Sheet2!A:B,2,FALSE)","v":142}]
[1535,"朱梦霞",360681212001,154060604708,2,{"$f":"VLOOKUP(C1536,Sheet2!A:B,2,FALSE)","v":142}]
[1536,"程宵奕",360681212001,154060604710,3,{"$f":"VLOOKUP(C1537,Sheet2!A:B,2,FALSE)","v":142}]
[1537,"祝琪",360681213001,154060604808,1,{"$f":"VLOOKUP(C1538,Sheet2!A:B,2,FALSE)","v":122.5}]
[1538,"李紫璇",360681213001,154060604805,2,{"$f":"VLOOKUP(C1539,Sheet2!A:B,2,FALSE)","v":122.5}]
[1539,"曾俊宇",360681213001,154012407415,3,{"$f":"VLOOKUP(C1540,Sheet2!A:B,2,FALSE)","v":122.5}]
[1540,"艾瑢",360802101005,154242401730,1,{"$f":"VLOOKUP(C1541,Sheet2!A:B,2,FALSE)","v":190.5}]
[1541,"康晴",360802101005,154242402519,2,{"$f":"VLOOKUP(C1542,Sheet2!A:B,2,FALSE)","v":190.5}]
[1542,"尹慧",360802101005,154242400717,3,{"$f":"VLOOKUP(C1543,Sheet2!A:B,2,FALSE)","v":190.5}]
[1543,"张珍珍",360802101005,154012302508,4,{"$f":"VLOOKUP(C1544,Sheet2!A:B,2,FALSE)","v":190.5}]
[1544,"刘倩",360802101005,154242402629,5,{"$f":"VLOOKUP(C1545,Sheet2!A:B,2,FALSE)","v":190.5}]
[1545,"袁琴花",360802101005,154242402502,6,{"$f":"VLOOKUP(C1546,Sheet2!A:B,2,FALSE)","v":190.5}]
[1546,"周颖群",360802101005,154012103022,7,{"$f":"VLOOKUP(C1547,Sheet2!A:B,2,FALSE)","v":190.5}]
[1547,"李健红",360802101005,154242400920,8,{"$f":"VLOOKUP(C1548,Sheet2!A:B,2,FALSE)","v":190.5}]
[1548,"易嘉欣",360802101005,154242401118,10,{"$f":"VLOOKUP(C1549,Sheet2!A:B,2,FALSE)","v":190.5}]
[1549,"朱建桢",360802101005,154012301221,9,{"$f":"VLOOKUP(C1550,Sheet2!A:B,2,FALSE)","v":190.5}]
[1550,"伍滢",360802101005,154242400630,11,{"$f":"VLOOKUP(C1551,Sheet2!A:B,2,FALSE)","v":190.5}]
[1551,"王莎蓉",360802101005,154242402705,12,{"$f":"VLOOKUP(C1552,Sheet2!A:B,2,FALSE)","v":190.5}]
[1552,"王刘雨欣",360802101005,154242401928,14,{"$f":"VLOOKUP(C1553,Sheet2!A:B,2,FALSE)","v":190.5}]
[1553,"唐慧芳",360802101005,154242401725,13,{"$f":"VLOOKUP(C1554,Sheet2!A:B,2,FALSE)","v":190.5}]
[1554,"廖佳圆",360802101005,154242402711,15,{"$f":"VLOOKUP(C1555,Sheet2!A:B,2,FALSE)","v":190.5}]
[1555,"曾姬玲",360802102004,154242700427,1,{"$f":"VLOOKUP(C1556,Sheet2!A:B,2,FALSE)","v":193.5}]
[1556,"刘芬",360802102004,154012303423,2,{"$f":"VLOOKUP(C1557,Sheet2!A:B,2,FALSE)","v":193.5}]
[1557,"罗雅星",360802102004,154242700830,3,{"$f":"VLOOKUP(C1558,Sheet2!A:B,2,FALSE)","v":193.5}]
[1558,"叶小燕",360802102004,154012202614,4,{"$f":"VLOOKUP(C1559,Sheet2!A:B,2,FALSE)","v":193.5}]
[1559,"蒋嘉鑫",360802102004,154012303629,5,{"$f":"VLOOKUP(C1560,Sheet2!A:B,2,FALSE)","v":193.5}]
[1560,"左紫琼",360802102004,154242700804,6,{"$f":"VLOOKUP(C1561,Sheet2!A:B,2,FALSE)","v":193.5}]
[1561,"温俊杰",360802102004,154242702316,7,{"$f":"VLOOKUP(C1562,Sheet2!A:B,2,FALSE)","v":193.5}]
[1562,"郭青",360802102004,154242702106,8,{"$f":"VLOOKUP(C1563,Sheet2!A:B,2,FALSE)","v":193.5}]
[1563,"邓烨",360802102004,154242700907,9,{"$f":"VLOOKUP(C1564,Sheet2!A:B,2,FALSE)","v":193.5}]
[1564,"彭玥",360802102004,154242700525,10,{"$f":"VLOOKUP(C1565,Sheet2!A:B,2,FALSE)","v":193.5}]
[1565,"刘慧琪",360802102004,154242700917,11,{"$f":"VLOOKUP(C1566,Sheet2!A:B,2,FALSE)","v":193.5}]
[1566,"刘万",360802102004,154242701906,12,{"$f":"VLOOKUP(C1567,Sheet2!A:B,2,FALSE)","v":193.5}]
[1567,"周慧",360802102004,154242701722,13,{"$f":"VLOOKUP(C1568,Sheet2!A:B,2,FALSE)","v":193.5}]
[1568,"郑文翔",360802102004,154242701625,14,{"$f":"VLOOKUP(C1569,Sheet2!A:B,2,FALSE)","v":193.5}]
[1569,"刘婷",360802103002,154012502010,1,{"$f":"VLOOKUP(C1570,Sheet2!A:B,2,FALSE)","v":189.5}]
[1570,"段幸子",360802103002,154012500412,2,{"$f":"VLOOKUP(C1571,Sheet2!A:B,2,FALSE)","v":189.5}]
[1571,"刘冰峰",360802103002,154242503327,3,{"$f":"VLOOKUP(C1572,Sheet2!A:B,2,FALSE)","v":189.5}]
[1572,"刘诗怡",360802103002,154012500314,5,{"$f":"VLOOKUP(C1573,Sheet2!A:B,2,FALSE)","v":189.5}]
[1573,"余玉苹",360802103002,154242504023,4,{"$f":"VLOOKUP(C1574,Sheet2!A:B,2,FALSE)","v":189.5}]
[1574,"王欢",360802103002,154242503908,6,{"$f":"VLOOKUP(C1575,Sheet2!A:B,2,FALSE)","v":189.5}]
[1575,"揭柳珍",360802105004,154242600225,1,{"$f":"VLOOKUP(C1576,Sheet2!A:B,2,FALSE)","v":121}]
[1576,"张琛",360802105004,154242600503,2,{"$f":"VLOOKUP(C1577,Sheet2!A:B,2,FALSE)","v":121}]
[1577,"李吉涛",360802105004,154242600419,3,{"$f":"VLOOKUP(C1578,Sheet2!A:B,2,FALSE)","v":121}]
[1578,"卢文涛",360802105004,154242600315,4,{"$f":"VLOOKUP(C1579,Sheet2!A:B,2,FALSE)","v":121}]
[1579,"艾小军",360802105004,154012601907,5,{"$f":"VLOOKUP(C1580,Sheet2!A:B,2,FALSE)","v":121}]
[1580,"刘敏婕",360802105004,154242600307,6,{"$f":"VLOOKUP(C1581,Sheet2!A:B,2,FALSE)","v":121}]
[1581,"周小敏",360802105004,154040703106,7,{"$f":"VLOOKUP(C1582,Sheet2!A:B,2,FALSE)","v":121}]
[1582,"唐欢",360802105004,154242600420,8,{"$f":"VLOOKUP(C1583,Sheet2!A:B,2,FALSE)","v":121}]
[1583,"肖志豪",360802105004,154242600409,9,{"$f":"VLOOKUP(C1584,Sheet2!A:B,2,FALSE)","v":121}]
[1584,"许伟",360802105004,154040703014,10,{"$f":"VLOOKUP(C1585,Sheet2!A:B,2,FALSE)","v":121}]
[1585,"张引",360802105004,154242600401,11,{"$f":"VLOOKUP(C1586,Sheet2!A:B,2,FALSE)","v":121}]
[1586,"郭慧颖",360802105004,154012601829,13,{"$f":"VLOOKUP(C1587,Sheet2!A:B,2,FALSE)","v":121}]
[1587,"吴婷",360802105004,154221403218,12,{"$f":"VLOOKUP(C1588,Sheet2!A:B,2,FALSE)","v":121}]
[1588,"郭素荷",360802106002,154242600621,1,{"$f":"VLOOKUP(C1589,Sheet2!A:B,2,FALSE)","v":157}]
[1589,"刘霞",360802106002,154242600824,2,{"$f":"VLOOKUP(C1590,Sheet2!A:B,2,FALSE)","v":157}]
[1590,"李佩纭",360802106002,154242600915,3,{"$f":"VLOOKUP(C1591,Sheet2!A:B,2,FALSE)","v":157}]
[1591,"刘雨暄",360802106002,154242600819,4,{"$f":"VLOOKUP(C1592,Sheet2!A:B,2,FALSE)","v":157}]
[1592,"盛知",360802106002,154012603608,5,{"$f":"VLOOKUP(C1593,Sheet2!A:B,2,FALSE)","v":157}]
[1593,"梁婷玲",360802106002,154242600616,6,{"$f":"VLOOKUP(C1594,Sheet2!A:B,2,FALSE)","v":157}]
[1594,"左洁",360802107002,154242500724,1,{"$f":"VLOOKUP(C1595,Sheet2!A:B,2,FALSE)","v":154}]
[1595,"吴韵琴",360802107002,154012502721,2,{"$f":"VLOOKUP(C1596,Sheet2!A:B,2,FALSE)","v":154}]
[1596,"李佳音",360802107002,154242500908,3,{"$f":"VLOOKUP(C1597,Sheet2!A:B,2,FALSE)","v":154}]
[1597,"陈雅芬",360802107002,154012502712,4,{"$f":"VLOOKUP(C1598,Sheet2!A:B,2,FALSE)","v":154}]
[1598,"蔡静娴",360802107002,154242501012,5,{"$f":"VLOOKUP(C1599,Sheet2!A:B,2,FALSE)","v":154}]
[1599,"伍佳",360802107002,154242500922,6,{"$f":"VLOOKUP(C1600,Sheet2!A:B,2,FALSE)","v":154}]
[1600,"邱慧鹃",360802115001,154242402908,1,{"$f":"VLOOKUP(C1601,Sheet2!A:B,2,FALSE)","v":192}]
[1601,"张田",360802115001,154012404809,2,{"$f":"VLOOKUP(C1602,Sheet2!A:B,2,FALSE)","v":192}]
[1602,"刘茹轩",360802115001,154242403003,3,{"$f":"VLOOKUP(C1603,Sheet2!A:B,2,FALSE)","v":192}]
[1603,"刘敏",360802201001,154242602021,1,{"$f":"VLOOKUP(C1604,Sheet2!A:B,2,FALSE)","v":114}]
[1604,"吴倩",360802201001,154242602106,2,{"$f":"VLOOKUP(C1605,Sheet2!A:B,2,FALSE)","v":114}]
[1605,"张年君",360802201001,154242601601,3,{"$f":"VLOOKUP(C1606,Sheet2!A:B,2,FALSE)","v":114}]
[1606,"李玲",360802201001,154242601308,4,{"$f":"VLOOKUP(C1607,Sheet2!A:B,2,FALSE)","v":114}]
[1607,"徐魁",360802202001,154242702902,1,{"$f":"VLOOKUP(C1608,Sheet2!A:B,2,FALSE)","v":59}]
[1608,"黄丽萍",360802202001,154242703107,2,{"$f":"VLOOKUP(C1609,Sheet2!A:B,2,FALSE)","v":59}]
[1609,"肖煌聪",360802202001,154012906721,3,{"$f":"VLOOKUP(C1610,Sheet2!A:B,2,FALSE)","v":59}]
[1610,"陈育兰",360802203001,154242501620,1,{"$f":"VLOOKUP(C1611,Sheet2!A:B,2,FALSE)","v":168.5}]
[1611,"艾琳",360802203001,154242501421,2,{"$f":"VLOOKUP(C1612,Sheet2!A:B,2,FALSE)","v":168.5}]
[1612,"黄璐璐",360802203001,154242502213,3,{"$f":"VLOOKUP(C1613,Sheet2!A:B,2,FALSE)","v":168.5}]
[1613,"胡缘",360802204002,154242403518,1,{"$f":"VLOOKUP(C1614,Sheet2!A:B,2,FALSE)","v":147.5}]
[1614,"徐春红",360802204002,154242403308,2,{"$f":"VLOOKUP(C1615,Sheet2!A:B,2,FALSE)","v":147.5}]
[1615,"刘佳",360802204002,154012405516,3,{"$f":"VLOOKUP(C1616,Sheet2!A:B,2,FALSE)","v":147.5}]
[1616,"杨金红",360802204002,154242403609,4,{"$f":"VLOOKUP(C1617,Sheet2!A:B,2,FALSE)","v":147.5}]
[1617,"颜莎莎",360802204002,154030306203,5,{"$f":"VLOOKUP(C1618,Sheet2!A:B,2,FALSE)","v":147.5}]
[1618,"杜永强",360802204002,154242403304,7,{"$f":"VLOOKUP(C1619,Sheet2!A:B,2,FALSE)","v":147.5}]
[1619,"龙婷",360802204002,154242403714,6,{"$f":"VLOOKUP(C1620,Sheet2!A:B,2,FALSE)","v":147.5}]
[1620,"蒋为麒",360802205001,154242703628,1,{"$f":"VLOOKUP(C1621,Sheet2!A:B,2,FALSE)","v":97.5}]
[1621,"温洪权",360802205001,154012804020,2,{"$f":"VLOOKUP(C1622,Sheet2!A:B,2,FALSE)","v":97.5}]
[1622,"陈菁",360802205001,154242703629,3,{"$f":"VLOOKUP(C1623,Sheet2!A:B,2,FALSE)","v":97.5}]
[1623,"饶辉",360802208001,154210303627,1,{"$f":"VLOOKUP(C1624,Sheet2!A:B,2,FALSE)","v":77}]
[1624,"曾珍",360802208001,154242603803,2,{"$f":"VLOOKUP(C1625,Sheet2!A:B,2,FALSE)","v":77}]
[1625,"谢彦坤",360802208001,154242603704,3,{"$f":"VLOOKUP(C1626,Sheet2!A:B,2,FALSE)","v":77}]
[1626,"李嘉健",360802211001,154242704107,1,{"$f":"VLOOKUP(C1627,Sheet2!A:B,2,FALSE)","v":98}]
[1627,"庄才路",360802211001,154242704024,2,{"$f":"VLOOKUP(C1628,Sheet2!A:B,2,FALSE)","v":98}]
[1628,"彭有能",360802211001,154242704010,3,{"$f":"VLOOKUP(C1629,Sheet2!A:B,2,FALSE)","v":98}]
[1629,"欧阳群",360802212001,154242502806,1,{"$f":"VLOOKUP(C1630,Sheet2!A:B,2,FALSE)","v":137}]
[1630,"苏美华",360802212001,154012407109,2,{"$f":"VLOOKUP(C1631,Sheet2!A:B,2,FALSE)","v":137}]
[1631,"王君艳",360802215001,154242503120,1,{"$f":"VLOOKUP(C1632,Sheet2!A:B,2,FALSE)","v":128}]
[1632,"刘根女",360802215001,154242503202,2,{"$f":"VLOOKUP(C1633,Sheet2!A:B,2,FALSE)","v":128}]
[1633,"贾凯辰",360802215001,154250107101,3,{"$f":"VLOOKUP(C1634,Sheet2!A:B,2,FALSE)","v":128}]
[1634,"李璐",360803201010,154012701406,1,{"$f":"VLOOKUP(C1635,Sheet2!A:B,2,FALSE)","v":155}]
[1635,"吴丽凡",360803201010,154012700625,2,{"$f":"VLOOKUP(C1636,Sheet2!A:B,2,FALSE)","v":155}]
[1636,"谢芳馨",360803201010,154012701417,3,{"$f":"VLOOKUP(C1637,Sheet2!A:B,2,FALSE)","v":155}]
[1637,"吴晨凤",360803201010,154012700406,4,{"$f":"VLOOKUP(C1638,Sheet2!A:B,2,FALSE)","v":155}]
[1638,"肖涵馨",360803201010,154012701412,5,{"$f":"VLOOKUP(C1639,Sheet2!A:B,2,FALSE)","v":155}]
[1639,"李丽玲",360803201010,154242601604,7,{"$f":"VLOOKUP(C1640,Sheet2!A:B,2,FALSE)","v":155}]
[1640,"周丽霞",360803201010,154242601623,6,{"$f":"VLOOKUP(C1641,Sheet2!A:B,2,FALSE)","v":155}]
[1641,"王颖",360803201010,154242601906,8,{"$f":"VLOOKUP(C1642,Sheet2!A:B,2,FALSE)","v":155}]
[1642,"陈洁",360803201010,154242601513,9,{"$f":"VLOOKUP(C1643,Sheet2!A:B,2,FALSE)","v":155}]
[1643,"刘可",360803201010,154242601418,10,{"$f":"VLOOKUP(C1644,Sheet2!A:B,2,FALSE)","v":155}]
[1644,"张依龄",360803201010,154242601810,11,{"$f":"VLOOKUP(C1645,Sheet2!A:B,2,FALSE)","v":155}]
[1645,"周芷莹",360803201010,154242601317,12,{"$f":"VLOOKUP(C1646,Sheet2!A:B,2,FALSE)","v":155}]
[1646,"谢燕",360803201010,154242601507,13,{"$f":"VLOOKUP(C1647,Sheet2!A:B,2,FALSE)","v":155}]
[1647,"杨群",360803201010,154242601915,14,{"$f":"VLOOKUP(C1648,Sheet2!A:B,2,FALSE)","v":155}]
[1648,"章敏萱",360803201010,154050314710,15,{"$f":"VLOOKUP(C1649,Sheet2!A:B,2,FALSE)","v":155}]
[1649,"彭湘玉",360803201010,154050314708,16,{"$f":"VLOOKUP(C1650,Sheet2!A:B,2,FALSE)","v":155}]
[1650,"徐望梅",360803201010,154012701508,18,{"$f":"VLOOKUP(C1651,Sheet2!A:B,2,FALSE)","v":155}]
[1651,"刘敏",360803201010,154242601817,17,{"$f":"VLOOKUP(C1652,Sheet2!A:B,2,FALSE)","v":155}]
[1652,"肖柳",360803201010,154242601519,19,{"$f":"VLOOKUP(C1653,Sheet2!A:B,2,FALSE)","v":155}]
[1653,"王清",360803201010,154030305025,20,{"$f":"VLOOKUP(C1654,Sheet2!A:B,2,FALSE)","v":155}]
[1654,"张苏宁",360803201010,154210901706,21,{"$f":"VLOOKUP(C1655,Sheet2!A:B,2,FALSE)","v":155}]
[1655,"张璟",360803201010,154242601619,22,{"$f":"VLOOKUP(C1656,Sheet2!A:B,2,FALSE)","v":155}]
[1656,"王晓玉",360803201010,154242601830,23,{"$f":"VLOOKUP(C1657,Sheet2!A:B,2,FALSE)","v":155}]
[1657,"袁怡",360803201010,154210903126,24,{"$f":"VLOOKUP(C1658,Sheet2!A:B,2,FALSE)","v":155}]
[1658,"陈虹",360803201010,154242601718,25,{"$f":"VLOOKUP(C1659,Sheet2!A:B,2,FALSE)","v":155}]
[1659,"盛汝玲",360803202010,154242703009,1,{"$f":"VLOOKUP(C1660,Sheet2!A:B,2,FALSE)","v":159.5}]
[1660,"胡蓉",360803202010,154242702625,2,{"$f":"VLOOKUP(C1661,Sheet2!A:B,2,FALSE)","v":159.5}]
[1661,"邓秀君",360803202010,154242702626,4,{"$f":"VLOOKUP(C1662,Sheet2!A:B,2,FALSE)","v":159.5}]
[1662,"邹邦珍",360803202010,154242702819,3,{"$f":"VLOOKUP(C1663,Sheet2!A:B,2,FALSE)","v":159.5}]
[1663,"郭志琼",360803202010,154242702526,5,{"$f":"VLOOKUP(C1664,Sheet2!A:B,2,FALSE)","v":159.5}]
[1664,"尹娟",360803202010,154242702904,6,{"$f":"VLOOKUP(C1665,Sheet2!A:B,2,FALSE)","v":159.5}]
[1665,"罗佳丽",360803202010,154242703019,7,{"$f":"VLOOKUP(C1666,Sheet2!A:B,2,FALSE)","v":159.5}]
[1666,"彭毅",360803202010,154242703104,8,{"$f":"VLOOKUP(C1667,Sheet2!A:B,2,FALSE)","v":159.5}]
[1667,"宁莉莉",360803202010,154242703021,9,{"$f":"VLOOKUP(C1668,Sheet2!A:B,2,FALSE)","v":159.5}]
[1668,"左燕京",360803202010,154210200222,10,{"$f":"VLOOKUP(C1669,Sheet2!A:B,2,FALSE)","v":159.5}]
[1669,"李佳欣",360803202010,154012907322,11,{"$f":"VLOOKUP(C1670,Sheet2!A:B,2,FALSE)","v":159.5}]
[1670,"罗珍风",360803202010,154242702929,13,{"$f":"VLOOKUP(C1671,Sheet2!A:B,2,FALSE)","v":159.5}]
[1671,"董佳慧",360803202010,154242702716,12,{"$f":"VLOOKUP(C1672,Sheet2!A:B,2,FALSE)","v":159.5}]
[1672,"袁琴",360803202010,154012907007,14,{"$f":"VLOOKUP(C1673,Sheet2!A:B,2,FALSE)","v":159.5}]
[1673,"王霞",360803202010,154242702701,15,{"$f":"VLOOKUP(C1674,Sheet2!A:B,2,FALSE)","v":159.5}]
[1674,"姚倩倩",360803202010,154210200721,17,{"$f":"VLOOKUP(C1675,Sheet2!A:B,2,FALSE)","v":159.5}]
[1675,"吴小慧",360803202010,154040803023,16,{"$f":"VLOOKUP(C1676,Sheet2!A:B,2,FALSE)","v":159.5}]
[1676,"李小芬",360803202010,154242702802,18,{"$f":"VLOOKUP(C1677,Sheet2!A:B,2,FALSE)","v":159.5}]
[1677,"吴文青",360803202010,154242702529,19,{"$f":"VLOOKUP(C1678,Sheet2!A:B,2,FALSE)","v":159.5}]
[1678,"李卓蔚",360803202010,154012907306,20,{"$f":"VLOOKUP(C1679,Sheet2!A:B,2,FALSE)","v":159.5}]
[1679,"吴芸",360803202010,154242702906,21,{"$f":"VLOOKUP(C1680,Sheet2!A:B,2,FALSE)","v":159.5}]
[1680,"孙兰芬",360803202010,154242703011,22,{"$f":"VLOOKUP(C1681,Sheet2!A:B,2,FALSE)","v":159.5}]
[1681,"邹凯文",360803202010,154050315019,23,{"$f":"VLOOKUP(C1682,Sheet2!A:B,2,FALSE)","v":159.5}]
[1682,"李婷",360803202010,154050315020,24,{"$f":"VLOOKUP(C1683,Sheet2!A:B,2,FALSE)","v":159.5}]
[1683,"李志光",360803202010,154242702724,25,{"$f":"VLOOKUP(C1684,Sheet2!A:B,2,FALSE)","v":159.5}]
[1684,"丁金枝",360803203010,154012805513,1,{"$f":"VLOOKUP(C1685,Sheet2!A:B,2,FALSE)","v":165}]
[1685,"万琳懿",360803203010,154012908326,2,{"$f":"VLOOKUP(C1686,Sheet2!A:B,2,FALSE)","v":165}]
[1686,"付瑨钰",360803203010,154050315204,3,{"$f":"VLOOKUP(C1687,Sheet2!A:B,2,FALSE)","v":165}]
[1687,"李爱莲",360803203010,154242501201,4,{"$f":"VLOOKUP(C1688,Sheet2!A:B,2,FALSE)","v":165}]
[1688,"肖雨洁",360803203010,154242502202,5,{"$f":"VLOOKUP(C1689,Sheet2!A:B,2,FALSE)","v":165}]
[1689,"马雨昕",360803203010,154242502512,6,{"$f":"VLOOKUP(C1690,Sheet2!A:B,2,FALSE)","v":165}]
[1690,"李玉玲",360803203010,154242502408,7,{"$f":"VLOOKUP(C1691,Sheet2!A:B,2,FALSE)","v":165}]
[1691,"李智芳",360803203010,154242502014,8,{"$f":"VLOOKUP(C1692,Sheet2!A:B,2,FALSE)","v":165}]
[1692,"谭萧忆",360803203010,154242501910,9,{"$f":"VLOOKUP(C1693,Sheet2!A:B,2,FALSE)","v":165}]
[1693,"叶路梅",360803203010,154012805503,10,{"$f":"VLOOKUP(C1694,Sheet2!A:B,2,FALSE)","v":165}]
[1694,"何佳佳",360803203010,154012804710,11,{"$f":"VLOOKUP(C1695,Sheet2!A:B,2,FALSE)","v":165}]
[1695,"习雅丽",360803203010,154242502118,12,{"$f":"VLOOKUP(C1696,Sheet2!A:B,2,FALSE)","v":165}]
[1696,"邓聪",360803203010,154250105630,13,{"$f":"VLOOKUP(C1697,Sheet2!A:B,2,FALSE)","v":165}]
[1697,"郭霖",360803203010,154242501701,14,{"$f":"VLOOKUP(C1698,Sheet2!A:B,2,FALSE)","v":165}]
[1698,"孙依婷",360803203010,154242501706,16,{"$f":"VLOOKUP(C1699,Sheet2!A:B,2,FALSE)","v":165}]
[1699,"谢根红",360803203010,154242501723,15,{"$f":"VLOOKUP(C1700,Sheet2!A:B,2,FALSE)","v":165}]
[1700,"刘莹",360803203010,154242501626,17,{"$f":"VLOOKUP(C1701,Sheet2!A:B,2,FALSE)","v":165}]
[1701,"李晨曦",360803203010,154242501924,18,{"$f":"VLOOKUP(C1702,Sheet2!A:B,2,FALSE)","v":165}]
[1702,"周琳",360803203010,154242501329,19,{"$f":"VLOOKUP(C1703,Sheet2!A:B,2,FALSE)","v":165}]
[1703,"孙晓丹",360803203010,154242501202,20,{"$f":"VLOOKUP(C1704,Sheet2!A:B,2,FALSE)","v":165}]
[1704,"王倩南",360803203010,154242501417,21,{"$f":"VLOOKUP(C1705,Sheet2!A:B,2,FALSE)","v":165}]
[1705,"王昕",360803203010,154242502024,22,{"$f":"VLOOKUP(C1706,Sheet2!A:B,2,FALSE)","v":165}]
[1706,"李素萍",360803203010,154231501706,23,{"$f":"VLOOKUP(C1707,Sheet2!A:B,2,FALSE)","v":165}]
[1707,"刘静",360803203010,154242502230,24,{"$f":"VLOOKUP(C1708,Sheet2!A:B,2,FALSE)","v":165}]
[1708,"谢琳",360803203010,154242501526,25,{"$f":"VLOOKUP(C1709,Sheet2!A:B,2,FALSE)","v":165}]
[1709,"邓泽芊",360803204007,154012908924,1,{"$f":"VLOOKUP(C1710,Sheet2!A:B,2,FALSE)","v":141}]
[1710,"黄李",360803204007,154012908809,2,{"$f":"VLOOKUP(C1711,Sheet2!A:B,2,FALSE)","v":141}]
[1711,"罗桂芳",360803204007,154012405609,3,{"$f":"VLOOKUP(C1712,Sheet2!A:B,2,FALSE)","v":141}]
[1712,"罗盼盼",360803204007,154242403302,5,{"$f":"VLOOKUP(C1713,Sheet2!A:B,2,FALSE)","v":141}]
[1713,"易文秀",360803204007,154012908824,4,{"$f":"VLOOKUP(C1714,Sheet2!A:B,2,FALSE)","v":141}]
[1714,"黄浩琪",360803204007,154012405604,6,{"$f":"VLOOKUP(C1715,Sheet2!A:B,2,FALSE)","v":141}]
[1715,"李丽娟",360803204007,154040603222,7,{"$f":"VLOOKUP(C1716,Sheet2!A:B,2,FALSE)","v":141}]
[1716,"陈慧婷",360803204007,154012908918,8,{"$f":"VLOOKUP(C1717,Sheet2!A:B,2,FALSE)","v":141}]
[1717,"娄慧诗",360803204007,154242403408,9,{"$f":"VLOOKUP(C1718,Sheet2!A:B,2,FALSE)","v":141}]
[1718,"钟洁莲",360803204007,154242403314,10,{"$f":"VLOOKUP(C1719,Sheet2!A:B,2,FALSE)","v":141}]
[1719,"巫遂芳",360803204007,154012909022,11,{"$f":"VLOOKUP(C1720,Sheet2!A:B,2,FALSE)","v":141}]
[1720,"贺盼",360803204007,154012405614,12,{"$f":"VLOOKUP(C1721,Sheet2!A:B,2,FALSE)","v":141}]
[1721,"王少敏",360803204007,154242403620,13,{"$f":"VLOOKUP(C1722,Sheet2!A:B,2,FALSE)","v":141}]
[1722,"刘翌",360803204007,154242403721,14,{"$f":"VLOOKUP(C1723,Sheet2!A:B,2,FALSE)","v":141}]
[1723,"聂珍华",360803204007,154242403525,15,{"$f":"VLOOKUP(C1724,Sheet2!A:B,2,FALSE)","v":141}]
[1724,"李婷",360803204007,154242403725,16,{"$f":"VLOOKUP(C1725,Sheet2!A:B,2,FALSE)","v":141}]
[1725,"张蓉",360803204007,154242403630,17,{"$f":"VLOOKUP(C1726,Sheet2!A:B,2,FALSE)","v":141}]
[1726,"王婉青",360803204007,154242403310,18,{"$f":"VLOOKUP(C1727,Sheet2!A:B,2,FALSE)","v":141}]
[1727,"杨国文",360803205005,154012405919,1,{"$f":"VLOOKUP(C1728,Sheet2!A:B,2,FALSE)","v":124}]
[1728,"杨延鑫",360803205005,154242703618,2,{"$f":"VLOOKUP(C1729,Sheet2!A:B,2,FALSE)","v":124}]
[1729,"张丽萍",360803205005,154242703624,3,{"$f":"VLOOKUP(C1730,Sheet2!A:B,2,FALSE)","v":124}]
[1730,"王志峰",360803205005,154242703330,4,{"$f":"VLOOKUP(C1731,Sheet2!A:B,2,FALSE)","v":124}]
[1731,"易光杰",360803205005,154012804312,5,{"$f":"VLOOKUP(C1732,Sheet2!A:B,2,FALSE)","v":124}]
[1732,"刘勇红",360803205005,154012804411,6,{"$f":"VLOOKUP(C1733,Sheet2!A:B,2,FALSE)","v":124}]
[1733,"蔡金文",360803205005,154242703518,7,{"$f":"VLOOKUP(C1734,Sheet2!A:B,2,FALSE)","v":124}]
[1734,"谭佳敏",360803205005,154012804214,8,{"$f":"VLOOKUP(C1735,Sheet2!A:B,2,FALSE)","v":124}]
[1735,"罗兰",360803205005,154221407207,9,{"$f":"VLOOKUP(C1736,Sheet2!A:B,2,FALSE)","v":124}]
[1736,"黄真",360803205005,154242703426,11,{"$f":"VLOOKUP(C1737,Sheet2!A:B,2,FALSE)","v":124}]
[1737,"郑玉军",360803205005,154242703619,10,{"$f":"VLOOKUP(C1738,Sheet2!A:B,2,FALSE)","v":124}]
[1738,"吴舒敏",360803205005,154242703315,12,{"$f":"VLOOKUP(C1739,Sheet2!A:B,2,FALSE)","v":124}]
[1739,"左金艳",360803205005,154242703603,13,{"$f":"VLOOKUP(C1740,Sheet2!A:B,2,FALSE)","v":124}]
[1740,"曹蓉",360803205005,154242703612,14,{"$f":"VLOOKUP(C1741,Sheet2!A:B,2,FALSE)","v":124}]
[1741,"匡贤林",360803205005,154242703721,15,{"$f":"VLOOKUP(C1742,Sheet2!A:B,2,FALSE)","v":124}]
[1742,"赵宇茜",360803206003,154242602510,1,{"$f":"VLOOKUP(C1743,Sheet2!A:B,2,FALSE)","v":181.5}]
[1743,"梁琦",360803206003,154242602924,2,{"$f":"VLOOKUP(C1744,Sheet2!A:B,2,FALSE)","v":181.5}]
[1744,"陈梦洁",360803206003,154012702302,3,{"$f":"VLOOKUP(C1745,Sheet2!A:B,2,FALSE)","v":181.5}]
[1745,"王嘉钰",360803206003,154242602616,4,{"$f":"VLOOKUP(C1746,Sheet2!A:B,2,FALSE)","v":181.5}]
[1746,"尹利娟",360803206003,154210500324,5,{"$f":"VLOOKUP(C1747,Sheet2!A:B,2,FALSE)","v":181.5}]
[1747,"尹一凡",360803206003,154242602427,6,{"$f":"VLOOKUP(C1748,Sheet2!A:B,2,FALSE)","v":181.5}]
[1748,"梁慧",360803206003,154242603101,8,{"$f":"VLOOKUP(C1749,Sheet2!A:B,2,FALSE)","v":181.5}]
[1749,"李娜",360803206003,154012701814,7,{"$f":"VLOOKUP(C1750,Sheet2!A:B,2,FALSE)","v":181.5}]
[1750,"胡子妍",360803206003,154050315905,9,{"$f":"VLOOKUP(C1751,Sheet2!A:B,2,FALSE)","v":181.5}]
[1751,"王萍兰",360803207003,154242603502,1,{"$f":"VLOOKUP(C1752,Sheet2!A:B,2,FALSE)","v":123}]
[1752,"陈佳茜",360803207003,154242603618,2,{"$f":"VLOOKUP(C1753,Sheet2!A:B,2,FALSE)","v":123}]
[1753,"方洋洋",360803207003,154242603219,3,{"$f":"VLOOKUP(C1754,Sheet2!A:B,2,FALSE)","v":123}]
[1754,"韩曦",360803207003,154242603412,4,{"$f":"VLOOKUP(C1755,Sheet2!A:B,2,FALSE)","v":123}]
[1755,"欧阳朝",360803207003,154242603413,5,{"$f":"VLOOKUP(C1756,Sheet2!A:B,2,FALSE)","v":123}]
[1756,"邓涛先",360803207003,154242603310,6,{"$f":"VLOOKUP(C1757,Sheet2!A:B,2,FALSE)","v":123}]
[1757,"李婷婷",360803207003,154242603216,7,{"$f":"VLOOKUP(C1758,Sheet2!A:B,2,FALSE)","v":123}]
[1758,"卢智慧",360803207003,154012406322,8,{"$f":"VLOOKUP(C1759,Sheet2!A:B,2,FALSE)","v":123}]
[1759,"曾雨心",360803207003,154242603426,9,{"$f":"VLOOKUP(C1760,Sheet2!A:B,2,FALSE)","v":123}]
[1760,"彭卓",360803213001,154242502903,1,{"$f":"VLOOKUP(C1761,Sheet2!A:B,2,FALSE)","v":128.5}]
[1761,"王欢",360803213001,154242502906,2,{"$f":"VLOOKUP(C1762,Sheet2!A:B,2,FALSE)","v":128.5}]
[1762,"李雯静",360803213001,154211001105,3,{"$f":"VLOOKUP(C1763,Sheet2!A:B,2,FALSE)","v":128.5}]
[1763,"黄林岭",360803215001,154242503002,1,{"$f":"VLOOKUP(C1764,Sheet2!A:B,2,FALSE)","v":175}]
[1764,"钟辰茜",360821201007,154012700621,1,{"$f":"VLOOKUP(C1765,Sheet2!A:B,2,FALSE)","v":151.5}]
[1765,"罗慧媛",360821201007,154242601408,2,{"$f":"VLOOKUP(C1766,Sheet2!A:B,2,FALSE)","v":151.5}]
[1766,"彭欣云",360821201007,154242601212,3,{"$f":"VLOOKUP(C1767,Sheet2!A:B,2,FALSE)","v":151.5}]
[1767,"刘金",360821201007,154242602004,4,{"$f":"VLOOKUP(C1768,Sheet2!A:B,2,FALSE)","v":151.5}]
[1768,"康美娇",360821201007,154242601506,5,{"$f":"VLOOKUP(C1769,Sheet2!A:B,2,FALSE)","v":151.5}]
[1769,"欧阳素娟",360821201007,154040601925,6,{"$f":"VLOOKUP(C1770,Sheet2!A:B,2,FALSE)","v":151.5}]
[1770,"周心悦",360821201007,154242601714,7,{"$f":"VLOOKUP(C1771,Sheet2!A:B,2,FALSE)","v":151.5}]
[1771,"刘妲",360821201007,154242601807,8,{"$f":"VLOOKUP(C1772,Sheet2!A:B,2,FALSE)","v":151.5}]
[1772,"易美红",360821201007,154242601325,9,{"$f":"VLOOKUP(C1773,Sheet2!A:B,2,FALSE)","v":151.5}]
[1773,"郭玉珍",360821201007,154210900920,10,{"$f":"VLOOKUP(C1774,Sheet2!A:B,2,FALSE)","v":151.5}]
[1774,"林小霞",360821201007,154242601327,12,{"$f":"VLOOKUP(C1775,Sheet2!A:B,2,FALSE)","v":151.5}]
[1775,"刘霞",360821201007,154020500118,11,{"$f":"VLOOKUP(C1776,Sheet2!A:B,2,FALSE)","v":151.5}]
[1776,"刘霞",360821201007,154242601624,13,{"$f":"VLOOKUP(C1777,Sheet2!A:B,2,FALSE)","v":151.5}]
[1777,"张霓",360821201007,154242601622,14,{"$f":"VLOOKUP(C1778,Sheet2!A:B,2,FALSE)","v":151.5}]
[1778,"李佑姮",360821201007,154012700521,15,{"$f":"VLOOKUP(C1779,Sheet2!A:B,2,FALSE)","v":151.5}]
[1779,"王璐",360821201007,154242601420,16,{"$f":"VLOOKUP(C1780,Sheet2!A:B,2,FALSE)","v":151.5}]
[1780,"陈斯雅",360821201007,154012701124,17,{"$f":"VLOOKUP(C1781,Sheet2!A:B,2,FALSE)","v":151.5}]
[1781,"黄爱媛",360821201007,154242602019,18,{"$f":"VLOOKUP(C1782,Sheet2!A:B,2,FALSE)","v":151.5}]
[1782,"罗财英",360821202008,154242703005,1,{"$f":"VLOOKUP(C1783,Sheet2!A:B,2,FALSE)","v":157}]
[1783,"彭梦薇",360821202008,154242702629,2,{"$f":"VLOOKUP(C1784,Sheet2!A:B,2,FALSE)","v":157}]
[1784,"邹琳琳",360821202008,154242703022,3,{"$f":"VLOOKUP(C1785,Sheet2!A:B,2,FALSE)","v":157}]
[1785,"姜子怡",360821202008,154012906616,4,{"$f":"VLOOKUP(C1786,Sheet2!A:B,2,FALSE)","v":157}]
[1786,"裴冬秀",360821202008,154242703216,5,{"$f":"VLOOKUP(C1787,Sheet2!A:B,2,FALSE)","v":157}]
[1787,"欧阳彩玉",360821202008,154242703120,6,{"$f":"VLOOKUP(C1788,Sheet2!A:B,2,FALSE)","v":157}]
[1788,"肖雅婷",360821202008,154242703223,7,{"$f":"VLOOKUP(C1789,Sheet2!A:B,2,FALSE)","v":157}]
[1789,"贺文艳",360821202008,154050315012,8,{"$f":"VLOOKUP(C1790,Sheet2!A:B,2,FALSE)","v":157}]
[1790,"郭雲",360821202008,154242703114,9,{"$f":"VLOOKUP(C1791,Sheet2!A:B,2,FALSE)","v":157}]
[1791,"胡鹭",360821202008,154242702624,11,{"$f":"VLOOKUP(C1792,Sheet2!A:B,2,FALSE)","v":157}]
[1792,"刘淋",360821202008,154242703102,10,{"$f":"VLOOKUP(C1793,Sheet2!A:B,2,FALSE)","v":157}]
[1793,"刘心颖",360821202008,154242703023,12,{"$f":"VLOOKUP(C1794,Sheet2!A:B,2,FALSE)","v":157}]
[1794,"苏鑫",360821202008,154242702601,13,{"$f":"VLOOKUP(C1795,Sheet2!A:B,2,FALSE)","v":157}]
[1795,"阮嘉莉",360821202008,154050315021,14,{"$f":"VLOOKUP(C1796,Sheet2!A:B,2,FALSE)","v":157}]
[1796,"刘敏川",360821202008,154242703016,15,{"$f":"VLOOKUP(C1797,Sheet2!A:B,2,FALSE)","v":157}]
[1797,"田依",360821202008,154242702619,16,{"$f":"VLOOKUP(C1798,Sheet2!A:B,2,FALSE)","v":157}]
[1798,"刘婷",360821202008,154242703203,17,{"$f":"VLOOKUP(C1799,Sheet2!A:B,2,FALSE)","v":157}]
[1799,"孙静文",360821202008,154012907225,18,{"$f":"VLOOKUP(C1800,Sheet2!A:B,2,FALSE)","v":157}]
[1800,"黄伟",360821202008,154242702919,19,{"$f":"VLOOKUP(C1801,Sheet2!A:B,2,FALSE)","v":157}]
[1801,"钟娟",360821202008,154242703014,21,{"$f":"VLOOKUP(C1802,Sheet2!A:B,2,FALSE)","v":157}]
[1802,"曾嵘",360821202008,154012906928,20,{"$f":"VLOOKUP(C1803,Sheet2!A:B,2,FALSE)","v":157}]
[1803,"邱佳",360821203004,154242501208,1,{"$f":"VLOOKUP(C1804,Sheet2!A:B,2,FALSE)","v":180}]
[1804,"刘丽华",360821203004,154012806009,2,{"$f":"VLOOKUP(C1805,Sheet2!A:B,2,FALSE)","v":180}]
[1805,"刘方丽",360821203004,154242501909,3,{"$f":"VLOOKUP(C1806,Sheet2!A:B,2,FALSE)","v":180}]
[1806,"肖湄",360821203004,154242501619,4,{"$f":"VLOOKUP(C1807,Sheet2!A:B,2,FALSE)","v":180}]
[1807,"黄琳",360821203004,154242502314,5,{"$f":"VLOOKUP(C1808,Sheet2!A:B,2,FALSE)","v":180}]
[1808,"胡莎",360821203004,154242501729,6,{"$f":"VLOOKUP(C1809,Sheet2!A:B,2,FALSE)","v":180}]
[1809,"沈倩",360821203004,154242501428,7,{"$f":"VLOOKUP(C1810,Sheet2!A:B,2,FALSE)","v":180}]
[1810,"胡颖",360821203004,154242501603,8,{"$f":"VLOOKUP(C1811,Sheet2!A:B,2,FALSE)","v":180}]
[1811,"彭金香",360821203004,154242501414,9,{"$f":"VLOOKUP(C1812,Sheet2!A:B,2,FALSE)","v":180}]
[1812,"李志梅",360821203004,154242502522,10,{"$f":"VLOOKUP(C1813,Sheet2!A:B,2,FALSE)","v":180}]
[1813,"曾婷",360821203004,154012806011,11,{"$f":"VLOOKUP(C1814,Sheet2!A:B,2,FALSE)","v":180}]
[1814,"罗颖芝",360821203004,154242502116,12,{"$f":"VLOOKUP(C1815,Sheet2!A:B,2,FALSE)","v":180}]
[1815,"伍美惠子",360821204005,154242403704,1,{"$f":"VLOOKUP(C1816,Sheet2!A:B,2,FALSE)","v":193}]
[1816,"郭燕",360821204005,154242403627,2,{"$f":"VLOOKUP(C1817,Sheet2!A:B,2,FALSE)","v":193}]
[1817,"张雨慈",360821204005,154242403720,3,{"$f":"VLOOKUP(C1818,Sheet2!A:B,2,FALSE)","v":193}]
[1818,"周露",360821204005,154242403319,4,{"$f":"VLOOKUP(C1819,Sheet2!A:B,2,FALSE)","v":193}]
[1819,"肖青",360821204005,154012909014,5,{"$f":"VLOOKUP(C1820,Sheet2!A:B,2,FALSE)","v":193}]
[1820,"王婷婷",360821204005,154012908804,6,{"$f":"VLOOKUP(C1821,Sheet2!A:B,2,FALSE)","v":193}]
[1821,"郭亚男",360821204005,154242403528,7,{"$f":"VLOOKUP(C1822,Sheet2!A:B,2,FALSE)","v":193}]
[1822,"胡佳",360821204005,154012908928,8,{"$f":"VLOOKUP(C1823,Sheet2!A:B,2,FALSE)","v":193}]
[1823,"刘聪",360821204005,154050315518,9,{"$f":"VLOOKUP(C1824,Sheet2!A:B,2,FALSE)","v":193}]
[1824,"夏艺娟",360821204005,154060603924,10,{"$f":"VLOOKUP(C1825,Sheet2!A:B,2,FALSE)","v":193}]
[1825,"杨秀秀",360821204005,154242403722,11,{"$f":"VLOOKUP(C1826,Sheet2!A:B,2,FALSE)","v":193}]
[1826,"董慧",360821204005,154242403619,12,{"$f":"VLOOKUP(C1827,Sheet2!A:B,2,FALSE)","v":193}]
[1827,"周静雪",360821204005,154050315521,13,{"$f":"VLOOKUP(C1828,Sheet2!A:B,2,FALSE)","v":193}]
[1828,"刘智敏",360821204005,154012405503,14,{"$f":"VLOOKUP(C1829,Sheet2!A:B,2,FALSE)","v":193}]
[1829,"郭勤",360821204005,154242403529,15,{"$f":"VLOOKUP(C1830,Sheet2!A:B,2,FALSE)","v":193}]
[1830,"谢强",360821205007,154242703605,1,{"$f":"VLOOKUP(C1831,Sheet2!A:B,2,FALSE)","v":137}]
[1831,"郁景",360821205007,154012804130,2,{"$f":"VLOOKUP(C1832,Sheet2!A:B,2,FALSE)","v":137}]
[1832,"肖必成",360821205007,154012405924,3,{"$f":"VLOOKUP(C1833,Sheet2!A:B,2,FALSE)","v":137}]
[1833,"吴方仁",360821205007,154012405723,4,{"$f":"VLOOKUP(C1834,Sheet2!A:B,2,FALSE)","v":137}]
[1834,"敖兹鑫",360821205007,154242703524,5,{"$f":"VLOOKUP(C1835,Sheet2!A:B,2,FALSE)","v":137}]
[1835,"余梦婷",360821205007,154012804026,6,{"$f":"VLOOKUP(C1836,Sheet2!A:B,2,FALSE)","v":137}]
[1836,"陈坚",360821205007,154242703308,7,{"$f":"VLOOKUP(C1837,Sheet2!A:B,2,FALSE)","v":137}]
[1837,"彭侨侨",360821205007,154242703522,9,{"$f":"VLOOKUP(C1838,Sheet2!A:B,2,FALSE)","v":137}]
[1838,"周小杰",360821205007,154012804021,8,{"$f":"VLOOKUP(C1839,Sheet2!A:B,2,FALSE)","v":137}]
[1839,"邓永辉",360821205007,154242703420,10,{"$f":"VLOOKUP(C1840,Sheet2!A:B,2,FALSE)","v":137}]
[1840,"肖西西",360821205007,154242703514,11,{"$f":"VLOOKUP(C1841,Sheet2!A:B,2,FALSE)","v":137}]
[1841,"龚青苗",360821205007,154242703408,12,{"$f":"VLOOKUP(C1842,Sheet2!A:B,2,FALSE)","v":137}]
[1842,"黄桂华",360821205007,154050315711,13,{"$f":"VLOOKUP(C1843,Sheet2!A:B,2,FALSE)","v":137}]
[1843,"王晨",360821205007,154211003406,14,{"$f":"VLOOKUP(C1844,Sheet2!A:B,2,FALSE)","v":137}]
[1844,"杨鑫",360821205007,154030306803,15,{"$f":"VLOOKUP(C1845,Sheet2!A:B,2,FALSE)","v":137}]
[1845,"卢昌颖",360821205007,154040603403,16,{"$f":"VLOOKUP(C1846,Sheet2!A:B,2,FALSE)","v":137}]
[1846,"孙荣",360821205007,154211001603,17,{"$f":"VLOOKUP(C1847,Sheet2!A:B,2,FALSE)","v":137}]
[1847,"谢楚",360821205007,154211003230,18,{"$f":"VLOOKUP(C1848,Sheet2!A:B,2,FALSE)","v":137}]
[1848,"彭玉玲",360821206003,154242602717,1,{"$f":"VLOOKUP(C1849,Sheet2!A:B,2,FALSE)","v":175.5}]
[1849,"胡艳萍",360821206003,154242602311,2,{"$f":"VLOOKUP(C1850,Sheet2!A:B,2,FALSE)","v":175.5}]
[1850,"刘小婷",360821206003,154242602317,3,{"$f":"VLOOKUP(C1851,Sheet2!A:B,2,FALSE)","v":175.5}]
[1851,"陈奕涵",360821206003,154242602423,4,{"$f":"VLOOKUP(C1852,Sheet2!A:B,2,FALSE)","v":175.5}]
[1852,"尹露佳",360821206003,154242603109,5,{"$f":"VLOOKUP(C1853,Sheet2!A:B,2,FALSE)","v":175.5}]
[1853,"肖爱琳",360821206003,154012702510,6,{"$f":"VLOOKUP(C1854,Sheet2!A:B,2,FALSE)","v":175.5}]
[1854,"曾诗君",360821206003,154242602801,7,{"$f":"VLOOKUP(C1855,Sheet2!A:B,2,FALSE)","v":175.5}]
[1855,"颜思泽",360821206003,154242602922,9,{"$f":"VLOOKUP(C1856,Sheet2!A:B,2,FALSE)","v":175.5}]
[1856,"肖靓",360821206003,154012702212,8,{"$f":"VLOOKUP(C1857,Sheet2!A:B,2,FALSE)","v":175.5}]
[1857,"宋思雨",360821207003,154242603327,1,{"$f":"VLOOKUP(C1858,Sheet2!A:B,2,FALSE)","v":141}]
[1858,"肖丽婕",360821207003,154242603417,2,{"$f":"VLOOKUP(C1859,Sheet2!A:B,2,FALSE)","v":141}]
[1859,"姜萃",360821207003,154242603209,3,{"$f":"VLOOKUP(C1860,Sheet2!A:B,2,FALSE)","v":141}]
[1860,"李易",360821207003,154242603229,4,{"$f":"VLOOKUP(C1861,Sheet2!A:B,2,FALSE)","v":141}]
[1861,"陈欣",360821207003,154242603205,5,{"$f":"VLOOKUP(C1862,Sheet2!A:B,2,FALSE)","v":141}]
[1862,"高琴",360821207003,154242603526,6,{"$f":"VLOOKUP(C1863,Sheet2!A:B,2,FALSE)","v":141}]
[1863,"彭莉娟",360821207003,154242603604,7,{"$f":"VLOOKUP(C1864,Sheet2!A:B,2,FALSE)","v":141}]
[1864,"李嘉容",360821207003,154242603516,8,{"$f":"VLOOKUP(C1865,Sheet2!A:B,2,FALSE)","v":141}]
[1865,"周小雨",360821207003,154242603416,10,{"$f":"VLOOKUP(C1866,Sheet2!A:B,2,FALSE)","v":141}]
[1866,"欧阳梦",360821207003,154242603528,9,{"$f":"VLOOKUP(C1867,Sheet2!A:B,2,FALSE)","v":141}]
[1867,"贺晨启",360821208003,154030307422,1,{"$f":"VLOOKUP(C1868,Sheet2!A:B,2,FALSE)","v":133}]
[1868,"彭声文",360821208003,154242603701,2,{"$f":"VLOOKUP(C1869,Sheet2!A:B,2,FALSE)","v":133}]
[1869,"姚根财",360821208003,154242603723,3,{"$f":"VLOOKUP(C1870,Sheet2!A:B,2,FALSE)","v":133}]
[1870,"张玉",360821208003,154242603708,4,{"$f":"VLOOKUP(C1871,Sheet2!A:B,2,FALSE)","v":133}]
[1871,"肖依琳",360821208003,154242603725,5,{"$f":"VLOOKUP(C1872,Sheet2!A:B,2,FALSE)","v":133}]
[1872,"胡阳",360821208003,154242603722,6,{"$f":"VLOOKUP(C1873,Sheet2!A:B,2,FALSE)","v":133}]
[1873,"胡宝珠",360821208003,154242603706,7,{"$f":"VLOOKUP(C1874,Sheet2!A:B,2,FALSE)","v":133}]
[1874,"王艳梅",360821209002,154242603930,1,{"$f":"VLOOKUP(C1875,Sheet2!A:B,2,FALSE)","v":153.5}]
[1875,"俞洁",360821209002,154242603918,2,{"$f":"VLOOKUP(C1876,Sheet2!A:B,2,FALSE)","v":153.5}]
[1876,"廖蓉",360821209002,154030307506,3,{"$f":"VLOOKUP(C1877,Sheet2!A:B,2,FALSE)","v":153.5}]
[1877,"龚芷晴",360821209002,154242603902,4,{"$f":"VLOOKUP(C1878,Sheet2!A:B,2,FALSE)","v":153.5}]
[1878,"龙娟",360821209002,154030307507,5,{"$f":"VLOOKUP(C1879,Sheet2!A:B,2,FALSE)","v":153.5}]
[1879,"黄忆",360821209002,154030307509,6,{"$f":"VLOOKUP(C1880,Sheet2!A:B,2,FALSE)","v":153.5}]
[1880,"周淑香",360821210003,154242703823,1,{"$f":"VLOOKUP(C1881,Sheet2!A:B,2,FALSE)","v":121.5}]
[1881,"邓代泉",360821210003,154012803203,2,{"$f":"VLOOKUP(C1882,Sheet2!A:B,2,FALSE)","v":121.5}]
[1882,"刘珊",360821210003,154242703923,3,{"$f":"VLOOKUP(C1883,Sheet2!A:B,2,FALSE)","v":121.5}]
[1883,"欧阳涛",360821210003,154040803804,4,{"$f":"VLOOKUP(C1884,Sheet2!A:B,2,FALSE)","v":121.5}]
[1884,"彭珍珍",360821210003,154242703919,5,{"$f":"VLOOKUP(C1885,Sheet2!A:B,2,FALSE)","v":121.5}]
[1885,"刘江敏",360821210003,154242703901,6,{"$f":"VLOOKUP(C1886,Sheet2!A:B,2,FALSE)","v":121.5}]
[1886,"何文清",360821210003,154012803104,7,{"$f":"VLOOKUP(C1887,Sheet2!A:B,2,FALSE)","v":121.5}]
[1887,"周江涛",360821210003,154012803312,8,{"$f":"VLOOKUP(C1888,Sheet2!A:B,2,FALSE)","v":121.5}]
[1888,"陈高燕",360821210003,154242703822,9,{"$f":"VLOOKUP(C1889,Sheet2!A:B,2,FALSE)","v":121.5}]
[1889,"刘慧玲",360821211003,154242704002,1,{"$f":"VLOOKUP(C1890,Sheet2!A:B,2,FALSE)","v":116.5}]
[1890,"曾利",360821211003,154242704102,2,{"$f":"VLOOKUP(C1891,Sheet2!A:B,2,FALSE)","v":116.5}]
[1891,"龙聪",360821211003,154242704025,3,{"$f":"VLOOKUP(C1892,Sheet2!A:B,2,FALSE)","v":116.5}]
[1892,"万艳花",360821211003,154242704026,4,{"$f":"VLOOKUP(C1893,Sheet2!A:B,2,FALSE)","v":116.5}]
[1893,"李嘉欣",360821211003,154242704003,5,{"$f":"VLOOKUP(C1894,Sheet2!A:B,2,FALSE)","v":116.5}]
[1894,"戴文平",360821211003,154242704105,6,{"$f":"VLOOKUP(C1895,Sheet2!A:B,2,FALSE)","v":116.5}]
[1895,"黄辉",360821211003,154242704014,7,{"$f":"VLOOKUP(C1896,Sheet2!A:B,2,FALSE)","v":116.5}]
[1896,"裴娟华",360821211003,154242704001,8,{"$f":"VLOOKUP(C1897,Sheet2!A:B,2,FALSE)","v":116.5}]
[1897,"罗婷",360821212002,154242502726,1,{"$f":"VLOOKUP(C1898,Sheet2!A:B,2,FALSE)","v":133}]
[1898,"刘闳桢",360821212002,154242502728,2,{"$f":"VLOOKUP(C1899,Sheet2!A:B,2,FALSE)","v":133}]
[1899,"彭巧欣",360821212002,154242502717,3,{"$f":"VLOOKUP(C1900,Sheet2!A:B,2,FALSE)","v":133}]
[1900,"刘晴",360821213002,154242502917,1,{"$f":"VLOOKUP(C1901,Sheet2!A:B,2,FALSE)","v":144}]
[1901,"刘娜",360821213002,154030308103,2,{"$f":"VLOOKUP(C1902,Sheet2!A:B,2,FALSE)","v":144}]
[1902,"戴璐",360821213002,154242502912,3,{"$f":"VLOOKUP(C1903,Sheet2!A:B,2,FALSE)","v":144}]
[1903,"胡冬根",360821213002,154242502911,4,{"$f":"VLOOKUP(C1904,Sheet2!A:B,2,FALSE)","v":144}]
[1904,"吴鑫",360821213002,154250107006,5,{"$f":"VLOOKUP(C1905,Sheet2!A:B,2,FALSE)","v":144}]
[1905,"贺晓亮",360821213002,154211001120,6,{"$f":"VLOOKUP(C1906,Sheet2!A:B,2,FALSE)","v":144}]
[1906,"孙粤闽",360821215003,154242503104,1,{"$f":"VLOOKUP(C1907,Sheet2!A:B,2,FALSE)","v":167}]
[1907,"肖莎",360821215003,154012407717,2,{"$f":"VLOOKUP(C1908,Sheet2!A:B,2,FALSE)","v":167}]
[1908,"黄芳",360821215003,154242503013,3,{"$f":"VLOOKUP(C1909,Sheet2!A:B,2,FALSE)","v":167}]
[1909,"陈芬",360821215003,154050316603,4,{"$f":"VLOOKUP(C1910,Sheet2!A:B,2,FALSE)","v":167}]
[1910,"易思琪",360821215003,154030308203,5,{"$f":"VLOOKUP(C1911,Sheet2!A:B,2,FALSE)","v":167}]
[1911,"罗草源",360821215003,154210903424,6,{"$f":"VLOOKUP(C1912,Sheet2!A:B,2,FALSE)","v":167}]
[1912,"彭贻",360821215003,154242503115,7,{"$f":"VLOOKUP(C1913,Sheet2!A:B,2,FALSE)","v":167}]
[1913,"李艳红",360821215003,154242503004,8,{"$f":"VLOOKUP(C1914,Sheet2!A:B,2,FALSE)","v":167}]
[1914,"朱经耀",360821215003,154242503121,9,{"$f":"VLOOKUP(C1915,Sheet2!A:B,2,FALSE)","v":167}]
[1915,"帅寒雪",360822201003,154012700502,1,{"$f":"VLOOKUP(C1916,Sheet2!A:B,2,FALSE)","v":163}]
[1916,"江心怡",360822201003,154012700802,2,{"$f":"VLOOKUP(C1917,Sheet2!A:B,2,FALSE)","v":163}]
[1917,"张安安",360822201003,154050314828,4,{"$f":"VLOOKUP(C1918,Sheet2!A:B,2,FALSE)","v":163}]
[1918,"杜龙艳",360822201003,154242601314,5,{"$f":"VLOOKUP(C1919,Sheet2!A:B,2,FALSE)","v":163}]
[1919,"刘海东",360822201003,154242601502,3,{"$f":"VLOOKUP(C1920,Sheet2!A:B,2,FALSE)","v":163}]
[1920,"胡佩瑶",360822201003,154242601220,8,{"$f":"VLOOKUP(C1921,Sheet2!A:B,2,FALSE)","v":163}]
[1921,"刘婧",360822201003,154242601611,6,{"$f":"VLOOKUP(C1922,Sheet2!A:B,2,FALSE)","v":163}]
[1922,"曾欢",360822201003,154242601326,7,{"$f":"VLOOKUP(C1923,Sheet2!A:B,2,FALSE)","v":163}]
[1923,"欧阳文婷",360822201003,154242601605,9,{"$f":"VLOOKUP(C1924,Sheet2!A:B,2,FALSE)","v":163}]
[1924,"李小琴",360822202004,154242702814,1,{"$f":"VLOOKUP(C1925,Sheet2!A:B,2,FALSE)","v":82}]
[1925,"王聪颖",360822202004,154012906907,2,{"$f":"VLOOKUP(C1926,Sheet2!A:B,2,FALSE)","v":82}]
[1926,"毛芸芳",360822202004,154050315113,3,{"$f":"VLOOKUP(C1927,Sheet2!A:B,2,FALSE)","v":82}]
[1927,"朱玉峰",360822202004,154242702801,4,{"$f":"VLOOKUP(C1928,Sheet2!A:B,2,FALSE)","v":82}]
[1928,"许海丽",360822202004,154242702513,5,{"$f":"VLOOKUP(C1929,Sheet2!A:B,2,FALSE)","v":82}]
[1929,"肖豪",360822202004,154242702717,6,{"$f":"VLOOKUP(C1930,Sheet2!A:B,2,FALSE)","v":82}]
[1930,"刘牧天",360822202004,154242703224,7,{"$f":"VLOOKUP(C1931,Sheet2!A:B,2,FALSE)","v":82}]
[1931,"邹志敏",360822202004,154242702803,8,{"$f":"VLOOKUP(C1932,Sheet2!A:B,2,FALSE)","v":82}]
[1932,"黎欣",360822202004,154250105416,9,{"$f":"VLOOKUP(C1933,Sheet2!A:B,2,FALSE)","v":82}]
[1933,"龚子爵",360822202004,154012906615,10,{"$f":"VLOOKUP(C1934,Sheet2!A:B,2,FALSE)","v":82}]
[1934,"周智鹏",360822202004,154210200702,11,{"$f":"VLOOKUP(C1935,Sheet2!A:B,2,FALSE)","v":82}]
[1935,"曾美如",360822202004,154242702812,12,{"$f":"VLOOKUP(C1936,Sheet2!A:B,2,FALSE)","v":82}]
[1936,"黄慧琳",360822204002,154242403404,1,{"$f":"VLOOKUP(C1937,Sheet2!A:B,2,FALSE)","v":168.5}]
[1937,"古小珍",360822204002,154242403501,2,{"$f":"VLOOKUP(C1938,Sheet2!A:B,2,FALSE)","v":168.5}]
[1938,"梁美娟",360822204002,154242403716,3,{"$f":"VLOOKUP(C1939,Sheet2!A:B,2,FALSE)","v":168.5}]
[1939,"胡华",360822204002,154012405528,4,{"$f":"VLOOKUP(C1940,Sheet2!A:B,2,FALSE)","v":168.5}]
[1940,"孙雯艺",360822204002,154012908823,5,{"$f":"VLOOKUP(C1941,Sheet2!A:B,2,FALSE)","v":168.5}]
[1941,"彭萱琦",360822204002,154050315504,6,{"$f":"VLOOKUP(C1942,Sheet2!A:B,2,FALSE)","v":168.5}]
[1942,"龚章鹏",360822205002,154242703402,1,{"$f":"VLOOKUP(C1943,Sheet2!A:B,2,FALSE)","v":121}]
[1943,"郭泉志",360822205002,154242703615,2,{"$f":"VLOOKUP(C1944,Sheet2!A:B,2,FALSE)","v":121}]
[1944,"余新龙",360822205002,154050315629,3,{"$f":"VLOOKUP(C1945,Sheet2!A:B,2,FALSE)","v":121}]
[1945,"郭惠明",360822205002,154242703328,4,{"$f":"VLOOKUP(C1946,Sheet2!A:B,2,FALSE)","v":121}]
[1946,"陈厚力",360822205002,154242703412,5,{"$f":"VLOOKUP(C1947,Sheet2!A:B,2,FALSE)","v":121}]
[1947,"杨健",360822205002,154012405813,6,{"$f":"VLOOKUP(C1948,Sheet2!A:B,2,FALSE)","v":121}]
[1948,"黄慧",360822206002,154242603111,1,{"$f":"VLOOKUP(C1949,Sheet2!A:B,2,FALSE)","v":170}]
[1949,"周瑾玉",360822206002,154242602419,2,{"$f":"VLOOKUP(C1950,Sheet2!A:B,2,FALSE)","v":170}]
[1950,"高帆",360822206002,154242602428,3,{"$f":"VLOOKUP(C1951,Sheet2!A:B,2,FALSE)","v":170}]
[1951,"毛琳",360822206002,154242602530,4,{"$f":"VLOOKUP(C1952,Sheet2!A:B,2,FALSE)","v":170}]
[1952,"罗永红",360822206002,154242602425,5,{"$f":"VLOOKUP(C1953,Sheet2!A:B,2,FALSE)","v":170}]
[1953,"赖雨旦",360822206002,154012702615,6,{"$f":"VLOOKUP(C1954,Sheet2!A:B,2,FALSE)","v":170}]
[1954,"曾思琦",360822207002,154242603418,1,{"$f":"VLOOKUP(C1955,Sheet2!A:B,2,FALSE)","v":145.5}]
[1955,"郭招娣",360822207002,154210401807,2,{"$f":"VLOOKUP(C1956,Sheet2!A:B,2,FALSE)","v":145.5}]
[1956,"李卿",360822207002,154012406417,3,{"$f":"VLOOKUP(C1957,Sheet2!A:B,2,FALSE)","v":145.5}]
[1957,"郭丽雯",360822207002,154242603406,4,{"$f":"VLOOKUP(C1958,Sheet2!A:B,2,FALSE)","v":145.5}]
[1958,"熊子帅",360822207002,154242603304,5,{"$f":"VLOOKUP(C1959,Sheet2!A:B,2,FALSE)","v":145.5}]
[1959,"丁营营",360822207002,154242603505,6,{"$f":"VLOOKUP(C1960,Sheet2!A:B,2,FALSE)","v":145.5}]
[1960,"罗慧",360822208003,154242603727,1,{"$f":"VLOOKUP(C1961,Sheet2!A:B,2,FALSE)","v":127}]
[1961,"李雨婷",360822208003,154242603715,2,{"$f":"VLOOKUP(C1962,Sheet2!A:B,2,FALSE)","v":127}]
[1962,"康光达",360822208003,154242603707,3,{"$f":"VLOOKUP(C1963,Sheet2!A:B,2,FALSE)","v":127}]
[1963,"刘艳萍",360822208003,154012406602,4,{"$f":"VLOOKUP(C1964,Sheet2!A:B,2,FALSE)","v":127}]
[1964,"庞丽丽",360822208003,154242603703,5,{"$f":"VLOOKUP(C1965,Sheet2!A:B,2,FALSE)","v":127}]
[1965,"杨欣",360822208003,154242603802,6,{"$f":"VLOOKUP(C1966,Sheet2!A:B,2,FALSE)","v":127}]
[1966,"张婉玲",360822208003,154242603801,7,{"$f":"VLOOKUP(C1967,Sheet2!A:B,2,FALSE)","v":127}]
[1967,"曾莹",360822208003,154242603705,8,{"$f":"VLOOKUP(C1968,Sheet2!A:B,2,FALSE)","v":127}]
[1968,"周梦琪",360822208003,154242603726,9,{"$f":"VLOOKUP(C1969,Sheet2!A:B,2,FALSE)","v":127}]
[1969,"梅媛",360822209003,154050316207,1,{"$f":"VLOOKUP(C1970,Sheet2!A:B,2,FALSE)","v":143}]
[1970,"罗佳",360822209003,154242603909,2,{"$f":"VLOOKUP(C1971,Sheet2!A:B,2,FALSE)","v":143}]
[1971,"王沛尧",360822209003,154012407009,3,{"$f":"VLOOKUP(C1972,Sheet2!A:B,2,FALSE)","v":143}]
[1972,"马紫荆",360822209003,154242603921,4,{"$f":"VLOOKUP(C1973,Sheet2!A:B,2,FALSE)","v":143}]
[1973,"刘灿",360822209003,154030307505,5,{"$f":"VLOOKUP(C1974,Sheet2!A:B,2,FALSE)","v":143}]
[1974,"彭金芳",360822209003,154012406909,6,{"$f":"VLOOKUP(C1975,Sheet2!A:B,2,FALSE)","v":143}]
[1975,"周婵娟",360822209003,154242603910,7,{"$f":"VLOOKUP(C1976,Sheet2!A:B,2,FALSE)","v":143}]
[1976,"刘嘉琳",360822209003,154242603924,8,{"$f":"VLOOKUP(C1977,Sheet2!A:B,2,FALSE)","v":143}]
[1977,"李婷",360822209003,154050316208,9,{"$f":"VLOOKUP(C1978,Sheet2!A:B,2,FALSE)","v":143}]
[1978,"赖自辉",360822211002,154242704123,1,{"$f":"VLOOKUP(C1979,Sheet2!A:B,2,FALSE)","v":127}]
[1979,"李星",360822211002,154242704011,2,{"$f":"VLOOKUP(C1980,Sheet2!A:B,2,FALSE)","v":127}]
[1980,"胡慧瑜",360822212003,154050316504,1,{"$f":"VLOOKUP(C1981,Sheet2!A:B,2,FALSE)","v":117.5}]
[1981,"李博文",360822212003,154242502803,2,{"$f":"VLOOKUP(C1982,Sheet2!A:B,2,FALSE)","v":117.5}]
[1982,"裴青青",360822212003,154242502724,3,{"$f":"VLOOKUP(C1983,Sheet2!A:B,2,FALSE)","v":117.5}]
[1983,"周婕琳",360822212003,154242502715,4,{"$f":"VLOOKUP(C1984,Sheet2!A:B,2,FALSE)","v":117.5}]
[1984,"刘心雨",360822212003,154242502706,5,{"$f":"VLOOKUP(C1985,Sheet2!A:B,2,FALSE)","v":117.5}]
[1985,"郭诗雨",360822212003,154242502720,6,{"$f":"VLOOKUP(C1986,Sheet2!A:B,2,FALSE)","v":117.5}]
[1986,"刘攀",360822212003,154242502723,7,{"$f":"VLOOKUP(C1987,Sheet2!A:B,2,FALSE)","v":117.5}]
[1987,"陈璐",360822212003,154012407215,8,{"$f":"VLOOKUP(C1988,Sheet2!A:B,2,FALSE)","v":117.5}]
[1988,"吴江",360822212003,154231505405,9,{"$f":"VLOOKUP(C1989,Sheet2!A:B,2,FALSE)","v":117.5}]
[1989,"周丽媛",360822213002,154242502914,1,{"$f":"VLOOKUP(C1990,Sheet2!A:B,2,FALSE)","v":144}]
[1990,"吴剑",360822213002,154242502918,2,{"$f":"VLOOKUP(C1991,Sheet2!A:B,2,FALSE)","v":144}]
[1991,"肖玲",360822213002,154242502907,3,{"$f":"VLOOKUP(C1992,Sheet2!A:B,2,FALSE)","v":144}]
[1992,"黄嘉俊",360822213002,154250107003,4,{"$f":"VLOOKUP(C1993,Sheet2!A:B,2,FALSE)","v":144}]
[1993,"解湖平",360822213002,154242502915,5,{"$f":"VLOOKUP(C1994,Sheet2!A:B,2,FALSE)","v":144}]
[1994,"王琴",360822213002,154242502904,6,{"$f":"VLOOKUP(C1995,Sheet2!A:B,2,FALSE)","v":144}]
[1995,"彭芳丽",360822215002,154210903408,1,{"$f":"VLOOKUP(C1996,Sheet2!A:B,2,FALSE)","v":180.5}]
[1996,"刘佳琴",360822215002,154242503101,2,{"$f":"VLOOKUP(C1997,Sheet2!A:B,2,FALSE)","v":180.5}]
[1997,"李娟",360822215002,154242503011,3,{"$f":"VLOOKUP(C1998,Sheet2!A:B,2,FALSE)","v":180.5}]
[1998,"邹婷婷",360822215002,154250107102,4,{"$f":"VLOOKUP(C1999,Sheet2!A:B,2,FALSE)","v":180.5}]
[1999,"傅依婷",360822215002,154242503213,5,{"$f":"VLOOKUP(C2000,Sheet2!A:B,2,FALSE)","v":180.5}]
[2000,"刘清莹",360822215002,154242503021,6,{"$f":"VLOOKUP(C2001,Sheet2!A:B,2,FALSE)","v":180.5}]
[2001,"周艺丹",360824201006,154012700730,1,{"$f":"VLOOKUP(C2002,Sheet2!A:B,2,FALSE)","v":144}]
[2002,"陈红",360824201006,154012700427,2,{"$f":"VLOOKUP(C2003,Sheet2!A:B,2,FALSE)","v":144}]
[2003,"李倩",360824201006,154012700407,3,{"$f":"VLOOKUP(C2004,Sheet2!A:B,2,FALSE)","v":144}]
[2004,"江平",360824201006,154242601621,4,{"$f":"VLOOKUP(C2005,Sheet2!A:B,2,FALSE)","v":144}]
[2005,"张思佳",360824201006,154242601917,5,{"$f":"VLOOKUP(C2006,Sheet2!A:B,2,FALSE)","v":144}]
[2006,"徐妃",360824201006,154242601725,6,{"$f":"VLOOKUP(C2007,Sheet2!A:B,2,FALSE)","v":144}]
[2007,"陈玲娟",360824201006,154012701319,7,{"$f":"VLOOKUP(C2008,Sheet2!A:B,2,FALSE)","v":144}]
[2008,"李晓诗",360824201006,154012700426,8,{"$f":"VLOOKUP(C2009,Sheet2!A:B,2,FALSE)","v":144}]
[2009,"张丽莎",360824201006,154012701022,9,{"$f":"VLOOKUP(C2010,Sheet2!A:B,2,FALSE)","v":144}]
[2010,"杨洋",360824201006,154012701324,10,{"$f":"VLOOKUP(C2011,Sheet2!A:B,2,FALSE)","v":144}]
[2011,"胡涛",360824201006,154242601427,12,{"$f":"VLOOKUP(C2012,Sheet2!A:B,2,FALSE)","v":144}]
[2012,"刘紫微",360824201006,154040602013,11,{"$f":"VLOOKUP(C2013,Sheet2!A:B,2,FALSE)","v":144}]
[2013,"傅群",360824201006,154242601913,13,{"$f":"VLOOKUP(C2014,Sheet2!A:B,2,FALSE)","v":144}]
[2014,"陈世豪",360824201006,154242601410,14,{"$f":"VLOOKUP(C2015,Sheet2!A:B,2,FALSE)","v":144}]
[2015,"陈欣雨",360824201006,154012700226,15,{"$f":"VLOOKUP(C2016,Sheet2!A:B,2,FALSE)","v":144}]
[2016,"杨敏",360824202005,154012907229,1,{"$f":"VLOOKUP(C2017,Sheet2!A:B,2,FALSE)","v":121}]
[2017,"周桂琳",360824202005,154012906217,2,{"$f":"VLOOKUP(C2018,Sheet2!A:B,2,FALSE)","v":121}]
[2018,"彭谊",360824202005,154012906504,3,{"$f":"VLOOKUP(C2019,Sheet2!A:B,2,FALSE)","v":121}]
[2019,"张文意",360824202005,154242702712,4,{"$f":"VLOOKUP(C2020,Sheet2!A:B,2,FALSE)","v":121}]
[2020,"胡清萍",360824202005,154012906606,5,{"$f":"VLOOKUP(C2021,Sheet2!A:B,2,FALSE)","v":121}]
[2021,"周倩",360824202005,154050315009,6,{"$f":"VLOOKUP(C2022,Sheet2!A:B,2,FALSE)","v":121}]
[2022,"胡欣",360824202005,154012906804,7,{"$f":"VLOOKUP(C2023,Sheet2!A:B,2,FALSE)","v":121}]
[2023,"曾朦",360824202005,154040803029,8,{"$f":"VLOOKUP(C2024,Sheet2!A:B,2,FALSE)","v":121}]
[2024,"唐文希",360824202005,154242702913,9,{"$f":"VLOOKUP(C2025,Sheet2!A:B,2,FALSE)","v":121}]
[2025,"欧阳芳",360824202005,154050315101,10,{"$f":"VLOOKUP(C2026,Sheet2!A:B,2,FALSE)","v":121}]
[2026,"刘建发",360824202005,154242702611,11,{"$f":"VLOOKUP(C2027,Sheet2!A:B,2,FALSE)","v":121}]
[2027,"姚丁苹",360824202005,154242702813,12,{"$f":"VLOOKUP(C2028,Sheet2!A:B,2,FALSE)","v":121}]
[2028,"刘洁",360824202005,154231501004,13,{"$f":"VLOOKUP(C2029,Sheet2!A:B,2,FALSE)","v":121}]
[2029,"吴美红",360824202005,154012907019,14,{"$f":"VLOOKUP(C2030,Sheet2!A:B,2,FALSE)","v":121}]
[2030,"高璐瑶",360824202005,154050315030,15,{"$f":"VLOOKUP(C2031,Sheet2!A:B,2,FALSE)","v":121}]
[2031,"皮滢",360824203003,154012804922,1,{"$f":"VLOOKUP(C2032,Sheet2!A:B,2,FALSE)","v":177.5}]
[2032,"敖伟华",360824203003,154012805227,2,{"$f":"VLOOKUP(C2033,Sheet2!A:B,2,FALSE)","v":177.5}]
[2033,"邓钰婷",360824203003,154242502206,3,{"$f":"VLOOKUP(C2034,Sheet2!A:B,2,FALSE)","v":177.5}]
[2034,"何嘉欣",360824203003,154242502411,5,{"$f":"VLOOKUP(C2035,Sheet2!A:B,2,FALSE)","v":177.5}]
[2035,"黄欣",360824203003,154012805117,4,{"$f":"VLOOKUP(C2036,Sheet2!A:B,2,FALSE)","v":177.5}]
[2036,"周慧姣",360824203003,154030306014,6,{"$f":"VLOOKUP(C2037,Sheet2!A:B,2,FALSE)","v":177.5}]
[2037,"廖霞青",360824203003,154242501207,7,{"$f":"VLOOKUP(C2038,Sheet2!A:B,2,FALSE)","v":177.5}]
[2038,"张清",360824203003,154012805623,8,{"$f":"VLOOKUP(C2039,Sheet2!A:B,2,FALSE)","v":177.5}]
[2039,"温翾",360824203003,154242501713,9,{"$f":"VLOOKUP(C2040,Sheet2!A:B,2,FALSE)","v":177.5}]
[2040,"李思婷",360824204005,154012405618,1,{"$f":"VLOOKUP(C2041,Sheet2!A:B,2,FALSE)","v":116.5}]
[2041,"乐咏雯",360824204005,154242403617,2,{"$f":"VLOOKUP(C2042,Sheet2!A:B,2,FALSE)","v":116.5}]
[2042,"皮香艳",360824204005,154050315507,3,{"$f":"VLOOKUP(C2043,Sheet2!A:B,2,FALSE)","v":116.5}]
[2043,"曾永菁",360824204005,154242403421,5,{"$f":"VLOOKUP(C2044,Sheet2!A:B,2,FALSE)","v":116.5}]
[2044,"周云平",360824204005,154242403316,4,{"$f":"VLOOKUP(C2045,Sheet2!A:B,2,FALSE)","v":116.5}]
[2045,"陈颖",360824204005,154012908829,6,{"$f":"VLOOKUP(C2046,Sheet2!A:B,2,FALSE)","v":116.5}]
[2046,"刘睿昕",360824205004,154012406111,1,{"$f":"VLOOKUP(C2047,Sheet2!A:B,2,FALSE)","v":93}]
[2047,"魏雨聪",360824205004,154231503022,2,{"$f":"VLOOKUP(C2048,Sheet2!A:B,2,FALSE)","v":93}]
[2048,"杜志豪",360824205004,154012405712,3,{"$f":"VLOOKUP(C2049,Sheet2!A:B,2,FALSE)","v":93}]
[2049,"黄雅云",360824205004,154231503019,4,{"$f":"VLOOKUP(C2050,Sheet2!A:B,2,FALSE)","v":93}]
[2050,"屠然",360824205004,154231502913,5,{"$f":"VLOOKUP(C2051,Sheet2!A:B,2,FALSE)","v":93}]
[2051,"曾昭好",360824205004,154242703314,6,{"$f":"VLOOKUP(C2052,Sheet2!A:B,2,FALSE)","v":93}]
[2052,"李慧灵",360824205004,154050315627,7,{"$f":"VLOOKUP(C2053,Sheet2!A:B,2,FALSE)","v":93}]
[2053,"邹婷",360824205004,154211003302,8,{"$f":"VLOOKUP(C2054,Sheet2!A:B,2,FALSE)","v":93}]
[2054,"郭宇晴",360824205004,154231503111,9,{"$f":"VLOOKUP(C2055,Sheet2!A:B,2,FALSE)","v":93}]
[2055,"唐子豪",360824205004,154242703320,10,{"$f":"VLOOKUP(C2056,Sheet2!A:B,2,FALSE)","v":93}]
[2056,"张绍武",360824205004,154242703713,11,{"$f":"VLOOKUP(C2057,Sheet2!A:B,2,FALSE)","v":93}]
[2057,"胡春艳",360824205004,154242703407,12,{"$f":"VLOOKUP(C2058,Sheet2!A:B,2,FALSE)","v":93}]
[2058,"张婧茹",360824206002,154242602622,1,{"$f":"VLOOKUP(C2059,Sheet2!A:B,2,FALSE)","v":181.5}]
[2059,"周敏",360824206002,154012702128,2,{"$f":"VLOOKUP(C2060,Sheet2!A:B,2,FALSE)","v":181.5}]
[2060,"刘娣",360824206002,154242603001,3,{"$f":"VLOOKUP(C2061,Sheet2!A:B,2,FALSE)","v":181.5}]
[2061,"皮琦星",360824206002,154012702512,4,{"$f":"VLOOKUP(C2062,Sheet2!A:B,2,FALSE)","v":181.5}]
[2062,"万敏睿",360824206002,154012701723,5,{"$f":"VLOOKUP(C2063,Sheet2!A:B,2,FALSE)","v":181.5}]
[2063,"黄丽娟",360824206002,154012702530,6,{"$f":"VLOOKUP(C2064,Sheet2!A:B,2,FALSE)","v":181.5}]
[2064,"阮婷琪",360824207004,154012703005,1,{"$f":"VLOOKUP(C2065,Sheet2!A:B,2,FALSE)","v":94.5}]
[2065,"唐姝琪",360824207004,154012703025,2,{"$f":"VLOOKUP(C2066,Sheet2!A:B,2,FALSE)","v":94.5}]
[2066,"贺格珺",360824207004,154242603410,3,{"$f":"VLOOKUP(C2067,Sheet2!A:B,2,FALSE)","v":94.5}]
[2067,"朱克港",360824207004,154210401421,5,{"$f":"VLOOKUP(C2068,Sheet2!A:B,2,FALSE)","v":94.5}]
[2068,"邓晨昕",360824207004,154012406423,4,{"$f":"VLOOKUP(C2069,Sheet2!A:B,2,FALSE)","v":94.5}]
[2069,"傅旻旻",360824207004,154012406412,6,{"$f":"VLOOKUP(C2070,Sheet2!A:B,2,FALSE)","v":94.5}]
[2070,"陈蕊",360824207004,154012406427,7,{"$f":"VLOOKUP(C2071,Sheet2!A:B,2,FALSE)","v":94.5}]
[2071,"刘洪亮",360824207004,154050316013,8,{"$f":"VLOOKUP(C2072,Sheet2!A:B,2,FALSE)","v":94.5}]
[2072,"万晓玲",360824207004,154242603424,9,{"$f":"VLOOKUP(C2073,Sheet2!A:B,2,FALSE)","v":94.5}]
[2073,"李益厚",360824207004,154242603314,10,{"$f":"VLOOKUP(C2074,Sheet2!A:B,2,FALSE)","v":94.5}]
[2074,"张永艳",360824207004,154210401709,12,{"$f":"VLOOKUP(C2075,Sheet2!A:B,2,FALSE)","v":94.5}]
[2075,"周洪",360824207004,154242603306,11,{"$f":"VLOOKUP(C2076,Sheet2!A:B,2,FALSE)","v":94.5}]
[2076,"李彪珍",360824208005,154231504420,1,{"$f":"VLOOKUP(C2077,Sheet2!A:B,2,FALSE)","v":151}]
[2077,"洪云辉",360824211004,154242704121,1,{"$f":"VLOOKUP(C2078,Sheet2!A:B,2,FALSE)","v":115.5}]
[2078,"刘弦",360824211004,154242704110,2,{"$f":"VLOOKUP(C2079,Sheet2!A:B,2,FALSE)","v":115.5}]
[2079,"王京燕",360824211004,154242704120,3,{"$f":"VLOOKUP(C2080,Sheet2!A:B,2,FALSE)","v":115.5}]
[2080,"姚志林",360824211004,154242704017,4,{"$f":"VLOOKUP(C2081,Sheet2!A:B,2,FALSE)","v":115.5}]
[2081,"徐飘",360824211004,154050316404,5,{"$f":"VLOOKUP(C2082,Sheet2!A:B,2,FALSE)","v":115.5}]
[2082,"范启文",360824211004,154242704004,6,{"$f":"VLOOKUP(C2083,Sheet2!A:B,2,FALSE)","v":115.5}]
[2083,"罗月林",360824211004,154250106811,7,{"$f":"VLOOKUP(C2084,Sheet2!A:B,2,FALSE)","v":115.5}]
[2084,"曾欣",360824212005,154242502719,1,{"$f":"VLOOKUP(C2085,Sheet2!A:B,2,FALSE)","v":96.5}]
[2085,"陈瑞",360824212005,154231505311,2,{"$f":"VLOOKUP(C2086,Sheet2!A:B,2,FALSE)","v":96.5}]
[2086,"黄湖榕",360824212005,154242502727,3,{"$f":"VLOOKUP(C2087,Sheet2!A:B,2,FALSE)","v":96.5}]
[2087,"彭龙根",360824212005,154242502802,4,{"$f":"VLOOKUP(C2088,Sheet2!A:B,2,FALSE)","v":96.5}]
[2088,"徐皓萍",360824212005,154242502710,5,{"$f":"VLOOKUP(C2089,Sheet2!A:B,2,FALSE)","v":96.5}]
[2089,"黄婷婷",360824212005,154242502722,6,{"$f":"VLOOKUP(C2090,Sheet2!A:B,2,FALSE)","v":96.5}]
[2090,"曾姝",360824212005,154242502704,7,{"$f":"VLOOKUP(C2091,Sheet2!A:B,2,FALSE)","v":96.5}]
[2091,"龚勋",360824212005,154012407205,8,{"$f":"VLOOKUP(C2092,Sheet2!A:B,2,FALSE)","v":96.5}]
[2092,"丰雨明",360824212005,154242502708,9,{"$f":"VLOOKUP(C2093,Sheet2!A:B,2,FALSE)","v":96.5}]
[2093,"李淑香",360825201002,154012701506,1,{"$f":"VLOOKUP(C2094,Sheet2!A:B,2,FALSE)","v":133}]
[2094,"刘金燕",360825201002,154242601815,2,{"$f":"VLOOKUP(C2095,Sheet2!A:B,2,FALSE)","v":133}]
[2095,"余慧珍",360825201002,154250105224,3,{"$f":"VLOOKUP(C2096,Sheet2!A:B,2,FALSE)","v":133}]
[2096,"黄萍",360825201002,154242601922,4,{"$f":"VLOOKUP(C2097,Sheet2!A:B,2,FALSE)","v":133}]
[2097,"邓华平",360825201002,154242601806,5,{"$f":"VLOOKUP(C2098,Sheet2!A:B,2,FALSE)","v":133}]
[2098,"张小华",360825201002,154242602008,6,{"$f":"VLOOKUP(C2099,Sheet2!A:B,2,FALSE)","v":133}]
[2099,"杨蕙",360825202002,154242702806,1,{"$f":"VLOOKUP(C2100,Sheet2!A:B,2,FALSE)","v":115.5}]
[2100,"帅清云",360825202002,154242703227,2,{"$f":"VLOOKUP(C2101,Sheet2!A:B,2,FALSE)","v":115.5}]
[2101,"李娟",360825202002,154242702928,3,{"$f":"VLOOKUP(C2102,Sheet2!A:B,2,FALSE)","v":115.5}]
[2102,"邓冬香",360825202002,154242702825,4,{"$f":"VLOOKUP(C2103,Sheet2!A:B,2,FALSE)","v":115.5}]
[2103,"李佳丽",360825202002,154012906814,5,{"$f":"VLOOKUP(C2104,Sheet2!A:B,2,FALSE)","v":115.5}]
[2104,"刘倩霞",360825202002,154210201622,6,{"$f":"VLOOKUP(C2105,Sheet2!A:B,2,FALSE)","v":115.5}]
[2105,"罗晓梅",360825203002,154242502320,1,{"$f":"VLOOKUP(C2106,Sheet2!A:B,2,FALSE)","v":136.5}]
[2106,"张凡",360825203002,154050315303,2,{"$f":"VLOOKUP(C2107,Sheet2!A:B,2,FALSE)","v":136.5}]
[2107,"范莉",360825203002,154231502026,3,{"$f":"VLOOKUP(C2108,Sheet2!A:B,2,FALSE)","v":136.5}]
[2108,"张丽琴",360825203002,154210704003,4,{"$f":"VLOOKUP(C2109,Sheet2!A:B,2,FALSE)","v":136.5}]
[2109,"周璇",360825203002,154012806016,5,{"$f":"VLOOKUP(C2110,Sheet2!A:B,2,FALSE)","v":136.5}]
[2110,"黄葵强",360825203002,154242501906,6,{"$f":"VLOOKUP(C2111,Sheet2!A:B,2,FALSE)","v":136.5}]
[2111,"牛相蔚",360825205003,154242703529,1,{"$f":"VLOOKUP(C2112,Sheet2!A:B,2,FALSE)","v":119.5}]
[2112,"熊如翼",360825205003,154020502104,2,{"$f":"VLOOKUP(C2113,Sheet2!A:B,2,FALSE)","v":119.5}]
[2113,"彭启文",360825205003,154012804110,3,{"$f":"VLOOKUP(C2114,Sheet2!A:B,2,FALSE)","v":119.5}]
[2114,"黄建华",360825205003,154211002527,4,{"$f":"VLOOKUP(C2115,Sheet2!A:B,2,FALSE)","v":119.5}]
[2115,"邹文凯",360825205003,154040603618,5,{"$f":"VLOOKUP(C2116,Sheet2!A:B,2,FALSE)","v":119.5}]
[2116,"曾洁",360825205003,154242703309,6,{"$f":"VLOOKUP(C2117,Sheet2!A:B,2,FALSE)","v":119.5}]
[2117,"艾涛",360825205003,154030306623,7,{"$f":"VLOOKUP(C2118,Sheet2!A:B,2,FALSE)","v":119.5}]
[2118,"何世龙",360825205003,154040603627,8,{"$f":"VLOOKUP(C2119,Sheet2!A:B,2,FALSE)","v":119.5}]
[2119,"谢文超",360825205003,154221406910,9,{"$f":"VLOOKUP(C2120,Sheet2!A:B,2,FALSE)","v":119.5}]
[2120,"袁浩晟",360825206002,154242602305,1,{"$f":"VLOOKUP(C2121,Sheet2!A:B,2,FALSE)","v":121.5}]
[2121,"宋佳琪",360825206002,154242602312,2,{"$f":"VLOOKUP(C2122,Sheet2!A:B,2,FALSE)","v":121.5}]
[2122,"段琳",360825206002,154242602411,3,{"$f":"VLOOKUP(C2123,Sheet2!A:B,2,FALSE)","v":121.5}]
[2123,"赵燕华",360825206002,154242602219,4,{"$f":"VLOOKUP(C2124,Sheet2!A:B,2,FALSE)","v":121.5}]
[2124,"罗珺",360825206002,154242602628,5,{"$f":"VLOOKUP(C2125,Sheet2!A:B,2,FALSE)","v":121.5}]
[2125,"陈婷",360825206002,154242602502,6,{"$f":"VLOOKUP(C2126,Sheet2!A:B,2,FALSE)","v":121.5}]
[2126,"杜宏远",360825207002,154242603511,1,{"$f":"VLOOKUP(C2127,Sheet2!A:B,2,FALSE)","v":123.5}]
[2127,"张娜",360825207002,154242603421,2,{"$f":"VLOOKUP(C2128,Sheet2!A:B,2,FALSE)","v":123.5}]
[2128,"姚子晴",360825207002,154242603330,3,{"$f":"VLOOKUP(C2129,Sheet2!A:B,2,FALSE)","v":123.5}]
[2129,"陈啟明",360825207002,154210402327,4,{"$f":"VLOOKUP(C2130,Sheet2!A:B,2,FALSE)","v":123.5}]
[2130,"李嘉璐",360825207002,154012406325,5,{"$f":"VLOOKUP(C2131,Sheet2!A:B,2,FALSE)","v":123.5}]
[2131,"宋文奔",360825207002,154242603326,6,{"$f":"VLOOKUP(C2132,Sheet2!A:B,2,FALSE)","v":123.5}]
[2132,"彭丽沙",360825209002,154221408621,1,{"$f":"VLOOKUP(C2133,Sheet2!A:B,2,FALSE)","v":181.5}]
[2133,"彭起",360825209002,154242603905,2,{"$f":"VLOOKUP(C2134,Sheet2!A:B,2,FALSE)","v":181.5}]
[2134,"朱佩玲",360825209002,154242603928,3,{"$f":"VLOOKUP(C2135,Sheet2!A:B,2,FALSE)","v":181.5}]
[2135,"邹茜茜",360825209002,154242603901,4,{"$f":"VLOOKUP(C2136,Sheet2!A:B,2,FALSE)","v":181.5}]
[2136,"张芷琪",360825209002,154242603908,5,{"$f":"VLOOKUP(C2137,Sheet2!A:B,2,FALSE)","v":181.5}]
[2137,"曾佳",360825209002,154242604001,6,{"$f":"VLOOKUP(C2138,Sheet2!A:B,2,FALSE)","v":181.5}]
[2138,"胡燕娥",360825211003,154250106815,1,{"$f":"VLOOKUP(C2139,Sheet2!A:B,2,FALSE)","v":114}]
[2139,"曾春敏",360825211003,154012803629,2,{"$f":"VLOOKUP(C2140,Sheet2!A:B,2,FALSE)","v":114}]
[2140,"徐丽华",360825211003,154242704124,3,{"$f":"VLOOKUP(C2141,Sheet2!A:B,2,FALSE)","v":114}]
[2141,"江滔",360825211003,154242704027,4,{"$f":"VLOOKUP(C2142,Sheet2!A:B,2,FALSE)","v":114}]
[2142,"欧阳桢凤",360825212002,154242502804,1,{"$f":"VLOOKUP(C2143,Sheet2!A:B,2,FALSE)","v":97.5}]
[2143,"曾秋香",360825212002,154012407224,2,{"$f":"VLOOKUP(C2144,Sheet2!A:B,2,FALSE)","v":97.5}]
[2144,"余丽娟",360825212002,154242502703,3,{"$f":"VLOOKUP(C2145,Sheet2!A:B,2,FALSE)","v":97.5}]
[2145,"周小丽",360825212002,154250106907,4,{"$f":"VLOOKUP(C2146,Sheet2!A:B,2,FALSE)","v":97.5}]
[2146,"范佳颖",360825212002,154242502801,5,{"$f":"VLOOKUP(C2147,Sheet2!A:B,2,FALSE)","v":97.5}]
[2147,"吕小花",360825212002,154210801009,6,{"$f":"VLOOKUP(C2148,Sheet2!A:B,2,FALSE)","v":97.5}]
[2148,"吴萍",360826202008,154242702714,1,{"$f":"VLOOKUP(C2149,Sheet2!A:B,2,FALSE)","v":140.5}]
[2149,"旷媛凤",360826202008,154012907130,2,{"$f":"VLOOKUP(C2150,Sheet2!A:B,2,FALSE)","v":140.5}]
[2150,"罗玉婷",360826202008,154012906719,3,{"$f":"VLOOKUP(C2151,Sheet2!A:B,2,FALSE)","v":140.5}]
[2151,"郭子怡",360826202008,154242702630,4,{"$f":"VLOOKUP(C2152,Sheet2!A:B,2,FALSE)","v":140.5}]
[2152,"廖婉青",360826202008,154012906107,5,{"$f":"VLOOKUP(C2153,Sheet2!A:B,2,FALSE)","v":140.5}]
[2153,"匡庆",360826202008,154012906406,6,{"$f":"VLOOKUP(C2154,Sheet2!A:B,2,FALSE)","v":140.5}]
[2154,"刘婷",360826202008,154242702610,7,{"$f":"VLOOKUP(C2155,Sheet2!A:B,2,FALSE)","v":140.5}]
[2155,"张子怡",360826202008,154242703109,8,{"$f":"VLOOKUP(C2156,Sheet2!A:B,2,FALSE)","v":140.5}]
[2156,"刘克定",360826202008,154242702710,9,{"$f":"VLOOKUP(C2157,Sheet2!A:B,2,FALSE)","v":140.5}]
[2157,"米方辉",360826202008,154030305429,10,{"$f":"VLOOKUP(C2158,Sheet2!A:B,2,FALSE)","v":140.5}]
[2158,"上官意锋",360826202008,154242702521,11,{"$f":"VLOOKUP(C2159,Sheet2!A:B,2,FALSE)","v":140.5}]
[2159,"肖帆",360826202008,154210201125,12,{"$f":"VLOOKUP(C2160,Sheet2!A:B,2,FALSE)","v":140.5}]
[2160,"刘淑萍",360826202008,154242703225,13,{"$f":"VLOOKUP(C2161,Sheet2!A:B,2,FALSE)","v":140.5}]
[2161,"黄玉心",360826202008,154242702518,14,{"$f":"VLOOKUP(C2162,Sheet2!A:B,2,FALSE)","v":140.5}]
[2162,"曾小霞",360826202008,154050315112,15,{"$f":"VLOOKUP(C2163,Sheet2!A:B,2,FALSE)","v":140.5}]
[2163,"梅荣",360826202008,154242702730,16,{"$f":"VLOOKUP(C2164,Sheet2!A:B,2,FALSE)","v":140.5}]
[2164,"李诚",360826202008,154231501113,17,{"$f":"VLOOKUP(C2165,Sheet2!A:B,2,FALSE)","v":140.5}]
[2165,"刘依",360826202008,154012906825,18,{"$f":"VLOOKUP(C2166,Sheet2!A:B,2,FALSE)","v":140.5}]
[2166,"陈芳星",360826202008,154242703226,19,{"$f":"VLOOKUP(C2167,Sheet2!A:B,2,FALSE)","v":140.5}]
[2167,"马学赟",360826202008,154242702603,20,{"$f":"VLOOKUP(C2168,Sheet2!A:B,2,FALSE)","v":140.5}]
[2168,"李万芬",360826203008,154012805822,1,{"$f":"VLOOKUP(C2169,Sheet2!A:B,2,FALSE)","v":177.5}]
[2169,"邹祖祺",360826203008,154012805214,3,{"$f":"VLOOKUP(C2170,Sheet2!A:B,2,FALSE)","v":177.5}]
[2170,"魏玉凡",360826203008,154012804902,2,{"$f":"VLOOKUP(C2171,Sheet2!A:B,2,FALSE)","v":177.5}]
[2171,"肖倩慧",360826203008,154242501724,4,{"$f":"VLOOKUP(C2172,Sheet2!A:B,2,FALSE)","v":177.5}]
[2172,"樊磊",360826203008,154012907924,5,{"$f":"VLOOKUP(C2173,Sheet2!A:B,2,FALSE)","v":177.5}]
[2173,"尹紫慧",360826203008,154242501808,6,{"$f":"VLOOKUP(C2174,Sheet2!A:B,2,FALSE)","v":177.5}]
[2174,"曾雅璐",360826203008,154012908320,7,{"$f":"VLOOKUP(C2175,Sheet2!A:B,2,FALSE)","v":177.5}]
[2175,"胡岚芳",360826203008,154242502103,8,{"$f":"VLOOKUP(C2176,Sheet2!A:B,2,FALSE)","v":177.5}]
[2176,"刘冰杨",360826203008,154242501520,10,{"$f":"VLOOKUP(C2177,Sheet2!A:B,2,FALSE)","v":177.5}]
[2177,"彭冬女",360826203008,154242501422,9,{"$f":"VLOOKUP(C2178,Sheet2!A:B,2,FALSE)","v":177.5}]
[2178,"刘德刚",360826203008,154242501205,11,{"$f":"VLOOKUP(C2179,Sheet2!A:B,2,FALSE)","v":177.5}]
[2179,"康慰卿",360826203008,154040602417,12,{"$f":"VLOOKUP(C2180,Sheet2!A:B,2,FALSE)","v":177.5}]
[2180,"王园兰",360826203008,154242501204,13,{"$f":"VLOOKUP(C2181,Sheet2!A:B,2,FALSE)","v":177.5}]
[2181,"艾敏",360826203008,154242501722,15,{"$f":"VLOOKUP(C2182,Sheet2!A:B,2,FALSE)","v":177.5}]
[2182,"彭倩君",360826203008,154242501228,14,{"$f":"VLOOKUP(C2183,Sheet2!A:B,2,FALSE)","v":177.5}]
[2183,"张瑶",360826203008,154242502207,16,{"$f":"VLOOKUP(C2184,Sheet2!A:B,2,FALSE)","v":177.5}]
[2184,"邓小晖",360826203008,154012908424,17,{"$f":"VLOOKUP(C2185,Sheet2!A:B,2,FALSE)","v":177.5}]
[2185,"曾昭香",360826203008,154242501918,18,{"$f":"VLOOKUP(C2186,Sheet2!A:B,2,FALSE)","v":177.5}]
[2186,"孙月",360826203008,154242501813,19,{"$f":"VLOOKUP(C2187,Sheet2!A:B,2,FALSE)","v":177.5}]
[2187,"刘若兰",360826203008,154242501227,20,{"$f":"VLOOKUP(C2188,Sheet2!A:B,2,FALSE)","v":177.5}]
[2188,"钟珊",360826204005,154012908813,1,{"$f":"VLOOKUP(C2189,Sheet2!A:B,2,FALSE)","v":162.5}]
[2189,"穆慧英",360826204005,154242403510,2,{"$f":"VLOOKUP(C2190,Sheet2!A:B,2,FALSE)","v":162.5}]
[2190,"夏青",360826204005,154242403706,3,{"$f":"VLOOKUP(C2191,Sheet2!A:B,2,FALSE)","v":162.5}]
[2191,"罗丹",360826204005,154242403315,4,{"$f":"VLOOKUP(C2192,Sheet2!A:B,2,FALSE)","v":162.5}]
[2192,"古玖梅",360826204005,154210202405,5,{"$f":"VLOOKUP(C2193,Sheet2!A:B,2,FALSE)","v":162.5}]
[2193,"黄美香",360826204005,154242403417,6,{"$f":"VLOOKUP(C2194,Sheet2!A:B,2,FALSE)","v":162.5}]
[2194,"刘春云",360826204005,154012405510,7,{"$f":"VLOOKUP(C2195,Sheet2!A:B,2,FALSE)","v":162.5}]
[2195,"刘招池",360826204005,154242403626,8,{"$f":"VLOOKUP(C2196,Sheet2!A:B,2,FALSE)","v":162.5}]
[2196,"黄子溪",360826204005,154030306310,9,{"$f":"VLOOKUP(C2197,Sheet2!A:B,2,FALSE)","v":162.5}]
[2197,"李敏",360826204005,154242403412,10,{"$f":"VLOOKUP(C2198,Sheet2!A:B,2,FALSE)","v":162.5}]
[2198,"张芊",360826204005,154012908910,11,{"$f":"VLOOKUP(C2199,Sheet2!A:B,2,FALSE)","v":162.5}]
[2199,"肖莎",360826204005,154242403321,12,{"$f":"VLOOKUP(C2200,Sheet2!A:B,2,FALSE)","v":162.5}]
[2200,"肖春兰",360826204005,154242403701,13,{"$f":"VLOOKUP(C2201,Sheet2!A:B,2,FALSE)","v":162.5}]
[2201,"李书威",360826204005,154242403301,14,{"$f":"VLOOKUP(C2202,Sheet2!A:B,2,FALSE)","v":162.5}]
[2202,"曾慧",360826204005,154242403504,15,{"$f":"VLOOKUP(C2203,Sheet2!A:B,2,FALSE)","v":162.5}]
[2203,"刘堂安",360826205005,154030306513,1,{"$f":"VLOOKUP(C2204,Sheet2!A:B,2,FALSE)","v":110}]
[2204,"罗英",360826205005,154040603417,2,{"$f":"VLOOKUP(C2205,Sheet2!A:B,2,FALSE)","v":110}]
[2205,"曾庆衍",360826205005,154030306718,3,{"$f":"VLOOKUP(C2206,Sheet2!A:B,2,FALSE)","v":110}]
[2206,"吴胜珠",360826205005,154242703422,4,{"$f":"VLOOKUP(C2207,Sheet2!A:B,2,FALSE)","v":110}]
[2207,"郭小花",360826205005,154242703429,5,{"$f":"VLOOKUP(C2208,Sheet2!A:B,2,FALSE)","v":110}]
[2208,"张永",360826205005,154242703515,6,{"$f":"VLOOKUP(C2209,Sheet2!A:B,2,FALSE)","v":110}]
[2209,"陈文颖",360826205005,154242703519,7,{"$f":"VLOOKUP(C2210,Sheet2!A:B,2,FALSE)","v":110}]
[2210,"彭龙",360826205005,154242703613,8,{"$f":"VLOOKUP(C2211,Sheet2!A:B,2,FALSE)","v":110}]
[2211,"黄群",360826205005,154012405703,9,{"$f":"VLOOKUP(C2212,Sheet2!A:B,2,FALSE)","v":110}]
[2212,"许理权",360826205005,154012405901,10,{"$f":"VLOOKUP(C2213,Sheet2!A:B,2,FALSE)","v":110}]
[2213,"杨宝森",360826205005,154012405720,11,{"$f":"VLOOKUP(C2214,Sheet2!A:B,2,FALSE)","v":110}]
[2214,"廖素华",360826205005,154242703428,12,{"$f":"VLOOKUP(C2215,Sheet2!A:B,2,FALSE)","v":110}]
[2215,"李涛",360826205005,154012804224,13,{"$f":"VLOOKUP(C2216,Sheet2!A:B,2,FALSE)","v":110}]
[2216,"肖越",360826205005,154242703622,14,{"$f":"VLOOKUP(C2217,Sheet2!A:B,2,FALSE)","v":110}]
[2217,"刘权",360826205005,154030306622,15,{"$f":"VLOOKUP(C2218,Sheet2!A:B,2,FALSE)","v":110}]
[2218,"温颖",360826206005,154242602606,1,{"$f":"VLOOKUP(C2219,Sheet2!A:B,2,FALSE)","v":169.5}]
[2219,"余盈幸",360826206005,154012701728,2,{"$f":"VLOOKUP(C2220,Sheet2!A:B,2,FALSE)","v":169.5}]
[2220,"王赛君",360826206005,154012702123,3,{"$f":"VLOOKUP(C2221,Sheet2!A:B,2,FALSE)","v":169.5}]
[2221,"曾仪",360826206005,154242603118,4,{"$f":"VLOOKUP(C2222,Sheet2!A:B,2,FALSE)","v":169.5}]
[2222,"曾琳",360826206005,154012702105,5,{"$f":"VLOOKUP(C2223,Sheet2!A:B,2,FALSE)","v":169.5}]
[2223,"胡悦珂",360826206005,154242602407,7,{"$f":"VLOOKUP(C2224,Sheet2!A:B,2,FALSE)","v":169.5}]
[2224,"范小兰",360826206005,154242603104,6,{"$f":"VLOOKUP(C2225,Sheet2!A:B,2,FALSE)","v":169.5}]
[2225,"王鑫",360826206005,154242602314,8,{"$f":"VLOOKUP(C2226,Sheet2!A:B,2,FALSE)","v":169.5}]
[2226,"罗芳蕊",360826206005,154012702825,9,{"$f":"VLOOKUP(C2227,Sheet2!A:B,2,FALSE)","v":169.5}]
[2227,"曾佳",360826206005,154242602815,10,{"$f":"VLOOKUP(C2228,Sheet2!A:B,2,FALSE)","v":169.5}]
[2228,"郭倩",360826206005,154242602404,11,{"$f":"VLOOKUP(C2229,Sheet2!A:B,2,FALSE)","v":169.5}]
[2229,"郭林",360826206005,154012702526,13,{"$f":"VLOOKUP(C2230,Sheet2!A:B,2,FALSE)","v":169.5}]
[2230,"刘玉番",360826206005,154242602401,12,{"$f":"VLOOKUP(C2231,Sheet2!A:B,2,FALSE)","v":169.5}]
[2231,"李萍",360826206005,154242602912,14,{"$f":"VLOOKUP(C2232,Sheet2!A:B,2,FALSE)","v":169.5}]
[2232,"刘伟",360826206005,154242602520,15,{"$f":"VLOOKUP(C2233,Sheet2!A:B,2,FALSE)","v":169.5}]
[2233,"刘龙春",360826207005,154242603207,1,{"$f":"VLOOKUP(C2234,Sheet2!A:B,2,FALSE)","v":127}]
[2234,"白仙莉",360826207005,154242603324,2,{"$f":"VLOOKUP(C2235,Sheet2!A:B,2,FALSE)","v":127}]
[2235,"赖遂兴",360826207005,154040604219,3,{"$f":"VLOOKUP(C2236,Sheet2!A:B,2,FALSE)","v":127}]
[2236,"方燕",360826207005,154242603321,4,{"$f":"VLOOKUP(C2237,Sheet2!A:B,2,FALSE)","v":127}]
[2237,"聂祺炜",360826207005,154242603524,5,{"$f":"VLOOKUP(C2238,Sheet2!A:B,2,FALSE)","v":127}]
[2238,"陈艳",360826207005,154242603309,6,{"$f":"VLOOKUP(C2239,Sheet2!A:B,2,FALSE)","v":127}]
[2239,"曹水红",360826207005,154242603513,7,{"$f":"VLOOKUP(C2240,Sheet2!A:B,2,FALSE)","v":127}]
[2240,"甘意",360826207005,154242603214,8,{"$f":"VLOOKUP(C2241,Sheet2!A:B,2,FALSE)","v":127}]
[2241,"肖棋",360826207005,154210401530,9,{"$f":"VLOOKUP(C2242,Sheet2!A:B,2,FALSE)","v":127}]
[2242,"彭仁娣",360826207005,154242603520,10,{"$f":"VLOOKUP(C2243,Sheet2!A:B,2,FALSE)","v":127}]
[2243,"周健强",360826207005,154242603215,11,{"$f":"VLOOKUP(C2244,Sheet2!A:B,2,FALSE)","v":127}]
[2244,"黄儒月",360826207005,154210401223,12,{"$f":"VLOOKUP(C2245,Sheet2!A:B,2,FALSE)","v":127}]
[2245,"朱泓龙",360826207005,154012703027,13,{"$f":"VLOOKUP(C2246,Sheet2!A:B,2,FALSE)","v":127}]
[2246,"曾金萍",360826207005,154242603213,14,{"$f":"VLOOKUP(C2247,Sheet2!A:B,2,FALSE)","v":127}]
[2247,"方心亮",360826207005,154012702919,15,{"$f":"VLOOKUP(C2248,Sheet2!A:B,2,FALSE)","v":127}]
[2248,"肖慧",360826215004,154012407727,1,{"$f":"VLOOKUP(C2249,Sheet2!A:B,2,FALSE)","v":154}]
[2249,"赵琴",360826215004,154012407706,2,{"$f":"VLOOKUP(C2250,Sheet2!A:B,2,FALSE)","v":154}]
[2250,"项雪琴",360826215004,154012407726,3,{"$f":"VLOOKUP(C2251,Sheet2!A:B,2,FALSE)","v":154}]
[2251,"杨云",360826215004,154242503119,4,{"$f":"VLOOKUP(C2252,Sheet2!A:B,2,FALSE)","v":154}]
[2252,"赵璐",360826215004,154242503130,5,{"$f":"VLOOKUP(C2253,Sheet2!A:B,2,FALSE)","v":154}]
[2253,"刘可悦",360826215004,154210903401,6,{"$f":"VLOOKUP(C2254,Sheet2!A:B,2,FALSE)","v":154}]
[2254,"胡赠",360826215004,154242503001,7,{"$f":"VLOOKUP(C2255,Sheet2!A:B,2,FALSE)","v":154}]
[2255,"胡燕妮",360826215004,154242503125,8,{"$f":"VLOOKUP(C2256,Sheet2!A:B,2,FALSE)","v":154}]
[2256,"杨佩",360826215004,154242503217,9,{"$f":"VLOOKUP(C2257,Sheet2!A:B,2,FALSE)","v":154}]
[2257,"谢钰玥",360826215004,154242503005,10,{"$f":"VLOOKUP(C2258,Sheet2!A:B,2,FALSE)","v":154}]
[2258,"李敏丽",360826215004,154242503216,11,{"$f":"VLOOKUP(C2259,Sheet2!A:B,2,FALSE)","v":154}]
[2259,"江静",360826215004,154242503113,12,{"$f":"VLOOKUP(C2260,Sheet2!A:B,2,FALSE)","v":154}]
[2260,"梁慧琳",360828202004,154012907330,1,{"$f":"VLOOKUP(C2261,Sheet2!A:B,2,FALSE)","v":133}]
[2261,"陈林",360828202004,154242702915,2,{"$f":"VLOOKUP(C2262,Sheet2!A:B,2,FALSE)","v":133}]
[2262,"谢慧玲",360828202004,154242702708,3,{"$f":"VLOOKUP(C2263,Sheet2!A:B,2,FALSE)","v":133}]
[2263,"刘根墙",360828202004,154012906808,4,{"$f":"VLOOKUP(C2264,Sheet2!A:B,2,FALSE)","v":133}]
[2264,"林永键",360828202004,154242702509,5,{"$f":"VLOOKUP(C2265,Sheet2!A:B,2,FALSE)","v":133}]
[2265,"刘水化",360828202004,154242702511,6,{"$f":"VLOOKUP(C2266,Sheet2!A:B,2,FALSE)","v":133}]
[2266,"郭丽丽",360828202004,154242703205,7,{"$f":"VLOOKUP(C2267,Sheet2!A:B,2,FALSE)","v":133}]
[2267,"邱钦海",360828202004,154012906102,8,{"$f":"VLOOKUP(C2268,Sheet2!A:B,2,FALSE)","v":133}]
[2268,"王勇",360828202004,154242703012,9,{"$f":"VLOOKUP(C2269,Sheet2!A:B,2,FALSE)","v":133}]
[2269,"叶海英",360828202004,154242703220,10,{"$f":"VLOOKUP(C2270,Sheet2!A:B,2,FALSE)","v":133}]
[2270,"曾琳",360828202004,154242702530,11,{"$f":"VLOOKUP(C2271,Sheet2!A:B,2,FALSE)","v":133}]
[2271,"刘金辉",360828202004,154242702922,12,{"$f":"VLOOKUP(C2272,Sheet2!A:B,2,FALSE)","v":133}]
[2272,"侯水玲",360828203002,154012805209,1,{"$f":"VLOOKUP(C2273,Sheet2!A:B,2,FALSE)","v":150.5}]
[2273,"兰希",360828203002,154210700502,2,{"$f":"VLOOKUP(C2274,Sheet2!A:B,2,FALSE)","v":150.5}]
[2274,"彭秋玲",360828203002,154242501719,3,{"$f":"VLOOKUP(C2275,Sheet2!A:B,2,FALSE)","v":150.5}]
[2275,"张艳",360828203002,154242502127,4,{"$f":"VLOOKUP(C2276,Sheet2!A:B,2,FALSE)","v":150.5}]
[2276,"何珍妃",360828203002,154242501824,5,{"$f":"VLOOKUP(C2277,Sheet2!A:B,2,FALSE)","v":150.5}]
[2277,"张青云",360828203002,154012908215,6,{"$f":"VLOOKUP(C2278,Sheet2!A:B,2,FALSE)","v":150.5}]
[2278,"衷田田",360828204002,154012908922,1,{"$f":"VLOOKUP(C2279,Sheet2!A:B,2,FALSE)","v":173}]
[2279,"陈晓云",360828204002,154242403707,2,{"$f":"VLOOKUP(C2280,Sheet2!A:B,2,FALSE)","v":173}]
[2280,"傅丹萍",360828204002,154210203102,3,{"$f":"VLOOKUP(C2281,Sheet2!A:B,2,FALSE)","v":173}]
[2281,"刘羿蔚",360828204002,154242403516,4,{"$f":"VLOOKUP(C2282,Sheet2!A:B,2,FALSE)","v":173}]
[2282,"欧阳旗斌",360828204002,154012908803,5,{"$f":"VLOOKUP(C2283,Sheet2!A:B,2,FALSE)","v":173}]
[2283,"朱若",360828204002,154242403311,6,{"$f":"VLOOKUP(C2284,Sheet2!A:B,2,FALSE)","v":173}]
[2284,"邓恢铖",360828205003,154242703614,1,{"$f":"VLOOKUP(C2285,Sheet2!A:B,2,FALSE)","v":83}]
[2285,"陈健",360828205003,154211002503,2,{"$f":"VLOOKUP(C2286,Sheet2!A:B,2,FALSE)","v":83}]
[2286,"谢蕙霞",360828205003,154012804123,3,{"$f":"VLOOKUP(C2287,Sheet2!A:B,2,FALSE)","v":83}]
[2287,"刘亮",360828205003,154012804417,4,{"$f":"VLOOKUP(C2288,Sheet2!A:B,2,FALSE)","v":83}]
[2288,"肖琼",360828205003,154040603516,5,{"$f":"VLOOKUP(C2289,Sheet2!A:B,2,FALSE)","v":83}]
[2289,"李文冰",360828205003,154242703517,6,{"$f":"VLOOKUP(C2290,Sheet2!A:B,2,FALSE)","v":83}]
[2290,"王柳",360828205003,154231503027,7,{"$f":"VLOOKUP(C2291,Sheet2!A:B,2,FALSE)","v":83}]
[2291,"钟如萍",360828205003,154242703325,8,{"$f":"VLOOKUP(C2292,Sheet2!A:B,2,FALSE)","v":83}]
[2292,"周宇寰",360828205003,154242703329,9,{"$f":"VLOOKUP(C2293,Sheet2!A:B,2,FALSE)","v":83}]
[2293,"朱美燕",360828207001,154242603607,1,{"$f":"VLOOKUP(C2294,Sheet2!A:B,2,FALSE)","v":98.5}]
[2294,"程仲平",360828207001,154242603430,2,{"$f":"VLOOKUP(C2295,Sheet2!A:B,2,FALSE)","v":98.5}]
[2295,"李克棋",360828207001,154210401408,3,{"$f":"VLOOKUP(C2296,Sheet2!A:B,2,FALSE)","v":98.5}]
[2296,"杨俊峰",360828210003,154012803101,1,{"$f":"VLOOKUP(C2297,Sheet2!A:B,2,FALSE)","v":136}]
[2297,"肖琴",360828210003,154242703903,3,{"$f":"VLOOKUP(C2298,Sheet2!A:B,2,FALSE)","v":136}]
[2298,"王建安",360828210003,154242703816,2,{"$f":"VLOOKUP(C2299,Sheet2!A:B,2,FALSE)","v":136}]
[2299,"王慧洁",360828210003,154012803321,4,{"$f":"VLOOKUP(C2300,Sheet2!A:B,2,FALSE)","v":136}]
[2300,"董诗诗",360828210003,154250106710,5,{"$f":"VLOOKUP(C2301,Sheet2!A:B,2,FALSE)","v":136}]
[2301,"袁善洋",360828210003,154242703905,6,{"$f":"VLOOKUP(C2302,Sheet2!A:B,2,FALSE)","v":136}]
[2302,"段益焕",360828210003,154242703906,7,{"$f":"VLOOKUP(C2303,Sheet2!A:B,2,FALSE)","v":136}]
[2303,"肖茜柳",360828210003,154242703828,8,{"$f":"VLOOKUP(C2304,Sheet2!A:B,2,FALSE)","v":136}]
[2304,"张鑫",360828210003,154242703820,9,{"$f":"VLOOKUP(C2305,Sheet2!A:B,2,FALSE)","v":136}]
[2305,"彭嘉成",360828211003,154242704019,1,{"$f":"VLOOKUP(C2306,Sheet2!A:B,2,FALSE)","v":89.5}]
[2306,"宋欢欢",360828211003,154242704101,2,{"$f":"VLOOKUP(C2307,Sheet2!A:B,2,FALSE)","v":89.5}]
[2307,"温志刚",360828211003,154012803730,3,{"$f":"VLOOKUP(C2308,Sheet2!A:B,2,FALSE)","v":89.5}]
[2308,"李涛",360828211003,154242704118,4,{"$f":"VLOOKUP(C2309,Sheet2!A:B,2,FALSE)","v":89.5}]
[2309,"彭斌",360828211003,154242704008,5,{"$f":"VLOOKUP(C2310,Sheet2!A:B,2,FALSE)","v":89.5}]
[2310,"黎宏健",360828211003,154242704117,6,{"$f":"VLOOKUP(C2311,Sheet2!A:B,2,FALSE)","v":89.5}]
[2311,"王倩文",360828212002,154210800902,1,{"$f":"VLOOKUP(C2312,Sheet2!A:B,2,FALSE)","v":174}]
[2312,"袁瑞兰",360828212002,154242502702,2,{"$f":"VLOOKUP(C2313,Sheet2!A:B,2,FALSE)","v":174}]
[2313,"曾卓",360830201003,154012700424,1,{"$f":"VLOOKUP(C2314,Sheet2!A:B,2,FALSE)","v":144}]
[2314,"刘佳",360830201003,154030304807,2,{"$f":"VLOOKUP(C2315,Sheet2!A:B,2,FALSE)","v":144}]
[2315,"欧阳琦",360830201003,154242602027,3,{"$f":"VLOOKUP(C2316,Sheet2!A:B,2,FALSE)","v":144}]
[2316,"冯炎君",360830201003,154012701320,4,{"$f":"VLOOKUP(C2317,Sheet2!A:B,2,FALSE)","v":144}]
[2317,"周燕飞",360830201003,154242601724,5,{"$f":"VLOOKUP(C2318,Sheet2!A:B,2,FALSE)","v":144}]
[2318,"陈静",360830201003,154221404206,6,{"$f":"VLOOKUP(C2319,Sheet2!A:B,2,FALSE)","v":144}]
[2319,"刘怡",360830201003,154012700106,7,{"$f":"VLOOKUP(C2320,Sheet2!A:B,2,FALSE)","v":144}]
[2320,"刘咏峥",360830201003,154242601615,8,{"$f":"VLOOKUP(C2321,Sheet2!A:B,2,FALSE)","v":144}]
[2321,"陈庆",360830201003,154030305130,9,{"$f":"VLOOKUP(C2322,Sheet2!A:B,2,FALSE)","v":144}]
[2322,"吴军英",360830202002,154012907201,1,{"$f":"VLOOKUP(C2323,Sheet2!A:B,2,FALSE)","v":131.5}]
[2323,"文锦",360830202002,154012906112,2,{"$f":"VLOOKUP(C2324,Sheet2!A:B,2,FALSE)","v":131.5}]
[2324,"叶小芳",360830202002,154242702609,3,{"$f":"VLOOKUP(C2325,Sheet2!A:B,2,FALSE)","v":131.5}]
[2325,"汤翠聘",360830202002,154242702702,4,{"$f":"VLOOKUP(C2326,Sheet2!A:B,2,FALSE)","v":131.5}]
[2326,"龙宾宾",360830202002,154242703015,5,{"$f":"VLOOKUP(C2327,Sheet2!A:B,2,FALSE)","v":131.5}]
[2327,"刘鹏",360830202002,154210201211,6,{"$f":"VLOOKUP(C2328,Sheet2!A:B,2,FALSE)","v":131.5}]
[2328,"黄爱慧",360830203005,154210703615,1,{"$f":"VLOOKUP(C2329,Sheet2!A:B,2,FALSE)","v":159}]
[2329,"陈艳群",360830203005,154242501310,2,{"$f":"VLOOKUP(C2330,Sheet2!A:B,2,FALSE)","v":159}]
[2330,"李小英",360830203005,154012804601,3,{"$f":"VLOOKUP(C2331,Sheet2!A:B,2,FALSE)","v":159}]
[2331,"刘姝婷",360830203005,154012907811,4,{"$f":"VLOOKUP(C2332,Sheet2!A:B,2,FALSE)","v":159}]
[2332,"刘雨婷",360830203005,154012907504,5,{"$f":"VLOOKUP(C2333,Sheet2!A:B,2,FALSE)","v":159}]
[2333,"旷慧君",360830203005,154242501415,6,{"$f":"VLOOKUP(C2334,Sheet2!A:B,2,FALSE)","v":159}]
[2334,"刘智佩",360830203005,154242502030,7,{"$f":"VLOOKUP(C2335,Sheet2!A:B,2,FALSE)","v":159}]
[2335,"颜国娟",360830203005,154050315312,8,{"$f":"VLOOKUP(C2336,Sheet2!A:B,2,FALSE)","v":159}]
[2336,"肖海龙",360830203005,154242501316,10,{"$f":"VLOOKUP(C2337,Sheet2!A:B,2,FALSE)","v":159}]
[2337,"段洋",360830203005,154012805106,9,{"$f":"VLOOKUP(C2338,Sheet2!A:B,2,FALSE)","v":159}]
[2338,"徐小玲",360830203005,154242501903,11,{"$f":"VLOOKUP(C2339,Sheet2!A:B,2,FALSE)","v":159}]
[2339,"黄敏",360830203005,154242501929,12,{"$f":"VLOOKUP(C2340,Sheet2!A:B,2,FALSE)","v":159}]
[2340,"刘婷",360830203005,154242501305,13,{"$f":"VLOOKUP(C2341,Sheet2!A:B,2,FALSE)","v":159}]
[2341,"左琳",360830203005,154242501730,14,{"$f":"VLOOKUP(C2342,Sheet2!A:B,2,FALSE)","v":159}]
[2342,"汤爱玲",360830203005,154242501418,15,{"$f":"VLOOKUP(C2343,Sheet2!A:B,2,FALSE)","v":159}]
[2343,"林楠",360830205003,154030306504,1,{"$f":"VLOOKUP(C2344,Sheet2!A:B,2,FALSE)","v":71.5}]
[2344,"魏欣",360830205003,154242703503,2,{"$f":"VLOOKUP(C2345,Sheet2!A:B,2,FALSE)","v":71.5}]
[2345,"曾晖",360830205003,154242703516,3,{"$f":"VLOOKUP(C2346,Sheet2!A:B,2,FALSE)","v":71.5}]
[2346,"盛杰康",360830205003,154231502915,4,{"$f":"VLOOKUP(C2347,Sheet2!A:B,2,FALSE)","v":71.5}]
[2347,"贺义平",360830205003,154040603402,5,{"$f":"VLOOKUP(C2348,Sheet2!A:B,2,FALSE)","v":71.5}]
[2348,"黄越",360830205003,154242703528,6,{"$f":"VLOOKUP(C2349,Sheet2!A:B,2,FALSE)","v":71.5}]
[2349,"汪江南",360830205003,154012406110,7,{"$f":"VLOOKUP(C2350,Sheet2!A:B,2,FALSE)","v":71.5}]
[2350,"袁彪",360830205003,154242703324,8,{"$f":"VLOOKUP(C2351,Sheet2!A:B,2,FALSE)","v":71.5}]
[2351,"文家顺",360830205003,154012804230,9,{"$f":"VLOOKUP(C2352,Sheet2!A:B,2,FALSE)","v":71.5}]
[2352,"刘志传",360830210004,154242703814,1,{"$f":"VLOOKUP(C2353,Sheet2!A:B,2,FALSE)","v":69}]
[2353,"刘晶晶",360830210004,154242703806,2,{"$f":"VLOOKUP(C2354,Sheet2!A:B,2,FALSE)","v":69}]
[2354,"刘静蕾",360830210004,154242703908,3,{"$f":"VLOOKUP(C2355,Sheet2!A:B,2,FALSE)","v":69}]
[2355,"眭聪",360830210004,154242703916,4,{"$f":"VLOOKUP(C2356,Sheet2!A:B,2,FALSE)","v":69}]
[2356,"方伊淳",360830210004,154060604513,5,{"$f":"VLOOKUP(C2357,Sheet2!A:B,2,FALSE)","v":69}]
[2357,"肖慧庆",360830210004,154242703915,6,{"$f":"VLOOKUP(C2358,Sheet2!A:B,2,FALSE)","v":69}]
[2358,"刘群武",360830210004,154242703808,7,{"$f":"VLOOKUP(C2359,Sheet2!A:B,2,FALSE)","v":69}]
[2359,"彭蓉菁",360830210004,154242703909,8,{"$f":"VLOOKUP(C2360,Sheet2!A:B,2,FALSE)","v":69}]
[2360,"刘小杰",360830210004,154242703917,9,{"$f":"VLOOKUP(C2361,Sheet2!A:B,2,FALSE)","v":69}]
[2361,"刘苏",360830210004,154242703818,10,{"$f":"VLOOKUP(C2362,Sheet2!A:B,2,FALSE)","v":69}]
[2362,"周琴",360830210004,154242703824,11,{"$f":"VLOOKUP(C2363,Sheet2!A:B,2,FALSE)","v":69}]
[2363,"陈涛",360830211003,154012803718,1,{"$f":"VLOOKUP(C2364,Sheet2!A:B,2,FALSE)","v":129.5}]
[2364,"王宇芝",360830211003,154242704104,2,{"$f":"VLOOKUP(C2365,Sheet2!A:B,2,FALSE)","v":129.5}]
[2365,"刘越",360830211003,154242704103,3,{"$f":"VLOOKUP(C2366,Sheet2!A:B,2,FALSE)","v":129.5}]
[2366,"盛君明",360830211003,154012803821,4,{"$f":"VLOOKUP(C2367,Sheet2!A:B,2,FALSE)","v":129.5}]
[2367,"刘智勇",360830211003,154242704122,5,{"$f":"VLOOKUP(C2368,Sheet2!A:B,2,FALSE)","v":129.5}]
[2368,"陈宇",360830211003,154050316406,6,{"$f":"VLOOKUP(C2369,Sheet2!A:B,2,FALSE)","v":129.5}]
[2369,"丁祥",360902201012,154012700720,1,{"$f":"VLOOKUP(C2370,Sheet2!A:B,2,FALSE)","v":156.5}]
[2370,"钟鑫琦",360902201012,154030304913,2,{"$f":"VLOOKUP(C2371,Sheet2!A:B,2,FALSE)","v":156.5}]
[2371,"彭乐平",360902201012,154221404621,3,{"$f":"VLOOKUP(C2372,Sheet2!A:B,2,FALSE)","v":156.5}]
[2372,"余姝",360902201012,154221404421,4,{"$f":"VLOOKUP(C2373,Sheet2!A:B,2,FALSE)","v":156.5}]
[2373,"谭舒雅",360902201012,154221404523,5,{"$f":"VLOOKUP(C2374,Sheet2!A:B,2,FALSE)","v":156.5}]
[2374,"黄琴",360902201012,154221404517,6,{"$f":"VLOOKUP(C2375,Sheet2!A:B,2,FALSE)","v":156.5}]
[2375,"陈莹",360902201012,154221404613,7,{"$f":"VLOOKUP(C2376,Sheet2!A:B,2,FALSE)","v":156.5}]
[2376,"叶文颖",360902201012,154221404406,9,{"$f":"VLOOKUP(C2377,Sheet2!A:B,2,FALSE)","v":156.5}]
[2377,"马美玲",360902201012,154221404319,8,{"$f":"VLOOKUP(C2378,Sheet2!A:B,2,FALSE)","v":156.5}]
[2378,"王珊",360902201012,154012700110,11,{"$f":"VLOOKUP(C2379,Sheet2!A:B,2,FALSE)","v":156.5}]
[2379,"陈飘",360902201012,154221404820,10,{"$f":"VLOOKUP(C2380,Sheet2!A:B,2,FALSE)","v":156.5}]
[2380,"邱静瑜",360902201012,154221404619,12,{"$f":"VLOOKUP(C2381,Sheet2!A:B,2,FALSE)","v":156.5}]
[2381,"邹艳",360902201012,154221404310,13,{"$f":"VLOOKUP(C2382,Sheet2!A:B,2,FALSE)","v":156.5}]
[2382,"敖兰",360902201012,154221404814,14,{"$f":"VLOOKUP(C2383,Sheet2!A:B,2,FALSE)","v":156.5}]
[2383,"张琦",360902201012,154050314720,15,{"$f":"VLOOKUP(C2384,Sheet2!A:B,2,FALSE)","v":156.5}]
[2384,"刘婷",360902201012,154221404504,16,{"$f":"VLOOKUP(C2385,Sheet2!A:B,2,FALSE)","v":156.5}]
[2385,"张梅",360902201012,154221404612,17,{"$f":"VLOOKUP(C2386,Sheet2!A:B,2,FALSE)","v":156.5}]
[2386,"夏蕾",360902201012,154030304906,19,{"$f":"VLOOKUP(C2387,Sheet2!A:B,2,FALSE)","v":156.5}]
[2387,"李晴",360902201012,154012700321,20,{"$f":"VLOOKUP(C2388,Sheet2!A:B,2,FALSE)","v":156.5}]
[2388,"周睿敏",360902201012,154221404509,18,{"$f":"VLOOKUP(C2389,Sheet2!A:B,2,FALSE)","v":156.5}]
[2389,"周波成",360902201012,154221404804,21,{"$f":"VLOOKUP(C2390,Sheet2!A:B,2,FALSE)","v":156.5}]
[2390,"王梦寒斐",360902201012,154221404519,22,{"$f":"VLOOKUP(C2391,Sheet2!A:B,2,FALSE)","v":156.5}]
[2391,"龙颂",360902201012,154221404818,23,{"$f":"VLOOKUP(C2392,Sheet2!A:B,2,FALSE)","v":156.5}]
[2392,"熊燕翎",360902201012,154221404417,24,{"$f":"VLOOKUP(C2393,Sheet2!A:B,2,FALSE)","v":156.5}]
[2393,"曾婷",360902202012,154221405202,1,{"$f":"VLOOKUP(C2394,Sheet2!A:B,2,FALSE)","v":154}]
[2394,"裴一新",360902202012,154050315111,2,{"$f":"VLOOKUP(C2395,Sheet2!A:B,2,FALSE)","v":154}]
[2395,"况颖",360902202012,154012906801,4,{"$f":"VLOOKUP(C2396,Sheet2!A:B,2,FALSE)","v":154}]
[2396,"林萍",360902202012,154221405002,3,{"$f":"VLOOKUP(C2397,Sheet2!A:B,2,FALSE)","v":154}]
[2397,"张润熙",360902202012,154040803106,5,{"$f":"VLOOKUP(C2398,Sheet2!A:B,2,FALSE)","v":154}]
[2398,"黄青青",360902202012,154012906327,6,{"$f":"VLOOKUP(C2399,Sheet2!A:B,2,FALSE)","v":154}]
[2399,"李晓婧",360902202012,154221405521,7,{"$f":"VLOOKUP(C2400,Sheet2!A:B,2,FALSE)","v":154}]
[2400,"胡莎莎",360902202012,154012907002,8,{"$f":"VLOOKUP(C2401,Sheet2!A:B,2,FALSE)","v":154}]
[2401,"林垚",360902202012,154221405516,9,{"$f":"VLOOKUP(C2402,Sheet2!A:B,2,FALSE)","v":154}]
[2402,"易瑶玲",360902202012,154221405518,10,{"$f":"VLOOKUP(C2403,Sheet2!A:B,2,FALSE)","v":154}]
[2403,"钟敏",360902202012,154012906116,11,{"$f":"VLOOKUP(C2404,Sheet2!A:B,2,FALSE)","v":154}]
[2404,"王瑾玟",360902202012,154221405107,12,{"$f":"VLOOKUP(C2405,Sheet2!A:B,2,FALSE)","v":154}]
[2405,"林睿",360902202012,154221405203,13,{"$f":"VLOOKUP(C2406,Sheet2!A:B,2,FALSE)","v":154}]
[2406,"易聪",360902202012,154221405109,14,{"$f":"VLOOKUP(C2407,Sheet2!A:B,2,FALSE)","v":154}]
[2407,"徐雯雯",360902202012,154012906815,15,{"$f":"VLOOKUP(C2408,Sheet2!A:B,2,FALSE)","v":154}]
[2408,"肖思",360902202012,154221405508,16,{"$f":"VLOOKUP(C2409,Sheet2!A:B,2,FALSE)","v":154}]
[2409,"闵怡欣",360902202012,154012906206,17,{"$f":"VLOOKUP(C2410,Sheet2!A:B,2,FALSE)","v":154}]
[2410,"周安",360902202012,154030305415,18,{"$f":"VLOOKUP(C2411,Sheet2!A:B,2,FALSE)","v":154}]
[2411,"李小燕",360902202012,154242703105,19,{"$f":"VLOOKUP(C2412,Sheet2!A:B,2,FALSE)","v":154}]
[2412,"万冰冰",360902202012,154221405323,20,{"$f":"VLOOKUP(C2413,Sheet2!A:B,2,FALSE)","v":154}]
[2413,"晏艳",360902202012,154221405206,21,{"$f":"VLOOKUP(C2414,Sheet2!A:B,2,FALSE)","v":154}]
[2414,"黄玲",360902202012,154221405218,22,{"$f":"VLOOKUP(C2415,Sheet2!A:B,2,FALSE)","v":154}]
[2415,"易帆",360902202012,154221405118,23,{"$f":"VLOOKUP(C2416,Sheet2!A:B,2,FALSE)","v":154}]
[2416,"李传英",360902202012,154221405126,24,{"$f":"VLOOKUP(C2417,Sheet2!A:B,2,FALSE)","v":154}]
[2417,"李清秀",360902203010,154221405726,1,{"$f":"VLOOKUP(C2418,Sheet2!A:B,2,FALSE)","v":186}]
[2418,"蔺伟",360902203010,154221405625,2,{"$f":"VLOOKUP(C2419,Sheet2!A:B,2,FALSE)","v":186}]
[2419,"张鑫",360902203010,154030305718,3,{"$f":"VLOOKUP(C2420,Sheet2!A:B,2,FALSE)","v":186}]
[2420,"龙晨",360902203010,154030305906,4,{"$f":"VLOOKUP(C2421,Sheet2!A:B,2,FALSE)","v":186}]
[2421,"李海露",360902203010,154221405709,5,{"$f":"VLOOKUP(C2422,Sheet2!A:B,2,FALSE)","v":186}]
[2422,"张瑶",360902203010,154030305730,6,{"$f":"VLOOKUP(C2423,Sheet2!A:B,2,FALSE)","v":186}]
[2423,"张露瑶",360902203010,154012907702,7,{"$f":"VLOOKUP(C2424,Sheet2!A:B,2,FALSE)","v":186}]
[2424,"邹雅姿",360902203010,154050315206,8,{"$f":"VLOOKUP(C2425,Sheet2!A:B,2,FALSE)","v":186}]
[2425,"欧阳莎",360902203010,154221405614,9,{"$f":"VLOOKUP(C2426,Sheet2!A:B,2,FALSE)","v":186}]
[2426,"刘晓霞",360902203010,154221406223,11,{"$f":"VLOOKUP(C2427,Sheet2!A:B,2,FALSE)","v":186}]
[2427,"张金荣",360902203010,154221405924,12,{"$f":"VLOOKUP(C2428,Sheet2!A:B,2,FALSE)","v":186}]
[2428,"易娟",360902203010,154221406111,10,{"$f":"VLOOKUP(C2429,Sheet2!A:B,2,FALSE)","v":186}]
[2429,"张小荞",360902203010,154221406008,13,{"$f":"VLOOKUP(C2430,Sheet2!A:B,2,FALSE)","v":186}]
[2430,"聂迎红",360902203010,154012805207,14,{"$f":"VLOOKUP(C2431,Sheet2!A:B,2,FALSE)","v":186}]
[2431,"梁星飖",360902203010,154221406306,15,{"$f":"VLOOKUP(C2432,Sheet2!A:B,2,FALSE)","v":186}]
[2432,"袁嫄",360902203010,154050315208,17,{"$f":"VLOOKUP(C2433,Sheet2!A:B,2,FALSE)","v":186}]
[2433,"杜燕",360902203010,154030305616,16,{"$f":"VLOOKUP(C2434,Sheet2!A:B,2,FALSE)","v":186}]
[2434,"袁梦",360902203010,154221406003,18,{"$f":"VLOOKUP(C2435,Sheet2!A:B,2,FALSE)","v":186}]
[2435,"乐祥宇",360902203010,154221405708,19,{"$f":"VLOOKUP(C2436,Sheet2!A:B,2,FALSE)","v":186}]
[2436,"董毓毓",360902203010,154030305913,20,{"$f":"VLOOKUP(C2437,Sheet2!A:B,2,FALSE)","v":186}]
[2437,"侯丽娜",360902203010,154221406515,21,{"$f":"VLOOKUP(C2438,Sheet2!A:B,2,FALSE)","v":186}]
[2438,"况芳芳",360902203010,154221405627,22,{"$f":"VLOOKUP(C2439,Sheet2!A:B,2,FALSE)","v":186}]
[2439,"邹佳玲",360902203010,154012805504,23,{"$f":"VLOOKUP(C2440,Sheet2!A:B,2,FALSE)","v":186}]
[2440,"李洁",360902203010,154221405914,24,{"$f":"VLOOKUP(C2441,Sheet2!A:B,2,FALSE)","v":186}]
[2441,"易春苗",360902203010,154221406504,25,{"$f":"VLOOKUP(C2442,Sheet2!A:B,2,FALSE)","v":186}]
[2442,"聂莹",360902203010,154050315413,26,{"$f":"VLOOKUP(C2443,Sheet2!A:B,2,FALSE)","v":186}]
[2443,"邓权",360902204006,154221406716,1,{"$f":"VLOOKUP(C2444,Sheet2!A:B,2,FALSE)","v":104.5}]
[2444,"刘欢",360902204006,154221406809,2,{"$f":"VLOOKUP(C2445,Sheet2!A:B,2,FALSE)","v":104.5}]
[2445,"易妮",360902204006,154020501929,3,{"$f":"VLOOKUP(C2446,Sheet2!A:B,2,FALSE)","v":104.5}]
[2446,"周卉",360902204006,154221406623,4,{"$f":"VLOOKUP(C2447,Sheet2!A:B,2,FALSE)","v":104.5}]
[2447,"苏夏语",360902204006,154221406714,5,{"$f":"VLOOKUP(C2448,Sheet2!A:B,2,FALSE)","v":104.5}]
[2448,"沈三",360902205005,154012405727,1,{"$f":"VLOOKUP(C2449,Sheet2!A:B,2,FALSE)","v":101}]
[2449,"胡平",360902205005,154012804220,2,{"$f":"VLOOKUP(C2450,Sheet2!A:B,2,FALSE)","v":101}]
[2450,"王贵英",360902205005,154221407214,3,{"$f":"VLOOKUP(C2451,Sheet2!A:B,2,FALSE)","v":101}]
[2451,"张亮",360902205005,154030306615,4,{"$f":"VLOOKUP(C2452,Sheet2!A:B,2,FALSE)","v":101}]
[2452,"陈红英",360902205005,154020502219,5,{"$f":"VLOOKUP(C2453,Sheet2!A:B,2,FALSE)","v":101}]
[2453,"袁仕勋",360902205005,154012406018,6,{"$f":"VLOOKUP(C2454,Sheet2!A:B,2,FALSE)","v":101}]
[2454,"余琛",360902205005,154012804313,7,{"$f":"VLOOKUP(C2455,Sheet2!A:B,2,FALSE)","v":101}]
[2455,"田美凤",360902205005,154221407121,8,{"$f":"VLOOKUP(C2456,Sheet2!A:B,2,FALSE)","v":101}]
[2456,"易湫",360902205005,154221407211,9,{"$f":"VLOOKUP(C2457,Sheet2!A:B,2,FALSE)","v":101}]
[2457,"邹外林",360902205005,154221406927,10,{"$f":"VLOOKUP(C2458,Sheet2!A:B,2,FALSE)","v":101}]
[2458,"黄安",360902205005,154020502221,11,{"$f":"VLOOKUP(C2459,Sheet2!A:B,2,FALSE)","v":101}]
[2459,"黄倩",360902205005,154050315611,12,{"$f":"VLOOKUP(C2460,Sheet2!A:B,2,FALSE)","v":101}]
[2460,"刘玉婷",360902205005,154030306607,13,{"$f":"VLOOKUP(C2461,Sheet2!A:B,2,FALSE)","v":101}]
[2461,"孙宇豪",360902205005,154012804211,14,{"$f":"VLOOKUP(C2462,Sheet2!A:B,2,FALSE)","v":101}]
[2462,"胡江",360902205005,154221407218,15,{"$f":"VLOOKUP(C2463,Sheet2!A:B,2,FALSE)","v":101}]
[2463,"曹婷",360902206002,154012702026,1,{"$f":"VLOOKUP(C2464,Sheet2!A:B,2,FALSE)","v":177}]
[2464,"张泳荧",360902206002,154221407406,2,{"$f":"VLOOKUP(C2465,Sheet2!A:B,2,FALSE)","v":177}]
[2465,"揭雨豪",360902206002,154012702721,3,{"$f":"VLOOKUP(C2466,Sheet2!A:B,2,FALSE)","v":177}]
[2466,"易美荣",360902206002,154221407930,4,{"$f":"VLOOKUP(C2467,Sheet2!A:B,2,FALSE)","v":177}]
[2467,"杜婷",360902206002,154012701917,5,{"$f":"VLOOKUP(C2468,Sheet2!A:B,2,FALSE)","v":177}]
[2468,"黄睿康",360902206002,154012702422,6,{"$f":"VLOOKUP(C2469,Sheet2!A:B,2,FALSE)","v":177}]
[2469,"易琛",360902207002,154221408307,1,{"$f":"VLOOKUP(C2470,Sheet2!A:B,2,FALSE)","v":142}]
[2470,"张雅蓉",360902207002,154221408304,2,{"$f":"VLOOKUP(C2471,Sheet2!A:B,2,FALSE)","v":142}]
[2471,"罗冰洁",360902207002,154221408226,3,{"$f":"VLOOKUP(C2472,Sheet2!A:B,2,FALSE)","v":142}]
[2472,"杨麟凤",360902207002,154221408129,4,{"$f":"VLOOKUP(C2473,Sheet2!A:B,2,FALSE)","v":142}]
[2473,"许豪西",360902207002,154221408216,5,{"$f":"VLOOKUP(C2474,Sheet2!A:B,2,FALSE)","v":142}]
[2474,"易雨鑫",360902207002,154030307210,6,{"$f":"VLOOKUP(C2475,Sheet2!A:B,2,FALSE)","v":142}]
[2475,"杨娟",360902208004,154231504509,1,{"$f":"VLOOKUP(C2476,Sheet2!A:B,2,FALSE)","v":156.5}]
[2476,"熊昊",360902208004,154012406617,2,{"$f":"VLOOKUP(C2477,Sheet2!A:B,2,FALSE)","v":156.5}]
[2477,"陈得志",360902209004,154221408704,1,{"$f":"VLOOKUP(C2478,Sheet2!A:B,2,FALSE)","v":137.5}]
[2478,"周啟聪",360902209004,154030307511,2,{"$f":"VLOOKUP(C2479,Sheet2!A:B,2,FALSE)","v":137.5}]
[2479,"刘秀林",360902209004,154221408605,3,{"$f":"VLOOKUP(C2480,Sheet2!A:B,2,FALSE)","v":137.5}]
[2480,"黄易",360902209004,154221408717,4,{"$f":"VLOOKUP(C2481,Sheet2!A:B,2,FALSE)","v":137.5}]
[2481,"郭凤",360902209004,154221408719,5,{"$f":"VLOOKUP(C2482,Sheet2!A:B,2,FALSE)","v":137.5}]
[2482,"江灏宇",360902209004,154221408705,6,{"$f":"VLOOKUP(C2483,Sheet2!A:B,2,FALSE)","v":137.5}]
[2483,"伍娇丽",360902210003,154221408825,1,{"$f":"VLOOKUP(C2484,Sheet2!A:B,2,FALSE)","v":138}]
[2484,"汤焱婷",360902210003,154221408917,2,{"$f":"VLOOKUP(C2485,Sheet2!A:B,2,FALSE)","v":138}]
[2485,"谢劲峰",360902210003,154221408902,3,{"$f":"VLOOKUP(C2486,Sheet2!A:B,2,FALSE)","v":138}]
[2486,"黄俏",360902210003,154012803324,4,{"$f":"VLOOKUP(C2487,Sheet2!A:B,2,FALSE)","v":138}]
[2487,"邹琼",360902210003,154231504825,5,{"$f":"VLOOKUP(C2488,Sheet2!A:B,2,FALSE)","v":138}]
[2488,"吴凯",360902210003,154221408913,6,{"$f":"VLOOKUP(C2489,Sheet2!A:B,2,FALSE)","v":138}]
[2489,"伍仔娟",360902210003,154012803111,7,{"$f":"VLOOKUP(C2490,Sheet2!A:B,2,FALSE)","v":138}]
[2490,"刘慈",360902210003,154221408915,8,{"$f":"VLOOKUP(C2491,Sheet2!A:B,2,FALSE)","v":138}]
[2491,"罗颖",360902210003,154221408909,9,{"$f":"VLOOKUP(C2492,Sheet2!A:B,2,FALSE)","v":138}]
[2492,"阙旭鑫",360902211006,154242704116,1,{"$f":"VLOOKUP(C2493,Sheet2!A:B,2,FALSE)","v":103.5}]
[2493,"彭婷",360902211006,154221409017,2,{"$f":"VLOOKUP(C2494,Sheet2!A:B,2,FALSE)","v":103.5}]
[2494,"吴月清",360902211006,154221409019,3,{"$f":"VLOOKUP(C2495,Sheet2!A:B,2,FALSE)","v":103.5}]
[2495,"彭伟",360902211006,154221409003,4,{"$f":"VLOOKUP(C2496,Sheet2!A:B,2,FALSE)","v":103.5}]
[2496,"龙韦吉",360902211006,154221409022,5,{"$f":"VLOOKUP(C2497,Sheet2!A:B,2,FALSE)","v":103.5}]
[2497,"邹余婷",360902211006,154012803725,6,{"$f":"VLOOKUP(C2498,Sheet2!A:B,2,FALSE)","v":103.5}]
[2498,"张佳鹏",360902211006,154012803803,7,{"$f":"VLOOKUP(C2499,Sheet2!A:B,2,FALSE)","v":103.5}]
[2499,"李晓敏",360902212004,154221409310,1,{"$f":"VLOOKUP(C2500,Sheet2!A:B,2,FALSE)","v":87}]
[2500,"高斯",360902212004,154221409213,2,{"$f":"VLOOKUP(C2501,Sheet2!A:B,2,FALSE)","v":87}]
[2501,"叶礼鹏",360902212004,154221409227,3,{"$f":"VLOOKUP(C2502,Sheet2!A:B,2,FALSE)","v":87}]
[2502,"林俏",360902212004,154221409206,4,{"$f":"VLOOKUP(C2503,Sheet2!A:B,2,FALSE)","v":87}]
[2503,"舒雪",360902212004,154221409303,5,{"$f":"VLOOKUP(C2504,Sheet2!A:B,2,FALSE)","v":87}]
[2504,"晏晓庆",360902212004,154221409217,6,{"$f":"VLOOKUP(C2505,Sheet2!A:B,2,FALSE)","v":87}]
[2505,"彭婷",360902212004,154221409212,7,{"$f":"VLOOKUP(C2506,Sheet2!A:B,2,FALSE)","v":87}]
[2506,"孙鹏",360902212004,154221409221,8,{"$f":"VLOOKUP(C2507,Sheet2!A:B,2,FALSE)","v":87}]
[2507,"卢影",360922201022,154221404205,1,{"$f":"VLOOKUP(C2508,Sheet2!A:B,2,FALSE)","v":152}]
[2508,"苏丹",360922201022,154030304805,2,{"$f":"VLOOKUP(C2509,Sheet2!A:B,2,FALSE)","v":152}]
[2509,"肖瑶",360922201022,154012701407,3,{"$f":"VLOOKUP(C2510,Sheet2!A:B,2,FALSE)","v":152}]
[2510,"卢怡",360922201022,154221404822,4,{"$f":"VLOOKUP(C2511,Sheet2!A:B,2,FALSE)","v":152}]
[2511,"杨倩",360922201022,154231500326,5,{"$f":"VLOOKUP(C2512,Sheet2!A:B,2,FALSE)","v":152}]
[2512,"周齐",360922201022,154221404816,6,{"$f":"VLOOKUP(C2513,Sheet2!A:B,2,FALSE)","v":152}]
[2513,"廖佳",360922201022,154221404528,7,{"$f":"VLOOKUP(C2514,Sheet2!A:B,2,FALSE)","v":152}]
[2514,"吴停",360922201022,154012700719,8,{"$f":"VLOOKUP(C2515,Sheet2!A:B,2,FALSE)","v":152}]
[2515,"龙莹",360922201022,154012700708,9,{"$f":"VLOOKUP(C2516,Sheet2!A:B,2,FALSE)","v":152}]
[2516,"宗玉洁",360922201022,154050314701,10,{"$f":"VLOOKUP(C2517,Sheet2!A:B,2,FALSE)","v":152}]
[2517,"石尼尼",360922201022,154221404815,11,{"$f":"VLOOKUP(C2518,Sheet2!A:B,2,FALSE)","v":152}]
[2518,"朱潇佳",360922201022,154030305122,12,{"$f":"VLOOKUP(C2519,Sheet2!A:B,2,FALSE)","v":152}]
[2519,"巢云斯",360922201022,154221404520,13,{"$f":"VLOOKUP(C2520,Sheet2!A:B,2,FALSE)","v":152}]
[2520,"张湘",360922201022,154012701115,14,{"$f":"VLOOKUP(C2521,Sheet2!A:B,2,FALSE)","v":152}]
[2521,"鲍延",360922201022,154221404226,15,{"$f":"VLOOKUP(C2522,Sheet2!A:B,2,FALSE)","v":152}]
[2522,"房丽娟",360922201022,154221404312,16,{"$f":"VLOOKUP(C2523,Sheet2!A:B,2,FALSE)","v":152}]
[2523,"聂云丽",360922201022,154012701023,17,{"$f":"VLOOKUP(C2524,Sheet2!A:B,2,FALSE)","v":152}]
[2524,"张婷",360922201022,154030304803,18,{"$f":"VLOOKUP(C2525,Sheet2!A:B,2,FALSE)","v":152}]
[2525,"陈晓琴",360922201022,154012701001,19,{"$f":"VLOOKUP(C2526,Sheet2!A:B,2,FALSE)","v":152}]
[2526,"徐春晓",360922201022,154012701025,20,{"$f":"VLOOKUP(C2527,Sheet2!A:B,2,FALSE)","v":152}]
[2527,"黄芳丽",360922201022,154221404811,21,{"$f":"VLOOKUP(C2528,Sheet2!A:B,2,FALSE)","v":152}]
[2528,"寇银霞",360922201022,154030305128,23,{"$f":"VLOOKUP(C2529,Sheet2!A:B,2,FALSE)","v":152}]
[2529,"晏阳钰",360922201022,154012700722,22,{"$f":"VLOOKUP(C2530,Sheet2!A:B,2,FALSE)","v":152}]
[2530,"彭洋",360922201022,154221404827,24,{"$f":"VLOOKUP(C2531,Sheet2!A:B,2,FALSE)","v":152}]
[2531,"辛外秀",360922201022,154221404221,25,{"$f":"VLOOKUP(C2532,Sheet2!A:B,2,FALSE)","v":152}]
[2532,"余梦花",360922201022,154040601628,26,{"$f":"VLOOKUP(C2533,Sheet2!A:B,2,FALSE)","v":152}]
[2533,"邹乐乐",360922201022,154030305026,27,{"$f":"VLOOKUP(C2534,Sheet2!A:B,2,FALSE)","v":152}]
[2534,"李其璇",360922201022,154221404707,28,{"$f":"VLOOKUP(C2535,Sheet2!A:B,2,FALSE)","v":152}]
[2535,"罗斌",360922201022,154242601706,29,{"$f":"VLOOKUP(C2536,Sheet2!A:B,2,FALSE)","v":152}]
[2536,"潘红艳",360922201022,154221404527,30,{"$f":"VLOOKUP(C2537,Sheet2!A:B,2,FALSE)","v":152}]
[2537,"江保梅",360922201022,154030305023,31,{"$f":"VLOOKUP(C2538,Sheet2!A:B,2,FALSE)","v":152}]
[2538,"周燕华",360922201022,154012701602,32,{"$f":"VLOOKUP(C2539,Sheet2!A:B,2,FALSE)","v":152}]
[2539,"熊菲",360922201022,154012700921,33,{"$f":"VLOOKUP(C2540,Sheet2!A:B,2,FALSE)","v":152}]
[2540,"张桑桑",360922202028,154040803308,1,{"$f":"VLOOKUP(C2541,Sheet2!A:B,2,FALSE)","v":169.5}]
[2541,"黄莉",360922202028,154221405224,2,{"$f":"VLOOKUP(C2542,Sheet2!A:B,2,FALSE)","v":169.5}]
[2542,"李小琴",360922202028,154012907230,3,{"$f":"VLOOKUP(C2543,Sheet2!A:B,2,FALSE)","v":169.5}]
[2543," 袁杭",360922202028,154050315027,4,{"$f":"VLOOKUP(C2544,Sheet2!A:B,2,FALSE)","v":169.5}]
[2544,"陈紫泠",360922202028,154012906725,5,{"$f":"VLOOKUP(C2545,Sheet2!A:B,2,FALSE)","v":169.5}]
[2545,"鲍盼红",360922202028,154221405306,6,{"$f":"VLOOKUP(C2546,Sheet2!A:B,2,FALSE)","v":169.5}]
[2546,"谢苗",360922202028,154221405125,7,{"$f":"VLOOKUP(C2547,Sheet2!A:B,2,FALSE)","v":169.5}]
[2547,"龙富平",360922202028,154221405010,8,{"$f":"VLOOKUP(C2548,Sheet2!A:B,2,FALSE)","v":169.5}]
[2548,"钟梅",360922202028,154221405117,9,{"$f":"VLOOKUP(C2549,Sheet2!A:B,2,FALSE)","v":169.5}]
[2549,"龚启明",360922202028,154012907316,10,{"$f":"VLOOKUP(C2550,Sheet2!A:B,2,FALSE)","v":169.5}]
[2550,"张莉莉",360922202028,154221405309,12,{"$f":"VLOOKUP(C2551,Sheet2!A:B,2,FALSE)","v":169.5}]
[2551,"黄伟强",360922202028,154012906223,11,{"$f":"VLOOKUP(C2552,Sheet2!A:B,2,FALSE)","v":169.5}]
[2552,"黄露",360922202028,154221405502,13,{"$f":"VLOOKUP(C2553,Sheet2!A:B,2,FALSE)","v":169.5}]
[2553,"谭梦沥",360922202028,154221405517,14,{"$f":"VLOOKUP(C2554,Sheet2!A:B,2,FALSE)","v":169.5}]
[2554,"常雨晴",360922202028,154050315013,15,{"$f":"VLOOKUP(C2555,Sheet2!A:B,2,FALSE)","v":169.5}]
[2555,"付优美",360922202028,154221405110,16,{"$f":"VLOOKUP(C2556,Sheet2!A:B,2,FALSE)","v":169.5}]
[2556,"李丹",360922202028,154221405330,17,{"$f":"VLOOKUP(C2557,Sheet2!A:B,2,FALSE)","v":169.5}]
[2557,"邓敏慧",360922202028,154040802908,18,{"$f":"VLOOKUP(C2558,Sheet2!A:B,2,FALSE)","v":169.5}]
[2558,"张威",360922202028,154040803226,19,{"$f":"VLOOKUP(C2559,Sheet2!A:B,2,FALSE)","v":169.5}]
[2559,"魏西",360922202028,154012906629,20,{"$f":"VLOOKUP(C2560,Sheet2!A:B,2,FALSE)","v":169.5}]
[2560,"黄霞飞",360922202028,154050315115,21,{"$f":"VLOOKUP(C2561,Sheet2!A:B,2,FALSE)","v":169.5}]
[2561,"王依凡",360922202028,154012907124,22,{"$f":"VLOOKUP(C2562,Sheet2!A:B,2,FALSE)","v":169.5}]
[2562,"周欢",360922202028,154221405416,23,{"$f":"VLOOKUP(C2563,Sheet2!A:B,2,FALSE)","v":169.5}]
[2563,"欧阳远林",360922202028,154221405321,24,{"$f":"VLOOKUP(C2564,Sheet2!A:B,2,FALSE)","v":169.5}]
[2564,"欧阳苛欣",360922202028,154221405513,25,{"$f":"VLOOKUP(C2565,Sheet2!A:B,2,FALSE)","v":169.5}]
[2565,"肖洒",360922202028,154030305306,26,{"$f":"VLOOKUP(C2566,Sheet2!A:B,2,FALSE)","v":169.5}]
[2566,"熊雨晨",360922202028,154040802919,27,{"$f":"VLOOKUP(C2567,Sheet2!A:B,2,FALSE)","v":169.5}]
[2567,"陈芳",360922202028,154221405406,28,{"$f":"VLOOKUP(C2568,Sheet2!A:B,2,FALSE)","v":169.5}]
[2568,"胡琴",360922202028,154012906924,29,{"$f":"VLOOKUP(C2569,Sheet2!A:B,2,FALSE)","v":169.5}]
[2569,"余芯茹",360922202028,154012907217,30,{"$f":"VLOOKUP(C2570,Sheet2!A:B,2,FALSE)","v":169.5}]
[2570,"刘路",360922202028,154012907324,31,{"$f":"VLOOKUP(C2571,Sheet2!A:B,2,FALSE)","v":169.5}]
[2571,"谢彦菲",360922202028,154020500921,32,{"$f":"VLOOKUP(C2572,Sheet2!A:B,2,FALSE)","v":169.5}]
[2572,"严雅菁",360922202028,154050315109,33,{"$f":"VLOOKUP(C2573,Sheet2!A:B,2,FALSE)","v":169.5}]
[2573,"季晓婷",360922202028,154030305326,34,{"$f":"VLOOKUP(C2574,Sheet2!A:B,2,FALSE)","v":169.5}]
[2574,"周强",360922202028,154012907004,35,{"$f":"VLOOKUP(C2575,Sheet2!A:B,2,FALSE)","v":169.5}]
[2575,"廖敏",360922202028,154012907402,36,{"$f":"VLOOKUP(C2576,Sheet2!A:B,2,FALSE)","v":169.5}]
[2576,"卓青",360922202028,154221405317,37,{"$f":"VLOOKUP(C2577,Sheet2!A:B,2,FALSE)","v":169.5}]
[2577," 卢慧",360922202028,154221405120,38,{"$f":"VLOOKUP(C2578,Sheet2!A:B,2,FALSE)","v":169.5}]
[2578,"梁谷子",360922202028,154040803126,39,{"$f":"VLOOKUP(C2579,Sheet2!A:B,2,FALSE)","v":169.5}]
[2579,"周婷",360922202028,154060603410,40,{"$f":"VLOOKUP(C2580,Sheet2!A:B,2,FALSE)","v":169.5}]
[2580,"熊凡淑",360922202028,154012906509,41,{"$f":"VLOOKUP(C2581,Sheet2!A:B,2,FALSE)","v":169.5}]
[2581,"孙逸群",360922202028,154221405123,42,{"$f":"VLOOKUP(C2582,Sheet2!A:B,2,FALSE)","v":169.5}]
[2582,"何梦思",360922203021,154012805410,1,{"$f":"VLOOKUP(C2583,Sheet2!A:B,2,FALSE)","v":184.5}]
[2583,"曾咪",360922203021,154030305830,2,{"$f":"VLOOKUP(C2584,Sheet2!A:B,2,FALSE)","v":184.5}]
[2584,"郑坤红",360922203021,154012907914,3,{"$f":"VLOOKUP(C2585,Sheet2!A:B,2,FALSE)","v":184.5}]
[2585,"朱宇",360922203021,154221406011,4,{"$f":"VLOOKUP(C2586,Sheet2!A:B,2,FALSE)","v":184.5}]
[2586,"郑瑜",360922203021,154221406521,5,{"$f":"VLOOKUP(C2587,Sheet2!A:B,2,FALSE)","v":184.5}]
[2587,"辛文倩",360922203021,154221406314,6,{"$f":"VLOOKUP(C2588,Sheet2!A:B,2,FALSE)","v":184.5}]
[2588,"邹静",360922203021,154040602615,7,{"$f":"VLOOKUP(C2589,Sheet2!A:B,2,FALSE)","v":184.5}]
[2589,"熊丽媛",360922203021,154012806025,9,{"$f":"VLOOKUP(C2590,Sheet2!A:B,2,FALSE)","v":184.5}]
[2590,"易香",360922203021,154221406427,10,{"$f":"VLOOKUP(C2591,Sheet2!A:B,2,FALSE)","v":184.5}]
[2591,"黄鑫",360922203021,154012805228,11,{"$f":"VLOOKUP(C2592,Sheet2!A:B,2,FALSE)","v":184.5}]
[2592,"普一帆",360922203021,154012908102,8,{"$f":"VLOOKUP(C2593,Sheet2!A:B,2,FALSE)","v":184.5}]
[2593,"黄澜",360922203021,154012907507,12,{"$f":"VLOOKUP(C2594,Sheet2!A:B,2,FALSE)","v":184.5}]
[2594,"曾彦琳",360922203021,154012805023,13,{"$f":"VLOOKUP(C2595,Sheet2!A:B,2,FALSE)","v":184.5}]
[2595,"郭赐荣",360922203021,154012907513,14,{"$f":"VLOOKUP(C2596,Sheet2!A:B,2,FALSE)","v":184.5}]
[2596,"陈佳怡",360922203021,154221406104,15,{"$f":"VLOOKUP(C2597,Sheet2!A:B,2,FALSE)","v":184.5}]
[2597,"徐鑫",360922203021,154012804527,16,{"$f":"VLOOKUP(C2598,Sheet2!A:B,2,FALSE)","v":184.5}]
[2598,"刘冰洋",360922203021,154221405626,17,{"$f":"VLOOKUP(C2599,Sheet2!A:B,2,FALSE)","v":184.5}]
[2599,"陈欣",360922203021,154050315210,18,{"$f":"VLOOKUP(C2600,Sheet2!A:B,2,FALSE)","v":184.5}]
[2600,"桂丹",360922203021,154012805115,19,{"$f":"VLOOKUP(C2601,Sheet2!A:B,2,FALSE)","v":184.5}]
[2601,"罗凯露",360922203021,154030305928,21,{"$f":"VLOOKUP(C2602,Sheet2!A:B,2,FALSE)","v":184.5}]
[2602,"刘露",360922203021,154050315201,20,{"$f":"VLOOKUP(C2603,Sheet2!A:B,2,FALSE)","v":184.5}]
[2603,"王雨红",360922203021,154231501907,22,{"$f":"VLOOKUP(C2604,Sheet2!A:B,2,FALSE)","v":184.5}]
[2604,"谌妍如",360922203021,154012907527,23,{"$f":"VLOOKUP(C2605,Sheet2!A:B,2,FALSE)","v":184.5}]
[2605,"张羽",360922203021,154030306126,24,{"$f":"VLOOKUP(C2606,Sheet2!A:B,2,FALSE)","v":184.5}]
[2606,"崔海燕",360922203021,154030306029,25,{"$f":"VLOOKUP(C2607,Sheet2!A:B,2,FALSE)","v":184.5}]
[2607,"刘少婷",360922203021,154221405723,26,{"$f":"VLOOKUP(C2608,Sheet2!A:B,2,FALSE)","v":184.5}]
[2608,"曾翔",360922203021,154012804703,27,{"$f":"VLOOKUP(C2609,Sheet2!A:B,2,FALSE)","v":184.5}]
[2609,"杨志鹏",360922203021,154012805212,29,{"$f":"VLOOKUP(C2610,Sheet2!A:B,2,FALSE)","v":184.5}]
[2610,"彭懿阳",360922203021,154040602713,30,{"$f":"VLOOKUP(C2611,Sheet2!A:B,2,FALSE)","v":184.5}]
[2611,"冷文秀",360922203021,154012908211,28,{"$f":"VLOOKUP(C2612,Sheet2!A:B,2,FALSE)","v":184.5}]
[2612,"卢志",360922203021,154020501606,31,{"$f":"VLOOKUP(C2613,Sheet2!A:B,2,FALSE)","v":184.5}]
[2613,"刘文婷",360922203021,154050315305,32,{"$f":"VLOOKUP(C2614,Sheet2!A:B,2,FALSE)","v":184.5}]
[2614,"张春平",360922203021,154221406320,34,{"$f":"VLOOKUP(C2615,Sheet2!A:B,2,FALSE)","v":184.5}]
[2615,"晏文玲",360922203021,154050315222,33,{"$f":"VLOOKUP(C2616,Sheet2!A:B,2,FALSE)","v":184.5}]
[2616,"艾红敏",360922204012,154012908702,1,{"$f":"VLOOKUP(C2617,Sheet2!A:B,2,FALSE)","v":169}]
[2617,"周丹",360922204012,154221406713,2,{"$f":"VLOOKUP(C2618,Sheet2!A:B,2,FALSE)","v":169}]
[2618,"曹安琪",360922204012,154221406625,3,{"$f":"VLOOKUP(C2619,Sheet2!A:B,2,FALSE)","v":169}]
[2619,"辛舒惠",360922204012,154221406725,4,{"$f":"VLOOKUP(C2620,Sheet2!A:B,2,FALSE)","v":169}]
[2620,"乐雨桐",360922204012,154221406622,5,{"$f":"VLOOKUP(C2621,Sheet2!A:B,2,FALSE)","v":169}]
[2621,"熊文娟",360922204012,154221406710,7,{"$f":"VLOOKUP(C2622,Sheet2!A:B,2,FALSE)","v":169}]
[2622,"李军瑶",360922204012,154012908805,6,{"$f":"VLOOKUP(C2623,Sheet2!A:B,2,FALSE)","v":169}]
[2623,"刘郁芳",360922204012,154030306306,8,{"$f":"VLOOKUP(C2624,Sheet2!A:B,2,FALSE)","v":169}]
[2624,"李琴",360922204012,154030306212,9,{"$f":"VLOOKUP(C2625,Sheet2!A:B,2,FALSE)","v":169}]
[2625,"钟星星",360922204012,154221406807,10,{"$f":"VLOOKUP(C2626,Sheet2!A:B,2,FALSE)","v":169}]
[2626,"徐萱雯",360922204012,154012908908,11,{"$f":"VLOOKUP(C2627,Sheet2!A:B,2,FALSE)","v":169}]
[2627,"鲁东蔚",360922204012,154221406601,12,{"$f":"VLOOKUP(C2628,Sheet2!A:B,2,FALSE)","v":169}]
[2628,"陈铭",360922204012,154012908802,13,{"$f":"VLOOKUP(C2629,Sheet2!A:B,2,FALSE)","v":169}]
[2629,"邹思",360922204012,154221406627,15,{"$f":"VLOOKUP(C2630,Sheet2!A:B,2,FALSE)","v":169}]
[2630,"欧阳婷",360922204012,154221406726,14,{"$f":"VLOOKUP(C2631,Sheet2!A:B,2,FALSE)","v":169}]
[2631,"殷彬娥",360922204012,154221406614,16,{"$f":"VLOOKUP(C2632,Sheet2!A:B,2,FALSE)","v":169}]
[2632,"陈艳红",360922204012,154221406616,17,{"$f":"VLOOKUP(C2633,Sheet2!A:B,2,FALSE)","v":169}]
[2633,"郭瑶",360922204012,154221406604,18,{"$f":"VLOOKUP(C2634,Sheet2!A:B,2,FALSE)","v":169}]
[2634,"苏静",360922204012,154221406724,19,{"$f":"VLOOKUP(C2635,Sheet2!A:B,2,FALSE)","v":169}]
[2635,"刘子晴",360922204012,154030306207,20,{"$f":"VLOOKUP(C2636,Sheet2!A:B,2,FALSE)","v":169}]
[2636,"刘怜欣",360922204012,154221406709,21,{"$f":"VLOOKUP(C2637,Sheet2!A:B,2,FALSE)","v":169}]
[2637,"刘湾",360922204012,154221406804,22,{"$f":"VLOOKUP(C2638,Sheet2!A:B,2,FALSE)","v":169}]
[2638,"杨艳",360922204012,154250106021,23,{"$f":"VLOOKUP(C2639,Sheet2!A:B,2,FALSE)","v":169}]
[2639,"黄永红",360922204012,154221406805,24,{"$f":"VLOOKUP(C2640,Sheet2!A:B,2,FALSE)","v":169}]
[2640,"龚雨晨",360922204012,154050315520,25,{"$f":"VLOOKUP(C2641,Sheet2!A:B,2,FALSE)","v":169}]
[2641,"刘璐",360922205010,154250106124,1,{"$f":"VLOOKUP(C2642,Sheet2!A:B,2,FALSE)","v":107.5}]
[2642,"欧阳嘉明",360922205010,154012405903,2,{"$f":"VLOOKUP(C2643,Sheet2!A:B,2,FALSE)","v":107.5}]
[2643,"黄鸿杰",360922205010,154221407003,3,{"$f":"VLOOKUP(C2644,Sheet2!A:B,2,FALSE)","v":107.5}]
[2644,"黄辉",360922205010,154050315619,4,{"$f":"VLOOKUP(C2645,Sheet2!A:B,2,FALSE)","v":107.5}]
[2645,"王丹",360922205010,154221407016,6,{"$f":"VLOOKUP(C2646,Sheet2!A:B,2,FALSE)","v":107.5}]
[2646,"丁玉卿",360922205010,154030306811,5,{"$f":"VLOOKUP(C2647,Sheet2!A:B,2,FALSE)","v":107.5}]
[2647,"汪丽文",360922205010,154012804027,7,{"$f":"VLOOKUP(C2648,Sheet2!A:B,2,FALSE)","v":107.5}]
[2648,"钟嵩",360922205010,154211001616,8,{"$f":"VLOOKUP(C2649,Sheet2!A:B,2,FALSE)","v":107.5}]
[2649,"柳红",360922205010,154012804228,9,{"$f":"VLOOKUP(C2650,Sheet2!A:B,2,FALSE)","v":107.5}]
[2650,"辛敏",360922205010,154221407126,10,{"$f":"VLOOKUP(C2651,Sheet2!A:B,2,FALSE)","v":107.5}]
[2651,"吴祎伦",360922205010,154221407226,11,{"$f":"VLOOKUP(C2652,Sheet2!A:B,2,FALSE)","v":107.5}]
[2652,"张苑妹",360922205010,154012405921,12,{"$f":"VLOOKUP(C2653,Sheet2!A:B,2,FALSE)","v":107.5}]
[2653,"钟爱琪",360922205010,154221407210,13,{"$f":"VLOOKUP(C2654,Sheet2!A:B,2,FALSE)","v":107.5}]
[2654,"欧阳锦国",360922205010,154030306710,14,{"$f":"VLOOKUP(C2655,Sheet2!A:B,2,FALSE)","v":107.5}]
[2655,"辛宇",360922205010,154221407227,15,{"$f":"VLOOKUP(C2656,Sheet2!A:B,2,FALSE)","v":107.5}]
[2656,"彭文俊",360922205010,154221407107,16,{"$f":"VLOOKUP(C2657,Sheet2!A:B,2,FALSE)","v":107.5}]
[2657,"王臻武",360922205010,154221407108,17,{"$f":"VLOOKUP(C2658,Sheet2!A:B,2,FALSE)","v":107.5}]
[2658,"曾宜",360922205010,154221407312,18,{"$f":"VLOOKUP(C2659,Sheet2!A:B,2,FALSE)","v":107.5}]
[2659,"张晶",360922205010,154221407004,19,{"$f":"VLOOKUP(C2660,Sheet2!A:B,2,FALSE)","v":107.5}]
[2660,"陈思琪",360922205010,154030306713,20,{"$f":"VLOOKUP(C2661,Sheet2!A:B,2,FALSE)","v":107.5}]
[2661,"王亮",360922205010,154221407028,21,{"$f":"VLOOKUP(C2662,Sheet2!A:B,2,FALSE)","v":107.5}]
[2662,"王睿",360922205010,154012804126,22,{"$f":"VLOOKUP(C2663,Sheet2!A:B,2,FALSE)","v":107.5}]
[2663,"刘晴",360922205010,154221407115,23,{"$f":"VLOOKUP(C2664,Sheet2!A:B,2,FALSE)","v":107.5}]
[2664,"刘强",360922205010,154221406912,24,{"$f":"VLOOKUP(C2665,Sheet2!A:B,2,FALSE)","v":107.5}]
[2665,"韩阳",360922205010,154221407314,25,{"$f":"VLOOKUP(C2666,Sheet2!A:B,2,FALSE)","v":107.5}]
[2666,"朱琴",360922206007,154012702405,1,{"$f":"VLOOKUP(C2667,Sheet2!A:B,2,FALSE)","v":169}]
[2667,"朱天赐",360922206007,154012702822,2,{"$f":"VLOOKUP(C2668,Sheet2!A:B,2,FALSE)","v":169}]
[2668,"秦佳",360922206007,154012702101,3,{"$f":"VLOOKUP(C2669,Sheet2!A:B,2,FALSE)","v":169}]
[2669,"吴丽丹",360922206007,154221407813,4,{"$f":"VLOOKUP(C2670,Sheet2!A:B,2,FALSE)","v":169}]
[2670,"汪羽蒙",360922206007,154221407801,5,{"$f":"VLOOKUP(C2671,Sheet2!A:B,2,FALSE)","v":169}]
[2671,"王一帆",360922206007,154221407828,6,{"$f":"VLOOKUP(C2672,Sheet2!A:B,2,FALSE)","v":169}]
[2672,"杨倩",360922206007,154221407809,7,{"$f":"VLOOKUP(C2673,Sheet2!A:B,2,FALSE)","v":169}]
[2673,"欧阳纤纤",360922206007,154012702407,8,{"$f":"VLOOKUP(C2674,Sheet2!A:B,2,FALSE)","v":169}]
[2674,"杨轶",360922206007,154250106207,9,{"$f":"VLOOKUP(C2675,Sheet2!A:B,2,FALSE)","v":169}]
[2675,"张怡凤",360922206007,154221407730,10,{"$f":"VLOOKUP(C2676,Sheet2!A:B,2,FALSE)","v":169}]
[2676,"邓帅",360922206007,154221407512,11,{"$f":"VLOOKUP(C2677,Sheet2!A:B,2,FALSE)","v":169}]
[2677,"袁佳瑛",360922206007,154221407707,12,{"$f":"VLOOKUP(C2678,Sheet2!A:B,2,FALSE)","v":169}]
[2678,"舒龙怡",360922206007,154012701726,13,{"$f":"VLOOKUP(C2679,Sheet2!A:B,2,FALSE)","v":169}]
[2679,"李潘昭",360922206007,154012702324,14,{"$f":"VLOOKUP(C2680,Sheet2!A:B,2,FALSE)","v":169}]
[2680,"彭梦怡",360922206007,154221407717,15,{"$f":"VLOOKUP(C2681,Sheet2!A:B,2,FALSE)","v":169}]
[2681,"游芳",360922206007,154012701921,16,{"$f":"VLOOKUP(C2682,Sheet2!A:B,2,FALSE)","v":169}]
[2682,"徐鸿斌",360922206007,154242602227,17,{"$f":"VLOOKUP(C2683,Sheet2!A:B,2,FALSE)","v":169}]
[2683,"朱嘉丽",360922206007,154221407723,19,{"$f":"VLOOKUP(C2684,Sheet2!A:B,2,FALSE)","v":169}]
[2684,"黄世云",360922206007,154012702420,18,{"$f":"VLOOKUP(C2685,Sheet2!A:B,2,FALSE)","v":169}]
[2685,"殷裕",360922207007,154221408119,1,{"$f":"VLOOKUP(C2686,Sheet2!A:B,2,FALSE)","v":129}]
[2686,"张欲兰",360922207007,154242603210,2,{"$f":"VLOOKUP(C2687,Sheet2!A:B,2,FALSE)","v":129}]
[2687,"高程祯禹",360922207007,154221408204,3,{"$f":"VLOOKUP(C2688,Sheet2!A:B,2,FALSE)","v":129}]
[2688,"钟威",360922207007,154242603429,4,{"$f":"VLOOKUP(C2689,Sheet2!A:B,2,FALSE)","v":129}]
[2689,"唐丽",360922207007,154221408213,5,{"$f":"VLOOKUP(C2690,Sheet2!A:B,2,FALSE)","v":129}]
[2690,"朱萌",360922207007,154012406409,6,{"$f":"VLOOKUP(C2691,Sheet2!A:B,2,FALSE)","v":129}]
[2691,"潘文婷",360922207007,154221408101,8,{"$f":"VLOOKUP(C2692,Sheet2!A:B,2,FALSE)","v":129}]
[2692,"彭东阳",360922207007,154012406422,7,{"$f":"VLOOKUP(C2693,Sheet2!A:B,2,FALSE)","v":129}]
[2693,"张舒",360922207007,154221408302,9,{"$f":"VLOOKUP(C2694,Sheet2!A:B,2,FALSE)","v":129}]
[2694,"王思怡",360922207007,154221408106,10,{"$f":"VLOOKUP(C2695,Sheet2!A:B,2,FALSE)","v":129}]
[2695,"周思培",360922207007,154221408215,11,{"$f":"VLOOKUP(C2696,Sheet2!A:B,2,FALSE)","v":129}]
[2696,"胡根敏",360922207007,154012703028,12,{"$f":"VLOOKUP(C2697,Sheet2!A:B,2,FALSE)","v":129}]
[2697,"袁绍凡",360922207007,154050316015,13,{"$f":"VLOOKUP(C2698,Sheet2!A:B,2,FALSE)","v":129}]
[2698,"王沂昌",360922207007,154012406410,14,{"$f":"VLOOKUP(C2699,Sheet2!A:B,2,FALSE)","v":129}]
[2699,"陈紫晴",360922207007,154221408220,15,{"$f":"VLOOKUP(C2700,Sheet2!A:B,2,FALSE)","v":129}]
[2700,"胡雯",360922207007,154012702903,16,{"$f":"VLOOKUP(C2701,Sheet2!A:B,2,FALSE)","v":129}]
[2701,"丁佳盛",360922207007,154242603530,17,{"$f":"VLOOKUP(C2702,Sheet2!A:B,2,FALSE)","v":129}]
[2702,"龙宇",360922207007,154040604215,18,{"$f":"VLOOKUP(C2703,Sheet2!A:B,2,FALSE)","v":129}]
[2703,"杨晨凯",360922208012,154012406522,1,{"$f":"VLOOKUP(C2704,Sheet2!A:B,2,FALSE)","v":165.5}]
[2704,"林晴",360922208012,154221408503,2,{"$f":"VLOOKUP(C2705,Sheet2!A:B,2,FALSE)","v":165.5}]
[2705,"刘涛",360922208012,154221408422,3,{"$f":"VLOOKUP(C2706,Sheet2!A:B,2,FALSE)","v":165.5}]
[2706,"胡梦婷",360922208012,154050316105,4,{"$f":"VLOOKUP(C2707,Sheet2!A:B,2,FALSE)","v":165.5}]
[2707,"王婷",360922208012,154221408420,5,{"$f":"VLOOKUP(C2708,Sheet2!A:B,2,FALSE)","v":165.5}]
[2708,"黄鑫恋",360922208012,154012406506,6,{"$f":"VLOOKUP(C2709,Sheet2!A:B,2,FALSE)","v":165.5}]
[2709,"谢淑晴",360922208012,154012406504,7,{"$f":"VLOOKUP(C2710,Sheet2!A:B,2,FALSE)","v":165.5}]
[2710,"唐钰洁",360922208012,154221408410,8,{"$f":"VLOOKUP(C2711,Sheet2!A:B,2,FALSE)","v":165.5}]
[2711,"官艳婷",360922208012,154012406620,9,{"$f":"VLOOKUP(C2712,Sheet2!A:B,2,FALSE)","v":165.5}]
[2712,"晏紫芯",360922208012,154012406605,10,{"$f":"VLOOKUP(C2713,Sheet2!A:B,2,FALSE)","v":165.5}]
[2713,"钟倩倩",360922208012,154050316110,11,{"$f":"VLOOKUP(C2714,Sheet2!A:B,2,FALSE)","v":165.5}]
[2714,"付萍",360922208012,154012406619,12,{"$f":"VLOOKUP(C2715,Sheet2!A:B,2,FALSE)","v":165.5}]
[2715,"黄秀敏",360922208012,154012406520,13,{"$f":"VLOOKUP(C2716,Sheet2!A:B,2,FALSE)","v":165.5}]
[2716,"王铃",360922208012,154030307421,15,{"$f":"VLOOKUP(C2717,Sheet2!A:B,2,FALSE)","v":165.5}]
[2717,"胡松林",360922208012,154012406514,14,{"$f":"VLOOKUP(C2718,Sheet2!A:B,2,FALSE)","v":165.5}]
[2718,"傅艳琪",360922208012,154050316106,16,{"$f":"VLOOKUP(C2719,Sheet2!A:B,2,FALSE)","v":165.5}]
[2719,"易聪",360922208012,154221408428,17,{"$f":"VLOOKUP(C2720,Sheet2!A:B,2,FALSE)","v":165.5}]
[2720,"李志豪",360922208012,154060604301,19,{"$f":"VLOOKUP(C2721,Sheet2!A:B,2,FALSE)","v":165.5}]
[2721,"丁长文",360922208012,154221408430,18,{"$f":"VLOOKUP(C2722,Sheet2!A:B,2,FALSE)","v":165.5}]
[2722,"何红梅",360922208012,154210303604,20,{"$f":"VLOOKUP(C2723,Sheet2!A:B,2,FALSE)","v":165.5}]
[2723,"陈静",360922208012,154040604415,21,{"$f":"VLOOKUP(C2724,Sheet2!A:B,2,FALSE)","v":165.5}]
[2724,"罗亚鑫",360922208012,154221408418,22,{"$f":"VLOOKUP(C2725,Sheet2!A:B,2,FALSE)","v":165.5}]
[2725,"范姬敏",360922208012,154221408417,23,{"$f":"VLOOKUP(C2726,Sheet2!A:B,2,FALSE)","v":165.5}]
[2726,"刘谭萍",360922208012,154210303409,24,{"$f":"VLOOKUP(C2727,Sheet2!A:B,2,FALSE)","v":165.5}]
[2727,"徐海霞",360922208012,154050316102,25,{"$f":"VLOOKUP(C2728,Sheet2!A:B,2,FALSE)","v":165.5}]
[2728,"袁颖",360922209008,154012406920,1,{"$f":"VLOOKUP(C2729,Sheet2!A:B,2,FALSE)","v":175}]
[2729,"徐晓燕",360922209008,154221408713,2,{"$f":"VLOOKUP(C2730,Sheet2!A:B,2,FALSE)","v":175}]
[2730,"李慧瑶",360922209008,154012406819,3,{"$f":"VLOOKUP(C2731,Sheet2!A:B,2,FALSE)","v":175}]
[2731,"李俊",360922209008,154221408630,4,{"$f":"VLOOKUP(C2732,Sheet2!A:B,2,FALSE)","v":175}]
[2732,"王楠",360922209008,154012407010,5,{"$f":"VLOOKUP(C2733,Sheet2!A:B,2,FALSE)","v":175}]
[2733,"钟帆",360922209008,154012406911,6,{"$f":"VLOOKUP(C2734,Sheet2!A:B,2,FALSE)","v":175}]
[2734,"付红",360922209008,154221408609,7,{"$f":"VLOOKUP(C2735,Sheet2!A:B,2,FALSE)","v":175}]
[2735,"彭芹",360922209008,154030307516,8,{"$f":"VLOOKUP(C2736,Sheet2!A:B,2,FALSE)","v":175}]
[2736,"向雨静",360922209008,154030307504,9,{"$f":"VLOOKUP(C2737,Sheet2!A:B,2,FALSE)","v":175}]
[2737,"卢舒琪",360922209008,154040803523,10,{"$f":"VLOOKUP(C2738,Sheet2!A:B,2,FALSE)","v":175}]
[2738,"卢健伟",360922209008,154221408725,11,{"$f":"VLOOKUP(C2739,Sheet2!A:B,2,FALSE)","v":175}]
[2739,"罗小琴",360922209008,154221408726,12,{"$f":"VLOOKUP(C2740,Sheet2!A:B,2,FALSE)","v":175}]
[2740,"何茜",360922209008,154012407012,13,{"$f":"VLOOKUP(C2741,Sheet2!A:B,2,FALSE)","v":175}]
[2741,"黄浩",360922209008,154221408611,14,{"$f":"VLOOKUP(C2742,Sheet2!A:B,2,FALSE)","v":175}]
[2742,"王璐",360922209008,154221408715,15,{"$f":"VLOOKUP(C2743,Sheet2!A:B,2,FALSE)","v":175}]
[2743,"徐欢娜",360922209008,154221408601,16,{"$f":"VLOOKUP(C2744,Sheet2!A:B,2,FALSE)","v":175}]
[2744,"邹莹娇",360922209008,154210402523,17,{"$f":"VLOOKUP(C2745,Sheet2!A:B,2,FALSE)","v":175}]
[2745,"陈清华",360922209008,154030307510,18,{"$f":"VLOOKUP(C2746,Sheet2!A:B,2,FALSE)","v":175}]
[2746,"陈优美",360922209008,154221408711,19,{"$f":"VLOOKUP(C2747,Sheet2!A:B,2,FALSE)","v":175}]
[2747,"晏文华",360922209008,154221408701,20,{"$f":"VLOOKUP(C2748,Sheet2!A:B,2,FALSE)","v":175}]
[2748,"刘燕",360922210010,154221408805,1,{"$f":"VLOOKUP(C2749,Sheet2!A:B,2,FALSE)","v":122.5}]
[2749,"黄水琴",360922210010,154012803403,2,{"$f":"VLOOKUP(C2750,Sheet2!A:B,2,FALSE)","v":122.5}]
[2750,"周丽娟",360922210010,154221408804,3,{"$f":"VLOOKUP(C2751,Sheet2!A:B,2,FALSE)","v":122.5}]
[2751,"吴玉茜",360922210010,154221408912,4,{"$f":"VLOOKUP(C2752,Sheet2!A:B,2,FALSE)","v":122.5}]
[2752,"左勋宇",360922210010,154221408907,5,{"$f":"VLOOKUP(C2753,Sheet2!A:B,2,FALSE)","v":122.5}]
[2753,"杨铭",360922210010,154221408914,6,{"$f":"VLOOKUP(C2754,Sheet2!A:B,2,FALSE)","v":122.5}]
[2754,"夏侯峰婷",360922210010,154012803121,7,{"$f":"VLOOKUP(C2755,Sheet2!A:B,2,FALSE)","v":122.5}]
[2755,"钟志请",360922210010,154012803229,8,{"$f":"VLOOKUP(C2756,Sheet2!A:B,2,FALSE)","v":122.5}]
[2756,"熊思",360922210010,154012803326,9,{"$f":"VLOOKUP(C2757,Sheet2!A:B,2,FALSE)","v":122.5}]
[2757,"罗龙",360922210010,154050316307,10,{"$f":"VLOOKUP(C2758,Sheet2!A:B,2,FALSE)","v":122.5}]
[2758,"胡东萍",360922210010,154210304222,11,{"$f":"VLOOKUP(C2759,Sheet2!A:B,2,FALSE)","v":122.5}]
[2759,"易琪",360922210010,154221408817,12,{"$f":"VLOOKUP(C2760,Sheet2!A:B,2,FALSE)","v":122.5}]
[2760,"李美琴",360922210010,154221408820,13,{"$f":"VLOOKUP(C2761,Sheet2!A:B,2,FALSE)","v":122.5}]
[2761,"席思超",360922210010,154221408813,14,{"$f":"VLOOKUP(C2762,Sheet2!A:B,2,FALSE)","v":122.5}]
[2762,"辛露",360922210010,154012803106,16,{"$f":"VLOOKUP(C2763,Sheet2!A:B,2,FALSE)","v":122.5}]
[2763,"沙启昂",360922210010,154221408829,15,{"$f":"VLOOKUP(C2764,Sheet2!A:B,2,FALSE)","v":122.5}]
[2764,"伍宇成",360922210010,154050316302,17,{"$f":"VLOOKUP(C2765,Sheet2!A:B,2,FALSE)","v":122.5}]
[2765,"樊能健",360922210010,154040803704,18,{"$f":"VLOOKUP(C2766,Sheet2!A:B,2,FALSE)","v":122.5}]
[2766,"杨玲",360922210010,154221408809,19,{"$f":"VLOOKUP(C2767,Sheet2!A:B,2,FALSE)","v":122.5}]
[2767,"罗明亮",360922210010,154060604502,20,{"$f":"VLOOKUP(C2768,Sheet2!A:B,2,FALSE)","v":122.5}]
[2768,"金驰",360922210010,154242703801,21,{"$f":"VLOOKUP(C2769,Sheet2!A:B,2,FALSE)","v":122.5}]
[2769,"曾珊",360922210010,154030307627,22,{"$f":"VLOOKUP(C2770,Sheet2!A:B,2,FALSE)","v":122.5}]
[2770,"刘颖",360922210010,154012803308,23,{"$f":"VLOOKUP(C2771,Sheet2!A:B,2,FALSE)","v":122.5}]
[2771,"陈玲芳",360922210010,154012803130,24,{"$f":"VLOOKUP(C2772,Sheet2!A:B,2,FALSE)","v":122.5}]
[2772,"辛怡静",360922210010,154221408818,25,{"$f":"VLOOKUP(C2773,Sheet2!A:B,2,FALSE)","v":122.5}]
[2773,"易子婷",360922211010,154030307708,1,{"$f":"VLOOKUP(C2774,Sheet2!A:B,2,FALSE)","v":78.5}]
[2774,"吴峥辉",360922211010,154012803704,2,{"$f":"VLOOKUP(C2775,Sheet2!A:B,2,FALSE)","v":78.5}]
[2775,"谢洪强",360922211010,154012803729,3,{"$f":"VLOOKUP(C2776,Sheet2!A:B,2,FALSE)","v":78.5}]
[2776,"陈宗英",360922211010,154221409026,4,{"$f":"VLOOKUP(C2777,Sheet2!A:B,2,FALSE)","v":78.5}]
[2777,"樊魁峰",360922211010,154012803517,5,{"$f":"VLOOKUP(C2778,Sheet2!A:B,2,FALSE)","v":78.5}]
[2778,"黄斯达",360922211010,154221409104,6,{"$f":"VLOOKUP(C2779,Sheet2!A:B,2,FALSE)","v":78.5}]
[2779,"叶昊天",360922211010,154221409107,7,{"$f":"VLOOKUP(C2780,Sheet2!A:B,2,FALSE)","v":78.5}]
[2780,"易升权",360922211010,154221409002,8,{"$f":"VLOOKUP(C2781,Sheet2!A:B,2,FALSE)","v":78.5}]
[2781,"彭宏宇",360922211010,154221409020,9,{"$f":"VLOOKUP(C2782,Sheet2!A:B,2,FALSE)","v":78.5}]
[2782,"钟文洁",360922211010,154012803505,10,{"$f":"VLOOKUP(C2783,Sheet2!A:B,2,FALSE)","v":78.5}]
[2783,"刘鹏程",360922211010,154030307719,11,{"$f":"VLOOKUP(C2784,Sheet2!A:B,2,FALSE)","v":78.5}]
[2784,"黄燕",360922211010,154221409021,12,{"$f":"VLOOKUP(C2785,Sheet2!A:B,2,FALSE)","v":78.5}]
[2785,"周翔",360922211010,154221409004,13,{"$f":"VLOOKUP(C2786,Sheet2!A:B,2,FALSE)","v":78.5}]
[2786,"王立强",360922211010,154221409105,14,{"$f":"VLOOKUP(C2787,Sheet2!A:B,2,FALSE)","v":78.5}]
[2787,"李英罕",360922211010,154221409103,15,{"$f":"VLOOKUP(C2788,Sheet2!A:B,2,FALSE)","v":78.5}]
[2788,"王善强",360922211010,154012803511,16,{"$f":"VLOOKUP(C2789,Sheet2!A:B,2,FALSE)","v":78.5}]
[2789,"彭文星",360922211010,154040604615,17,{"$f":"VLOOKUP(C2790,Sheet2!A:B,2,FALSE)","v":78.5}]
[2790,"魏鹏",360922211010,154221409018,18,{"$f":"VLOOKUP(C2791,Sheet2!A:B,2,FALSE)","v":78.5}]
[2791,"张俊杰",360922211010,154221409110,19,{"$f":"VLOOKUP(C2792,Sheet2!A:B,2,FALSE)","v":78.5}]
[2792,"李文思",360922211010,154221409030,20,{"$f":"VLOOKUP(C2793,Sheet2!A:B,2,FALSE)","v":78.5}]
[2793,"丁姝琴",360922211010,154221409012,21,{"$f":"VLOOKUP(C2794,Sheet2!A:B,2,FALSE)","v":78.5}]
[2794,"黄丽君",360922211010,154221409008,22,{"$f":"VLOOKUP(C2795,Sheet2!A:B,2,FALSE)","v":78.5}]
[2795,"曾艳军",360922211010,154221409111,23,{"$f":"VLOOKUP(C2796,Sheet2!A:B,2,FALSE)","v":78.5}]
[2796,"冯可",360922211010,154221409005,24,{"$f":"VLOOKUP(C2797,Sheet2!A:B,2,FALSE)","v":78.5}]
[2797,"张钰",360922212009,154221409306,1,{"$f":"VLOOKUP(C2798,Sheet2!A:B,2,FALSE)","v":143.5}]
[2798,"熊怡璟",360922212009,154221409210,2,{"$f":"VLOOKUP(C2799,Sheet2!A:B,2,FALSE)","v":143.5}]
[2799,"欧阳欣",360922212009,154221409315,3,{"$f":"VLOOKUP(C2800,Sheet2!A:B,2,FALSE)","v":143.5}]
[2800,"易琴",360922212009,154221409208,4,{"$f":"VLOOKUP(C2801,Sheet2!A:B,2,FALSE)","v":143.5}]
[2801,"曹肖肖",360922212009,154221409230,5,{"$f":"VLOOKUP(C2802,Sheet2!A:B,2,FALSE)","v":143.5}]
[2802,"李冰",360922212009,154030307905,6,{"$f":"VLOOKUP(C2803,Sheet2!A:B,2,FALSE)","v":143.5}]
[2803,"黄艺",360922212009,154221409305,7,{"$f":"VLOOKUP(C2804,Sheet2!A:B,2,FALSE)","v":143.5}]
[2804,"周霞",360922212009,154012407122,8,{"$f":"VLOOKUP(C2805,Sheet2!A:B,2,FALSE)","v":143.5}]
[2805,"张家丽",360922212009,154221409308,9,{"$f":"VLOOKUP(C2806,Sheet2!A:B,2,FALSE)","v":143.5}]
[2806,"彭生武",360922212009,154030307928,10,{"$f":"VLOOKUP(C2807,Sheet2!A:B,2,FALSE)","v":143.5}]
[2807,"寻倩",360922212009,154030307914,11,{"$f":"VLOOKUP(C2808,Sheet2!A:B,2,FALSE)","v":143.5}]
[2808,"彭竹英",360922212009,154221409209,12,{"$f":"VLOOKUP(C2809,Sheet2!A:B,2,FALSE)","v":143.5}]
[2809,"王莎",360922212009,154030307921,13,{"$f":"VLOOKUP(C2810,Sheet2!A:B,2,FALSE)","v":143.5}]
[2810,"吕馨",360922212009,154221409311,14,{"$f":"VLOOKUP(C2811,Sheet2!A:B,2,FALSE)","v":143.5}]
[2811,"黄琦炜",360922212009,154012407201,16,{"$f":"VLOOKUP(C2812,Sheet2!A:B,2,FALSE)","v":143.5}]
[2812,"许丹",360922212009,154221409201,15,{"$f":"VLOOKUP(C2813,Sheet2!A:B,2,FALSE)","v":143.5}]
[2813,"谢汝慧",360922212009,154030307916,17,{"$f":"VLOOKUP(C2814,Sheet2!A:B,2,FALSE)","v":143.5}]
[2814,"徐红",360922212009,154030308001,18,{"$f":"VLOOKUP(C2815,Sheet2!A:B,2,FALSE)","v":143.5}]
[2815,"黄澳",360922212009,154221409314,19,{"$f":"VLOOKUP(C2816,Sheet2!A:B,2,FALSE)","v":143.5}]
[2816,"王虹力",360922212009,154221409301,20,{"$f":"VLOOKUP(C2817,Sheet2!A:B,2,FALSE)","v":143.5}]
[2817,"夏杨",360922212009,154012407204,21,{"$f":"VLOOKUP(C2818,Sheet2!A:B,2,FALSE)","v":143.5}]
[2818,"江怡",360922212009,154221409220,23,{"$f":"VLOOKUP(C2819,Sheet2!A:B,2,FALSE)","v":143.5}]
[2819,"戴恩茹",360922212009,154012407221,22,{"$f":"VLOOKUP(C2820,Sheet2!A:B,2,FALSE)","v":143.5}]
[2820,"罗家琪",360922215004,154221409502,1,{"$f":"VLOOKUP(C2821,Sheet2!A:B,2,FALSE)","v":176}]
[2821,"阮红利",360922215004,154221409507,2,{"$f":"VLOOKUP(C2822,Sheet2!A:B,2,FALSE)","v":176}]
[2822,"吴敏",360922215004,154012407805,3,{"$f":"VLOOKUP(C2823,Sheet2!A:B,2,FALSE)","v":176}]
[2823,"朱欢林",360922215004,154221409501,4,{"$f":"VLOOKUP(C2824,Sheet2!A:B,2,FALSE)","v":176}]
[2824,"李婷",360922215004,154040703807,5,{"$f":"VLOOKUP(C2825,Sheet2!A:B,2,FALSE)","v":176}]
[2825,"黄娇",360922215004,154221409508,6,{"$f":"VLOOKUP(C2826,Sheet2!A:B,2,FALSE)","v":176}]
[2826,"辛招妹",360922215004,154012407724,7,{"$f":"VLOOKUP(C2827,Sheet2!A:B,2,FALSE)","v":176}]
[2827,"黄柳",360922215004,154012407720,8,{"$f":"VLOOKUP(C2828,Sheet2!A:B,2,FALSE)","v":176}]
[2828,"王信育",360922215004,154221409514,9,{"$f":"VLOOKUP(C2829,Sheet2!A:B,2,FALSE)","v":176}]
[2829,"杨收",360922215004,154030308202,10,{"$f":"VLOOKUP(C2830,Sheet2!A:B,2,FALSE)","v":176}]
[2830,"陈文琴",360922215004,154221409517,11,{"$f":"VLOOKUP(C2831,Sheet2!A:B,2,FALSE)","v":176}]
[2831,"易梦奇",360922215004,154221409503,12,{"$f":"VLOOKUP(C2832,Sheet2!A:B,2,FALSE)","v":176}]
[2832,"陈鑫",360923104001,154221402823,1,{"$f":"VLOOKUP(C2833,Sheet2!A:B,2,FALSE)","v":150.5}]
[2833,"易瑶",360923104001,154012600620,2,{"$f":"VLOOKUP(C2834,Sheet2!A:B,2,FALSE)","v":150.5}]
[2834,"王友梅",360923104001,154221402821,3,{"$f":"VLOOKUP(C2835,Sheet2!A:B,2,FALSE)","v":150.5}]
[2835,"钟莎",360923105004,154221403321,1,{"$f":"VLOOKUP(C2836,Sheet2!A:B,2,FALSE)","v":162.5}]
[2836,"欧阳澎",360923105004,154221403107,2,{"$f":"VLOOKUP(C2837,Sheet2!A:B,2,FALSE)","v":162.5}]
[2837,"谭佳威",360923105004,154221403317,3,{"$f":"VLOOKUP(C2838,Sheet2!A:B,2,FALSE)","v":162.5}]
[2838,"金小晴",360923105004,154221403123,4,{"$f":"VLOOKUP(C2839,Sheet2!A:B,2,FALSE)","v":162.5}]
[2839,"廖琴",360923105004,154221403313,5,{"$f":"VLOOKUP(C2840,Sheet2!A:B,2,FALSE)","v":162.5}]
[2840,"游雪梦",360923105004,154221403202,6,{"$f":"VLOOKUP(C2841,Sheet2!A:B,2,FALSE)","v":162.5}]
[2841,"谢晴",360923105004,154221403303,7,{"$f":"VLOOKUP(C2842,Sheet2!A:B,2,FALSE)","v":162.5}]
[2842,"周媛",360923105004,154221403320,8,{"$f":"VLOOKUP(C2843,Sheet2!A:B,2,FALSE)","v":162.5}]
[2843,"刘天雨",360923105004,154012601721,9,{"$f":"VLOOKUP(C2844,Sheet2!A:B,2,FALSE)","v":162.5}]
[2844,"李红梅",360923105004,154221403316,10,{"$f":"VLOOKUP(C2845,Sheet2!A:B,2,FALSE)","v":162.5}]
[2845,"刘家辉",360923105004,154050313913,11,{"$f":"VLOOKUP(C2846,Sheet2!A:B,2,FALSE)","v":162.5}]
[2846,"李青",360923105004,154012601910,12,{"$f":"VLOOKUP(C2847,Sheet2!A:B,2,FALSE)","v":162.5}]
[2847,"黄春香",360923106001,154050314101,1,{"$f":"VLOOKUP(C2848,Sheet2!A:B,2,FALSE)","v":162}]
[2848,"黄淑婷",360923106001,154221403425,2,{"$f":"VLOOKUP(C2849,Sheet2!A:B,2,FALSE)","v":162}]
[2849,"邹露",360923106001,154221403411,3,{"$f":"VLOOKUP(C2850,Sheet2!A:B,2,FALSE)","v":162}]
[2850,"周京蓉",360923107001,154221403611,1,{"$f":"VLOOKUP(C2851,Sheet2!A:B,2,FALSE)","v":142.5}]
[2851,"黄书琴",360923107001,154221403628,2,{"$f":"VLOOKUP(C2852,Sheet2!A:B,2,FALSE)","v":142.5}]
[2852,"聂佳露",360923107001,154221403707,3,{"$f":"VLOOKUP(C2853,Sheet2!A:B,2,FALSE)","v":142.5}]
[2853,"罗佳妮",360923113001,154012604027,1,{"$f":"VLOOKUP(C2854,Sheet2!A:B,2,FALSE)","v":149.5}]
[2854,"易小波",360923113001,154221403803,2,{"$f":"VLOOKUP(C2855,Sheet2!A:B,2,FALSE)","v":149.5}]
[2855,"张璐莹",360923113001,154232408505,3,{"$f":"VLOOKUP(C2856,Sheet2!A:B,2,FALSE)","v":149.5}]
[2856,"左伟情",360923201005,154012700219,1,{"$f":"VLOOKUP(C2857,Sheet2!A:B,2,FALSE)","v":110}]
[2857,"熊涵月",360923201005,154221404729,2,{"$f":"VLOOKUP(C2858,Sheet2!A:B,2,FALSE)","v":110}]
[2858,"朱雨露",360923201005,154012700304,3,{"$f":"VLOOKUP(C2859,Sheet2!A:B,2,FALSE)","v":110}]
[2859,"简婷",360923201005,154221404215,4,{"$f":"VLOOKUP(C2860,Sheet2!A:B,2,FALSE)","v":110}]
[2860,"方怡",360923201005,154221404505,5,{"$f":"VLOOKUP(C2861,Sheet2!A:B,2,FALSE)","v":110}]
[2861,"郑梦玲",360923201005,154040601617,6,{"$f":"VLOOKUP(C2862,Sheet2!A:B,2,FALSE)","v":110}]
[2862,"徐琳",360923201005,154250105309,7,{"$f":"VLOOKUP(C2863,Sheet2!A:B,2,FALSE)","v":110}]
[2863,"戈柳丹",360923201005,154221404316,8,{"$f":"VLOOKUP(C2864,Sheet2!A:B,2,FALSE)","v":110}]
[2864,"李敏",360923201005,154221404508,9,{"$f":"VLOOKUP(C2865,Sheet2!A:B,2,FALSE)","v":110}]
[2865,"严玉君",360923201005,154050314817,10,{"$f":"VLOOKUP(C2866,Sheet2!A:B,2,FALSE)","v":110}]
[2866,"卢琳",360923201005,154012701106,11,{"$f":"VLOOKUP(C2867,Sheet2!A:B,2,FALSE)","v":110}]
[2867,"廖佳",360923201005,154012700629,12,{"$f":"VLOOKUP(C2868,Sheet2!A:B,2,FALSE)","v":110}]
[2868,"吴冷眉",360923201005,154221404305,13,{"$f":"VLOOKUP(C2869,Sheet2!A:B,2,FALSE)","v":110}]
[2869,"黄梦欣",360923201005,154221404805,14,{"$f":"VLOOKUP(C2870,Sheet2!A:B,2,FALSE)","v":110}]
[2870,"宋丹",360923201005,154221404407,15,{"$f":"VLOOKUP(C2871,Sheet2!A:B,2,FALSE)","v":110}]
[2871,"晏杰",360923202002,154012906628,1,{"$f":"VLOOKUP(C2872,Sheet2!A:B,2,FALSE)","v":120.5}]
[2872,"黄玉卿",360923202002,154221405029,2,{"$f":"VLOOKUP(C2873,Sheet2!A:B,2,FALSE)","v":120.5}]
[2873,"李琳",360923202002,154221405422,3,{"$f":"VLOOKUP(C2874,Sheet2!A:B,2,FALSE)","v":120.5}]
[2874,"钟翠",360923202002,154210700123,4,{"$f":"VLOOKUP(C2875,Sheet2!A:B,2,FALSE)","v":120.5}]
[2875,"饶喜林",360923202002,154012906724,5,{"$f":"VLOOKUP(C2876,Sheet2!A:B,2,FALSE)","v":120.5}]
[2876,"袁芳",360923202002,154221405201,6,{"$f":"VLOOKUP(C2877,Sheet2!A:B,2,FALSE)","v":120.5}]
[2877,"张佳琦",360923203002,154050315318,1,{"$f":"VLOOKUP(C2878,Sheet2!A:B,2,FALSE)","v":154}]
[2878,"刘雨婷",360923203002,154221406115,2,{"$f":"VLOOKUP(C2879,Sheet2!A:B,2,FALSE)","v":154}]
[2879,"漆佳慧",360923203002,154221405908,3,{"$f":"VLOOKUP(C2880,Sheet2!A:B,2,FALSE)","v":154}]
[2880,"况芳敏",360923203002,154221405724,4,{"$f":"VLOOKUP(C2881,Sheet2!A:B,2,FALSE)","v":154}]
[2881,"郑淑贞",360923203002,154012806029,5,{"$f":"VLOOKUP(C2882,Sheet2!A:B,2,FALSE)","v":154}]
[2882,"翟蓝钰",360923203002,154012805126,6,{"$f":"VLOOKUP(C2883,Sheet2!A:B,2,FALSE)","v":154}]
[2883,"何帆",360923204002,154012908726,1,{"$f":"VLOOKUP(C2884,Sheet2!A:B,2,FALSE)","v":178.5}]
[2884,"王建有",360923205005,154040603411,1,{"$f":"VLOOKUP(C2885,Sheet2!A:B,2,FALSE)","v":100.5}]
[2885,"蔡文蕊",360923205005,154012406023,2,{"$f":"VLOOKUP(C2886,Sheet2!A:B,2,FALSE)","v":100.5}]
[2886,"刘钰鑫",360923205005,154012804301,3,{"$f":"VLOOKUP(C2887,Sheet2!A:B,2,FALSE)","v":100.5}]
[2887,"刘章剑",360923205005,154012804113,4,{"$f":"VLOOKUP(C2888,Sheet2!A:B,2,FALSE)","v":100.5}]
[2888,"张威",360923205005,154231503224,5,{"$f":"VLOOKUP(C2889,Sheet2!A:B,2,FALSE)","v":100.5}]
[2889,"黄良运",360923205005,154221406901,7,{"$f":"VLOOKUP(C2890,Sheet2!A:B,2,FALSE)","v":100.5}]
[2890,"冷万灵",360923205005,154050315620,6,{"$f":"VLOOKUP(C2891,Sheet2!A:B,2,FALSE)","v":100.5}]
[2891,"周丹",360923205005,154221407221,8,{"$f":"VLOOKUP(C2892,Sheet2!A:B,2,FALSE)","v":100.5}]
[2892,"李志龙",360923205005,154050315613,9,{"$f":"VLOOKUP(C2893,Sheet2!A:B,2,FALSE)","v":100.5}]
[2893,"丁谱秀",360923205005,154221407027,10,{"$f":"VLOOKUP(C2894,Sheet2!A:B,2,FALSE)","v":100.5}]
[2894,"肖增军",360923205005,154030306510,11,{"$f":"VLOOKUP(C2895,Sheet2!A:B,2,FALSE)","v":100.5}]
[2895,"喻力琪",360923205005,154211003325,13,{"$f":"VLOOKUP(C2896,Sheet2!A:B,2,FALSE)","v":100.5}]
[2896,"漆瑞梅",360923205005,154012804002,12,{"$f":"VLOOKUP(C2897,Sheet2!A:B,2,FALSE)","v":100.5}]
[2897,"易辉",360923205005,154221407229,15,{"$f":"VLOOKUP(C2898,Sheet2!A:B,2,FALSE)","v":100.5}]
[2898,"钟慧敏",360923205005,154221407106,14,{"$f":"VLOOKUP(C2899,Sheet2!A:B,2,FALSE)","v":100.5}]
[2899,"黄思娇",360923206002,154221407818,1,{"$f":"VLOOKUP(C2900,Sheet2!A:B,2,FALSE)","v":159.5}]
[2900,"刘文琪",360923206002,154012701819,2,{"$f":"VLOOKUP(C2901,Sheet2!A:B,2,FALSE)","v":159.5}]
[2901,"黄意嘉",360923206002,154012702809,3,{"$f":"VLOOKUP(C2902,Sheet2!A:B,2,FALSE)","v":159.5}]
[2902,"黄夏君",360923206002,154221407511,4,{"$f":"VLOOKUP(C2903,Sheet2!A:B,2,FALSE)","v":159.5}]
[2903,"罗慧敏",360923206002,154221407903,5,{"$f":"VLOOKUP(C2904,Sheet2!A:B,2,FALSE)","v":159.5}]
[2904,"欧阳语瑄",360923206002,154221407610,6,{"$f":"VLOOKUP(C2905,Sheet2!A:B,2,FALSE)","v":159.5}]
[2905,"陈曦",360923207002,154221408207,1,{"$f":"VLOOKUP(C2906,Sheet2!A:B,2,FALSE)","v":58.5}]
[2906,"鲁颖",360923207002,154012406320,2,{"$f":"VLOOKUP(C2907,Sheet2!A:B,2,FALSE)","v":58.5}]
[2907,"胡浩莹",360923207002,154050316006,3,{"$f":"VLOOKUP(C2908,Sheet2!A:B,2,FALSE)","v":58.5}]
[2908,"李桑宜",360923207002,154221408202,4,{"$f":"VLOOKUP(C2909,Sheet2!A:B,2,FALSE)","v":58.5}]
[2909,"左润琪",360923207002,154221408315,5,{"$f":"VLOOKUP(C2910,Sheet2!A:B,2,FALSE)","v":58.5}]
[2910,"陈大鹏",360923207002,154221408201,6,{"$f":"VLOOKUP(C2911,Sheet2!A:B,2,FALSE)","v":58.5}]
[2911,"李晨昕",360923210001,154012803328,1,{"$f":"VLOOKUP(C2912,Sheet2!A:B,2,FALSE)","v":118.5}]
[2912,"冯丽婷",360923210001,154221408823,2,{"$f":"VLOOKUP(C2913,Sheet2!A:B,2,FALSE)","v":118.5}]
[2913,"吴冲",360923211005,154012803623,1,{"$f":"VLOOKUP(C2914,Sheet2!A:B,2,FALSE)","v":123}]
[2914,"李洪勇",360923211005,154221409027,2,{"$f":"VLOOKUP(C2915,Sheet2!A:B,2,FALSE)","v":123}]
[2915,"朱星宇",360923211005,154221409116,3,{"$f":"VLOOKUP(C2916,Sheet2!A:B,2,FALSE)","v":123}]
[2916,"杨鹏",360923211005,154231505111,4,{"$f":"VLOOKUP(C2917,Sheet2!A:B,2,FALSE)","v":123}]
[2917,"李丽丽",360923211005,154221409006,5,{"$f":"VLOOKUP(C2918,Sheet2!A:B,2,FALSE)","v":123}]
[2918,"况敏军",360923211005,154221409108,6,{"$f":"VLOOKUP(C2919,Sheet2!A:B,2,FALSE)","v":123}]
[2919,"罗金明",360923211005,154012803625,7,{"$f":"VLOOKUP(C2920,Sheet2!A:B,2,FALSE)","v":123}]
[2920,"贺新月",360923212006,154210800804,1,{"$f":"VLOOKUP(C2921,Sheet2!A:B,2,FALSE)","v":90}]
[2921,"吴星玥",360923212006,154012407228,2,{"$f":"VLOOKUP(C2922,Sheet2!A:B,2,FALSE)","v":90}]
[2922,"陈佩晴",360923212006,154012407123,3,{"$f":"VLOOKUP(C2923,Sheet2!A:B,2,FALSE)","v":90}]
[2923,"李湾",360923212006,154221409312,4,{"$f":"VLOOKUP(C2924,Sheet2!A:B,2,FALSE)","v":90}]
[2924,"晏似帆",360923212006,154221409223,5,{"$f":"VLOOKUP(C2925,Sheet2!A:B,2,FALSE)","v":90}]
[2925,"张丽",360924202002,154012906525,1,{"$f":"VLOOKUP(C2926,Sheet2!A:B,2,FALSE)","v":128}]
[2926,"李嘉颖",360924202002,154012906128,2,{"$f":"VLOOKUP(C2927,Sheet2!A:B,2,FALSE)","v":128}]
[2927,"汪珂",360924202002,154012907119,3,{"$f":"VLOOKUP(C2928,Sheet2!A:B,2,FALSE)","v":128}]
[2928,"邓美谊",360924202002,154221405424,4,{"$f":"VLOOKUP(C2929,Sheet2!A:B,2,FALSE)","v":128}]
[2929,"王佳欣",360924202002,154221405225,5,{"$f":"VLOOKUP(C2930,Sheet2!A:B,2,FALSE)","v":128}]
[2930,"程洁",360924202002,154250105413,6,{"$f":"VLOOKUP(C2931,Sheet2!A:B,2,FALSE)","v":128}]
[2931,"巢琪琪",360924203003,154040602718,1,{"$f":"VLOOKUP(C2932,Sheet2!A:B,2,FALSE)","v":188}]
[2932,"戴佳敏",360924203003,154221406128,2,{"$f":"VLOOKUP(C2933,Sheet2!A:B,2,FALSE)","v":188}]
[2933,"邓钧尹",360924203003,154221405822,3,{"$f":"VLOOKUP(C2934,Sheet2!A:B,2,FALSE)","v":188}]
[2934,"刘偲珺",360924203003,154221405805,4,{"$f":"VLOOKUP(C2935,Sheet2!A:B,2,FALSE)","v":188}]
[2935,"陈阿敏",360924203003,154030305810,5,{"$f":"VLOOKUP(C2936,Sheet2!A:B,2,FALSE)","v":188}]
[2936,"刘霞",360924203003,154221405904,6,{"$f":"VLOOKUP(C2937,Sheet2!A:B,2,FALSE)","v":188}]
[2937,"刘情",360924203003,154012804619,7,{"$f":"VLOOKUP(C2938,Sheet2!A:B,2,FALSE)","v":188}]
[2938,"胡宜凤",360924203003,154012804514,9,{"$f":"VLOOKUP(C2939,Sheet2!A:B,2,FALSE)","v":188}]
[2939,"付倩",360924203003,154012805018,8,{"$f":"VLOOKUP(C2940,Sheet2!A:B,2,FALSE)","v":188}]
[2940,"钱微",360924206001,154012702506,1,{"$f":"VLOOKUP(C2941,Sheet2!A:B,2,FALSE)","v":171.5}]
[2941,"胡雯",360924206001,154221407603,2,{"$f":"VLOOKUP(C2942,Sheet2!A:B,2,FALSE)","v":171.5}]
[2942,"刘艺莹",360924206001,154221407623,3,{"$f":"VLOOKUP(C2943,Sheet2!A:B,2,FALSE)","v":171.5}]
[2943,"邓艳玲",360924207001,154221408311,1,{"$f":"VLOOKUP(C2944,Sheet2!A:B,2,FALSE)","v":114}]
[2944,"敖文芬",360924207001,154050316010,2,{"$f":"VLOOKUP(C2945,Sheet2!A:B,2,FALSE)","v":114}]
[2945,"王蒨",360924207001,154012702921,3,{"$f":"VLOOKUP(C2946,Sheet2!A:B,2,FALSE)","v":114}]
[2946,"易敏芬",360924211002,154221409023,1,{"$f":"VLOOKUP(C2947,Sheet2!A:B,2,FALSE)","v":124}]
[2947,"毛佩玲",360924211002,154242704113,2,{"$f":"VLOOKUP(C2948,Sheet2!A:B,2,FALSE)","v":124}]
[2948,"肖倩明",360924211002,154012803504,3,{"$f":"VLOOKUP(C2949,Sheet2!A:B,2,FALSE)","v":124}]
[2949,"毛丹丹",360924211002,154221409016,4,{"$f":"VLOOKUP(C2950,Sheet2!A:B,2,FALSE)","v":124}]
[2950,"杨伊泓",360924212001,154221409224,1,{"$f":"VLOOKUP(C2951,Sheet2!A:B,2,FALSE)","v":168.5}]
[2951,"刘锋",360924215001,154012407721,1,{"$f":"VLOOKUP(C2952,Sheet2!A:B,2,FALSE)","v":126}]
[2952,"黄英",360924215001,154221409506,2,{"$f":"VLOOKUP(C2953,Sheet2!A:B,2,FALSE)","v":126}]
[2953,"刘欣凯",360924215001,154210903516,3,{"$f":"VLOOKUP(C2954,Sheet2!A:B,2,FALSE)","v":126}]
[2954,"卢玉亭",360925201001,154012700428,1,{"$f":"VLOOKUP(C2955,Sheet2!A:B,2,FALSE)","v":138.5}]
[2955,"李阳艳",360925201001,154012700311,2,{"$f":"VLOOKUP(C2956,Sheet2!A:B,2,FALSE)","v":138.5}]
[2956,"万颖琪",360925201001,154050314822,3,{"$f":"VLOOKUP(C2957,Sheet2!A:B,2,FALSE)","v":138.5}]
[2957,"高小苹",360925202001,154012907311,1,{"$f":"VLOOKUP(C2958,Sheet2!A:B,2,FALSE)","v":165}]
[2958,"胡巧",360925202001,154012907329,2,{"$f":"VLOOKUP(C2959,Sheet2!A:B,2,FALSE)","v":165}]
[2959,"刘苗苗",360925202001,154012906108,3,{"$f":"VLOOKUP(C2960,Sheet2!A:B,2,FALSE)","v":165}]
[2960,"吴文丽",360925203001,154012907628,1,{"$f":"VLOOKUP(C2961,Sheet2!A:B,2,FALSE)","v":163.5}]
[2961,"张娟",360925203001,154012805204,2,{"$f":"VLOOKUP(C2962,Sheet2!A:B,2,FALSE)","v":163.5}]
[2962,"余思思",360925203001,154012908501,3,{"$f":"VLOOKUP(C2963,Sheet2!A:B,2,FALSE)","v":163.5}]
[2963,"钟春英",360925204003,154040603116,1,{"$f":"VLOOKUP(C2964,Sheet2!A:B,2,FALSE)","v":167.5}]
[2964,"陈乐",360925204003,154012405601,2,{"$f":"VLOOKUP(C2965,Sheet2!A:B,2,FALSE)","v":167.5}]
[2965,"卢斯婕",360925204003,154012405617,3,{"$f":"VLOOKUP(C2966,Sheet2!A:B,2,FALSE)","v":167.5}]
[2966,"张媛",360925204003,154012908714,4,{"$f":"VLOOKUP(C2967,Sheet2!A:B,2,FALSE)","v":167.5}]
[2967,"胡金凤",360925204003,154012908819,5,{"$f":"VLOOKUP(C2968,Sheet2!A:B,2,FALSE)","v":167.5}]
[2968,"杨小婷",360925204003,154012908822,6,{"$f":"VLOOKUP(C2969,Sheet2!A:B,2,FALSE)","v":167.5}]
[2969,"熊姝丹",360925204003,154012909028,7,{"$f":"VLOOKUP(C2970,Sheet2!A:B,2,FALSE)","v":167.5}]
[2970,"陈斌",360925204003,154012405527,8,{"$f":"VLOOKUP(C2971,Sheet2!A:B,2,FALSE)","v":167.5}]
[2971,"杨舒舒",360925204003,154012908930,9,{"$f":"VLOOKUP(C2972,Sheet2!A:B,2,FALSE)","v":167.5}]
[2972,"孙晓欢",360925208002,154012406623,1,{"$f":"VLOOKUP(C2973,Sheet2!A:B,2,FALSE)","v":114}]
[2973,"魏葭雯",360925208002,154012406618,2,{"$f":"VLOOKUP(C2974,Sheet2!A:B,2,FALSE)","v":114}]
[2974,"黄晨星",360925208002,154012406628,3,{"$f":"VLOOKUP(C2975,Sheet2!A:B,2,FALSE)","v":114}]
[2975,"张虹",360925208002,154221408403,4,{"$f":"VLOOKUP(C2976,Sheet2!A:B,2,FALSE)","v":114}]
[2976,"肖梦婷",360925208002,154012406603,5,{"$f":"VLOOKUP(C2977,Sheet2!A:B,2,FALSE)","v":114}]
[2977,"谭琦",360925210002,154012803322,1,{"$f":"VLOOKUP(C2978,Sheet2!A:B,2,FALSE)","v":67.5}]
[2978,"涂慧敏",360925210002,154012803209,2,{"$f":"VLOOKUP(C2979,Sheet2!A:B,2,FALSE)","v":67.5}]
[2979,"孙佳葵",360925210002,154012803109,3,{"$f":"VLOOKUP(C2980,Sheet2!A:B,2,FALSE)","v":67.5}]
[2980,"梁腾美",360925210002,154012803314,4,{"$f":"VLOOKUP(C2981,Sheet2!A:B,2,FALSE)","v":67.5}]
[2981,"邓永聪",360925211002,154012803705,1,{"$f":"VLOOKUP(C2982,Sheet2!A:B,2,FALSE)","v":96.5}]
[2982,"黄缃瑜",360926201002,154221404507,1,{"$f":"VLOOKUP(C2983,Sheet2!A:B,2,FALSE)","v":128.5}]
[2983,"颜敏",360926201002,154221404320,2,{"$f":"VLOOKUP(C2984,Sheet2!A:B,2,FALSE)","v":128.5}]
[2984,"杨启晨",360926201002,154012700123,3,{"$f":"VLOOKUP(C2985,Sheet2!A:B,2,FALSE)","v":128.5}]
[2985,"高思航",360926201002,154012701218,4,{"$f":"VLOOKUP(C2986,Sheet2!A:B,2,FALSE)","v":128.5}]
[2986,"陈巧",360926201002,154012701313,5,{"$f":"VLOOKUP(C2987,Sheet2!A:B,2,FALSE)","v":128.5}]
[2987,"王璐琳",360926201002,154221404627,6,{"$f":"VLOOKUP(C2988,Sheet2!A:B,2,FALSE)","v":128.5}]
[2988,"艾俊杰",360926202002,154012906905,1,{"$f":"VLOOKUP(C2989,Sheet2!A:B,2,FALSE)","v":116.5}]
[2989,"周慧",360926202002,154040803203,2,{"$f":"VLOOKUP(C2990,Sheet2!A:B,2,FALSE)","v":116.5}]
[2990,"胡晓文",360926202002,154221405410,3,{"$f":"VLOOKUP(C2991,Sheet2!A:B,2,FALSE)","v":116.5}]
[2991,"邓海波",360926202002,154221405325,4,{"$f":"VLOOKUP(C2992,Sheet2!A:B,2,FALSE)","v":116.5}]
[2992,"王琪莎",360926202002,154221405417,5,{"$f":"VLOOKUP(C2993,Sheet2!A:B,2,FALSE)","v":116.5}]
[2993,"汤韵",360926202002,154221405427,6,{"$f":"VLOOKUP(C2994,Sheet2!A:B,2,FALSE)","v":116.5}]
[2994,"黄荣",360926203002,154221406416,1,{"$f":"VLOOKUP(C2995,Sheet2!A:B,2,FALSE)","v":168.5}]
[2995,"谢军",360926203002,154012804519,2,{"$f":"VLOOKUP(C2996,Sheet2!A:B,2,FALSE)","v":168.5}]
[2996,"漆金美",360926203002,154221406323,3,{"$f":"VLOOKUP(C2997,Sheet2!A:B,2,FALSE)","v":168.5}]
[2997,"戴雨茜",360926203002,154221406414,4,{"$f":"VLOOKUP(C2998,Sheet2!A:B,2,FALSE)","v":168.5}]
[2998,"邹丽琴",360926203002,154221405622,5,{"$f":"VLOOKUP(C2999,Sheet2!A:B,2,FALSE)","v":168.5}]
[2999,"许青燕",360926203002,154040602409,6,{"$f":"VLOOKUP(C3000,Sheet2!A:B,2,FALSE)","v":168.5}]
[3000,"樊芊芊",360926204002,154012909001,1,{"$f":"VLOOKUP(C3001,Sheet2!A:B,2,FALSE)","v":120}]
[3001,"张芬",360926204002,154040603208,2,{"$f":"VLOOKUP(C3002,Sheet2!A:B,2,FALSE)","v":120}]
[3002,"王丽萍",360926204002,154221406611,3,{"$f":"VLOOKUP(C3003,Sheet2!A:B,2,FALSE)","v":120}]
[3003,"赵龙丹",360926204002,154012405606,4,{"$f":"VLOOKUP(C3004,Sheet2!A:B,2,FALSE)","v":120}]
[3004,"周云",360926204002,154221406814,5,{"$f":"VLOOKUP(C3005,Sheet2!A:B,2,FALSE)","v":120}]
[3005,"黄宇群",360926204002,154030306206,6,{"$f":"VLOOKUP(C3006,Sheet2!A:B,2,FALSE)","v":120}]
[3006,"慕容明涛",360926205004,154221407307,1,{"$f":"VLOOKUP(C3007,Sheet2!A:B,2,FALSE)","v":100.5}]
[3007,"许玉茹",360926205004,154012804222,2,{"$f":"VLOOKUP(C3008,Sheet2!A:B,2,FALSE)","v":100.5}]
[3008,"吴济芳",360926205004,154012804404,3,{"$f":"VLOOKUP(C3009,Sheet2!A:B,2,FALSE)","v":100.5}]
[3009,"邹庆芬",360926205004,154221406916,4,{"$f":"VLOOKUP(C3010,Sheet2!A:B,2,FALSE)","v":100.5}]
[3010,"林红",360926205004,154020502108,5,{"$f":"VLOOKUP(C3011,Sheet2!A:B,2,FALSE)","v":100.5}]
[3011,"朱炜",360926205004,154221406928,6,{"$f":"VLOOKUP(C3012,Sheet2!A:B,2,FALSE)","v":100.5}]
[3012,"李裕",360926205004,154020502124,7,{"$f":"VLOOKUP(C3013,Sheet2!A:B,2,FALSE)","v":100.5}]
[3013,"李其蒙",360926205004,154221407301,8,{"$f":"VLOOKUP(C3014,Sheet2!A:B,2,FALSE)","v":100.5}]
[3014,"何建宏",360926205004,154221407309,9,{"$f":"VLOOKUP(C3015,Sheet2!A:B,2,FALSE)","v":100.5}]
[3015,"肖泽枫",360926205004,154221407228,10,{"$f":"VLOOKUP(C3016,Sheet2!A:B,2,FALSE)","v":100.5}]
[3016,"卢梦婷",360926205004,154221407008,11,{"$f":"VLOOKUP(C3017,Sheet2!A:B,2,FALSE)","v":100.5}]
[3017,"王雅洁",360926205004,154012804425,12,{"$f":"VLOOKUP(C3018,Sheet2!A:B,2,FALSE)","v":100.5}]
[3018,"陈晗",360926206004,154012702711,1,{"$f":"VLOOKUP(C3019,Sheet2!A:B,2,FALSE)","v":169}]
[3019,"余紫琪",360926206004,154012701818,2,{"$f":"VLOOKUP(C3020,Sheet2!A:B,2,FALSE)","v":169}]
[3020,"张雯雯",360926206004,154012702725,3,{"$f":"VLOOKUP(C3021,Sheet2!A:B,2,FALSE)","v":169}]
[3021,"汪婷",360926206004,154012702127,4,{"$f":"VLOOKUP(C3022,Sheet2!A:B,2,FALSE)","v":169}]
[3022,"刘讲平",360926206004,154012701823,5,{"$f":"VLOOKUP(C3023,Sheet2!A:B,2,FALSE)","v":169}]
[3023,"晏夏慧",360926206004,154012702223,6,{"$f":"VLOOKUP(C3024,Sheet2!A:B,2,FALSE)","v":169}]
[3024,"黄媛",360926206004,154221407620,7,{"$f":"VLOOKUP(C3025,Sheet2!A:B,2,FALSE)","v":169}]
[3025,"何璐",360926206004,154221407826,8,{"$f":"VLOOKUP(C3026,Sheet2!A:B,2,FALSE)","v":169}]
[3026,"刘庆",360926206004,154050315816,9,{"$f":"VLOOKUP(C3027,Sheet2!A:B,2,FALSE)","v":169}]
[3027,"叶芬",360926206004,154221407529,10,{"$f":"VLOOKUP(C3028,Sheet2!A:B,2,FALSE)","v":169}]
[3028,"黄梦颖",360926206004,154221407724,11,{"$f":"VLOOKUP(C3029,Sheet2!A:B,2,FALSE)","v":169}]
[3029,"朱小行",360926206004,154012702612,12,{"$f":"VLOOKUP(C3030,Sheet2!A:B,2,FALSE)","v":169}]
[3030,"黄玉芳",360926207003,154012406305,1,{"$f":"VLOOKUP(C3031,Sheet2!A:B,2,FALSE)","v":101}]
[3031,"任琪",360926207003,154012406408,2,{"$f":"VLOOKUP(C3032,Sheet2!A:B,2,FALSE)","v":101}]
[3032,"王敏",360926207003,154221408221,3,{"$f":"VLOOKUP(C3033,Sheet2!A:B,2,FALSE)","v":101}]
[3033,"江雨薇",360926207003,154012406424,4,{"$f":"VLOOKUP(C3034,Sheet2!A:B,2,FALSE)","v":101}]
[3034,"林彤",360926207003,154050316003,5,{"$f":"VLOOKUP(C3035,Sheet2!A:B,2,FALSE)","v":101}]
[3035,"王思思",360926207003,154012702906,6,{"$f":"VLOOKUP(C3036,Sheet2!A:B,2,FALSE)","v":101}]
[3036,"李祎涵",360926207003,154221408102,7,{"$f":"VLOOKUP(C3037,Sheet2!A:B,2,FALSE)","v":101}]
[3037,"曾海琦",360926207003,154221408113,8,{"$f":"VLOOKUP(C3038,Sheet2!A:B,2,FALSE)","v":101}]
[3038,"朱星星",360926207003,154221408124,9,{"$f":"VLOOKUP(C3039,Sheet2!A:B,2,FALSE)","v":101}]
[3039,"胡海琴",360926208002,154012406629,1,{"$f":"VLOOKUP(C3040,Sheet2!A:B,2,FALSE)","v":140.5}]
[3040,"冷慧",360926208002,154040604418,2,{"$f":"VLOOKUP(C3041,Sheet2!A:B,2,FALSE)","v":140.5}]
[3041,"李连连",360926208002,154040604403,3,{"$f":"VLOOKUP(C3042,Sheet2!A:B,2,FALSE)","v":140.5}]
[3042,"李心如",360926208002,154030307411,4,{"$f":"VLOOKUP(C3043,Sheet2!A:B,2,FALSE)","v":140.5}]
[3043,"吴比",360926208002,154012406509,5,{"$f":"VLOOKUP(C3044,Sheet2!A:B,2,FALSE)","v":140.5}]
[3044,"黎晴",360926208002,154030307408,6,{"$f":"VLOOKUP(C3045,Sheet2!A:B,2,FALSE)","v":140.5}]
[3045,"邱梦",360926209002,154221408612,1,{"$f":"VLOOKUP(C3046,Sheet2!A:B,2,FALSE)","v":135.5}]
[3046,"盘小瑶",360926209002,154012406923,2,{"$f":"VLOOKUP(C3047,Sheet2!A:B,2,FALSE)","v":135.5}]
[3047,"罗孝婷",360926209002,154221408728,3,{"$f":"VLOOKUP(C3048,Sheet2!A:B,2,FALSE)","v":135.5}]
[3048,"帅亚南",360926210001,154221408808,1,{"$f":"VLOOKUP(C3049,Sheet2!A:B,2,FALSE)","v":111}]
[3049,"华辉生",360926211001,154012803615,1,{"$f":"VLOOKUP(C3050,Sheet2!A:B,2,FALSE)","v":126}]
[3050,"鄢文琪",360982101002,154221400427,1,{"$f":"VLOOKUP(C3051,Sheet2!A:B,2,FALSE)","v":185}]
[3051,"钟婉",360982101002,154012101525,2,{"$f":"VLOOKUP(C3052,Sheet2!A:B,2,FALSE)","v":185}]
[3052,"万霞",360982101002,154012101523,3,{"$f":"VLOOKUP(C3053,Sheet2!A:B,2,FALSE)","v":185}]
[3053,"熊思瑶",360982101002,154012100606,4,{"$f":"VLOOKUP(C3054,Sheet2!A:B,2,FALSE)","v":185}]
[3054,"徐志玲",360982101002,154012302103,5,{"$f":"VLOOKUP(C3055,Sheet2!A:B,2,FALSE)","v":185}]
[3055,"陈佳环",360982101002,154221400526,6,{"$f":"VLOOKUP(C3056,Sheet2!A:B,2,FALSE)","v":185}]
[3056,"聂婷",360982102003,154012200802,1,{"$f":"VLOOKUP(C3057,Sheet2!A:B,2,FALSE)","v":192}]
[3057,"俞丽萍",360982102003,154221401801,2,{"$f":"VLOOKUP(C3058,Sheet2!A:B,2,FALSE)","v":192}]
[3058,"刘琴",360982102003,154012200425,3,{"$f":"VLOOKUP(C3059,Sheet2!A:B,2,FALSE)","v":192}]
[3059,"易坛",360982102003,154221402314,4,{"$f":"VLOOKUP(C3060,Sheet2!A:B,2,FALSE)","v":192}]
[3060,"李倩",360982102003,154242700412,5,{"$f":"VLOOKUP(C3061,Sheet2!A:B,2,FALSE)","v":192}]
[3061,"吕梦媛",360982102003,154012201801,6,{"$f":"VLOOKUP(C3062,Sheet2!A:B,2,FALSE)","v":192}]
[3062,"黄花萍",360982102003,154012303806,7,{"$f":"VLOOKUP(C3063,Sheet2!A:B,2,FALSE)","v":192}]
[3063,"冷佳",360982102003,154221402230,8,{"$f":"VLOOKUP(C3064,Sheet2!A:B,2,FALSE)","v":192}]
[3064,"李桂清",360982102003,154012303830,9,{"$f":"VLOOKUP(C3065,Sheet2!A:B,2,FALSE)","v":192}]
[3065,"万思琪",360982104003,154012600111,1,{"$f":"VLOOKUP(C3066,Sheet2!A:B,2,FALSE)","v":206}]
[3066,"张依蓓",360982104003,154012601016,2,{"$f":"VLOOKUP(C3067,Sheet2!A:B,2,FALSE)","v":206}]
[3067,"熊昌锋",360982104003,154012600324,3,{"$f":"VLOOKUP(C3068,Sheet2!A:B,2,FALSE)","v":206}]
[3068,"黄梦圆",360982104003,154250103824,4,{"$f":"VLOOKUP(C3069,Sheet2!A:B,2,FALSE)","v":206}]
[3069,"胡田燕",360982104003,154012600103,5,{"$f":"VLOOKUP(C3070,Sheet2!A:B,2,FALSE)","v":206}]
[3070,"张思",360982104003,154012601017,6,{"$f":"VLOOKUP(C3071,Sheet2!A:B,2,FALSE)","v":206}]
[3071,"黄雪萌",360982104003,154012600317,7,{"$f":"VLOOKUP(C3072,Sheet2!A:B,2,FALSE)","v":206}]
[3072,"张水娟",360982104003,154221403020,8,{"$f":"VLOOKUP(C3073,Sheet2!A:B,2,FALSE)","v":206}]
[3073,"周紫婷",360982104003,154232406306,9,{"$f":"VLOOKUP(C3074,Sheet2!A:B,2,FALSE)","v":206}]
[3074,"王丽娟",360982105003,154221403126,1,{"$f":"VLOOKUP(C3075,Sheet2!A:B,2,FALSE)","v":177.5}]
[3075," 吴诚宇",360982105003,154250104313,2,{"$f":"VLOOKUP(C3076,Sheet2!A:B,2,FALSE)","v":177.5}]
[3076,"帅梦琦",360982105003,154012601928,3,{"$f":"VLOOKUP(C3077,Sheet2!A:B,2,FALSE)","v":177.5}]
[3077,"雷紫薇",360982105003,154012601209,4,{"$f":"VLOOKUP(C3078,Sheet2!A:B,2,FALSE)","v":177.5}]
[3078,"余子月",360982105003,154250104202,5,{"$f":"VLOOKUP(C3079,Sheet2!A:B,2,FALSE)","v":177.5}]
[3079,"熊慧",360982105003,154012602022,6,{"$f":"VLOOKUP(C3080,Sheet2!A:B,2,FALSE)","v":177.5}]
[3080,"詹佳羽",360982105003,154250104308,7,{"$f":"VLOOKUP(C3081,Sheet2!A:B,2,FALSE)","v":177.5}]
[3081,"冷瑶川",360982105003,154040703311,8,{"$f":"VLOOKUP(C3082,Sheet2!A:B,2,FALSE)","v":177.5}]
[3082,"何辉斌",360982105003,154250104307,9,{"$f":"VLOOKUP(C3083,Sheet2!A:B,2,FALSE)","v":177.5}]
[3083,"周祖媛",360982106002,154050314005,1,{"$f":"VLOOKUP(C3084,Sheet2!A:B,2,FALSE)","v":165}]
[3084,"黄琪",360982106002,154012603527,2,{"$f":"VLOOKUP(C3085,Sheet2!A:B,2,FALSE)","v":165}]
[3085,"张嘉琪",360982106002,154012603408,3,{"$f":"VLOOKUP(C3086,Sheet2!A:B,2,FALSE)","v":165}]
[3086,"黄文倩",360982106002,154050314010,4,{"$f":"VLOOKUP(C3087,Sheet2!A:B,2,FALSE)","v":165}]
[3087,"徐斯琴",360982106002,154012602904,5,{"$f":"VLOOKUP(C3088,Sheet2!A:B,2,FALSE)","v":165}]
[3088,"钟安琪",360982106002,154050314104,6,{"$f":"VLOOKUP(C3089,Sheet2!A:B,2,FALSE)","v":165}]
[3089,"杨静",360982106002,154012602928,7,{"$f":"VLOOKUP(C3090,Sheet2!A:B,2,FALSE)","v":165}]
[3090,"聂思琪",360982107002,154221403713,1,{"$f":"VLOOKUP(C3091,Sheet2!A:B,2,FALSE)","v":129}]
[3091,"何怡清",360982107002,154012503002,2,{"$f":"VLOOKUP(C3092,Sheet2!A:B,2,FALSE)","v":129}]
[3092,"饶露露",360982107002,154242501015,3,{"$f":"VLOOKUP(C3093,Sheet2!A:B,2,FALSE)","v":129}]
[3093,"黄晨洋",360982107002,154221403610,4,{"$f":"VLOOKUP(C3094,Sheet2!A:B,2,FALSE)","v":129}]
[3094,"李传茜",360982107002,154012502711,5,{"$f":"VLOOKUP(C3095,Sheet2!A:B,2,FALSE)","v":129}]
[3095,"孟翔",360982107002,154012503030,6,{"$f":"VLOOKUP(C3096,Sheet2!A:B,2,FALSE)","v":129}]
[3096,"范美琳",360982202004,154050315001,1,{"$f":"VLOOKUP(C3097,Sheet2!A:B,2,FALSE)","v":111.5}]
[3097,"吴凤敏",360982202004,154242702807,2,{"$f":"VLOOKUP(C3098,Sheet2!A:B,2,FALSE)","v":111.5}]
[3098,"熊志祥",360982202004,154050315026,3,{"$f":"VLOOKUP(C3099,Sheet2!A:B,2,FALSE)","v":111.5}]
[3099,"黄佳仪",360982202004,154050315106,4,{"$f":"VLOOKUP(C3100,Sheet2!A:B,2,FALSE)","v":111.5}]
[3100,"聂志红",360982202004,154020500914,5,{"$f":"VLOOKUP(C3101,Sheet2!A:B,2,FALSE)","v":111.5}]
[3101,"张珊",360982202004,154012906215,6,{"$f":"VLOOKUP(C3102,Sheet2!A:B,2,FALSE)","v":111.5}]
[3102,"陈瑾",360982202004,154012906411,7,{"$f":"VLOOKUP(C3103,Sheet2!A:B,2,FALSE)","v":111.5}]
[3103,"胡明娜",360982202004,154050315003,8,{"$f":"VLOOKUP(C3104,Sheet2!A:B,2,FALSE)","v":111.5}]
[3104,"汪玉燕",360982202004,154012906227,9,{"$f":"VLOOKUP(C3105,Sheet2!A:B,2,FALSE)","v":111.5}]
[3105,"聂文娟",360982202004,154012907319,10,{"$f":"VLOOKUP(C3106,Sheet2!A:B,2,FALSE)","v":111.5}]
[3106,"刘雅琪",360982202004,154012907125,11,{"$f":"VLOOKUP(C3107,Sheet2!A:B,2,FALSE)","v":111.5}]
[3107,"罗佳林",360982204004,154020501928,1,{"$f":"VLOOKUP(C3108,Sheet2!A:B,2,FALSE)","v":130}]
[3108,"邹蓉",360982204004,154012908704,2,{"$f":"VLOOKUP(C3109,Sheet2!A:B,2,FALSE)","v":130}]
[3109,"刘园",360982210002,154221408910,1,{"$f":"VLOOKUP(C3110,Sheet2!A:B,2,FALSE)","v":140.5}]
[3110,"付文奇",360982210002,154221408810,2,{"$f":"VLOOKUP(C3111,Sheet2!A:B,2,FALSE)","v":140.5}]
[3111,"张玉倩",360982210002,154221408903,3,{"$f":"VLOOKUP(C3112,Sheet2!A:B,2,FALSE)","v":140.5}]
[3112,"蔡云",360982210002,154012803114,4,{"$f":"VLOOKUP(C3113,Sheet2!A:B,2,FALSE)","v":140.5}]
[3113,"聂竞",360982210002,154221408803,5,{"$f":"VLOOKUP(C3114,Sheet2!A:B,2,FALSE)","v":140.5}]
[3114,"邹幽静",360982210002,154012803107,6,{"$f":"VLOOKUP(C3115,Sheet2!A:B,2,FALSE)","v":140.5}]
[3115,"潘良宇",360982211003,154012803702,1,{"$f":"VLOOKUP(C3116,Sheet2!A:B,2,FALSE)","v":97}]
[3116,"李龙凯",360982211003,154012803807,2,{"$f":"VLOOKUP(C3117,Sheet2!A:B,2,FALSE)","v":97}]
[3117,"何佳沁",360982211003,154012803619,3,{"$f":"VLOOKUP(C3118,Sheet2!A:B,2,FALSE)","v":97}]
[3118,"熊静",360982215002,154012407702,1,{"$f":"VLOOKUP(C3119,Sheet2!A:B,2,FALSE)","v":139}]
[3119,"邓雨璇",360982215002,154221409511,2,{"$f":"VLOOKUP(C3120,Sheet2!A:B,2,FALSE)","v":139}]
[3120,"胡沙沙",360983201010,154012700602,1,{"$f":"VLOOKUP(C3121,Sheet2!A:B,2,FALSE)","v":149}]
[3121,"杨晶",360983201010,154012700112,2,{"$f":"VLOOKUP(C3122,Sheet2!A:B,2,FALSE)","v":149}]
[3122,"黎瑞",360983201010,154012701109,3,{"$f":"VLOOKUP(C3123,Sheet2!A:B,2,FALSE)","v":149}]
[3123,"杨紫媛",360983201010,154221404620,4,{"$f":"VLOOKUP(C3124,Sheet2!A:B,2,FALSE)","v":149}]
[3124,"陈露",360983201010,154221404604,5,{"$f":"VLOOKUP(C3125,Sheet2!A:B,2,FALSE)","v":149}]
[3125,"陈佳丽",360983201010,154221404526,6,{"$f":"VLOOKUP(C3126,Sheet2!A:B,2,FALSE)","v":149}]
[3126,"蓝雨婷",360983201010,154012700726,7,{"$f":"VLOOKUP(C3127,Sheet2!A:B,2,FALSE)","v":149}]
[3127,"刘宸琪",360983201010,154221404718,8,{"$f":"VLOOKUP(C3128,Sheet2!A:B,2,FALSE)","v":149}]
[3128,"况丹",360983201010,154012701310,9,{"$f":"VLOOKUP(C3129,Sheet2!A:B,2,FALSE)","v":149}]
[3129,"郑素文",360983201010,154012701101,11,{"$f":"VLOOKUP(C3130,Sheet2!A:B,2,FALSE)","v":149}]
[3130,"黄紫薇",360983201010,154012700115,10,{"$f":"VLOOKUP(C3131,Sheet2!A:B,2,FALSE)","v":149}]
[3131,"李丽萍",360983201010,154221404208,13,{"$f":"VLOOKUP(C3132,Sheet2!A:B,2,FALSE)","v":149}]
[3132,"李甜",360983201010,154012700915,12,{"$f":"VLOOKUP(C3133,Sheet2!A:B,2,FALSE)","v":149}]
[3133,"刘惠",360983201010,154012700914,14,{"$f":"VLOOKUP(C3134,Sheet2!A:B,2,FALSE)","v":149}]
[3134,"邓君君",360983201010,154012700316,15,{"$f":"VLOOKUP(C3135,Sheet2!A:B,2,FALSE)","v":149}]
[3135,"王丽",360983201010,154012700909,16,{"$f":"VLOOKUP(C3136,Sheet2!A:B,2,FALSE)","v":149}]
[3136,"聂宵",360983201010,154012701021,17,{"$f":"VLOOKUP(C3137,Sheet2!A:B,2,FALSE)","v":149}]
[3137,"吕林妍",360983201010,154012700515,18,{"$f":"VLOOKUP(C3138,Sheet2!A:B,2,FALSE)","v":149}]
[3138,"刘怡琳",360983201010,154012701505,19,{"$f":"VLOOKUP(C3139,Sheet2!A:B,2,FALSE)","v":149}]
[3139,"卢雨萍",360983201010,154012700128,20,{"$f":"VLOOKUP(C3140,Sheet2!A:B,2,FALSE)","v":149}]
[3140,"张阿情",360983201010,154030304815,21,{"$f":"VLOOKUP(C3141,Sheet2!A:B,2,FALSE)","v":149}]
[3141,"幸凡",360983201010,154012701514,22,{"$f":"VLOOKUP(C3142,Sheet2!A:B,2,FALSE)","v":149}]
[3142,"周芬",360983201010,154012700904,23,{"$f":"VLOOKUP(C3143,Sheet2!A:B,2,FALSE)","v":149}]
[3143,"王稳凤",360983201010,154012701219,24,{"$f":"VLOOKUP(C3144,Sheet2!A:B,2,FALSE)","v":149}]
[3144,"况婷",360983201010,154012700208,25,{"$f":"VLOOKUP(C3145,Sheet2!A:B,2,FALSE)","v":149}]
[3145,"黄嘉",360983202010,154012906315,1,{"$f":"VLOOKUP(C3146,Sheet2!A:B,2,FALSE)","v":138}]
[3146,"陈诗怡",360983202010,154012906219,2,{"$f":"VLOOKUP(C3147,Sheet2!A:B,2,FALSE)","v":138}]
[3147,"王闽慧",360983202010,154221405209,3,{"$f":"VLOOKUP(C3148,Sheet2!A:B,2,FALSE)","v":138}]
[3148,"郭晓梅",360983202010,154012906515,4,{"$f":"VLOOKUP(C3149,Sheet2!A:B,2,FALSE)","v":138}]
[3149,"陈海霞",360983202010,154221405121,5,{"$f":"VLOOKUP(C3150,Sheet2!A:B,2,FALSE)","v":138}]
[3150,"周美云",360983202010,154012906307,6,{"$f":"VLOOKUP(C3151,Sheet2!A:B,2,FALSE)","v":138}]
[3151,"徐赵",360983202010,154012906912,7,{"$f":"VLOOKUP(C3152,Sheet2!A:B,2,FALSE)","v":138}]
[3152,"李江媛",360983202010,154012906813,8,{"$f":"VLOOKUP(C3153,Sheet2!A:B,2,FALSE)","v":138}]
[3153,"单胡仟",360983202010,154221405507,9,{"$f":"VLOOKUP(C3154,Sheet2!A:B,2,FALSE)","v":138}]
[3154,"何琴",360983202010,154221405421,10,{"$f":"VLOOKUP(C3155,Sheet2!A:B,2,FALSE)","v":138}]
[3155,"滕子怡",360983202010,154012906204,11,{"$f":"VLOOKUP(C3156,Sheet2!A:B,2,FALSE)","v":138}]
[3156,"况雯",360983202010,154210200212,12,{"$f":"VLOOKUP(C3157,Sheet2!A:B,2,FALSE)","v":138}]
[3157,"袁露",360983202010,154040802920,13,{"$f":"VLOOKUP(C3158,Sheet2!A:B,2,FALSE)","v":138}]
[3158,"陈玉",360983202010,154012906929,14,{"$f":"VLOOKUP(C3159,Sheet2!A:B,2,FALSE)","v":138}]
[3159,"陈翠翠",360983202010,154250105403,15,{"$f":"VLOOKUP(C3160,Sheet2!A:B,2,FALSE)","v":138}]
[3160,"蔡雅雯",360983202010,154221405402,16,{"$f":"VLOOKUP(C3161,Sheet2!A:B,2,FALSE)","v":138}]
[3161,"范宏伟",360983202010,154012906619,17,{"$f":"VLOOKUP(C3162,Sheet2!A:B,2,FALSE)","v":138}]
[3162,"陈鑫",360983202010,154060603320,18,{"$f":"VLOOKUP(C3163,Sheet2!A:B,2,FALSE)","v":138}]
[3163,"吴群洋",360983202010,154012906414,19,{"$f":"VLOOKUP(C3164,Sheet2!A:B,2,FALSE)","v":138}]
[3164,"朱炜",360983202010,154012907223,21,{"$f":"VLOOKUP(C3165,Sheet2!A:B,2,FALSE)","v":138}]
[3165,"况敏",360983202010,154210201324,20,{"$f":"VLOOKUP(C3166,Sheet2!A:B,2,FALSE)","v":138}]
[3166,"李丽丽",360983202010,154012906304,22,{"$f":"VLOOKUP(C3167,Sheet2!A:B,2,FALSE)","v":138}]
[3167,"罗佩",360983202010,154221405113,23,{"$f":"VLOOKUP(C3168,Sheet2!A:B,2,FALSE)","v":138}]
[3168,"龚瑞星",360983202010,154221405016,24,{"$f":"VLOOKUP(C3169,Sheet2!A:B,2,FALSE)","v":138}]
[3169,"徐群",360983202010,154221405004,25,{"$f":"VLOOKUP(C3170,Sheet2!A:B,2,FALSE)","v":138}]
[3170,"胡长安",360983203010,154012908522,1,{"$f":"VLOOKUP(C3171,Sheet2!A:B,2,FALSE)","v":184.5}]
[3171,"屈瑶利",360983203010,154012805730,2,{"$f":"VLOOKUP(C3172,Sheet2!A:B,2,FALSE)","v":184.5}]
[3172,"肖婷",360983203010,154012805519,3,{"$f":"VLOOKUP(C3173,Sheet2!A:B,2,FALSE)","v":184.5}]
[3173,"聂千千",360983203010,154012805229,5,{"$f":"VLOOKUP(C3174,Sheet2!A:B,2,FALSE)","v":184.5}]
[3174,"杨阳",360983203010,154012804505,4,{"$f":"VLOOKUP(C3175,Sheet2!A:B,2,FALSE)","v":184.5}]
[3175,"涂仂俐",360983203010,154012908019,6,{"$f":"VLOOKUP(C3176,Sheet2!A:B,2,FALSE)","v":184.5}]
[3176,"龚艳丽",360983203010,154012805716,7,{"$f":"VLOOKUP(C3177,Sheet2!A:B,2,FALSE)","v":184.5}]
[3177,"彭思芸",360983203010,154012907930,8,{"$f":"VLOOKUP(C3178,Sheet2!A:B,2,FALSE)","v":184.5}]
[3178,"龚苏云",360983203010,154012907725,9,{"$f":"VLOOKUP(C3179,Sheet2!A:B,2,FALSE)","v":184.5}]
[3179,"朱婷",360983203010,154012804516,10,{"$f":"VLOOKUP(C3180,Sheet2!A:B,2,FALSE)","v":184.5}]
[3180,"梁芳",360983203010,154012805420,11,{"$f":"VLOOKUP(C3181,Sheet2!A:B,2,FALSE)","v":184.5}]
[3181,"喻金珍",360983203010,154012908526,12,{"$f":"VLOOKUP(C3182,Sheet2!A:B,2,FALSE)","v":184.5}]
[3182,"罗钰珑",360983203010,154012805001,14,{"$f":"VLOOKUP(C3183,Sheet2!A:B,2,FALSE)","v":184.5}]
[3183,"黄家慧",360983203010,154012804529,13,{"$f":"VLOOKUP(C3184,Sheet2!A:B,2,FALSE)","v":184.5}]
[3184,"陈欣雨",360983203010,154020501307,16,{"$f":"VLOOKUP(C3185,Sheet2!A:B,2,FALSE)","v":184.5}]
[3185,"徐淑芬",360983203010,154012805826,15,{"$f":"VLOOKUP(C3186,Sheet2!A:B,2,FALSE)","v":184.5}]
[3186,"熊芳芳",360983203010,154012907813,17,{"$f":"VLOOKUP(C3187,Sheet2!A:B,2,FALSE)","v":184.5}]
[3187,"付雯",360983203010,154012907711,18,{"$f":"VLOOKUP(C3188,Sheet2!A:B,2,FALSE)","v":184.5}]
[3188,"陈晴",360983203010,154012804917,19,{"$f":"VLOOKUP(C3189,Sheet2!A:B,2,FALSE)","v":184.5}]
[3189,"黄江琳",360983203010,154012806021,20,{"$f":"VLOOKUP(C3190,Sheet2!A:B,2,FALSE)","v":184.5}]
[3190,"胡妍卉",360983203010,154012805327,21,{"$f":"VLOOKUP(C3191,Sheet2!A:B,2,FALSE)","v":184.5}]
[3191,"况莎莎",360983203010,154012908018,22,{"$f":"VLOOKUP(C3192,Sheet2!A:B,2,FALSE)","v":184.5}]
[3192,"刘园园",360983203010,154050315415,25,{"$f":"VLOOKUP(C3193,Sheet2!A:B,2,FALSE)","v":184.5}]
[3193,"况律",360983203010,154012908106,24,{"$f":"VLOOKUP(C3194,Sheet2!A:B,2,FALSE)","v":184.5}]
[3194,"陈晨西",360983203010,154012907919,23,{"$f":"VLOOKUP(C3195,Sheet2!A:B,2,FALSE)","v":184.5}]
[3195,"范佳敏",360983204010,154221406605,1,{"$f":"VLOOKUP(C3196,Sheet2!A:B,2,FALSE)","v":107.5}]
[3196,"刘慧颖",360983204010,154012908712,2,{"$f":"VLOOKUP(C3197,Sheet2!A:B,2,FALSE)","v":107.5}]
[3197,"欧阳建刚",360983204010,154012908808,3,{"$f":"VLOOKUP(C3198,Sheet2!A:B,2,FALSE)","v":107.5}]
[3198,"张培",360983204010,154012405520,4,{"$f":"VLOOKUP(C3199,Sheet2!A:B,2,FALSE)","v":107.5}]
[3199,"陈桂蓉",360983204010,154012405514,5,{"$f":"VLOOKUP(C3200,Sheet2!A:B,2,FALSE)","v":107.5}]
[3200,"卢文欣",360983204010,154221406708,7,{"$f":"VLOOKUP(C3201,Sheet2!A:B,2,FALSE)","v":107.5}]
[3201,"封紫怡",360983204010,154250106027,6,{"$f":"VLOOKUP(C3202,Sheet2!A:B,2,FALSE)","v":107.5}]
[3202,"詹慧",360983204010,154050315513,8,{"$f":"VLOOKUP(C3203,Sheet2!A:B,2,FALSE)","v":107.5}]
[3203,"罗云霞",360983204010,154012908706,9,{"$f":"VLOOKUP(C3204,Sheet2!A:B,2,FALSE)","v":107.5}]
[3204,"樊依",360983204010,154040603215,10,{"$f":"VLOOKUP(C3205,Sheet2!A:B,2,FALSE)","v":107.5}]
[3205,"张友恩",360983204010,154221406621,11,{"$f":"VLOOKUP(C3206,Sheet2!A:B,2,FALSE)","v":107.5}]
[3206,"陈含馨",360983208010,154040604401,1,{"$f":"VLOOKUP(C3207,Sheet2!A:B,2,FALSE)","v":106}]
[3207,"陈浩兰",360983208010,154210303420,2,{"$f":"VLOOKUP(C3208,Sheet2!A:B,2,FALSE)","v":106}]
[3208,"涂芬",360983208010,154210303723,3,{"$f":"VLOOKUP(C3209,Sheet2!A:B,2,FALSE)","v":106}]
[3209,"李朝英",360983208010,154231504503,4,{"$f":"VLOOKUP(C3210,Sheet2!A:B,2,FALSE)","v":106}]
[3210,"张红武",360983208010,154012406627,5,{"$f":"VLOOKUP(C3211,Sheet2!A:B,2,FALSE)","v":106}]
[3211,"张启萌",360983208010,154040604422,6,{"$f":"VLOOKUP(C3212,Sheet2!A:B,2,FALSE)","v":106}]
[3212,"邓王院",360983208010,154242603724,7,{"$f":"VLOOKUP(C3213,Sheet2!A:B,2,FALSE)","v":106}]
[3213,"廖凯",360983208010,154210303401,8,{"$f":"VLOOKUP(C3214,Sheet2!A:B,2,FALSE)","v":106}]
[3214,"邬志圆",360983211010,154012803715,1,{"$f":"VLOOKUP(C3215,Sheet2!A:B,2,FALSE)","v":120}]
[3215,"段菁菁",360983211010,154012803518,2,{"$f":"VLOOKUP(C3216,Sheet2!A:B,2,FALSE)","v":120}]
[3216,"宋亭",360983211010,154012803805,3,{"$f":"VLOOKUP(C3217,Sheet2!A:B,2,FALSE)","v":120}]
[3217,"胡金涛",360983211010,154012803827,4,{"$f":"VLOOKUP(C3218,Sheet2!A:B,2,FALSE)","v":120}]
[3218,"游颐",360983211010,154012803515,5,{"$f":"VLOOKUP(C3219,Sheet2!A:B,2,FALSE)","v":120}]
[3219,"金云",360983211010,154012803829,6,{"$f":"VLOOKUP(C3220,Sheet2!A:B,2,FALSE)","v":120}]
[3220,"张蕊",360983211010,154012803519,7,{"$f":"VLOOKUP(C3221,Sheet2!A:B,2,FALSE)","v":120}]
[3221,"沈翠峰",360983211010,154012803713,8,{"$f":"VLOOKUP(C3222,Sheet2!A:B,2,FALSE)","v":120}]
[3222,"胡帅君",360983211010,154242704012,10,{"$f":"VLOOKUP(C3223,Sheet2!A:B,2,FALSE)","v":120}]
[3223,"张越",360983211010,154012803717,9,{"$f":"VLOOKUP(C3224,Sheet2!A:B,2,FALSE)","v":120}]
[3224,"吕桃明",360983211010,154012803816,11,{"$f":"VLOOKUP(C3225,Sheet2!A:B,2,FALSE)","v":120}]
[3225,"姜文哲",360983211010,154012803820,12,{"$f":"VLOOKUP(C3226,Sheet2!A:B,2,FALSE)","v":120}]
[3226,"吴芬",360983211010,154050316405,14,{"$f":"VLOOKUP(C3227,Sheet2!A:B,2,FALSE)","v":120}]
[3227,"吕梦琴",360983211010,154012803723,13,{"$f":"VLOOKUP(C3228,Sheet2!A:B,2,FALSE)","v":120}]
[3228,"罗江",360983211010,154012803526,15,{"$f":"VLOOKUP(C3229,Sheet2!A:B,2,FALSE)","v":120}]
[3229,"熊海燕",360983211010,154221409106,16,{"$f":"VLOOKUP(C3230,Sheet2!A:B,2,FALSE)","v":120}]
[3230,"张盼盼",360983211010,154012803528,18,{"$f":"VLOOKUP(C3231,Sheet2!A:B,2,FALSE)","v":120}]
[3231,"廖舒情",360983211010,154012803603,17,{"$f":"VLOOKUP(C3232,Sheet2!A:B,2,FALSE)","v":120}]
[3232,"鄢颖",360983211010,154050316403,19,{"$f":"VLOOKUP(C3233,Sheet2!A:B,2,FALSE)","v":120}]
[3233,"熊心瑶",360983211010,154221409024,20,{"$f":"VLOOKUP(C3234,Sheet2!A:B,2,FALSE)","v":120}]
[3234,"邢学博",360983211010,154221409014,21,{"$f":"VLOOKUP(C3235,Sheet2!A:B,2,FALSE)","v":120}]
[3235,"王婷",360983211010,154012803501,22,{"$f":"VLOOKUP(C3236,Sheet2!A:B,2,FALSE)","v":120}]
[3236,"肖珊珊",360983211010,154050316407,23,{"$f":"VLOOKUP(C3237,Sheet2!A:B,2,FALSE)","v":120}]
[3237,"揭宗浩",360983211010,154012803714,24,{"$f":"VLOOKUP(C3238,Sheet2!A:B,2,FALSE)","v":120}]
[3238,"周柳生",360983211010,154012803503,25,{"$f":"VLOOKUP(C3239,Sheet2!A:B,2,FALSE)","v":120}]
[3239,"尧欣悦",361023201003,154012700812,1,{"$f":"VLOOKUP(C3240,Sheet2!A:B,2,FALSE)","v":138.5}]
[3240,"许悦",361023201003,154250105307,2,{"$f":"VLOOKUP(C3241,Sheet2!A:B,2,FALSE)","v":138.5}]
[3241,"徐纤纤",361023201003,154012701027,3,{"$f":"VLOOKUP(C3242,Sheet2!A:B,2,FALSE)","v":138.5}]
[3242,"王淑贤",361023201003,154250105322,4,{"$f":"VLOOKUP(C3243,Sheet2!A:B,2,FALSE)","v":138.5}]
[3243,"方淑珍",361023201003,154250105227,5,{"$f":"VLOOKUP(C3244,Sheet2!A:B,2,FALSE)","v":138.5}]
[3244,"聂孟吉",361023201003,154012701213,6,{"$f":"VLOOKUP(C3245,Sheet2!A:B,2,FALSE)","v":138.5}]
[3245,"袁欣如",361023201003,154030305010,7,{"$f":"VLOOKUP(C3246,Sheet2!A:B,2,FALSE)","v":138.5}]
[3246,"李碧莲",361023201003,154250105218,8,{"$f":"VLOOKUP(C3247,Sheet2!A:B,2,FALSE)","v":138.5}]
[3247,"郭梦琪",361023201003,154250105219,9,{"$f":"VLOOKUP(C3248,Sheet2!A:B,2,FALSE)","v":138.5}]
[3248,"张玉颖",361023202006,154012907107,1,{"$f":"VLOOKUP(C3249,Sheet2!A:B,2,FALSE)","v":145.5}]
[3249,"张珊珊",361023202006,154250105404,2,{"$f":"VLOOKUP(C3250,Sheet2!A:B,2,FALSE)","v":145.5}]
[3250,"罗盈清",361023202006,154012907321,3,{"$f":"VLOOKUP(C3251,Sheet2!A:B,2,FALSE)","v":145.5}]
[3251,"符皓程",361023202006,154250105417,4,{"$f":"VLOOKUP(C3252,Sheet2!A:B,2,FALSE)","v":145.5}]
[3252,"吴子怡",361023202006,154250105412,5,{"$f":"VLOOKUP(C3253,Sheet2!A:B,2,FALSE)","v":145.5}]
[3253,"舒旭",361023202006,154012906422,6,{"$f":"VLOOKUP(C3254,Sheet2!A:B,2,FALSE)","v":145.5}]
[3254,"刘雯",361023202006,154250105408,7,{"$f":"VLOOKUP(C3255,Sheet2!A:B,2,FALSE)","v":145.5}]
[3255,"曾曼婷",361023202006,154250105420,8,{"$f":"VLOOKUP(C3256,Sheet2!A:B,2,FALSE)","v":145.5}]
[3256,"张志军",361023202006,154250105423,9,{"$f":"VLOOKUP(C3257,Sheet2!A:B,2,FALSE)","v":145.5}]
[3257,"黄花",361023202006,154250105421,10,{"$f":"VLOOKUP(C3258,Sheet2!A:B,2,FALSE)","v":145.5}]
[3258,"邱如燕",361023202006,154210201822,11,{"$f":"VLOOKUP(C3259,Sheet2!A:B,2,FALSE)","v":145.5}]
[3259,"陈前军",361023202006,154250105513,12,{"$f":"VLOOKUP(C3260,Sheet2!A:B,2,FALSE)","v":145.5}]
[3260,"李啊航",361023202006,154250105509,13,{"$f":"VLOOKUP(C3261,Sheet2!A:B,2,FALSE)","v":145.5}]
[3261,"杨阳",361023202006,154250105510,14,{"$f":"VLOOKUP(C3262,Sheet2!A:B,2,FALSE)","v":145.5}]
[3262,"李聪",361023202006,154250105503,15,{"$f":"VLOOKUP(C3263,Sheet2!A:B,2,FALSE)","v":145.5}]
[3263,"叶姝婷",361023203003,154250105623,1,{"$f":"VLOOKUP(C3264,Sheet2!A:B,2,FALSE)","v":173.5}]
[3264,"曹会",361023203003,154060603622,2,{"$f":"VLOOKUP(C3265,Sheet2!A:B,2,FALSE)","v":173.5}]
[3265,"王梦洁",361023203003,154250105708,3,{"$f":"VLOOKUP(C3266,Sheet2!A:B,2,FALSE)","v":173.5}]
[3266,"翁倩怡",361023203003,154250105809,4,{"$f":"VLOOKUP(C3267,Sheet2!A:B,2,FALSE)","v":173.5}]
[3267,"徐琳",361023203003,154012805316,5,{"$f":"VLOOKUP(C3268,Sheet2!A:B,2,FALSE)","v":173.5}]
[3268,"刘诗宇",361023203003,154250105908,6,{"$f":"VLOOKUP(C3269,Sheet2!A:B,2,FALSE)","v":173.5}]
[3269,"平雨欣",361023203003,154250105822,7,{"$f":"VLOOKUP(C3270,Sheet2!A:B,2,FALSE)","v":173.5}]
[3270,"胡祥意",361023203003,154250105612,8,{"$f":"VLOOKUP(C3271,Sheet2!A:B,2,FALSE)","v":173.5}]
[3271,"汪九维",361023203003,154060603822,9,{"$f":"VLOOKUP(C3272,Sheet2!A:B,2,FALSE)","v":173.5}]
[3272,"饶一娴",361023204002,154012908719,1,{"$f":"VLOOKUP(C3273,Sheet2!A:B,2,FALSE)","v":156}]
[3273,"肖梦",361023204002,154250106020,2,{"$f":"VLOOKUP(C3274,Sheet2!A:B,2,FALSE)","v":156}]
[3274,"潘文莉",361023204002,154250106019,3,{"$f":"VLOOKUP(C3275,Sheet2!A:B,2,FALSE)","v":156}]
[3275,"邹奕君",361023204002,154250106015,4,{"$f":"VLOOKUP(C3276,Sheet2!A:B,2,FALSE)","v":156}]
[3276,"毛丽盈",361023204002,154250106001,5,{"$f":"VLOOKUP(C3277,Sheet2!A:B,2,FALSE)","v":156}]
[3277,"唐娟",361023204002,154250106025,6,{"$f":"VLOOKUP(C3278,Sheet2!A:B,2,FALSE)","v":156}]
[3278,"危振龙",361023205002,154040603426,1,{"$f":"VLOOKUP(C3279,Sheet2!A:B,2,FALSE)","v":93.5}]
[3279,"许城玮",361023205002,154211001521,2,{"$f":"VLOOKUP(C3280,Sheet2!A:B,2,FALSE)","v":93.5}]
[3280,"黄兴",361023205002,154250106115,3,{"$f":"VLOOKUP(C3281,Sheet2!A:B,2,FALSE)","v":93.5}]
[3281,"马鹏",361023205002,154250106113,4,{"$f":"VLOOKUP(C3282,Sheet2!A:B,2,FALSE)","v":93.5}]
[3282,"黎泽琛",361023205002,154250106109,5,{"$f":"VLOOKUP(C3283,Sheet2!A:B,2,FALSE)","v":93.5}]
[3283,"周萌",361023205002,154030306611,6,{"$f":"VLOOKUP(C3284,Sheet2!A:B,2,FALSE)","v":93.5}]
[3284,"袁梦丹",361023206002,154012702723,1,{"$f":"VLOOKUP(C3285,Sheet2!A:B,2,FALSE)","v":138.5}]
[3285,"刘雅芝",361023206002,154250106211,2,{"$f":"VLOOKUP(C3286,Sheet2!A:B,2,FALSE)","v":138.5}]
[3286,"朱文玥",361023206002,154012702007,3,{"$f":"VLOOKUP(C3287,Sheet2!A:B,2,FALSE)","v":138.5}]
[3287,"吴甜",361023206002,154012702728,4,{"$f":"VLOOKUP(C3288,Sheet2!A:B,2,FALSE)","v":138.5}]
[3288,"邵婉",361023206002,154250106209,5,{"$f":"VLOOKUP(C3289,Sheet2!A:B,2,FALSE)","v":138.5}]
[3289,"黄晨",361023206002,154250106208,6,{"$f":"VLOOKUP(C3290,Sheet2!A:B,2,FALSE)","v":138.5}]
[3290,"张杰云",361023207002,154250106405,1,{"$f":"VLOOKUP(C3291,Sheet2!A:B,2,FALSE)","v":64.5}]
[3291,"廖志鹏",361023207002,154250106407,2,{"$f":"VLOOKUP(C3292,Sheet2!A:B,2,FALSE)","v":64.5}]
[3292,"邱庆澳",361023207002,154012702917,3,{"$f":"VLOOKUP(C3293,Sheet2!A:B,2,FALSE)","v":64.5}]
[3293,"徐业真",361023209002,154250106602,1,{"$f":"VLOOKUP(C3294,Sheet2!A:B,2,FALSE)","v":123.5}]
[3294,"宗祥旭",361023209002,154040803505,2,{"$f":"VLOOKUP(C3295,Sheet2!A:B,2,FALSE)","v":123.5}]
[3295,"吴甜田",361023209002,154250106603,3,{"$f":"VLOOKUP(C3296,Sheet2!A:B,2,FALSE)","v":123.5}]
[3296,"杨黎梦",361023210002,154242703815,1,{"$f":"VLOOKUP(C3297,Sheet2!A:B,2,FALSE)","v":108.5}]
[3297,"吴英",361023210002,154210304127,2,{"$f":"VLOOKUP(C3298,Sheet2!A:B,2,FALSE)","v":108.5}]
[3298,"邹丽",361023210002,154250106709,3,{"$f":"VLOOKUP(C3299,Sheet2!A:B,2,FALSE)","v":108.5}]
[3299,"邹海华",361023210002,154250106701,4,{"$f":"VLOOKUP(C3300,Sheet2!A:B,2,FALSE)","v":108.5}]
[3300,"邹甜",361023211004,154250106805,1,{"$f":"VLOOKUP(C3301,Sheet2!A:B,2,FALSE)","v":89.5}]
[3301,"曾妮",361023211004,154250106813,2,{"$f":"VLOOKUP(C3302,Sheet2!A:B,2,FALSE)","v":89.5}]
[3302,"许飞强",361023211004,154250106810,3,{"$f":"VLOOKUP(C3303,Sheet2!A:B,2,FALSE)","v":89.5}]
[3303,"封思阳",361023211004,154250106809,4,{"$f":"VLOOKUP(C3304,Sheet2!A:B,2,FALSE)","v":89.5}]
[3304,"涂任英",361023211004,154250106806,5,{"$f":"VLOOKUP(C3305,Sheet2!A:B,2,FALSE)","v":89.5}]
[3305,"郑印强",361023211004,154250106812,6,{"$f":"VLOOKUP(C3306,Sheet2!A:B,2,FALSE)","v":89.5}]
[3306,"卢春莲",361023212002,154012407103,1,{"$f":"VLOOKUP(C3307,Sheet2!A:B,2,FALSE)","v":144}]
[3307,"邓旨余",361023212002,154250106901,2,{"$f":"VLOOKUP(C3308,Sheet2!A:B,2,FALSE)","v":144}]
[3308,"伍吟秋",361023212002,154250106905,3,{"$f":"VLOOKUP(C3309,Sheet2!A:B,2,FALSE)","v":144}]
[3309,"张文美",361023212002,154012407112,4,{"$f":"VLOOKUP(C3310,Sheet2!A:B,2,FALSE)","v":144}]
[3310,"徐苇晶",361023212002,154012407124,5,{"$f":"VLOOKUP(C3311,Sheet2!A:B,2,FALSE)","v":144}]
[3311,"曾玲玲",361023212002,154012407129,6,{"$f":"VLOOKUP(C3312,Sheet2!A:B,2,FALSE)","v":144}]
[3312,"董宇",361104101005,154232400323,1,{"$f":"VLOOKUP(C3313,Sheet2!A:B,2,FALSE)","v":188.5}]
[3313,"朱思湘",361104101005,154012102708,2,{"$f":"VLOOKUP(C3314,Sheet2!A:B,2,FALSE)","v":188.5}]
[3314,"蔡丽琴",361104101005,154232401901,3,{"$f":"VLOOKUP(C3315,Sheet2!A:B,2,FALSE)","v":188.5}]
[3315,"刘丹",361104101005,154232400427,4,{"$f":"VLOOKUP(C3316,Sheet2!A:B,2,FALSE)","v":188.5}]
[3316,"方柳莹",361104101005,154012301501,5,{"$f":"VLOOKUP(C3317,Sheet2!A:B,2,FALSE)","v":188.5}]
[3317,"龚玲美",361104101005,154232400926,6,{"$f":"VLOOKUP(C3318,Sheet2!A:B,2,FALSE)","v":188.5}]
[3318,"潘盼盼",361104101005,154232401918,7,{"$f":"VLOOKUP(C3319,Sheet2!A:B,2,FALSE)","v":188.5}]
[3319,"罗佳慧",361104101005,154232400923,9,{"$f":"VLOOKUP(C3320,Sheet2!A:B,2,FALSE)","v":188.5}]
[3320,"叶晨梦",361104101005,154012301213,8,{"$f":"VLOOKUP(C3321,Sheet2!A:B,2,FALSE)","v":188.5}]
[3321,"陈军",361104101005,154012301618,10,{"$f":"VLOOKUP(C3322,Sheet2!A:B,2,FALSE)","v":188.5}]
[3322,"王鑫",361104101005,154012102915,11,{"$f":"VLOOKUP(C3323,Sheet2!A:B,2,FALSE)","v":188.5}]
[3323,"龚怡婷",361104101005,154012300416,12,{"$f":"VLOOKUP(C3324,Sheet2!A:B,2,FALSE)","v":188.5}]
[3324,"程晓梅",361104101005,154012300111,13,{"$f":"VLOOKUP(C3325,Sheet2!A:B,2,FALSE)","v":188.5}]
[3325,"张欣",361104101005,154232400721,14,{"$f":"VLOOKUP(C3326,Sheet2!A:B,2,FALSE)","v":188.5}]
[3326,"付子慧",361104101005,154232402108,15,{"$f":"VLOOKUP(C3327,Sheet2!A:B,2,FALSE)","v":188.5}]
[3327,"方慧柔",361104102005,154012201109,1,{"$f":"VLOOKUP(C3328,Sheet2!A:B,2,FALSE)","v":174.5}]
[3328,"吴丹",361104102005,154012201520,2,{"$f":"VLOOKUP(C3329,Sheet2!A:B,2,FALSE)","v":174.5}]
[3329,"余子悦",361104102005,154012200312,3,{"$f":"VLOOKUP(C3330,Sheet2!A:B,2,FALSE)","v":174.5}]
[3330,"施曼雪",361104102005,154232403516,4,{"$f":"VLOOKUP(C3331,Sheet2!A:B,2,FALSE)","v":174.5}]
[3331,"吕叶蓉",361104102005,154232403117,5,{"$f":"VLOOKUP(C3332,Sheet2!A:B,2,FALSE)","v":174.5}]
[3332,"黄亦芬",361104102005,154232402410,6,{"$f":"VLOOKUP(C3333,Sheet2!A:B,2,FALSE)","v":174.5}]
[3333,"蒋玉婷",361104102005,154232403619,7,{"$f":"VLOOKUP(C3334,Sheet2!A:B,2,FALSE)","v":174.5}]
[3334,"林以琴",361104102005,154232403011,8,{"$f":"VLOOKUP(C3335,Sheet2!A:B,2,FALSE)","v":174.5}]
[3335,"叶思慧",361104102005,154012201829,9,{"$f":"VLOOKUP(C3336,Sheet2!A:B,2,FALSE)","v":174.5}]
[3336,"胡雅静",361104102005,154232402911,10,{"$f":"VLOOKUP(C3337,Sheet2!A:B,2,FALSE)","v":174.5}]
[3337,"胡丽珍",361104102005,154012200314,11,{"$f":"VLOOKUP(C3338,Sheet2!A:B,2,FALSE)","v":174.5}]
[3338,"徐玲玲",361104102005,154232402805,12,{"$f":"VLOOKUP(C3339,Sheet2!A:B,2,FALSE)","v":174.5}]
[3339,"王穆利",361104102005,154012202723,13,{"$f":"VLOOKUP(C3340,Sheet2!A:B,2,FALSE)","v":174.5}]
[3340,"俞嘉莉",361104102005,154232404321,14,{"$f":"VLOOKUP(C3341,Sheet2!A:B,2,FALSE)","v":174.5}]
[3341,"高芯雨",361104102005,154232404125,15,{"$f":"VLOOKUP(C3342,Sheet2!A:B,2,FALSE)","v":174.5}]
[3342,"郭玉婷",361104103005,154232405922,1,{"$f":"VLOOKUP(C3343,Sheet2!A:B,2,FALSE)","v":179}]
[3343,"钱小月",361104103005,154012502522,3,{"$f":"VLOOKUP(C3344,Sheet2!A:B,2,FALSE)","v":179}]
[3344,"陈小花",361104103005,154012500607,2,{"$f":"VLOOKUP(C3345,Sheet2!A:B,2,FALSE)","v":179}]
[3345,"夏慧",361104103005,154232404830,4,{"$f":"VLOOKUP(C3346,Sheet2!A:B,2,FALSE)","v":179}]
[3346,"周铃钰",361104103005,154012502222,5,{"$f":"VLOOKUP(C3347,Sheet2!A:B,2,FALSE)","v":179}]
[3347,"郑凯露",361104103005,154232404822,6,{"$f":"VLOOKUP(C3348,Sheet2!A:B,2,FALSE)","v":179}]
[3348,"罗琪",361104103005,154232405811,7,{"$f":"VLOOKUP(C3349,Sheet2!A:B,2,FALSE)","v":179}]
[3349,"姚情",361104103005,154012502517,8,{"$f":"VLOOKUP(C3350,Sheet2!A:B,2,FALSE)","v":179}]
[3350,"刘晓艺",361104103005,154232404821,9,{"$f":"VLOOKUP(C3351,Sheet2!A:B,2,FALSE)","v":179}]
[3351,"吴佳美",361104103005,154012501607,10,{"$f":"VLOOKUP(C3352,Sheet2!A:B,2,FALSE)","v":179}]
[3352,"蒋晨露",361104103005,154232405911,12,{"$f":"VLOOKUP(C3353,Sheet2!A:B,2,FALSE)","v":179}]
[3353,"陈佳琪",361104103005,154232405828,11,{"$f":"VLOOKUP(C3354,Sheet2!A:B,2,FALSE)","v":179}]
[3354,"林芷星",361104103005,154232405205,14,{"$f":"VLOOKUP(C3355,Sheet2!A:B,2,FALSE)","v":179}]
[3355,"熊菲",361104103005,154012500706,13,{"$f":"VLOOKUP(C3356,Sheet2!A:B,2,FALSE)","v":179}]
[3356,"俞玲玲",361104103005,154232405824,15,{"$f":"VLOOKUP(C3357,Sheet2!A:B,2,FALSE)","v":179}]
[3357,"王福美",361104105005,154012601619,1,{"$f":"VLOOKUP(C3358,Sheet2!A:B,2,FALSE)","v":157.5}]
[3358,"周晶菁",361104105005,154232406615,2,{"$f":"VLOOKUP(C3359,Sheet2!A:B,2,FALSE)","v":157.5}]
[3359,"徐睿宁",361104105005,154232406922,3,{"$f":"VLOOKUP(C3360,Sheet2!A:B,2,FALSE)","v":157.5}]
[3360,"苏雅婷",361104105005,154012601225,4,{"$f":"VLOOKUP(C3361,Sheet2!A:B,2,FALSE)","v":157.5}]
[3361,"吴梦轩",361104105005,154232406520,5,{"$f":"VLOOKUP(C3362,Sheet2!A:B,2,FALSE)","v":157.5}]
[3362,"姜晶琦",361104105005,154232406503,6,{"$f":"VLOOKUP(C3363,Sheet2!A:B,2,FALSE)","v":157.5}]
[3363,"邹围唯",361104105005,154232406621,7,{"$f":"VLOOKUP(C3364,Sheet2!A:B,2,FALSE)","v":157.5}]
[3364,"徐佩瑶",361104105005,154232406726,8,{"$f":"VLOOKUP(C3365,Sheet2!A:B,2,FALSE)","v":157.5}]
[3365,"陈稀云",361104105005,154232407007,9,{"$f":"VLOOKUP(C3366,Sheet2!A:B,2,FALSE)","v":157.5}]
[3366,"陈巧雯",361104105005,154012601729,10,{"$f":"VLOOKUP(C3367,Sheet2!A:B,2,FALSE)","v":157.5}]
[3367,"郑佩琳",361104105005,154232406522,11,{"$f":"VLOOKUP(C3368,Sheet2!A:B,2,FALSE)","v":157.5}]
[3368,"张晓象",361104105005,154232406506,12,{"$f":"VLOOKUP(C3369,Sheet2!A:B,2,FALSE)","v":157.5}]
[3369,"缪漂",361104105005,154232406528,13,{"$f":"VLOOKUP(C3370,Sheet2!A:B,2,FALSE)","v":157.5}]
[3370,"杨佩鸿",361104105005,154232406917,14,{"$f":"VLOOKUP(C3371,Sheet2!A:B,2,FALSE)","v":157.5}]
[3371,"封祖坤",361104105005,154232406812,15,{"$f":"VLOOKUP(C3372,Sheet2!A:B,2,FALSE)","v":157.5}]
[3372,"许世珍",361104106005,154232407528,1,{"$f":"VLOOKUP(C3373,Sheet2!A:B,2,FALSE)","v":145}]
[3373,"祝燕玲",361104106005,154232407609,2,{"$f":"VLOOKUP(C3374,Sheet2!A:B,2,FALSE)","v":145}]
[3374,"徐泽丽",361104106005,154012602906,3,{"$f":"VLOOKUP(C3375,Sheet2!A:B,2,FALSE)","v":145}]
[3375,"潘静娴",361104106005,154232407803,5,{"$f":"VLOOKUP(C3376,Sheet2!A:B,2,FALSE)","v":145}]
[3376,"徐心雨",361104106005,154232407212,4,{"$f":"VLOOKUP(C3377,Sheet2!A:B,2,FALSE)","v":145}]
[3377,"林佳鑫",361104106005,154232407520,7,{"$f":"VLOOKUP(C3378,Sheet2!A:B,2,FALSE)","v":145}]
[3378,"张雨菲",361104106005,154232407501,6,{"$f":"VLOOKUP(C3379,Sheet2!A:B,2,FALSE)","v":145}]
[3379,"占子怡",361104106005,154232407829,8,{"$f":"VLOOKUP(C3380,Sheet2!A:B,2,FALSE)","v":145}]
[3380,"郑柳",361104106005,154232407423,9,{"$f":"VLOOKUP(C3381,Sheet2!A:B,2,FALSE)","v":145}]
[3381,"黄琪",361104106005,154232407216,10,{"$f":"VLOOKUP(C3382,Sheet2!A:B,2,FALSE)","v":145}]
[3382,"冯双",361104106005,154232407513,11,{"$f":"VLOOKUP(C3383,Sheet2!A:B,2,FALSE)","v":145}]
[3383,"叶晶",361104106005,154232407727,12,{"$f":"VLOOKUP(C3384,Sheet2!A:B,2,FALSE)","v":145}]
[3384,"郭瑾",361104106005,154232407401,14,{"$f":"VLOOKUP(C3385,Sheet2!A:B,2,FALSE)","v":145}]
[3385,"方文豪",361104106005,154232407325,13,{"$f":"VLOOKUP(C3386,Sheet2!A:B,2,FALSE)","v":145}]
[3386,"黄晓霞",361104106005,154232407215,15,{"$f":"VLOOKUP(C3387,Sheet2!A:B,2,FALSE)","v":145}]
[3387,"张琴",361104107005,154232408220,1,{"$f":"VLOOKUP(C3388,Sheet2!A:B,2,FALSE)","v":131}]
[3388,"孙疏影",361104107005,154232408111,2,{"$f":"VLOOKUP(C3389,Sheet2!A:B,2,FALSE)","v":131}]
[3389,"刘丹",361104107005,154232408304,3,{"$f":"VLOOKUP(C3390,Sheet2!A:B,2,FALSE)","v":131}]
[3390,"桑田园",361104107005,154232408312,4,{"$f":"VLOOKUP(C3391,Sheet2!A:B,2,FALSE)","v":131}]
[3391,"徐丽霞",361104107005,154232408126,5,{"$f":"VLOOKUP(C3392,Sheet2!A:B,2,FALSE)","v":131}]
[3392,"马培心",361104107005,154060410030,6,{"$f":"VLOOKUP(C3393,Sheet2!A:B,2,FALSE)","v":131}]
[3393,"王颖",361104107005,154232408212,7,{"$f":"VLOOKUP(C3394,Sheet2!A:B,2,FALSE)","v":131}]
[3394,"游青霞",361104107005,154232408215,8,{"$f":"VLOOKUP(C3395,Sheet2!A:B,2,FALSE)","v":131}]
[3395,"洪青枝",361104107005,154012404122,9,{"$f":"VLOOKUP(C3396,Sheet2!A:B,2,FALSE)","v":131}]
[3396,"徐若楠",361104107005,154232408227,10,{"$f":"VLOOKUP(C3397,Sheet2!A:B,2,FALSE)","v":131}]
[3397,"张蒙",361104107005,154040703501,11,{"$f":"VLOOKUP(C3398,Sheet2!A:B,2,FALSE)","v":131}]
[3398,"黄荣红",361104107005,154232408303,12,{"$f":"VLOOKUP(C3399,Sheet2!A:B,2,FALSE)","v":131}]
[3399,"刘芊",361104107005,154232408209,13,{"$f":"VLOOKUP(C3400,Sheet2!A:B,2,FALSE)","v":131}]
[3400,"杨越",361104107005,154232408404,14,{"$f":"VLOOKUP(C3401,Sheet2!A:B,2,FALSE)","v":131}]
[3401,"吴雅婷",361104107005,154232408414,15,{"$f":"VLOOKUP(C3402,Sheet2!A:B,2,FALSE)","v":131}]
[3402,"毛佳琪",361104113005,154012603804,1,{"$f":"VLOOKUP(C3403,Sheet2!A:B,2,FALSE)","v":131.5}]
[3403,"童怡玲",361104113005,154232408629,2,{"$f":"VLOOKUP(C3404,Sheet2!A:B,2,FALSE)","v":131.5}]
[3404,"严钰莹",361104113005,154232408605,3,{"$f":"VLOOKUP(C3405,Sheet2!A:B,2,FALSE)","v":131.5}]
[3405,"祁琪",361104113005,154040601402,4,{"$f":"VLOOKUP(C3406,Sheet2!A:B,2,FALSE)","v":131.5}]
[3406,"任艺珍",361104113005,154232408606,5,{"$f":"VLOOKUP(C3407,Sheet2!A:B,2,FALSE)","v":131.5}]
[3407,"张敏",361104113005,154232408603,6,{"$f":"VLOOKUP(C3408,Sheet2!A:B,2,FALSE)","v":131.5}]
[3408,"王丽娟",361104113005,154040601520,7,{"$f":"VLOOKUP(C3409,Sheet2!A:B,2,FALSE)","v":131.5}]
[3409,"邱甜美",361104113005,154012604029,8,{"$f":"VLOOKUP(C3410,Sheet2!A:B,2,FALSE)","v":131.5}]
[3410,"姚静怡",361104113005,154232408519,9,{"$f":"VLOOKUP(C3411,Sheet2!A:B,2,FALSE)","v":131.5}]
[3411,"王怡莹",361104113005,154232408521,10,{"$f":"VLOOKUP(C3412,Sheet2!A:B,2,FALSE)","v":131.5}]
[3412,"夏云云",361104113005,154020404015,11,{"$f":"VLOOKUP(C3413,Sheet2!A:B,2,FALSE)","v":131.5}]
[3413,"王晨鑫",361104113005,154040601510,12,{"$f":"VLOOKUP(C3414,Sheet2!A:B,2,FALSE)","v":131.5}]
[3414,"刘水萍",361104113005,154232408617,13,{"$f":"VLOOKUP(C3415,Sheet2!A:B,2,FALSE)","v":131.5}]
[3415,"宋海婷",361104113005,154232408709,14,{"$f":"VLOOKUP(C3416,Sheet2!A:B,2,FALSE)","v":131.5}]
[3416,"胡苏怡",361104113005,154232408502,15,{"$f":"VLOOKUP(C3417,Sheet2!A:B,2,FALSE)","v":131.5}]
[3417,"丁丽玲",361104201010,154231500107,1,{"$f":"VLOOKUP(C3418,Sheet2!A:B,2,FALSE)","v":151}]
[3418,"徐小凤",361104201010,154231500305,2,{"$f":"VLOOKUP(C3419,Sheet2!A:B,2,FALSE)","v":151}]
[3419,"黄佳欢",361104201010,154231500419,3,{"$f":"VLOOKUP(C3420,Sheet2!A:B,2,FALSE)","v":151}]
[3420,"余晓妹",361104201010,154231500101,4,{"$f":"VLOOKUP(C3421,Sheet2!A:B,2,FALSE)","v":151}]
[3421,"陈思思",361104201010,154231500208,5,{"$f":"VLOOKUP(C3422,Sheet2!A:B,2,FALSE)","v":151}]
[3422,"张艳",361104201010,154231500522,6,{"$f":"VLOOKUP(C3423,Sheet2!A:B,2,FALSE)","v":151}]
[3423,"祝概椰",361104201010,154231500226,7,{"$f":"VLOOKUP(C3424,Sheet2!A:B,2,FALSE)","v":151}]
[3424,"张珺茹",361104201010,154231500518,8,{"$f":"VLOOKUP(C3425,Sheet2!A:B,2,FALSE)","v":151}]
[3425,"郭莹",361104201010,154231500113,9,{"$f":"VLOOKUP(C3426,Sheet2!A:B,2,FALSE)","v":151}]
[3426,"廖佳雯",361104201010,154231500125,10,{"$f":"VLOOKUP(C3427,Sheet2!A:B,2,FALSE)","v":151}]
[3427,"陈镒",361104201010,154231500317,11,{"$f":"VLOOKUP(C3428,Sheet2!A:B,2,FALSE)","v":151}]
[3428,"冯雅欣",361104201010,154231500530,12,{"$f":"VLOOKUP(C3429,Sheet2!A:B,2,FALSE)","v":151}]
[3429,"李梦诗",361104201010,154231500122,13,{"$f":"VLOOKUP(C3430,Sheet2!A:B,2,FALSE)","v":151}]
[3430,"郑曾琦",361104201010,154231500230,14,{"$f":"VLOOKUP(C3431,Sheet2!A:B,2,FALSE)","v":151}]
[3431,"郑硕智",361104201010,154231500427,15,{"$f":"VLOOKUP(C3432,Sheet2!A:B,2,FALSE)","v":151}]
[3432,"郑花枝",361104201010,154231500423,16,{"$f":"VLOOKUP(C3433,Sheet2!A:B,2,FALSE)","v":151}]
[3433,"王珍妮",361104201010,154231500117,17,{"$f":"VLOOKUP(C3434,Sheet2!A:B,2,FALSE)","v":151}]
[3434,"阮宇婷",361104201010,154231500206,18,{"$f":"VLOOKUP(C3435,Sheet2!A:B,2,FALSE)","v":151}]
[3435,"王甜",361104201010,154231500303,19,{"$f":"VLOOKUP(C3436,Sheet2!A:B,2,FALSE)","v":151}]
[3436,"徐佳倩",361104201010,154231500318,20,{"$f":"VLOOKUP(C3437,Sheet2!A:B,2,FALSE)","v":151}]
[3437,"王军平",361104201010,154231500508,21,{"$f":"VLOOKUP(C3438,Sheet2!A:B,2,FALSE)","v":151}]
[3438,"宋雅文",361104201010,154231500121,22,{"$f":"VLOOKUP(C3439,Sheet2!A:B,2,FALSE)","v":151}]
[3439,"李尚卿",361104201010,154012701414,23,{"$f":"VLOOKUP(C3440,Sheet2!A:B,2,FALSE)","v":151}]
[3440,"吴轶雯",361104201010,154231500124,24,{"$f":"VLOOKUP(C3441,Sheet2!A:B,2,FALSE)","v":151}]
[3441,"孙丽丹",361104201010,154231500111,25,{"$f":"VLOOKUP(C3442,Sheet2!A:B,2,FALSE)","v":151}]
[3442,"程心萍",361104202010,154231501017,1,{"$f":"VLOOKUP(C3443,Sheet2!A:B,2,FALSE)","v":175}]
[3443,"徐丽萍",361104202010,154231500703,2,{"$f":"VLOOKUP(C3444,Sheet2!A:B,2,FALSE)","v":175}]
[3444,"陈慧",361104202010,154231500713,3,{"$f":"VLOOKUP(C3445,Sheet2!A:B,2,FALSE)","v":175}]
[3445,"黄婉盈",361104202010,154231501013,4,{"$f":"VLOOKUP(C3446,Sheet2!A:B,2,FALSE)","v":175}]
[3446,"胡新剑",361104202010,154231501130,5,{"$f":"VLOOKUP(C3447,Sheet2!A:B,2,FALSE)","v":175}]
[3447,"余靓柠",361104202010,154012907325,6,{"$f":"VLOOKUP(C3448,Sheet2!A:B,2,FALSE)","v":175}]
[3448,"张添",361104202010,154231500719,7,{"$f":"VLOOKUP(C3449,Sheet2!A:B,2,FALSE)","v":175}]
[3449,"仇雅琦",361104202010,154012906611,8,{"$f":"VLOOKUP(C3450,Sheet2!A:B,2,FALSE)","v":175}]
[3450,"范文菁",361104202010,154210200315,10,{"$f":"VLOOKUP(C3451,Sheet2!A:B,2,FALSE)","v":175}]
[3451,"胡紫慧",361104202010,154012906519,9,{"$f":"VLOOKUP(C3452,Sheet2!A:B,2,FALSE)","v":175}]
[3452,"郑成玉",361104202010,154012907016,11,{"$f":"VLOOKUP(C3453,Sheet2!A:B,2,FALSE)","v":175}]
[3453,"朱崟",361104202010,154231500729,12,{"$f":"VLOOKUP(C3454,Sheet2!A:B,2,FALSE)","v":175}]
[3454,"颜秋玲",361104202010,154012906126,13,{"$f":"VLOOKUP(C3455,Sheet2!A:B,2,FALSE)","v":175}]
[3455,"张凯文",361104202010,154231501112,14,{"$f":"VLOOKUP(C3456,Sheet2!A:B,2,FALSE)","v":175}]
[3456,"何雅云",361104202010,154231500908,15,{"$f":"VLOOKUP(C3457,Sheet2!A:B,2,FALSE)","v":175}]
[3457,"吴子迎",361104202010,154231500918,16,{"$f":"VLOOKUP(C3458,Sheet2!A:B,2,FALSE)","v":175}]
[3458,"吴丽丽",361104202010,154231501128,17,{"$f":"VLOOKUP(C3459,Sheet2!A:B,2,FALSE)","v":175}]
[3459,"俞艳红",361104202010,154231501219,18,{"$f":"VLOOKUP(C3460,Sheet2!A:B,2,FALSE)","v":175}]
[3460,"夏慧慧",361104202010,154012906415,20,{"$f":"VLOOKUP(C3461,Sheet2!A:B,2,FALSE)","v":175}]
[3461,"林佳乐",361104202010,154231500717,19,{"$f":"VLOOKUP(C3462,Sheet2!A:B,2,FALSE)","v":175}]
[3462,"林密",361104202010,154231501029,22,{"$f":"VLOOKUP(C3463,Sheet2!A:B,2,FALSE)","v":175}]
[3463,"罗香翠",361104202010,154231500704,21,{"$f":"VLOOKUP(C3464,Sheet2!A:B,2,FALSE)","v":175}]
[3464,"周鑫燕",361104202010,154231501014,24,{"$f":"VLOOKUP(C3465,Sheet2!A:B,2,FALSE)","v":175}]
[3465,"江冰",361104202010,154012906630,23,{"$f":"VLOOKUP(C3466,Sheet2!A:B,2,FALSE)","v":175}]
[3466,"余子奕",361104202010,154221405515,25,{"$f":"VLOOKUP(C3467,Sheet2!A:B,2,FALSE)","v":175}]
[3467,"汪漪滢",361104202010,154231501224,26,{"$f":"VLOOKUP(C3468,Sheet2!A:B,2,FALSE)","v":175}]
[3468,"郑雪艳",361104203010,154231502011,1,{"$f":"VLOOKUP(C3469,Sheet2!A:B,2,FALSE)","v":182.5}]
[3469,"刘丽娟",361104203010,154012907610,2,{"$f":"VLOOKUP(C3470,Sheet2!A:B,2,FALSE)","v":182.5}]
[3470,"阮婷婷",361104203010,154012907728,3,{"$f":"VLOOKUP(C3471,Sheet2!A:B,2,FALSE)","v":182.5}]
[3471,"周家祺",361104203010,154012908229,4,{"$f":"VLOOKUP(C3472,Sheet2!A:B,2,FALSE)","v":182.5}]
[3472,"张露尧",361104203010,154231501820,5,{"$f":"VLOOKUP(C3473,Sheet2!A:B,2,FALSE)","v":182.5}]
[3473,"刘瑶",361104203010,154231502307,6,{"$f":"VLOOKUP(C3474,Sheet2!A:B,2,FALSE)","v":182.5}]
[3474,"余亚杭",361104203010,154012805008,7,{"$f":"VLOOKUP(C3475,Sheet2!A:B,2,FALSE)","v":182.5}]
[3475,"邱文佳",361104203010,154231502327,9,{"$f":"VLOOKUP(C3476,Sheet2!A:B,2,FALSE)","v":182.5}]
[3476,"叶子怡",361104203010,154231501714,8,{"$f":"VLOOKUP(C3477,Sheet2!A:B,2,FALSE)","v":182.5}]
[3477,"颜志翔",361104203010,154231501904,10,{"$f":"VLOOKUP(C3478,Sheet2!A:B,2,FALSE)","v":182.5}]
[3478,"张滕",361104203010,154231501911,11,{"$f":"VLOOKUP(C3479,Sheet2!A:B,2,FALSE)","v":182.5}]
[3479,"张慧兰",361104203010,154231502004,12,{"$f":"VLOOKUP(C3480,Sheet2!A:B,2,FALSE)","v":182.5}]
[3480,"吴琦",361104203010,154231501818,13,{"$f":"VLOOKUP(C3481,Sheet2!A:B,2,FALSE)","v":182.5}]
[3481,"钟慧妮",361104203010,154231502325,14,{"$f":"VLOOKUP(C3482,Sheet2!A:B,2,FALSE)","v":182.5}]
[3482,"潘锐",361104203010,154231502023,15,{"$f":"VLOOKUP(C3483,Sheet2!A:B,2,FALSE)","v":182.5}]
[3483,"李俊田",361104203010,154231502217,16,{"$f":"VLOOKUP(C3484,Sheet2!A:B,2,FALSE)","v":182.5}]
[3484,"饶婷",361104203010,154231502018,17,{"$f":"VLOOKUP(C3485,Sheet2!A:B,2,FALSE)","v":182.5}]
[3485,"刘静",361104203010,154231501617,18,{"$f":"VLOOKUP(C3486,Sheet2!A:B,2,FALSE)","v":182.5}]
[3486,"鄢晓素",361104203010,154231502224,19,{"$f":"VLOOKUP(C3487,Sheet2!A:B,2,FALSE)","v":182.5}]
[3487,"揭玲倩",361104203010,154231502230,20,{"$f":"VLOOKUP(C3488,Sheet2!A:B,2,FALSE)","v":182.5}]
[3488,"杨微",361104203010,154231502122,21,{"$f":"VLOOKUP(C3489,Sheet2!A:B,2,FALSE)","v":182.5}]
[3489,"张雨柔",361104203010,154231501403,24,{"$f":"VLOOKUP(C3490,Sheet2!A:B,2,FALSE)","v":182.5}]
[3490,"刘嘉慧",361104203010,154231501707,22,{"$f":"VLOOKUP(C3491,Sheet2!A:B,2,FALSE)","v":182.5}]
[3491,"吁柔",361104203010,154012804525,23,{"$f":"VLOOKUP(C3492,Sheet2!A:B,2,FALSE)","v":182.5}]
[3492,"龚紫莹",361104203010,154231501817,25,{"$f":"VLOOKUP(C3493,Sheet2!A:B,2,FALSE)","v":182.5}]
[3493,"陈兰兰",361104204005,154231502723,1,{"$f":"VLOOKUP(C3494,Sheet2!A:B,2,FALSE)","v":129.5}]
[3494,"陈雨暖",361104204005,154231502721,2,{"$f":"VLOOKUP(C3495,Sheet2!A:B,2,FALSE)","v":129.5}]
[3495,"周柳",361104204005,154231502616,3,{"$f":"VLOOKUP(C3496,Sheet2!A:B,2,FALSE)","v":129.5}]
[3496,"袁芬芳",361104204005,154250106014,4,{"$f":"VLOOKUP(C3497,Sheet2!A:B,2,FALSE)","v":129.5}]
[3497,"夏以涵",361104204005,154231502708,5,{"$f":"VLOOKUP(C3498,Sheet2!A:B,2,FALSE)","v":129.5}]
[3498,"陈佩琴",361104204005,154012908713,6,{"$f":"VLOOKUP(C3499,Sheet2!A:B,2,FALSE)","v":129.5}]
[3499,"洪悌珍",361104204005,154231502607,7,{"$f":"VLOOKUP(C3500,Sheet2!A:B,2,FALSE)","v":129.5}]
[3500,"张绮",361104204005,154231502806,8,{"$f":"VLOOKUP(C3501,Sheet2!A:B,2,FALSE)","v":129.5}]
[3501,"何莎",361104204005,154231502808,9,{"$f":"VLOOKUP(C3502,Sheet2!A:B,2,FALSE)","v":129.5}]
[3502,"龚丽颖",361104204005,154231502610,10,{"$f":"VLOOKUP(C3503,Sheet2!A:B,2,FALSE)","v":129.5}]
[3503,"龚文璇",361104204005,154231502614,11,{"$f":"VLOOKUP(C3504,Sheet2!A:B,2,FALSE)","v":129.5}]
[3504,"杨舒晨",361104204005,154231502717,12,{"$f":"VLOOKUP(C3505,Sheet2!A:B,2,FALSE)","v":129.5}]
[3505,"潘姿怡",361104204005,154231502606,13,{"$f":"VLOOKUP(C3506,Sheet2!A:B,2,FALSE)","v":129.5}]
[3506,"廖丹",361104204005,154231502713,14,{"$f":"VLOOKUP(C3507,Sheet2!A:B,2,FALSE)","v":129.5}]
[3507,"董晓菲",361104204005,154012405605,15,{"$f":"VLOOKUP(C3508,Sheet2!A:B,2,FALSE)","v":129.5}]
[3508,"冯宇乐",361104208005,154012406529,1,{"$f":"VLOOKUP(C3509,Sheet2!A:B,2,FALSE)","v":154}]
[3509,"卢盼",361104208005,154231504417,2,{"$f":"VLOOKUP(C3510,Sheet2!A:B,2,FALSE)","v":154}]
[3510,"黄琳",361104208005,154040604406,3,{"$f":"VLOOKUP(C3511,Sheet2!A:B,2,FALSE)","v":154}]
[3511,"丁晨雪",361104208005,154231504419,4,{"$f":"VLOOKUP(C3512,Sheet2!A:B,2,FALSE)","v":154}]
[3512,"邱亚丽",361104208005,154231504518,5,{"$f":"VLOOKUP(C3513,Sheet2!A:B,2,FALSE)","v":154}]
[3513,"陈艺文",361104208005,154231504520,6,{"$f":"VLOOKUP(C3514,Sheet2!A:B,2,FALSE)","v":154}]
[3514,"杨雨欣",361104208005,154231504429,7,{"$f":"VLOOKUP(C3515,Sheet2!A:B,2,FALSE)","v":154}]
[3515,"应俊涛",361104208005,154030307404,8,{"$f":"VLOOKUP(C3516,Sheet2!A:B,2,FALSE)","v":154}]
[3516,"沈雅琪",361104208005,154231504427,9,{"$f":"VLOOKUP(C3517,Sheet2!A:B,2,FALSE)","v":154}]
[3517,"张美",361104208005,154210303519,10,{"$f":"VLOOKUP(C3518,Sheet2!A:B,2,FALSE)","v":154}]
[3518,"徐琳虹",361104208005,154231504422,11,{"$f":"VLOOKUP(C3519,Sheet2!A:B,2,FALSE)","v":154}]
[3519,"丁健明",361104208005,154012406615,12,{"$f":"VLOOKUP(C3520,Sheet2!A:B,2,FALSE)","v":154}]
[3520,"杜月",361104208005,154231504507,14,{"$f":"VLOOKUP(C3521,Sheet2!A:B,2,FALSE)","v":154}]
[3521,"周红剑",361104208005,154012406612,13,{"$f":"VLOOKUP(C3522,Sheet2!A:B,2,FALSE)","v":154}]
[3522,"吴心怡",361104208005,154231504416,15,{"$f":"VLOOKUP(C3523,Sheet2!A:B,2,FALSE)","v":154}]
[3523,"方颐闻",361104209005,154231504603,3,{"$f":"VLOOKUP(C3524,Sheet2!A:B,2,FALSE)","v":174.5}]
[3524,"徐雅文",361104209005,154231504607,5,{"$f":"VLOOKUP(C3525,Sheet2!A:B,2,FALSE)","v":174.5}]
[3525,"吕慧莹",361104209005,154231504623,4,{"$f":"VLOOKUP(C3526,Sheet2!A:B,2,FALSE)","v":174.5}]
[3526,"徐婉",361104209005,154231504611,6,{"$f":"VLOOKUP(C3527,Sheet2!A:B,2,FALSE)","v":174.5}]
[3527,"尹象文",361104209005,154231504715,7,{"$f":"VLOOKUP(C3528,Sheet2!A:B,2,FALSE)","v":174.5}]
[3528,"万筠茹",361104209005,154020502807,8,{"$f":"VLOOKUP(C3529,Sheet2!A:B,2,FALSE)","v":174.5}]
[3529,"孙慧",361104209005,154050316205,9,{"$f":"VLOOKUP(C3530,Sheet2!A:B,2,FALSE)","v":174.5}]
[3530,"钟欣怡",361104209005,154231504627,10,{"$f":"VLOOKUP(C3531,Sheet2!A:B,2,FALSE)","v":174.5}]
[3531,"陈贵妃",361104209005,154231504613,11,{"$f":"VLOOKUP(C3532,Sheet2!A:B,2,FALSE)","v":174.5}]
[3532,"秦玄",361104209005,154231504709,12,{"$f":"VLOOKUP(C3533,Sheet2!A:B,2,FALSE)","v":174.5}]
[3533,"刘丽施",361104209005,154231504601,13,{"$f":"VLOOKUP(C3534,Sheet2!A:B,2,FALSE)","v":174.5}]
[3534,"邹玉玲",361104209005,154231504702,14,{"$f":"VLOOKUP(C3535,Sheet2!A:B,2,FALSE)","v":174.5}]
[3535,"黄梅琴",361104209005,154020502812,15,{"$f":"VLOOKUP(C3536,Sheet2!A:B,2,FALSE)","v":174.5}]
[3536,"赵越",361104209005,154231504701,1,{"$f":"VLOOKUP(C3537,Sheet2!A:B,2,FALSE)","v":174.5}]
[3537,"袁丽清",361104209005,154231504713,2,{"$f":"VLOOKUP(C3538,Sheet2!A:B,2,FALSE)","v":174.5}]
[3538,"叶海鹏",361104210005,154231504917,1,{"$f":"VLOOKUP(C3539,Sheet2!A:B,2,FALSE)","v":144}]
[3539,"郑乐锴",361104210005,154231504813,2,{"$f":"VLOOKUP(C3540,Sheet2!A:B,2,FALSE)","v":144}]
[3540,"毛海兰",361104210005,154231504816,3,{"$f":"VLOOKUP(C3541,Sheet2!A:B,2,FALSE)","v":144}]
[3541,"夏彬",361104210005,154231504801,4,{"$f":"VLOOKUP(C3542,Sheet2!A:B,2,FALSE)","v":144}]
[3542,"童瀚鑫",361104210005,154231504909,5,{"$f":"VLOOKUP(C3543,Sheet2!A:B,2,FALSE)","v":144}]
[3543,"郑倩倩",361104210005,154060604501,6,{"$f":"VLOOKUP(C3544,Sheet2!A:B,2,FALSE)","v":144}]
[3544,"曹前",361104210005,154020502930,7,{"$f":"VLOOKUP(C3545,Sheet2!A:B,2,FALSE)","v":144}]
[3545,"余孝松",361104210005,154012803406,8,{"$f":"VLOOKUP(C3546,Sheet2!A:B,2,FALSE)","v":144}]
[3546,"杨玉兰",361104210005,154231505002,9,{"$f":"VLOOKUP(C3547,Sheet2!A:B,2,FALSE)","v":144}]
[3547,"张琼",361104210005,154231504804,10,{"$f":"VLOOKUP(C3548,Sheet2!A:B,2,FALSE)","v":144}]
[3548,"吴梦霆",361104210005,154231504905,11,{"$f":"VLOOKUP(C3549,Sheet2!A:B,2,FALSE)","v":144}]
[3549,"罗智璇",361104210005,154012803125,12,{"$f":"VLOOKUP(C3550,Sheet2!A:B,2,FALSE)","v":144}]
[3550,"郑嘉敏",361104210005,154231504925,13,{"$f":"VLOOKUP(C3551,Sheet2!A:B,2,FALSE)","v":144}]
[3551,"邵美秀",361104210005,154231504906,14,{"$f":"VLOOKUP(C3552,Sheet2!A:B,2,FALSE)","v":144}]
[3552,"潘民锋",361104210005,154231504824,15,{"$f":"VLOOKUP(C3553,Sheet2!A:B,2,FALSE)","v":144}]
[3553,"叶慧",361104211005,154231505129,1,{"$f":"VLOOKUP(C3554,Sheet2!A:B,2,FALSE)","v":139.5}]
[3554,"叶婷婷",361104211005,154012803819,2,{"$f":"VLOOKUP(C3555,Sheet2!A:B,2,FALSE)","v":139.5}]
[3555,"徐洋洋",361104211005,154231505114,3,{"$f":"VLOOKUP(C3556,Sheet2!A:B,2,FALSE)","v":139.5}]
[3556,"龚思思",361104211005,154231505110,4,{"$f":"VLOOKUP(C3557,Sheet2!A:B,2,FALSE)","v":139.5}]
[3557,"万佳美",361104211005,154012803801,5,{"$f":"VLOOKUP(C3558,Sheet2!A:B,2,FALSE)","v":139.5}]
[3558,"郑玉豪",361104211005,154231505116,6,{"$f":"VLOOKUP(C3559,Sheet2!A:B,2,FALSE)","v":139.5}]
[3559,"史卓凡",361104211005,154242704023,7,{"$f":"VLOOKUP(C3560,Sheet2!A:B,2,FALSE)","v":139.5}]
[3560,"邱佳辉",361104211005,154250106803,8,{"$f":"VLOOKUP(C3561,Sheet2!A:B,2,FALSE)","v":139.5}]
[3561,"郑丽敏",361104211005,154231505117,9,{"$f":"VLOOKUP(C3562,Sheet2!A:B,2,FALSE)","v":139.5}]
[3562,"卢兆龙",361104211005,154231505126,10,{"$f":"VLOOKUP(C3563,Sheet2!A:B,2,FALSE)","v":139.5}]
[3563,"张泳佩",361104211005,154231505120,11,{"$f":"VLOOKUP(C3564,Sheet2!A:B,2,FALSE)","v":139.5}]
[3564,"林雨冰",361104211005,154012803814,12,{"$f":"VLOOKUP(C3565,Sheet2!A:B,2,FALSE)","v":139.5}]
[3565,"张思远",361104211005,154231505124,13,{"$f":"VLOOKUP(C3566,Sheet2!A:B,2,FALSE)","v":139.5}]
[3566,"陈思涛",361104211005,154231505105,14,{"$f":"VLOOKUP(C3567,Sheet2!A:B,2,FALSE)","v":139.5}]
[3567,"纪又暄",361104211005,154231505207,15,{"$f":"VLOOKUP(C3568,Sheet2!A:B,2,FALSE)","v":139.5}]
[3568,"赖婷婷",361104212005,154231505408,1,{"$f":"VLOOKUP(C3569,Sheet2!A:B,2,FALSE)","v":135.5}]
[3569,"李星毅",361104212005,154231505422,2,{"$f":"VLOOKUP(C3570,Sheet2!A:B,2,FALSE)","v":135.5}]
[3570,"周淑函",361104212005,154231505302,3,{"$f":"VLOOKUP(C3571,Sheet2!A:B,2,FALSE)","v":135.5}]
[3571,"丁敏",361104212005,154012407117,4,{"$f":"VLOOKUP(C3572,Sheet2!A:B,2,FALSE)","v":135.5}]
[3572,"毛熙",361104212005,154231505404,5,{"$f":"VLOOKUP(C3573,Sheet2!A:B,2,FALSE)","v":135.5}]
[3573,"陈彩玉",361104212005,154231505406,6,{"$f":"VLOOKUP(C3574,Sheet2!A:B,2,FALSE)","v":135.5}]
[3574,"陈丽",361104212005,154231505412,7,{"$f":"VLOOKUP(C3575,Sheet2!A:B,2,FALSE)","v":135.5}]
[3575,"周丽丽",361104212005,154231505310,8,{"$f":"VLOOKUP(C3576,Sheet2!A:B,2,FALSE)","v":135.5}]
[3576,"谢梦娟",361104212005,154231505315,9,{"$f":"VLOOKUP(C3577,Sheet2!A:B,2,FALSE)","v":135.5}]
[3577,"叶苏苏",361104212005,154231505417,10,{"$f":"VLOOKUP(C3578,Sheet2!A:B,2,FALSE)","v":135.5}]
[3578,"方琪",361104212005,154231505309,11,{"$f":"VLOOKUP(C3579,Sheet2!A:B,2,FALSE)","v":135.5}]
[3579,"毛侃惠",361104212005,154231505416,12,{"$f":"VLOOKUP(C3580,Sheet2!A:B,2,FALSE)","v":135.5}]
[3580,"吴小青",361104212005,154231505323,13,{"$f":"VLOOKUP(C3581,Sheet2!A:B,2,FALSE)","v":135.5}]
[3581,"程玉",361104212005,154231505327,14,{"$f":"VLOOKUP(C3582,Sheet2!A:B,2,FALSE)","v":135.5}]
[3582,"杨雨晴",361104212005,154231505316,15,{"$f":"VLOOKUP(C3583,Sheet2!A:B,2,FALSE)","v":135.5}]
[3583,"李琴",361104213005,154231505503,1,{"$f":"VLOOKUP(C3584,Sheet2!A:B,2,FALSE)","v":133}]
[3584,"邓云风",361104213005,154012407419,2,{"$f":"VLOOKUP(C3585,Sheet2!A:B,2,FALSE)","v":133}]
[3585,"徐小燕",361104213005,154231505517,3,{"$f":"VLOOKUP(C3586,Sheet2!A:B,2,FALSE)","v":133}]
[3586,"吴秋菊",361104213005,154012407401,4,{"$f":"VLOOKUP(C3587,Sheet2!A:B,2,FALSE)","v":133}]
[3587,"卢腾辉",361104213005,154012407420,5,{"$f":"VLOOKUP(C3588,Sheet2!A:B,2,FALSE)","v":133}]
[3588,"林婷",361104213005,154231505514,6,{"$f":"VLOOKUP(C3589,Sheet2!A:B,2,FALSE)","v":133}]
[3589,"方茜",361104213005,154012407405,7,{"$f":"VLOOKUP(C3590,Sheet2!A:B,2,FALSE)","v":133}]
[3590,"徐子瑜",361104213005,154231505513,8,{"$f":"VLOOKUP(C3591,Sheet2!A:B,2,FALSE)","v":133}]
[3591,"周梦霞",361104213005,154012407408,9,{"$f":"VLOOKUP(C3592,Sheet2!A:B,2,FALSE)","v":133}]
[3592,"张阿倩",361104213005,154231505516,10,{"$f":"VLOOKUP(C3593,Sheet2!A:B,2,FALSE)","v":133}]
[3593,"何万川",361104213005,154231505520,11,{"$f":"VLOOKUP(C3594,Sheet2!A:B,2,FALSE)","v":133}]
[3594,"曾灵利",361104213005,154211001204,12,{"$f":"VLOOKUP(C3595,Sheet2!A:B,2,FALSE)","v":133}]
[3595,"占昱洲",361104213005,154231505505,13,{"$f":"VLOOKUP(C3596,Sheet2!A:B,2,FALSE)","v":133}]
[3596,"叶志照",361104213005,154231505507,14,{"$f":"VLOOKUP(C3597,Sheet2!A:B,2,FALSE)","v":133}]
[3597,"曾晨",361104213005,154231505510,15,{"$f":"VLOOKUP(C3598,Sheet2!A:B,2,FALSE)","v":133}]
[3598,"谭奇奇",361125201002,154012701216,1,{"$f":"VLOOKUP(C3599,Sheet2!A:B,2,FALSE)","v":114.5}]
[3599,"张敏",361125201002,154231500229,2,{"$f":"VLOOKUP(C3600,Sheet2!A:B,2,FALSE)","v":114.5}]
[3600,"刘依伶",361125201002,154231500407,3,{"$f":"VLOOKUP(C3601,Sheet2!A:B,2,FALSE)","v":114.5}]
[3601,"陈雨情",361125201002,154231500408,4,{"$f":"VLOOKUP(C3602,Sheet2!A:B,2,FALSE)","v":114.5}]
[3602,"吴湾",361125201002,154231500506,5,{"$f":"VLOOKUP(C3603,Sheet2!A:B,2,FALSE)","v":114.5}]
[3603,"田泽玉",361125202002,154231501020,1,{"$f":"VLOOKUP(C3604,Sheet2!A:B,2,FALSE)","v":129}]
[3604,"廖璐",361125202002,154231500809,2,{"$f":"VLOOKUP(C3605,Sheet2!A:B,2,FALSE)","v":129}]
[3605,"黎家琴",361125202002,154231500702,3,{"$f":"VLOOKUP(C3606,Sheet2!A:B,2,FALSE)","v":129}]
[3606,"谢雅楠",361125202002,154231501022,4,{"$f":"VLOOKUP(C3607,Sheet2!A:B,2,FALSE)","v":129}]
[3607,"胡瑞璐",361125202002,154231501228,5,{"$f":"VLOOKUP(C3608,Sheet2!A:B,2,FALSE)","v":129}]
[3608,"许霜",361125202002,154231501220,6,{"$f":"VLOOKUP(C3609,Sheet2!A:B,2,FALSE)","v":129}]
[3609,"郑思远",361125203002,154231502425,1,{"$f":"VLOOKUP(C3610,Sheet2!A:B,2,FALSE)","v":159}]
[3610,"杨玉",361125203002,154012908401,2,{"$f":"VLOOKUP(C3611,Sheet2!A:B,2,FALSE)","v":159}]
[3611,"汪新琴",361125203002,154231502211,3,{"$f":"VLOOKUP(C3612,Sheet2!A:B,2,FALSE)","v":159}]
[3612,"周绍妹",361125203002,154012908304,5,{"$f":"VLOOKUP(C3613,Sheet2!A:B,2,FALSE)","v":159}]
[3613,"肖媛",361125203002,154231501809,4,{"$f":"VLOOKUP(C3614,Sheet2!A:B,2,FALSE)","v":159}]
[3614,"胡豪",361125203002,154012805426,6,{"$f":"VLOOKUP(C3615,Sheet2!A:B,2,FALSE)","v":159}]
[3615,"郑婷婷",361125210002,154231504818,1,{"$f":"VLOOKUP(C3616,Sheet2!A:B,2,FALSE)","v":151.5}]
[3616,"李新莲",361125210002,154231504826,2,{"$f":"VLOOKUP(C3617,Sheet2!A:B,2,FALSE)","v":151.5}]
[3617,"管文琪",361125210002,154231504807,3,{"$f":"VLOOKUP(C3618,Sheet2!A:B,2,FALSE)","v":151.5}]
[3618,"包有清",361125210002,154231504926,4,{"$f":"VLOOKUP(C3619,Sheet2!A:B,2,FALSE)","v":151.5}]
[3619,"暨豪",361125210002,154231504829,5,{"$f":"VLOOKUP(C3620,Sheet2!A:B,2,FALSE)","v":151.5}]
[3620,"何婷婷",361125210002,154030307619,6,{"$f":"VLOOKUP(C3621,Sheet2!A:B,2,FALSE)","v":151.5}]
[3621,"周勇",361125211002,154231505109,1,{"$f":"VLOOKUP(C3622,Sheet2!A:B,2,FALSE)","v":129}]
[3622,"周聪",361125212003,154231505304,1,{"$f":"VLOOKUP(C3623,Sheet2!A:B,2,FALSE)","v":132.5}]
[3623,"程苏琪",361125212003,154231505324,2,{"$f":"VLOOKUP(C3624,Sheet2!A:B,2,FALSE)","v":132.5}]
[3624,"乐琳丽",361125212003,154231505318,3,{"$f":"VLOOKUP(C3625,Sheet2!A:B,2,FALSE)","v":132.5}]
[3625,"余静瑶",361126204005,154012909006,1,{"$f":"VLOOKUP(C3626,Sheet2!A:B,2,FALSE)","v":155}]
[3626,"毛颂雅",361126204005,154231502809,2,{"$f":"VLOOKUP(C3627,Sheet2!A:B,2,FALSE)","v":155}]
[3627,"詹青文",361126204005,154012909019,3,{"$f":"VLOOKUP(C3628,Sheet2!A:B,2,FALSE)","v":155}]
[3628,"张少琪",361126204005,154231502701,4,{"$f":"VLOOKUP(C3629,Sheet2!A:B,2,FALSE)","v":155}]
[3629,"高杨晓婕",361126204005,154231502629,5,{"$f":"VLOOKUP(C3630,Sheet2!A:B,2,FALSE)","v":155}]
[3630,"林芳玉",361126204005,154231502718,6,{"$f":"VLOOKUP(C3631,Sheet2!A:B,2,FALSE)","v":155}]
[3631,"舒倩",361126204005,154231502715,7,{"$f":"VLOOKUP(C3632,Sheet2!A:B,2,FALSE)","v":155}]
[3632,"刘立成",361126204005,154231502628,8,{"$f":"VLOOKUP(C3633,Sheet2!A:B,2,FALSE)","v":155}]
[3633,"夏一馨",361126204005,154231502617,9,{"$f":"VLOOKUP(C3634,Sheet2!A:B,2,FALSE)","v":155}]
[3634,"韩远",361126204005,154231502612,10,{"$f":"VLOOKUP(C3635,Sheet2!A:B,2,FALSE)","v":155}]
[3635,"郑苗苗",361126204005,154231502729,11,{"$f":"VLOOKUP(C3636,Sheet2!A:B,2,FALSE)","v":155}]
[3636,"翁圳华",361126204005,154231502608,12,{"$f":"VLOOKUP(C3637,Sheet2!A:B,2,FALSE)","v":155}]
[3637,"叶晓兰",361126204005,154231502609,13,{"$f":"VLOOKUP(C3638,Sheet2!A:B,2,FALSE)","v":155}]
[3638,"杨丽",361126204005,154020501918,14,{"$f":"VLOOKUP(C3639,Sheet2!A:B,2,FALSE)","v":155}]
[3639,"胡顺威",361126204005,154231502626,15,{"$f":"VLOOKUP(C3640,Sheet2!A:B,2,FALSE)","v":155}]
[3640,"吕雨欣",361126205005,154231503316,1,{"$f":"VLOOKUP(C3641,Sheet2!A:B,2,FALSE)","v":126.5}]
[3641,"童少林",361126205005,154231502904,2,{"$f":"VLOOKUP(C3642,Sheet2!A:B,2,FALSE)","v":126.5}]
[3642,"王苗",361126205005,154231503314,3,{"$f":"VLOOKUP(C3643,Sheet2!A:B,2,FALSE)","v":126.5}]
[3643,"张宁敏",361126205005,154231503119,4,{"$f":"VLOOKUP(C3644,Sheet2!A:B,2,FALSE)","v":126.5}]
[3644,"叶佳敏",361126205005,154231503227,5,{"$f":"VLOOKUP(C3645,Sheet2!A:B,2,FALSE)","v":126.5}]
[3645,"彭艺赟",361126205005,154211001826,6,{"$f":"VLOOKUP(C3646,Sheet2!A:B,2,FALSE)","v":126.5}]
[3646,"林丽霞",361126205005,154231503202,7,{"$f":"VLOOKUP(C3647,Sheet2!A:B,2,FALSE)","v":126.5}]
[3647,"吴开开",361126205005,154231502910,8,{"$f":"VLOOKUP(C3648,Sheet2!A:B,2,FALSE)","v":126.5}]
[3648,"童金胜",361126205005,154012406009,9,{"$f":"VLOOKUP(C3649,Sheet2!A:B,2,FALSE)","v":126.5}]
[3649,"胡晓龙",361126205005,154040603503,10,{"$f":"VLOOKUP(C3650,Sheet2!A:B,2,FALSE)","v":126.5}]
[3650,"邱琴",361126205005,154231503323,11,{"$f":"VLOOKUP(C3651,Sheet2!A:B,2,FALSE)","v":126.5}]
[3651,"谢文强",361126205005,154231503203,12,{"$f":"VLOOKUP(C3652,Sheet2!A:B,2,FALSE)","v":126.5}]
[3652,"朱日坤",361126205005,154231503129,13,{"$f":"VLOOKUP(C3653,Sheet2!A:B,2,FALSE)","v":126.5}]
[3653,"汤为开",361126205005,154231503123,14,{"$f":"VLOOKUP(C3654,Sheet2!A:B,2,FALSE)","v":126.5}]
[3654,"赖彩燕",361126205005,154012804227,15,{"$f":"VLOOKUP(C3655,Sheet2!A:B,2,FALSE)","v":126.5}]
[3655,"叶慧敏",361126206005,154012701902,1,{"$f":"VLOOKUP(C3656,Sheet2!A:B,2,FALSE)","v":163.5}]
[3656,"盛钰思",361126206005,154231503828,2,{"$f":"VLOOKUP(C3657,Sheet2!A:B,2,FALSE)","v":163.5}]
[3657,"苏颖洁",361126206005,154231503819,3,{"$f":"VLOOKUP(C3658,Sheet2!A:B,2,FALSE)","v":163.5}]
[3658,"李梦颖",361126206005,154231503623,4,{"$f":"VLOOKUP(C3659,Sheet2!A:B,2,FALSE)","v":163.5}]
[3659,"濮佳静",361126206005,154020502415,5,{"$f":"VLOOKUP(C3660,Sheet2!A:B,2,FALSE)","v":163.5}]
[3660,"程嘉欣",361126206005,154231503717,6,{"$f":"VLOOKUP(C3661,Sheet2!A:B,2,FALSE)","v":163.5}]
[3661,"唐予涵",361126206005,154231503701,7,{"$f":"VLOOKUP(C3662,Sheet2!A:B,2,FALSE)","v":163.5}]
[3662,"马惠媛",361126206005,154231503521,8,{"$f":"VLOOKUP(C3663,Sheet2!A:B,2,FALSE)","v":163.5}]
[3663,"熊玥",361126206005,154231503830,9,{"$f":"VLOOKUP(C3664,Sheet2!A:B,2,FALSE)","v":163.5}]
[3664,"周余柳",361126206005,154231503505,10,{"$f":"VLOOKUP(C3665,Sheet2!A:B,2,FALSE)","v":163.5}]
[3665,"应梦瑶",361126206005,154231503616,12,{"$f":"VLOOKUP(C3666,Sheet2!A:B,2,FALSE)","v":163.5}]
[3666,"舒琪",361126206005,154012702501,11,{"$f":"VLOOKUP(C3667,Sheet2!A:B,2,FALSE)","v":163.5}]
[3667,"郑诗卉",361126206005,154231503608,13,{"$f":"VLOOKUP(C3668,Sheet2!A:B,2,FALSE)","v":163.5}]
[3668,"姜倩",361126206005,154231503817,15,{"$f":"VLOOKUP(C3669,Sheet2!A:B,2,FALSE)","v":163.5}]
[3669,"邵思捷",361126206005,154060604112,14,{"$f":"VLOOKUP(C3670,Sheet2!A:B,2,FALSE)","v":163.5}]
[3670,"张钰",361126207005,154231504304,1,{"$f":"VLOOKUP(C3671,Sheet2!A:B,2,FALSE)","v":135}]
[3671,"周素贞",361126207005,154231504202,2,{"$f":"VLOOKUP(C3672,Sheet2!A:B,2,FALSE)","v":135}]
[3672,"桂嫣然",361126207005,154060604211,3,{"$f":"VLOOKUP(C3673,Sheet2!A:B,2,FALSE)","v":135}]
[3673,"周伊敏",361126207005,154231504118,4,{"$f":"VLOOKUP(C3674,Sheet2!A:B,2,FALSE)","v":135}]
[3674,"舒义路",361126207005,154231504221,5,{"$f":"VLOOKUP(C3675,Sheet2!A:B,2,FALSE)","v":135}]
[3675,"彭冲",361126207005,154060604219,6,{"$f":"VLOOKUP(C3676,Sheet2!A:B,2,FALSE)","v":135}]
[3676,"毛江福克",361126207005,154231504214,7,{"$f":"VLOOKUP(C3677,Sheet2!A:B,2,FALSE)","v":135}]
[3677,"李思翌",361126207005,154020502603,8,{"$f":"VLOOKUP(C3678,Sheet2!A:B,2,FALSE)","v":135}]
[3678,"范丽华",361126207005,154231504207,9,{"$f":"VLOOKUP(C3679,Sheet2!A:B,2,FALSE)","v":135}]
[3679,"谢思彬",361126207005,154231504303,10,{"$f":"VLOOKUP(C3680,Sheet2!A:B,2,FALSE)","v":135}]
[3680,"叶斯斯",361126207005,154231504127,11,{"$f":"VLOOKUP(C3681,Sheet2!A:B,2,FALSE)","v":135}]
[3681,"缪丽",361126207005,154231504201,12,{"$f":"VLOOKUP(C3682,Sheet2!A:B,2,FALSE)","v":135}]
[3682,"王晶",361126207005,154231504305,13,{"$f":"VLOOKUP(C3683,Sheet2!A:B,2,FALSE)","v":135}]
[3683,"罗杨蕊",361126207005,154231504120,14,{"$f":"VLOOKUP(C3684,Sheet2!A:B,2,FALSE)","v":135}]
[3684,"吴佳惠",361126207005,154231504111,15,{"$f":"VLOOKUP(C3685,Sheet2!A:B,2,FALSE)","v":135}]
[3685,"华兰芳",361126208005,154012406519,1,{"$f":"VLOOKUP(C3686,Sheet2!A:B,2,FALSE)","v":143}]
[3686,"毛成远",361126208005,154231504425,2,{"$f":"VLOOKUP(C3687,Sheet2!A:B,2,FALSE)","v":143}]
[3687,"蔡梅珍",361126208005,154020502707,3,{"$f":"VLOOKUP(C3688,Sheet2!A:B,2,FALSE)","v":143}]
[3688,"朱小燕",361126208005,154231504415,4,{"$f":"VLOOKUP(C3689,Sheet2!A:B,2,FALSE)","v":143}]
[3689,"钱小丽",361126208005,154231504405,5,{"$f":"VLOOKUP(C3690,Sheet2!A:B,2,FALSE)","v":143}]
[3690,"张玲",361126208005,154040604502,6,{"$f":"VLOOKUP(C3691,Sheet2!A:B,2,FALSE)","v":143}]
[3691,"万晓丽",361126208005,154060604307,7,{"$f":"VLOOKUP(C3692,Sheet2!A:B,2,FALSE)","v":143}]
[3692,"徐文静",361126208005,154020502712,8,{"$f":"VLOOKUP(C3693,Sheet2!A:B,2,FALSE)","v":143}]
[3693,"刘孝煌",361126208005,154231504430,9,{"$f":"VLOOKUP(C3694,Sheet2!A:B,2,FALSE)","v":143}]
[3694,"张训虎",361126208005,154012406614,10,{"$f":"VLOOKUP(C3695,Sheet2!A:B,2,FALSE)","v":143}]
[3695,"王晶晶",361126208005,154020502702,11,{"$f":"VLOOKUP(C3696,Sheet2!A:B,2,FALSE)","v":143}]
[3696,"张恒",361126208005,154231504506,12,{"$f":"VLOOKUP(C3697,Sheet2!A:B,2,FALSE)","v":143}]
[3697,"江露露",361126208005,154060604304,13,{"$f":"VLOOKUP(C3698,Sheet2!A:B,2,FALSE)","v":143}]
[3698,"徐可",361126208005,154040604421,14,{"$f":"VLOOKUP(C3699,Sheet2!A:B,2,FALSE)","v":143}]
[3699,"周瑶雯",361126208005,154231504409,15,{"$f":"VLOOKUP(C3700,Sheet2!A:B,2,FALSE)","v":143}]
[3700,"万芸",361126209005,154012406803,1,{"$f":"VLOOKUP(C3701,Sheet2!A:B,2,FALSE)","v":174}]
[3701,"吴宇琳",361126209005,154231504612,2,{"$f":"VLOOKUP(C3702,Sheet2!A:B,2,FALSE)","v":174}]
[3702,"王光思",361126209005,154060604405,3,{"$f":"VLOOKUP(C3703,Sheet2!A:B,2,FALSE)","v":174}]
[3703,"卓璐瑛",361126209005,154231504705,4,{"$f":"VLOOKUP(C3704,Sheet2!A:B,2,FALSE)","v":174}]
[3704,"刘建红",361126209005,154050316203,5,{"$f":"VLOOKUP(C3705,Sheet2!A:B,2,FALSE)","v":174}]
[3705,"谢金红",361126209005,154231504620,6,{"$f":"VLOOKUP(C3706,Sheet2!A:B,2,FALSE)","v":174}]
[3706,"王淑英",361126209005,154040803515,7,{"$f":"VLOOKUP(C3707,Sheet2!A:B,2,FALSE)","v":174}]
[3707,"车娇娇",361126209005,154040803525,9,{"$f":"VLOOKUP(C3708,Sheet2!A:B,2,FALSE)","v":174}]
[3708,"张海燕",361126209005,154040803512,8,{"$f":"VLOOKUP(C3709,Sheet2!A:B,2,FALSE)","v":174}]
[3709,"张琴",361126209005,154231504712,10,{"$f":"VLOOKUP(C3710,Sheet2!A:B,2,FALSE)","v":174}]
[3710,"罗宇晰",361126209005,154012406914,11,{"$f":"VLOOKUP(C3711,Sheet2!A:B,2,FALSE)","v":174}]
[3711,"符茂志",361126209005,154012406822,12,{"$f":"VLOOKUP(C3712,Sheet2!A:B,2,FALSE)","v":174}]
[3712,"曾淑萍",361126209005,154231504630,13,{"$f":"VLOOKUP(C3713,Sheet2!A:B,2,FALSE)","v":174}]
[3713,"乐莹",361126209005,154060604407,14,{"$f":"VLOOKUP(C3714,Sheet2!A:B,2,FALSE)","v":174}]
[3714,"李双芸",361126209005,154231504610,15,{"$f":"VLOOKUP(C3715,Sheet2!A:B,2,FALSE)","v":174}]
[3715,"虞红英",361126212005,154231505413,1,{"$f":"VLOOKUP(C3716,Sheet2!A:B,2,FALSE)","v":127.5}]
[3716,"杨静静",361126212005,154231505326,2,{"$f":"VLOOKUP(C3717,Sheet2!A:B,2,FALSE)","v":127.5}]
[3717,"涂贤凯",361126212005,154012407301,3,{"$f":"VLOOKUP(C3718,Sheet2!A:B,2,FALSE)","v":127.5}]
[3718,"姜晨晨",361126212005,154030307922,4,{"$f":"VLOOKUP(C3719,Sheet2!A:B,2,FALSE)","v":127.5}]
[3719,"许思思",361126212005,154231505410,5,{"$f":"VLOOKUP(C3720,Sheet2!A:B,2,FALSE)","v":127.5}]
[3720,"徐一之",361126212005,154060604707,6,{"$f":"VLOOKUP(C3721,Sheet2!A:B,2,FALSE)","v":127.5}]
[3721,"孙紫霜",361126212005,154231505303,7,{"$f":"VLOOKUP(C3722,Sheet2!A:B,2,FALSE)","v":127.5}]
[3722,"李婷",361126212005,154012407105,8,{"$f":"VLOOKUP(C3723,Sheet2!A:B,2,FALSE)","v":127.5}]
[3723,"聂琴",361126212005,154231505314,9,{"$f":"VLOOKUP(C3724,Sheet2!A:B,2,FALSE)","v":127.5}]
[3724,"李雅梅",361126212005,154231505312,10,{"$f":"VLOOKUP(C3725,Sheet2!A:B,2,FALSE)","v":127.5}]
[3725,"翁雨婷",361126212005,154012407225,11,{"$f":"VLOOKUP(C3726,Sheet2!A:B,2,FALSE)","v":127.5}]
[3726,"鲍思雨",361126212005,154242502729,12,{"$f":"VLOOKUP(C3727,Sheet2!A:B,2,FALSE)","v":127.5}]
[3727,"黄颖彦",361126212005,154020503419,13,{"$f":"VLOOKUP(C3728,Sheet2!A:B,2,FALSE)","v":127.5}]
[3728,"谭君亭",361126212005,154060604704,14,{"$f":"VLOOKUP(C3729,Sheet2!A:B,2,FALSE)","v":127.5}]
[3729,"黄颖",361126212005,154060604705,15,{"$f":"VLOOKUP(C3730,Sheet2!A:B,2,FALSE)","v":127.5}]
[3730,"任素萍",361127101050,154221400702,1,{"$f":"VLOOKUP(C3731,Sheet2!A:B,2,FALSE)","v":192}]
[3731,"石倩颖",361127101050,154020401023,2,{"$f":"VLOOKUP(C3732,Sheet2!A:B,2,FALSE)","v":192}]
[3732,"翁诺洁",361127101050,154232401319,3,{"$f":"VLOOKUP(C3733,Sheet2!A:B,2,FALSE)","v":192}]
[3733,"张嘉敏",361127101050,154012300902,4,{"$f":"VLOOKUP(C3734,Sheet2!A:B,2,FALSE)","v":192}]
[3734,"刘锦娟",361127101050,154012301327,5,{"$f":"VLOOKUP(C3735,Sheet2!A:B,2,FALSE)","v":192}]
[3735,"涂小芳",361127101050,154012302419,6,{"$f":"VLOOKUP(C3736,Sheet2!A:B,2,FALSE)","v":192}]
[3736,"黄梦婷",361127101050,154232401330,7,{"$f":"VLOOKUP(C3737,Sheet2!A:B,2,FALSE)","v":192}]
[3737,"彭婷婷",361127101050,154012102902,8,{"$f":"VLOOKUP(C3738,Sheet2!A:B,2,FALSE)","v":192}]
[3738,"余云萍",361127101050,154012302918,11,{"$f":"VLOOKUP(C3739,Sheet2!A:B,2,FALSE)","v":192}]
[3739,"尧佩佩",361127101050,154250101409,9,{"$f":"VLOOKUP(C3740,Sheet2!A:B,2,FALSE)","v":192}]
[3740,"黄蓉",361127101050,154012301211,10,{"$f":"VLOOKUP(C3741,Sheet2!A:B,2,FALSE)","v":192}]
[3741,"陈星茹",361127101050,154060600721,12,{"$f":"VLOOKUP(C3742,Sheet2!A:B,2,FALSE)","v":192}]
[3742,"王丽珍",361127101050,154012301407,14,{"$f":"VLOOKUP(C3743,Sheet2!A:B,2,FALSE)","v":192}]
[3743,"彭娅",361127101050,154060600115,13,{"$f":"VLOOKUP(C3744,Sheet2!A:B,2,FALSE)","v":192}]
[3744,"殷如燕",361127101050,154012300628,15,{"$f":"VLOOKUP(C3745,Sheet2!A:B,2,FALSE)","v":192}]
[3745,"彭方方",361127101050,154210104223,16,{"$f":"VLOOKUP(C3746,Sheet2!A:B,2,FALSE)","v":192}]
[3746,"徐媛清",361127101050,154012101518,17,{"$f":"VLOOKUP(C3747,Sheet2!A:B,2,FALSE)","v":192}]
[3747,"夏淑敏",361127101050,154020400526,18,{"$f":"VLOOKUP(C3748,Sheet2!A:B,2,FALSE)","v":192}]
[3748,"符益露",361127101050,154232400426,19,{"$f":"VLOOKUP(C3749,Sheet2!A:B,2,FALSE)","v":192}]
[3749,"周翠燕",361127101050,154060600902,22,{"$f":"VLOOKUP(C3750,Sheet2!A:B,2,FALSE)","v":192}]
[3750,"曾雪",361127101050,154012101508,20,{"$f":"VLOOKUP(C3751,Sheet2!A:B,2,FALSE)","v":192}]
[3751,"王赞",361127101050,154012100112,21,{"$f":"VLOOKUP(C3752,Sheet2!A:B,2,FALSE)","v":192}]
[3752,"邹胜男",361127101050,154012301423,23,{"$f":"VLOOKUP(C3753,Sheet2!A:B,2,FALSE)","v":192}]
[3753,"夏薇",361127101050,154012101928,24,{"$f":"VLOOKUP(C3754,Sheet2!A:B,2,FALSE)","v":192}]
[3754,"万楚璇",361127101050,154020400411,25,{"$f":"VLOOKUP(C3755,Sheet2!A:B,2,FALSE)","v":192}]
[3755,"曾芬",361127101050,154250101904,26,{"$f":"VLOOKUP(C3756,Sheet2!A:B,2,FALSE)","v":192}]
[3756,"曾淑芳",361127101050,154012101825,27,{"$f":"VLOOKUP(C3757,Sheet2!A:B,2,FALSE)","v":192}]
[3757,"蒋小乔",361127101050,154242402405,28,{"$f":"VLOOKUP(C3758,Sheet2!A:B,2,FALSE)","v":192}]
[3758,"曾芸芸",361127101050,154250100820,31,{"$f":"VLOOKUP(C3759,Sheet2!A:B,2,FALSE)","v":192}]
[3759,"何双双",361127101050,154012301418,30,{"$f":"VLOOKUP(C3760,Sheet2!A:B,2,FALSE)","v":192}]
[3760,"景佳欣",361127101050,154040701503,29,{"$f":"VLOOKUP(C3761,Sheet2!A:B,2,FALSE)","v":192}]
[3761,"刘梦婷",361127101050,154012102326,32,{"$f":"VLOOKUP(C3762,Sheet2!A:B,2,FALSE)","v":192}]
[3762,"邓娇",361127101050,154221400929,33,{"$f":"VLOOKUP(C3763,Sheet2!A:B,2,FALSE)","v":192}]
[3763,"张雨朦",361127101050,154012100607,34,{"$f":"VLOOKUP(C3764,Sheet2!A:B,2,FALSE)","v":192}]
[3764,"郭文英",361127101050,154242402020,35,{"$f":"VLOOKUP(C3765,Sheet2!A:B,2,FALSE)","v":192}]
[3765,"徐佳璐",361127101050,154250101430,36,{"$f":"VLOOKUP(C3766,Sheet2!A:B,2,FALSE)","v":192}]
[3766,"黄福艳",361127101050,154012300618,38,{"$f":"VLOOKUP(C3767,Sheet2!A:B,2,FALSE)","v":192}]
[3767,"方淑兰",361127101050,154210104830,37,{"$f":"VLOOKUP(C3768,Sheet2!A:B,2,FALSE)","v":192}]
[3768,"李梦然",361127101050,154012300124,39,{"$f":"VLOOKUP(C3769,Sheet2!A:B,2,FALSE)","v":192}]
[3769,"朱沁玉",361127101050,154012102528,41,{"$f":"VLOOKUP(C3770,Sheet2!A:B,2,FALSE)","v":192}]
[3770,"郑凤",361127101050,154232400804,42,{"$f":"VLOOKUP(C3771,Sheet2!A:B,2,FALSE)","v":192}]
[3771,"熊秀琳",361127101050,154012101028,40,{"$f":"VLOOKUP(C3772,Sheet2!A:B,2,FALSE)","v":192}]
[3772,"刘忆",361127101050,154232401026,43,{"$f":"VLOOKUP(C3773,Sheet2!A:B,2,FALSE)","v":192}]
[3773,"袁玮",361127101050,154012101813,44,{"$f":"VLOOKUP(C3774,Sheet2!A:B,2,FALSE)","v":192}]
[3774,"毛月月",361127101050,154012102516,45,{"$f":"VLOOKUP(C3775,Sheet2!A:B,2,FALSE)","v":192}]
[3775,"王馨兰",361127101050,154242401513,48,{"$f":"VLOOKUP(C3776,Sheet2!A:B,2,FALSE)","v":192}]
[3776,"吴晓莉",361127101050,154012302112,46,{"$f":"VLOOKUP(C3777,Sheet2!A:B,2,FALSE)","v":192}]
[3777,"李晨",361127101050,154232400929,47,{"$f":"VLOOKUP(C3778,Sheet2!A:B,2,FALSE)","v":192}]
[3778,"欧阳秋实",361127101050,154012302001,51,{"$f":"VLOOKUP(C3779,Sheet2!A:B,2,FALSE)","v":192}]
[3779,"肖艺",361127101050,154242401923,49,{"$f":"VLOOKUP(C3780,Sheet2!A:B,2,FALSE)","v":192}]
[3780,"解鑫",361127101050,154242401325,50,{"$f":"VLOOKUP(C3781,Sheet2!A:B,2,FALSE)","v":192}]
[3781,"张海霞",361127101050,154012101815,53,{"$f":"VLOOKUP(C3782,Sheet2!A:B,2,FALSE)","v":192}]
[3782,"吕蕾",361127101050,154210103616,55,{"$f":"VLOOKUP(C3783,Sheet2!A:B,2,FALSE)","v":192}]
[3783,"陈小玉",361127101050,154012100514,54,{"$f":"VLOOKUP(C3784,Sheet2!A:B,2,FALSE)","v":192}]
[3784,"钟滢",361127101050,154221400621,52,{"$f":"VLOOKUP(C3785,Sheet2!A:B,2,FALSE)","v":192}]
[3785,"朱惠玲",361127101050,154050313005,56,{"$f":"VLOOKUP(C3786,Sheet2!A:B,2,FALSE)","v":192}]
[3786,"杨艳倩",361127101050,154250100230,57,{"$f":"VLOOKUP(C3787,Sheet2!A:B,2,FALSE)","v":192}]
[3787,"刘芳",361127101050,154012300220,59,{"$f":"VLOOKUP(C3788,Sheet2!A:B,2,FALSE)","v":192}]
[3788,"巴素琴",361127101050,154012101016,60,{"$f":"VLOOKUP(C3789,Sheet2!A:B,2,FALSE)","v":192}]
[3789,"揭娟娟",361127101050,154020400729,58,{"$f":"VLOOKUP(C3790,Sheet2!A:B,2,FALSE)","v":192}]
[3790,"余水敏",361127101050,154232400802,62,{"$f":"VLOOKUP(C3791,Sheet2!A:B,2,FALSE)","v":192}]
[3791,"黄怡",361127101050,154012101823,61,{"$f":"VLOOKUP(C3792,Sheet2!A:B,2,FALSE)","v":192}]
[3792,"陶利盼",361127101050,154232400113,63,{"$f":"VLOOKUP(C3793,Sheet2!A:B,2,FALSE)","v":192}]
[3793,"王娜娜",361127101050,154020400323,66,{"$f":"VLOOKUP(C3794,Sheet2!A:B,2,FALSE)","v":192}]
[3794,"甘丽娟",361127101050,154012100908,64,{"$f":"VLOOKUP(C3795,Sheet2!A:B,2,FALSE)","v":192}]
[3795,"李盼懿",361127101050,154012302206,65,{"$f":"VLOOKUP(C3796,Sheet2!A:B,2,FALSE)","v":192}]
[3796,"李子媛",361127101050,154250100414,67,{"$f":"VLOOKUP(C3797,Sheet2!A:B,2,FALSE)","v":192}]
[3797,"喻娅",361127101050,154012101218,74,{"$f":"VLOOKUP(C3798,Sheet2!A:B,2,FALSE)","v":192}]
[3798,"罗思萌",361127101050,154221400824,72,{"$f":"VLOOKUP(C3799,Sheet2!A:B,2,FALSE)","v":192}]
[3799,"李小娟",361127101050,154012101618,69,{"$f":"VLOOKUP(C3800,Sheet2!A:B,2,FALSE)","v":192}]
[3800,"徐智君",361127101050,154232400517,70,{"$f":"VLOOKUP(C3801,Sheet2!A:B,2,FALSE)","v":192}]
[3801,"丁宇萍",361127101050,154012300206,73,{"$f":"VLOOKUP(C3802,Sheet2!A:B,2,FALSE)","v":192}]
[3802,"邵薇",361127101050,154012100604,71,{"$f":"VLOOKUP(C3803,Sheet2!A:B,2,FALSE)","v":192}]
[3803,"刘芳",361127101050,154242400615,68,{"$f":"VLOOKUP(C3804,Sheet2!A:B,2,FALSE)","v":192}]
[3804,"曾金欢",361127101050,154250100502,76,{"$f":"VLOOKUP(C3805,Sheet2!A:B,2,FALSE)","v":192}]
[3805,"李桂容",361127101050,154221400821,75,{"$f":"VLOOKUP(C3806,Sheet2!A:B,2,FALSE)","v":192}]
[3806,"祝玉娟",361127102050,154012200623,1,{"$f":"VLOOKUP(C3807,Sheet2!A:B,2,FALSE)","v":193}]
[3807,"张桃",361127102050,154012201922,3,{"$f":"VLOOKUP(C3808,Sheet2!A:B,2,FALSE)","v":193}]
[3808,"金云云",361127102050,154020401518,2,{"$f":"VLOOKUP(C3809,Sheet2!A:B,2,FALSE)","v":193}]
[3809,"宋华仙",361127102050,154012202425,4,{"$f":"VLOOKUP(C3810,Sheet2!A:B,2,FALSE)","v":193}]
[3810,"祝海冰",361127102050,154232402817,5,{"$f":"VLOOKUP(C3811,Sheet2!A:B,2,FALSE)","v":193}]
[3811,"姚安娜",361127102050,154012202913,6,{"$f":"VLOOKUP(C3812,Sheet2!A:B,2,FALSE)","v":193}]
[3812,"夏风萍",361127102050,154012200419,9,{"$f":"VLOOKUP(C3813,Sheet2!A:B,2,FALSE)","v":193}]
[3813,"曾荣",361127102050,154012200915,8,{"$f":"VLOOKUP(C3814,Sheet2!A:B,2,FALSE)","v":193}]
[3814,"游鸿辉",361127102050,154250102614,7,{"$f":"VLOOKUP(C3815,Sheet2!A:B,2,FALSE)","v":193}]
[3815,"饶雨晴",361127102050,154232403401,10,{"$f":"VLOOKUP(C3816,Sheet2!A:B,2,FALSE)","v":193}]
[3816,"王小花",361127102050,154242700315,12,{"$f":"VLOOKUP(C3817,Sheet2!A:B,2,FALSE)","v":193}]
[3817,"苏相丹",361127102050,154012200819,11,{"$f":"VLOOKUP(C3818,Sheet2!A:B,2,FALSE)","v":193}]
[3818,"汪雨济",361127102050,154012201322,13,{"$f":"VLOOKUP(C3819,Sheet2!A:B,2,FALSE)","v":193}]
[3819,"沈江秘",361127102050,154012203707,14,{"$f":"VLOOKUP(C3820,Sheet2!A:B,2,FALSE)","v":193}]
[3820,"陈小松",361127102050,154221402305,15,{"$f":"VLOOKUP(C3821,Sheet2!A:B,2,FALSE)","v":193}]
[3821,"吴梦云",361127102050,154250102314,18,{"$f":"VLOOKUP(C3822,Sheet2!A:B,2,FALSE)","v":193}]
[3822,"李娜",361127102050,154012200603,19,{"$f":"VLOOKUP(C3823,Sheet2!A:B,2,FALSE)","v":193}]
[3823,"刘姝娴",361127102050,154012202615,17,{"$f":"VLOOKUP(C3824,Sheet2!A:B,2,FALSE)","v":193}]
[3824,"严鑫",361127102050,154012203227,16,{"$f":"VLOOKUP(C3825,Sheet2!A:B,2,FALSE)","v":193}]
[3825,"金淑芳",361127102050,154012203916,20,{"$f":"VLOOKUP(C3826,Sheet2!A:B,2,FALSE)","v":193}]
[3826,"叶莹莹",361127102050,154012201218,21,{"$f":"VLOOKUP(C3827,Sheet2!A:B,2,FALSE)","v":193}]
[3827,"林康燕",361127102050,154012303516,22,{"$f":"VLOOKUP(C3828,Sheet2!A:B,2,FALSE)","v":193}]
[3828,"龚名红",361127102050,154012303506,23,{"$f":"VLOOKUP(C3829,Sheet2!A:B,2,FALSE)","v":193}]
[3829,"徐兰",361127102050,154250102023,24,{"$f":"VLOOKUP(C3830,Sheet2!A:B,2,FALSE)","v":193}]
[3830,"丁琳子",361127102050,154250103318,26,{"$f":"VLOOKUP(C3831,Sheet2!A:B,2,FALSE)","v":193}]
[3831,"段小桂",361127102050,154242700815,27,{"$f":"VLOOKUP(C3832,Sheet2!A:B,2,FALSE)","v":193}]
[3832,"丁嘉云",361127102050,154250103018,25,{"$f":"VLOOKUP(C3833,Sheet2!A:B,2,FALSE)","v":193}]
[3833,"尧兰兰",361127102050,154250102827,29,{"$f":"VLOOKUP(C3834,Sheet2!A:B,2,FALSE)","v":193}]
[3834,"彭素萍",361127102050,154242700923,28,{"$f":"VLOOKUP(C3835,Sheet2!A:B,2,FALSE)","v":193}]
[3835,"余园",361127102050,154012202307,30,{"$f":"VLOOKUP(C3836,Sheet2!A:B,2,FALSE)","v":193}]
[3836,"李群",361127102050,154211200307,31,{"$f":"VLOOKUP(C3837,Sheet2!A:B,2,FALSE)","v":193}]
[3837,"叶方健",361127102050,154012202127,32,{"$f":"VLOOKUP(C3838,Sheet2!A:B,2,FALSE)","v":193}]
[3838,"李思思",361127102050,154232404418,34,{"$f":"VLOOKUP(C3839,Sheet2!A:B,2,FALSE)","v":193}]
[3839,"陈梦祥",361127102050,154012201212,33,{"$f":"VLOOKUP(C3840,Sheet2!A:B,2,FALSE)","v":193}]
[3840,"张智玲",361127102050,154012303222,36,{"$f":"VLOOKUP(C3841,Sheet2!A:B,2,FALSE)","v":193}]
[3841,"周娴静",361127102050,154040800830,35,{"$f":"VLOOKUP(C3842,Sheet2!A:B,2,FALSE)","v":193}]
[3842,"刘莉莉",361127102050,154040800621,38,{"$f":"VLOOKUP(C3843,Sheet2!A:B,2,FALSE)","v":193}]
[3843,"龚琪",361127102050,154242700317,37,{"$f":"VLOOKUP(C3844,Sheet2!A:B,2,FALSE)","v":193}]
[3844,"李雨婷",361127102050,154012202727,39,{"$f":"VLOOKUP(C3845,Sheet2!A:B,2,FALSE)","v":193}]
[3845,"李静懿",361127102050,154012201807,40,{"$f":"VLOOKUP(C3846,Sheet2!A:B,2,FALSE)","v":193}]
[3846,"刘林",361127102050,154060601421,41,{"$f":"VLOOKUP(C3847,Sheet2!A:B,2,FALSE)","v":193}]
[3847,"余丹琴",361127102050,154060601113,42,{"$f":"VLOOKUP(C3848,Sheet2!A:B,2,FALSE)","v":193}]
[3848,"曾坤",361127102050,154012201424,45,{"$f":"VLOOKUP(C3849,Sheet2!A:B,2,FALSE)","v":193}]
[3849,"鄢迎",361127102050,154012201211,43,{"$f":"VLOOKUP(C3850,Sheet2!A:B,2,FALSE)","v":193}]
[3850,"杨春娇",361127102050,154012203601,44,{"$f":"VLOOKUP(C3851,Sheet2!A:B,2,FALSE)","v":193}]
[3851,"高云",361127102050,154012303802,46,{"$f":"VLOOKUP(C3852,Sheet2!A:B,2,FALSE)","v":193}]
[3852,"王亮",361127102050,154012201927,47,{"$f":"VLOOKUP(C3853,Sheet2!A:B,2,FALSE)","v":193}]
[3853,"张紫莹",361127102050,154250102405,48,{"$f":"VLOOKUP(C3854,Sheet2!A:B,2,FALSE)","v":193}]
[3854,"王沁婷",361127102050,154250103330,49,{"$f":"VLOOKUP(C3855,Sheet2!A:B,2,FALSE)","v":193}]
[3855,"余佳",361127102050,154012204030,51,{"$f":"VLOOKUP(C3856,Sheet2!A:B,2,FALSE)","v":193}]
[3856,"艾佳美",361127102050,154040800929,52,{"$f":"VLOOKUP(C3857,Sheet2!A:B,2,FALSE)","v":193}]
[3857,"陈梦萍",361127102050,154060601321,50,{"$f":"VLOOKUP(C3858,Sheet2!A:B,2,FALSE)","v":193}]
[3858,"曾婷",361127102050,154012201614,54,{"$f":"VLOOKUP(C3859,Sheet2!A:B,2,FALSE)","v":193}]
[3859,"熊苑莹",361127102050,154040801624,55,{"$f":"VLOOKUP(C3860,Sheet2!A:B,2,FALSE)","v":193}]
[3860,"梅青",361127102050,154012303728,53,{"$f":"VLOOKUP(C3861,Sheet2!A:B,2,FALSE)","v":193}]
[3861,"崔紫薇",361127102050,154012202109,56,{"$f":"VLOOKUP(C3862,Sheet2!A:B,2,FALSE)","v":193}]
[3862,"华正鸣",361127102050,154012203424,57,{"$f":"VLOOKUP(C3863,Sheet2!A:B,2,FALSE)","v":193}]
[3863,"李玉娟",361127102050,154020402102,58,{"$f":"VLOOKUP(C3864,Sheet2!A:B,2,FALSE)","v":193}]
[3864,"唐娜芳",361127102050,154250103027,59,{"$f":"VLOOKUP(C3865,Sheet2!A:B,2,FALSE)","v":193}]
[3865,"徐梦霞",361127102050,154232404104,61,{"$f":"VLOOKUP(C3866,Sheet2!A:B,2,FALSE)","v":193}]
[3866,"李娜",361127102050,154242700111,62,{"$f":"VLOOKUP(C3867,Sheet2!A:B,2,FALSE)","v":193}]
[3867,"辜文慧",361127102050,154012303929,60,{"$f":"VLOOKUP(C3868,Sheet2!A:B,2,FALSE)","v":193}]
[3868,"郑雅雯",361127102050,154012201125,63,{"$f":"VLOOKUP(C3869,Sheet2!A:B,2,FALSE)","v":193}]
[3869,"华珍珍",361127102050,154020401907,64,{"$f":"VLOOKUP(C3870,Sheet2!A:B,2,FALSE)","v":193}]
[3870,"黄勃浩",361127102050,154250102911,65,{"$f":"VLOOKUP(C3871,Sheet2!A:B,2,FALSE)","v":193}]
[3871,"周恬",361127102050,154012201715,66,{"$f":"VLOOKUP(C3872,Sheet2!A:B,2,FALSE)","v":193}]
[3872,"曹华",361127102050,154242701705,67,{"$f":"VLOOKUP(C3873,Sheet2!A:B,2,FALSE)","v":193}]
[3873,"姜悦",361127102050,154232404107,68,{"$f":"VLOOKUP(C3874,Sheet2!A:B,2,FALSE)","v":193}]
[3874,"涂琳琳",361127102050,154012201014,70,{"$f":"VLOOKUP(C3875,Sheet2!A:B,2,FALSE)","v":193}]
[3875,"熊佳美",361127102050,154012203307,71,{"$f":"VLOOKUP(C3876,Sheet2!A:B,2,FALSE)","v":193}]
[3876,"王翠湖",361127102050,154012303228,69,{"$f":"VLOOKUP(C3877,Sheet2!A:B,2,FALSE)","v":193}]
[3877,"游璐",361127102050,154012202429,72,{"$f":"VLOOKUP(C3878,Sheet2!A:B,2,FALSE)","v":193}]
[3878,"刘敏",361127102050,154232402924,73,{"$f":"VLOOKUP(C3879,Sheet2!A:B,2,FALSE)","v":193}]
[3879,"刘丽颖",361127102050,154012202323,76,{"$f":"VLOOKUP(C3880,Sheet2!A:B,2,FALSE)","v":193}]
[3880,"邹嘉雨",361127102050,154012203217,74,{"$f":"VLOOKUP(C3881,Sheet2!A:B,2,FALSE)","v":193}]
[3881,"王嘉遥",361127102050,154012202018,75,{"$f":"VLOOKUP(C3882,Sheet2!A:B,2,FALSE)","v":193}]
[3882,"付志红",361127102050,154012202715,77,{"$f":"VLOOKUP(C3883,Sheet2!A:B,2,FALSE)","v":193}]
[3883,"鲁予芝",361127103030,154250103615,1,{"$f":"VLOOKUP(C3884,Sheet2!A:B,2,FALSE)","v":180.5}]
[3884,"田薇",361127103030,154012500317,2,{"$f":"VLOOKUP(C3885,Sheet2!A:B,2,FALSE)","v":180.5}]
[3885,"张梦华",361127103030,154060601901,3,{"$f":"VLOOKUP(C3886,Sheet2!A:B,2,FALSE)","v":180.5}]
[3886,"孔丽娟",361127103030,154250103527,4,{"$f":"VLOOKUP(C3887,Sheet2!A:B,2,FALSE)","v":180.5}]
[3887,"余艳琴",361127103030,154012500303,5,{"$f":"VLOOKUP(C3888,Sheet2!A:B,2,FALSE)","v":180.5}]
[3888,"高佛",361127103030,154050313617,6,{"$f":"VLOOKUP(C3889,Sheet2!A:B,2,FALSE)","v":180.5}]
[3889,"黄琛",361127103030,154250103607,7,{"$f":"VLOOKUP(C3890,Sheet2!A:B,2,FALSE)","v":180.5}]
[3890,"冷娇伟",361127103030,154012502120,8,{"$f":"VLOOKUP(C3891,Sheet2!A:B,2,FALSE)","v":180.5}]
[3891,"宋瑜",361127103030,154012500205,9,{"$f":"VLOOKUP(C3892,Sheet2!A:B,2,FALSE)","v":180.5}]
[3892,"向君婵",361127103030,154040601030,10,{"$f":"VLOOKUP(C3893,Sheet2!A:B,2,FALSE)","v":180.5}]
[3893,"罗睿莉",361127103030,154012501315,11,{"$f":"VLOOKUP(C3894,Sheet2!A:B,2,FALSE)","v":180.5}]
[3894,"熊思慧",361127103030,154012501725,12,{"$f":"VLOOKUP(C3895,Sheet2!A:B,2,FALSE)","v":180.5}]
[3895,"李文鑫",361127103030,154012500213,13,{"$f":"VLOOKUP(C3896,Sheet2!A:B,2,FALSE)","v":180.5}]
[3896,"江念慈",361127103030,154232404702,15,{"$f":"VLOOKUP(C3897,Sheet2!A:B,2,FALSE)","v":180.5}]
[3897,"方铭",361127103030,154012500229,14,{"$f":"VLOOKUP(C3898,Sheet2!A:B,2,FALSE)","v":180.5}]
[3898,"邓栩雯",361127103030,154012501223,16,{"$f":"VLOOKUP(C3899,Sheet2!A:B,2,FALSE)","v":180.5}]
[3899,"成丽珍",361127103030,154040600518,17,{"$f":"VLOOKUP(C3900,Sheet2!A:B,2,FALSE)","v":180.5}]
[3900,"林艳荟",361127103030,154040600816,18,{"$f":"VLOOKUP(C3901,Sheet2!A:B,2,FALSE)","v":180.5}]
[3901,"周媛媛",361127103030,154012501629,19,{"$f":"VLOOKUP(C3902,Sheet2!A:B,2,FALSE)","v":180.5}]
[3902,"龙春梅",361127103030,154221402512,21,{"$f":"VLOOKUP(C3903,Sheet2!A:B,2,FALSE)","v":180.5}]
[3903,"艾时时",361127103030,154012502221,20,{"$f":"VLOOKUP(C3904,Sheet2!A:B,2,FALSE)","v":180.5}]
[3904,"邓彩霞",361127103030,154012500617,23,{"$f":"VLOOKUP(C3905,Sheet2!A:B,2,FALSE)","v":180.5}]
[3905,"罗贤华",361127103030,154221402526,22,{"$f":"VLOOKUP(C3906,Sheet2!A:B,2,FALSE)","v":180.5}]
[3906,"李逸莹",361127103030,154232405419,24,{"$f":"VLOOKUP(C3907,Sheet2!A:B,2,FALSE)","v":180.5}]
[3907,"李佳欣",361127103030,154012501618,25,{"$f":"VLOOKUP(C3908,Sheet2!A:B,2,FALSE)","v":180.5}]
[3908,"廖杭静",361127103030,154232405909,26,{"$f":"VLOOKUP(C3909,Sheet2!A:B,2,FALSE)","v":180.5}]
[3909,"周丹",361127103030,154060602029,28,{"$f":"VLOOKUP(C3910,Sheet2!A:B,2,FALSE)","v":180.5}]
[3910,"余小兰",361127103030,154012500120,27,{"$f":"VLOOKUP(C3911,Sheet2!A:B,2,FALSE)","v":180.5}]
[3911,"戴健",361127103030,154012501330,29,{"$f":"VLOOKUP(C3912,Sheet2!A:B,2,FALSE)","v":180.5}]
[3912,"江婷婷",361127103030,154250103430,30,{"$f":"VLOOKUP(C3913,Sheet2!A:B,2,FALSE)","v":180.5}]
[3913,"陈美桃",361127103030,154040600609,31,{"$f":"VLOOKUP(C3914,Sheet2!A:B,2,FALSE)","v":180.5}]
[3914,"章琦",361127103030,154232405822,32,{"$f":"VLOOKUP(C3915,Sheet2!A:B,2,FALSE)","v":180.5}]
[3915,"周琪",361127103030,154060601904,33,{"$f":"VLOOKUP(C3916,Sheet2!A:B,2,FALSE)","v":180.5}]
[3916,"冷丹春",361127103030,154040600304,34,{"$f":"VLOOKUP(C3917,Sheet2!A:B,2,FALSE)","v":180.5}]
[3917,"王宇",361127103030,154210602223,37,{"$f":"VLOOKUP(C3918,Sheet2!A:B,2,FALSE)","v":180.5}]
[3918,"许雨婷",361127103030,154020402314,35,{"$f":"VLOOKUP(C3919,Sheet2!A:B,2,FALSE)","v":180.5}]
[3919,"吴晨璐",361127103030,154012501702,36,{"$f":"VLOOKUP(C3920,Sheet2!A:B,2,FALSE)","v":180.5}]
[3920,"万明明",361127103030,154012500119,38,{"$f":"VLOOKUP(C3921,Sheet2!A:B,2,FALSE)","v":180.5}]
[3921,"张琪琪",361127103030,154060602005,39,{"$f":"VLOOKUP(C3922,Sheet2!A:B,2,FALSE)","v":180.5}]
[3922,"谢水根",361127103030,154232405003,40,{"$f":"VLOOKUP(C3923,Sheet2!A:B,2,FALSE)","v":180.5}]
[3923,"彭梓商",361127103030,154060602009,43,{"$f":"VLOOKUP(C3924,Sheet2!A:B,2,FALSE)","v":180.5}]
[3924,"赵明霞",361127103030,154012502009,41,{"$f":"VLOOKUP(C3925,Sheet2!A:B,2,FALSE)","v":180.5}]
[3925,"曹建萍",361127103030,154012501102,42,{"$f":"VLOOKUP(C3926,Sheet2!A:B,2,FALSE)","v":180.5}]
[3926,"熊朦晰",361127103030,154012500725,44,{"$f":"VLOOKUP(C3927,Sheet2!A:B,2,FALSE)","v":180.5}]
[3927,"胡伟敏",361127103030,154012502302,45,{"$f":"VLOOKUP(C3928,Sheet2!A:B,2,FALSE)","v":180.5}]
[3928,"吴瑶瑶",361127104008,154242500103,1,{"$f":"VLOOKUP(C3929,Sheet2!A:B,2,FALSE)","v":204.5}]
[3929,"肖可欣",361127104008,154232406205,2,{"$f":"VLOOKUP(C3930,Sheet2!A:B,2,FALSE)","v":204.5}]
[3930,"黄雪莹",361127104008,154012600503,3,{"$f":"VLOOKUP(C3931,Sheet2!A:B,2,FALSE)","v":204.5}]
[3931,"夏梨红",361127104008,154012600427,4,{"$f":"VLOOKUP(C3932,Sheet2!A:B,2,FALSE)","v":204.5}]
[3932,"丁利琴",361127104008,154040702608,5,{"$f":"VLOOKUP(C3933,Sheet2!A:B,2,FALSE)","v":204.5}]
[3933,"熊志芳",361127104008,154250103804,6,{"$f":"VLOOKUP(C3934,Sheet2!A:B,2,FALSE)","v":204.5}]
[3934,"江怡",361127104008,154012600330,7,{"$f":"VLOOKUP(C3935,Sheet2!A:B,2,FALSE)","v":204.5}]
[3935,"李江玲",361127104008,154012600323,9,{"$f":"VLOOKUP(C3936,Sheet2!A:B,2,FALSE)","v":204.5}]
[3936,"杨雅婷",361127104008,154250104012,8,{"$f":"VLOOKUP(C3937,Sheet2!A:B,2,FALSE)","v":204.5}]
[3937,"余桃桃",361127104008,154050313806,10,{"$f":"VLOOKUP(C3938,Sheet2!A:B,2,FALSE)","v":204.5}]
[3938,"朱佳佳",361127104008,154232406414,12,{"$f":"VLOOKUP(C3939,Sheet2!A:B,2,FALSE)","v":204.5}]
[3939,"周露淇",361127104008,154060602308,11,{"$f":"VLOOKUP(C3940,Sheet2!A:B,2,FALSE)","v":204.5}]
[3940,"卢依琴",361127104008,154040702609,13,{"$f":"VLOOKUP(C3941,Sheet2!A:B,2,FALSE)","v":204.5}]
[3941,"何子玲",361127104008,154012600416,14,{"$f":"VLOOKUP(C3942,Sheet2!A:B,2,FALSE)","v":204.5}]
[3942,"龚瑞颖",361127104008,154012601101,15,{"$f":"VLOOKUP(C3943,Sheet2!A:B,2,FALSE)","v":204.5}]
[3943,"彭丹阳",361127104008,154012601019,16,{"$f":"VLOOKUP(C3944,Sheet2!A:B,2,FALSE)","v":204.5}]
[3944,"郑钰珍",361127104008,154012601106,17,{"$f":"VLOOKUP(C3945,Sheet2!A:B,2,FALSE)","v":204.5}]
[3945,"张菀芬",361127104008,154012600209,18,{"$f":"VLOOKUP(C3946,Sheet2!A:B,2,FALSE)","v":204.5}]
[3946,"桂莹",361127104008,154060602309,19,{"$f":"VLOOKUP(C3947,Sheet2!A:B,2,FALSE)","v":204.5}]
[3947,"周紫怡",361127104008,154250103915,20,{"$f":"VLOOKUP(C3948,Sheet2!A:B,2,FALSE)","v":204.5}]
[3948,"林佳薇",361127105008,154012602025,1,{"$f":"VLOOKUP(C3949,Sheet2!A:B,2,FALSE)","v":126}]
[3949,"周倩",361127105008,154232406818,2,{"$f":"VLOOKUP(C3950,Sheet2!A:B,2,FALSE)","v":126}]
[3950,"匡千",361127105008,154012601807,3,{"$f":"VLOOKUP(C3951,Sheet2!A:B,2,FALSE)","v":126}]
[3951,"李响",361127105008,154012601424,4,{"$f":"VLOOKUP(C3952,Sheet2!A:B,2,FALSE)","v":126}]
[3952,"黄情",361127105008,154030303502,5,{"$f":"VLOOKUP(C3953,Sheet2!A:B,2,FALSE)","v":126}]
[3953,"江校萍",361127105008,154232406504,6,{"$f":"VLOOKUP(C3954,Sheet2!A:B,2,FALSE)","v":126}]
[3954,"刘轩",361127105008,154040702923,7,{"$f":"VLOOKUP(C3955,Sheet2!A:B,2,FALSE)","v":126}]
[3955,"崔松",361127105008,154250104309,8,{"$f":"VLOOKUP(C3956,Sheet2!A:B,2,FALSE)","v":126}]
[3956,"宁子浩",361127105008,154210604923,9,{"$f":"VLOOKUP(C3957,Sheet2!A:B,2,FALSE)","v":126}]
[3957,"陈菲菲",361127105008,154250104218,10,{"$f":"VLOOKUP(C3958,Sheet2!A:B,2,FALSE)","v":126}]
[3958,"张婉婷",361127105008,154020402927,11,{"$f":"VLOOKUP(C3959,Sheet2!A:B,2,FALSE)","v":126}]
[3959,"陈淑婷",361127105008,154232406704,12,{"$f":"VLOOKUP(C3960,Sheet2!A:B,2,FALSE)","v":126}]
[3960,"蒋志强",361127105008,154012601712,13,{"$f":"VLOOKUP(C3961,Sheet2!A:B,2,FALSE)","v":126}]
[3961,"罗翔",361127105008,154040703315,14,{"$f":"VLOOKUP(C3962,Sheet2!A:B,2,FALSE)","v":126}]
[3962,"尤日磊",361127105008,154012601809,15,{"$f":"VLOOKUP(C3963,Sheet2!A:B,2,FALSE)","v":126}]
[3963,"曾桂珍",361127105008,154232406916,16,{"$f":"VLOOKUP(C3964,Sheet2!A:B,2,FALSE)","v":126}]
[3964,"汤俊媛",361127105008,154232406507,17,{"$f":"VLOOKUP(C3965,Sheet2!A:B,2,FALSE)","v":126}]
[3965,"吴蕴青",361127105008,154242600119,18,{"$f":"VLOOKUP(C3966,Sheet2!A:B,2,FALSE)","v":126}]
[3966,"毛雅慧",361127105008,154060602425,19,{"$f":"VLOOKUP(C3967,Sheet2!A:B,2,FALSE)","v":126}]
[3967,"周琪",361127105008,154232407010,20,{"$f":"VLOOKUP(C3968,Sheet2!A:B,2,FALSE)","v":126}]
[3968,"张秋兰",361127106008,154232407717,1,{"$f":"VLOOKUP(C3969,Sheet2!A:B,2,FALSE)","v":163.5}]
[3969,"彭丹",361127106008,154012603211,2,{"$f":"VLOOKUP(C3970,Sheet2!A:B,2,FALSE)","v":163.5}]
[3970,"罗莹",361127106008,154012603714,3,{"$f":"VLOOKUP(C3971,Sheet2!A:B,2,FALSE)","v":163.5}]
[3971,"章艳",361127106008,154012602902,4,{"$f":"VLOOKUP(C3972,Sheet2!A:B,2,FALSE)","v":163.5}]
[3972,"徐唯迪",361127106008,154012603019,5,{"$f":"VLOOKUP(C3973,Sheet2!A:B,2,FALSE)","v":163.5}]
[3973,"仇静怡",361127106008,154232407326,6,{"$f":"VLOOKUP(C3974,Sheet2!A:B,2,FALSE)","v":163.5}]
[3974,"徐吟",361127106008,154012603422,7,{"$f":"VLOOKUP(C3975,Sheet2!A:B,2,FALSE)","v":163.5}]
[3975,"周灵慧",361127106008,154012602730,8,{"$f":"VLOOKUP(C3976,Sheet2!A:B,2,FALSE)","v":163.5}]
[3976,"曾遥",361127106008,154242600701,9,{"$f":"VLOOKUP(C3977,Sheet2!A:B,2,FALSE)","v":163.5}]
[3977,"梁珊珊",361127106008,154012602525,10,{"$f":"VLOOKUP(C3978,Sheet2!A:B,2,FALSE)","v":163.5}]
[3978,"詹怡",361127106008,154012602627,11,{"$f":"VLOOKUP(C3979,Sheet2!A:B,2,FALSE)","v":163.5}]
[3979,"袁思",361127106008,154221403412,12,{"$f":"VLOOKUP(C3980,Sheet2!A:B,2,FALSE)","v":163.5}]
[3980,"盛婷婷",361127106008,154012602912,13,{"$f":"VLOOKUP(C3981,Sheet2!A:B,2,FALSE)","v":163.5}]
[3981,"冯如梦",361127106008,154012602705,14,{"$f":"VLOOKUP(C3982,Sheet2!A:B,2,FALSE)","v":163.5}]
[3982,"王静",361127106008,154012602715,15,{"$f":"VLOOKUP(C3983,Sheet2!A:B,2,FALSE)","v":163.5}]
[3983,"余雅婷",361127106008,154012603201,16,{"$f":"VLOOKUP(C3984,Sheet2!A:B,2,FALSE)","v":163.5}]
[3984,"万文洁",361127106008,154250104501,17,{"$f":"VLOOKUP(C3985,Sheet2!A:B,2,FALSE)","v":163.5}]
[3985,"张洁",361127106008,154012602820,18,{"$f":"VLOOKUP(C3986,Sheet2!A:B,2,FALSE)","v":163.5}]
[3986,"黄凤梅",361127106008,154221403501,19,{"$f":"VLOOKUP(C3987,Sheet2!A:B,2,FALSE)","v":163.5}]
[3987,"朱紫莹",361127106008,154060602525,20,{"$f":"VLOOKUP(C3988,Sheet2!A:B,2,FALSE)","v":163.5}]
[3988,"熊子瑶",361127106008,154012602716,21,{"$f":"VLOOKUP(C3989,Sheet2!A:B,2,FALSE)","v":163.5}]
[3989,"万梦婷",361127107008,154012502825,2,{"$f":"VLOOKUP(C3990,Sheet2!A:B,2,FALSE)","v":123.5}]
[3990,"陈欢",361127107008,154221403602,1,{"$f":"VLOOKUP(C3991,Sheet2!A:B,2,FALSE)","v":123.5}]
[3991,"刘欣怡",361127107008,154232408115,3,{"$f":"VLOOKUP(C3992,Sheet2!A:B,2,FALSE)","v":123.5}]
[3992,"郑玲",361127107008,154012404109,4,{"$f":"VLOOKUP(C3993,Sheet2!A:B,2,FALSE)","v":123.5}]
[3993,"杨涵",361127107008,154060410025,5,{"$f":"VLOOKUP(C3994,Sheet2!A:B,2,FALSE)","v":123.5}]
[3994,"梁小敏",361127107008,154221403726,6,{"$f":"VLOOKUP(C3995,Sheet2!A:B,2,FALSE)","v":123.5}]
[3995,"饶子翊",361127107008,154232408314,8,{"$f":"VLOOKUP(C3996,Sheet2!A:B,2,FALSE)","v":123.5}]
[3996,"林玥娜",361127107008,154012502903,7,{"$f":"VLOOKUP(C3997,Sheet2!A:B,2,FALSE)","v":123.5}]
[3997,"周文逸",361127107008,154242500827,9,{"$f":"VLOOKUP(C3998,Sheet2!A:B,2,FALSE)","v":123.5}]
[3998,"肖水龙",361127107008,154012502817,10,{"$f":"VLOOKUP(C3999,Sheet2!A:B,2,FALSE)","v":123.5}]
[3999,"周琪琳",361127107008,154012502911,11,{"$f":"VLOOKUP(C4000,Sheet2!A:B,2,FALSE)","v":123.5}]
[4000,"张亚璇",361127107008,154232408319,12,{"$f":"VLOOKUP(C4001,Sheet2!A:B,2,FALSE)","v":123.5}]
[4001,"饶莉",361127107008,154250104609,13,{"$f":"VLOOKUP(C4002,Sheet2!A:B,2,FALSE)","v":123.5}]
[4002,"王寒玉",361127107008,154221403709,14,{"$f":"VLOOKUP(C4003,Sheet2!A:B,2,FALSE)","v":123.5}]
[4003,"管芯瑶",361127107008,154232408202,15,{"$f":"VLOOKUP(C4004,Sheet2!A:B,2,FALSE)","v":123.5}]
[4004,"张皓妍",361127107008,154050314213,16,{"$f":"VLOOKUP(C4005,Sheet2!A:B,2,FALSE)","v":123.5}]
[4005,"李俊丞",361127107008,154250104611,17,{"$f":"VLOOKUP(C4006,Sheet2!A:B,2,FALSE)","v":123.5}]
[4006,"陈颖",361127107008,154250104612,18,{"$f":"VLOOKUP(C4007,Sheet2!A:B,2,FALSE)","v":123.5}]
[4007,"颜琼",361127107008,154242501010,19,{"$f":"VLOOKUP(C4008,Sheet2!A:B,2,FALSE)","v":123.5}]
[4008,"熊婧妍",361127107008,154040703412,20,{"$f":"VLOOKUP(C4009,Sheet2!A:B,2,FALSE)","v":123.5}]
[4009,"杨李群",361127113008,154012603902,1,{"$f":"VLOOKUP(C4010,Sheet2!A:B,2,FALSE)","v":154}]
[4010,"江甜",361127113008,154232408611,2,{"$f":"VLOOKUP(C4011,Sheet2!A:B,2,FALSE)","v":154}]
[4011,"吴佳琦",361127113008,154040601428,3,{"$f":"VLOOKUP(C4012,Sheet2!A:B,2,FALSE)","v":154}]
[4012,"胡毅苗",361127113008,154232408711,4,{"$f":"VLOOKUP(C4013,Sheet2!A:B,2,FALSE)","v":154}]
[4013,"秦帅",361127113008,154020404017,5,{"$f":"VLOOKUP(C4014,Sheet2!A:B,2,FALSE)","v":154}]
[4014,"施宣杰",361127113008,154232408717,6,{"$f":"VLOOKUP(C4015,Sheet2!A:B,2,FALSE)","v":154}]
[4015,"涂聪",361127113008,154012604011,7,{"$f":"VLOOKUP(C4016,Sheet2!A:B,2,FALSE)","v":154}]
[4016,"谢淑会",361127113008,154012603817,8,{"$f":"VLOOKUP(C4017,Sheet2!A:B,2,FALSE)","v":154}]
[4017,"汪思琪",361127113008,154020404010,10,{"$f":"VLOOKUP(C4018,Sheet2!A:B,2,FALSE)","v":154}]
[4018,"廖越众",361127113008,154012603930,9,{"$f":"VLOOKUP(C4019,Sheet2!A:B,2,FALSE)","v":154}]
[4019,"熊安琪",361127113008,154012604009,11,{"$f":"VLOOKUP(C4020,Sheet2!A:B,2,FALSE)","v":154}]
[4020,"刘淑婷",361127113008,154012604012,12,{"$f":"VLOOKUP(C4021,Sheet2!A:B,2,FALSE)","v":154}]
[4021,"汪祎玲",361127113008,154020404006,14,{"$f":"VLOOKUP(C4022,Sheet2!A:B,2,FALSE)","v":154}]
[4022,"王秋萍",361127113008,154250104721,13,{"$f":"VLOOKUP(C4023,Sheet2!A:B,2,FALSE)","v":154}]
[4023,"任文欣",361127113008,154012404225,15,{"$f":"VLOOKUP(C4024,Sheet2!A:B,2,FALSE)","v":154}]
[4024,"张萌",361127113008,154020404013,16,{"$f":"VLOOKUP(C4025,Sheet2!A:B,2,FALSE)","v":154}]
[4025,"孙莹",361127113008,154250104717,17,{"$f":"VLOOKUP(C4026,Sheet2!A:B,2,FALSE)","v":154}]
[4026,"张安昊",361127113008,154012603808,18,{"$f":"VLOOKUP(C4027,Sheet2!A:B,2,FALSE)","v":154}]
[4027,"谢艳红",361127113008,154242601101,19,{"$f":"VLOOKUP(C4028,Sheet2!A:B,2,FALSE)","v":154}]
[4028,"陈小乔",361127113008,154232408713,20,{"$f":"VLOOKUP(C4029,Sheet2!A:B,2,FALSE)","v":154}]
[4029,"陆志雄",361127201010,154060603113,1,{"$f":"VLOOKUP(C4030,Sheet2!A:B,2,FALSE)","v":139}]
[4030,"李晶晶",361127201010,154020500311,2,{"$f":"VLOOKUP(C4031,Sheet2!A:B,2,FALSE)","v":139}]
[4031,"朱楚豪",361127201010,154012700225,3,{"$f":"VLOOKUP(C4032,Sheet2!A:B,2,FALSE)","v":139}]
[4032,"韩琳",361127201010,154060603101,4,{"$f":"VLOOKUP(C4033,Sheet2!A:B,2,FALSE)","v":139}]
[4033,"项兰",361127201010,154040602004,5,{"$f":"VLOOKUP(C4034,Sheet2!A:B,2,FALSE)","v":139}]
[4034,"孙桂香",361127201010,154221404629,6,{"$f":"VLOOKUP(C4035,Sheet2!A:B,2,FALSE)","v":139}]
[4035,"汤金芝",361127201010,154012701529,7,{"$f":"VLOOKUP(C4036,Sheet2!A:B,2,FALSE)","v":139}]
[4036,"邹星欢",361127201010,154012701527,8,{"$f":"VLOOKUP(C4037,Sheet2!A:B,2,FALSE)","v":139}]
[4037,"吴小路",361127201010,154231500102,9,{"$f":"VLOOKUP(C4038,Sheet2!A:B,2,FALSE)","v":139}]
[4038,"柯慧敏",361127201010,154040601627,10,{"$f":"VLOOKUP(C4039,Sheet2!A:B,2,FALSE)","v":139}]
[4039,"周恋",361127201010,154060603107,11,{"$f":"VLOOKUP(C4040,Sheet2!A:B,2,FALSE)","v":139}]
[4040,"张迈",361127201010,154012700328,12,{"$f":"VLOOKUP(C4041,Sheet2!A:B,2,FALSE)","v":139}]
[4041,"张晨静",361127201010,154020500207,13,{"$f":"VLOOKUP(C4042,Sheet2!A:B,2,FALSE)","v":139}]
[4042,"李小花",361127201010,154210901029,14,{"$f":"VLOOKUP(C4043,Sheet2!A:B,2,FALSE)","v":139}]
[4043,"喻凌越",361127201010,154012700626,15,{"$f":"VLOOKUP(C4044,Sheet2!A:B,2,FALSE)","v":139}]
[4044,"饶璐",361127201010,154012700807,16,{"$f":"VLOOKUP(C4045,Sheet2!A:B,2,FALSE)","v":139}]
[4045,"张越",361127201010,154012700922,17,{"$f":"VLOOKUP(C4046,Sheet2!A:B,2,FALSE)","v":139}]
[4046,"廖文娣",361127201010,154050314715,18,{"$f":"VLOOKUP(C4047,Sheet2!A:B,2,FALSE)","v":139}]
[4047,"李美璇",361127201010,154012701004,19,{"$f":"VLOOKUP(C4048,Sheet2!A:B,2,FALSE)","v":139}]
[4048,"刘洁",361127201010,154012701513,20,{"$f":"VLOOKUP(C4049,Sheet2!A:B,2,FALSE)","v":139}]
[4049,"陈倩男",361127201010,154231500604,21,{"$f":"VLOOKUP(C4050,Sheet2!A:B,2,FALSE)","v":139}]
[4050,"鲁丹",361127201010,154231500525,22,{"$f":"VLOOKUP(C4051,Sheet2!A:B,2,FALSE)","v":139}]
[4051,"叶芝",361127201010,154060603202,23,{"$f":"VLOOKUP(C4052,Sheet2!A:B,2,FALSE)","v":139}]
[4052,"林朝英",361127201010,154012701312,24,{"$f":"VLOOKUP(C4053,Sheet2!A:B,2,FALSE)","v":139}]
[4053,"吴子琴",361127201010,154012700605,25,{"$f":"VLOOKUP(C4054,Sheet2!A:B,2,FALSE)","v":139}]
[4054,"盛晓帆",361127202010,154012906121,1,{"$f":"VLOOKUP(C4055,Sheet2!A:B,2,FALSE)","v":170}]
[4055,"梅甜甜",361127202010,154250105501,2,{"$f":"VLOOKUP(C4056,Sheet2!A:B,2,FALSE)","v":170}]
[4056,"沈东霞",361127202010,154012906923,3,{"$f":"VLOOKUP(C4057,Sheet2!A:B,2,FALSE)","v":170}]
[4057,"李美丽",361127202010,154040803330,4,{"$f":"VLOOKUP(C4058,Sheet2!A:B,2,FALSE)","v":170}]
[4058,"范莹莹",361127202010,154012906610,5,{"$f":"VLOOKUP(C4059,Sheet2!A:B,2,FALSE)","v":170}]
[4059,"齐伍月",361127202010,154060603406,6,{"$f":"VLOOKUP(C4060,Sheet2!A:B,2,FALSE)","v":170}]
[4060,"叶新侨",361127202010,154030305409,7,{"$f":"VLOOKUP(C4061,Sheet2!A:B,2,FALSE)","v":170}]
[4061,"蒙雪歌",361127202010,154231501025,8,{"$f":"VLOOKUP(C4062,Sheet2!A:B,2,FALSE)","v":170}]
[4062,"石慧萱",361127202010,154020500811,9,{"$f":"VLOOKUP(C4063,Sheet2!A:B,2,FALSE)","v":170}]
[4063,"杨婷娜",361127202010,154231500922,10,{"$f":"VLOOKUP(C4064,Sheet2!A:B,2,FALSE)","v":170}]
[4064,"樊梦玲",361127202010,154012906802,11,{"$f":"VLOOKUP(C4065,Sheet2!A:B,2,FALSE)","v":170}]
[4065,"顾婷",361127202010,154250105414,12,{"$f":"VLOOKUP(C4066,Sheet2!A:B,2,FALSE)","v":170}]
[4066,"章佳佳",361127202010,154231500826,13,{"$f":"VLOOKUP(C4067,Sheet2!A:B,2,FALSE)","v":170}]
[4067,"付铭茹",361127202010,154231501209,14,{"$f":"VLOOKUP(C4068,Sheet2!A:B,2,FALSE)","v":170}]
[4068,"江青",361127202010,154060603303,15,{"$f":"VLOOKUP(C4069,Sheet2!A:B,2,FALSE)","v":170}]
[4069,"徐晓婷",361127202010,154020501003,16,{"$f":"VLOOKUP(C4070,Sheet2!A:B,2,FALSE)","v":170}]
[4070,"方莲芝",361127202010,154020500824,17,{"$f":"VLOOKUP(C4071,Sheet2!A:B,2,FALSE)","v":170}]
[4071,"齐彩文",361127202010,154012906623,18,{"$f":"VLOOKUP(C4072,Sheet2!A:B,2,FALSE)","v":170}]
[4072,"陈彪",361127202010,154012907015,19,{"$f":"VLOOKUP(C4073,Sheet2!A:B,2,FALSE)","v":170}]
[4073,"欧阳苗方",361127202010,154020500818,20,{"$f":"VLOOKUP(C4074,Sheet2!A:B,2,FALSE)","v":170}]
[4074,"章婉卿",361127202010,154060603323,21,{"$f":"VLOOKUP(C4075,Sheet2!A:B,2,FALSE)","v":170}]
[4075,"谭绍义",361127202010,154060603403,22,{"$f":"VLOOKUP(C4076,Sheet2!A:B,2,FALSE)","v":170}]
[4076,"章蝶燕",361127202010,154060603318,23,{"$f":"VLOOKUP(C4077,Sheet2!A:B,2,FALSE)","v":170}]
[4077,"周聪",361127202010,154012906308,24,{"$f":"VLOOKUP(C4078,Sheet2!A:B,2,FALSE)","v":170}]
[4078,"汪逸群",361127202010,154231500919,25,{"$f":"VLOOKUP(C4079,Sheet2!A:B,2,FALSE)","v":170}]
[4079,"杨芬",361127203008,154231502311,1,{"$f":"VLOOKUP(C4080,Sheet2!A:B,2,FALSE)","v":182}]
[4080,"章建培",361127203008,154012908505,2,{"$f":"VLOOKUP(C4081,Sheet2!A:B,2,FALSE)","v":182}]
[4081,"吴东雯",361127203008,154012805807,3,{"$f":"VLOOKUP(C4082,Sheet2!A:B,2,FALSE)","v":182}]
[4082,"邹怡芝",361127203008,154012804808,4,{"$f":"VLOOKUP(C4083,Sheet2!A:B,2,FALSE)","v":182}]
[4083,"龙莹莹",361127203008,154012907723,5,{"$f":"VLOOKUP(C4084,Sheet2!A:B,2,FALSE)","v":182}]
[4084,"潘悦华",361127203008,154012907704,6,{"$f":"VLOOKUP(C4085,Sheet2!A:B,2,FALSE)","v":182}]
[4085,"杨慧",361127203008,154012907707,7,{"$f":"VLOOKUP(C4086,Sheet2!A:B,2,FALSE)","v":182}]
[4086,"汪晓杭",361127203008,154231502102,9,{"$f":"VLOOKUP(C4087,Sheet2!A:B,2,FALSE)","v":182}]
[4087,"黄佳斯",361127203008,154250105805,8,{"$f":"VLOOKUP(C4088,Sheet2!A:B,2,FALSE)","v":182}]
[4088,"曾意成",361127203008,154060603714,10,{"$f":"VLOOKUP(C4089,Sheet2!A:B,2,FALSE)","v":182}]
[4089,"兰安群",361127203008,154050315304,11,{"$f":"VLOOKUP(C4090,Sheet2!A:B,2,FALSE)","v":182}]
[4090,"许雨慧",361127203008,154012907719,12,{"$f":"VLOOKUP(C4091,Sheet2!A:B,2,FALSE)","v":182}]
[4091,"王茹",361127203008,154231502114,14,{"$f":"VLOOKUP(C4092,Sheet2!A:B,2,FALSE)","v":182}]
[4092,"张露文",361127203008,154012908311,13,{"$f":"VLOOKUP(C4093,Sheet2!A:B,2,FALSE)","v":182}]
[4093,"金林玉",361127203008,154020501313,15,{"$f":"VLOOKUP(C4094,Sheet2!A:B,2,FALSE)","v":182}]
[4094,"董丹丹",361127203008,154231501409,16,{"$f":"VLOOKUP(C4095,Sheet2!A:B,2,FALSE)","v":182}]
[4095,"潘君卉",361127203008,154231502306,18,{"$f":"VLOOKUP(C4096,Sheet2!A:B,2,FALSE)","v":182}]
[4096,"曾涵",361127203008,154012805419,17,{"$f":"VLOOKUP(C4097,Sheet2!A:B,2,FALSE)","v":182}]
[4097,"彭宝赢",361127203008,154020501614,19,{"$f":"VLOOKUP(C4098,Sheet2!A:B,2,FALSE)","v":182}]
[4098,"徐有枝",361127203008,154012805602,21,{"$f":"VLOOKUP(C4099,Sheet2!A:B,2,FALSE)","v":182}]
[4099,"黄明珠",361127203008,154012805421,20,{"$f":"VLOOKUP(C4100,Sheet2!A:B,2,FALSE)","v":182}]
[4100,"章英资",361127204003,154242403305,1,{"$f":"VLOOKUP(C4101,Sheet2!A:B,2,FALSE)","v":115.5}]
[4101,"赵景",361127204003,154060603906,2,{"$f":"VLOOKUP(C4102,Sheet2!A:B,2,FALSE)","v":115.5}]
[4102,"翁家炜",361127205005,154231503003,1,{"$f":"VLOOKUP(C4103,Sheet2!A:B,2,FALSE)","v":122}]
[4103,"丁瑶鑫",361127205005,154231503327,2,{"$f":"VLOOKUP(C4104,Sheet2!A:B,2,FALSE)","v":122}]
[4104,"张新红",361127205005,154012405821,3,{"$f":"VLOOKUP(C4105,Sheet2!A:B,2,FALSE)","v":122}]
[4105,"陈佳龙",361127205005,154060604028,4,{"$f":"VLOOKUP(C4106,Sheet2!A:B,2,FALSE)","v":122}]
[4106,"江雨晴",361127205005,154231503117,5,{"$f":"VLOOKUP(C4107,Sheet2!A:B,2,FALSE)","v":122}]
[4107,"祝明",361127205005,154231503128,6,{"$f":"VLOOKUP(C4108,Sheet2!A:B,2,FALSE)","v":122}]
[4108,"侯佳莹",361127205005,154012405825,7,{"$f":"VLOOKUP(C4109,Sheet2!A:B,2,FALSE)","v":122}]
[4109,"孙素枫",361127205005,154040603515,8,{"$f":"VLOOKUP(C4110,Sheet2!A:B,2,FALSE)","v":122}]
[4110,"汪紫情",361127205005,154221407006,9,{"$f":"VLOOKUP(C4111,Sheet2!A:B,2,FALSE)","v":122}]
[4111,"徐欢",361127205005,154231503317,10,{"$f":"VLOOKUP(C4112,Sheet2!A:B,2,FALSE)","v":122}]
[4112,"兰威",361127205005,154231502925,11,{"$f":"VLOOKUP(C4113,Sheet2!A:B,2,FALSE)","v":122}]
[4113,"李佳丽",361127205005,154012406008,12,{"$f":"VLOOKUP(C4114,Sheet2!A:B,2,FALSE)","v":122}]
[4114," 张星然",361127205005,154242703510,13,{"$f":"VLOOKUP(C4115,Sheet2!A:B,2,FALSE)","v":122}]
[4115,"郑志宏",361127205005,154211001827,14,{"$f":"VLOOKUP(C4116,Sheet2!A:B,2,FALSE)","v":122}]
[4116,"朱伟超",361127205005,154231502909,15,{"$f":"VLOOKUP(C4117,Sheet2!A:B,2,FALSE)","v":122}]
[4117,"盛燕蒙",361127206005,154012702304,1,{"$f":"VLOOKUP(C4118,Sheet2!A:B,2,FALSE)","v":166}]
[4118,"黄丽霞",361127206005,154012702120,2,{"$f":"VLOOKUP(C4119,Sheet2!A:B,2,FALSE)","v":166}]
[4119,"刘茹",361127206005,154012702504,3,{"$f":"VLOOKUP(C4120,Sheet2!A:B,2,FALSE)","v":166}]
[4120,"江琪",361127206005,154012702820,4,{"$f":"VLOOKUP(C4121,Sheet2!A:B,2,FALSE)","v":166}]
[4121,"刘泰琳",361127206005,154250106203,5,{"$f":"VLOOKUP(C4122,Sheet2!A:B,2,FALSE)","v":166}]
[4122,"方平涛",361127206005,154012702121,6,{"$f":"VLOOKUP(C4123,Sheet2!A:B,2,FALSE)","v":166}]
[4123,"江丽云",361127206005,154012702214,7,{"$f":"VLOOKUP(C4124,Sheet2!A:B,2,FALSE)","v":166}]
[4124,"章颜",361127206005,154012701826,8,{"$f":"VLOOKUP(C4125,Sheet2!A:B,2,FALSE)","v":166}]
[4125,"吴倩倩",361127206005,154020502406,9,{"$f":"VLOOKUP(C4126,Sheet2!A:B,2,FALSE)","v":166}]
[4126,"潘瑞婷",361127206005,154020502417,10,{"$f":"VLOOKUP(C4127,Sheet2!A:B,2,FALSE)","v":166}]
[4127,"于娇娇",361127206005,154012701805,11,{"$f":"VLOOKUP(C4128,Sheet2!A:B,2,FALSE)","v":166}]
[4128,"吴毛玲",361127206005,154012702315,13,{"$f":"VLOOKUP(C4129,Sheet2!A:B,2,FALSE)","v":166}]
[4129,"叶立星",361127206005,154020502304,12,{"$f":"VLOOKUP(C4130,Sheet2!A:B,2,FALSE)","v":166}]
[4130,"朱霜叶",361127206005,154012701810,14,{"$f":"VLOOKUP(C4131,Sheet2!A:B,2,FALSE)","v":166}]
[4131,"胡红云",361127206005,154012701905,15,{"$f":"VLOOKUP(C4132,Sheet2!A:B,2,FALSE)","v":166}]
[4132,"张雯婷",361127207005,154060604206,1,{"$f":"VLOOKUP(C4133,Sheet2!A:B,2,FALSE)","v":99.5}]
[4133,"李梦微",361127207005,154012406311,2,{"$f":"VLOOKUP(C4134,Sheet2!A:B,2,FALSE)","v":99.5}]
[4134,"顾诗敏",361127207005,154012702914,3,{"$f":"VLOOKUP(C4135,Sheet2!A:B,2,FALSE)","v":99.5}]
[4135,"余静蕙",361127207005,154012406315,4,{"$f":"VLOOKUP(C4136,Sheet2!A:B,2,FALSE)","v":99.5}]
[4136,"张启淋",361127207005,154231504102,5,{"$f":"VLOOKUP(C4137,Sheet2!A:B,2,FALSE)","v":99.5}]
[4137,"谢孟婕",361127207005,154210402212,6,{"$f":"VLOOKUP(C4138,Sheet2!A:B,2,FALSE)","v":99.5}]
[4138,"陈滢",361127207005,154231504313,7,{"$f":"VLOOKUP(C4139,Sheet2!A:B,2,FALSE)","v":99.5}]
[4139,"朱明星",361127207005,154231504216,8,{"$f":"VLOOKUP(C4140,Sheet2!A:B,2,FALSE)","v":99.5}]
[4140,"陈露霞",361127207005,154231504229,9,{"$f":"VLOOKUP(C4141,Sheet2!A:B,2,FALSE)","v":99.5}]
[4141,"吴子玮",361127207005,154012406414,10,{"$f":"VLOOKUP(C4142,Sheet2!A:B,2,FALSE)","v":99.5}]
[4142,"胡建辉",361127207005,154012703016,11,{"$f":"VLOOKUP(C4143,Sheet2!A:B,2,FALSE)","v":99.5}]
[4143,"魏玉婷",361127207005,154012406313,12,{"$f":"VLOOKUP(C4144,Sheet2!A:B,2,FALSE)","v":99.5}]
[4144,"王婧澜",361127207005,154012702916,13,{"$f":"VLOOKUP(C4145,Sheet2!A:B,2,FALSE)","v":99.5}]
[4145,"郭光成",361127207005,154012702920,14,{"$f":"VLOOKUP(C4146,Sheet2!A:B,2,FALSE)","v":99.5}]
[4146,"罗辉",361127207005,154012702925,15,{"$f":"VLOOKUP(C4147,Sheet2!A:B,2,FALSE)","v":99.5}]
[4147,"卢苏燕",361127208004,154030307405,1,{"$f":"VLOOKUP(C4148,Sheet2!A:B,2,FALSE)","v":122}]
[4148,"金辉宇",361127208004,154012406523,2,{"$f":"VLOOKUP(C4149,Sheet2!A:B,2,FALSE)","v":122}]
[4149,"谢媛媛",361127208004,154210303222,3,{"$f":"VLOOKUP(C4150,Sheet2!A:B,2,FALSE)","v":122}]
[4150,"熊臣文",361127209004,154012406928,1,{"$f":"VLOOKUP(C4151,Sheet2!A:B,2,FALSE)","v":124.5}]
[4151,"张佳雨",361127209004,154012406829,2,{"$f":"VLOOKUP(C4152,Sheet2!A:B,2,FALSE)","v":124.5}]
[4152,"彭李青",361127210004,154231504810,1,{"$f":"VLOOKUP(C4153,Sheet2!A:B,2,FALSE)","v":102}]
[4153,"史依婷",361127210004,154210304027,2,{"$f":"VLOOKUP(C4154,Sheet2!A:B,2,FALSE)","v":102}]
[4154,"周志峰",361127210004,154012803219,3,{"$f":"VLOOKUP(C4155,Sheet2!A:B,2,FALSE)","v":102}]
[4155,"方方",361127210004,154060604508,4,{"$f":"VLOOKUP(C4156,Sheet2!A:B,2,FALSE)","v":102}]
[4156,"熊怡",361127210004,154012803118,5,{"$f":"VLOOKUP(C4157,Sheet2!A:B,2,FALSE)","v":102}]
[4157,"朱梦梦",361127210004,154231504803,6,{"$f":"VLOOKUP(C4158,Sheet2!A:B,2,FALSE)","v":102}]
[4158,"涂振高",361127210004,154231505005,7,{"$f":"VLOOKUP(C4159,Sheet2!A:B,2,FALSE)","v":102}]
[4159,"马召瑶",361127210004,154231504902,8,{"$f":"VLOOKUP(C4160,Sheet2!A:B,2,FALSE)","v":102}]
[4160,"郑江南",361127210004,154012803129,9,{"$f":"VLOOKUP(C4161,Sheet2!A:B,2,FALSE)","v":102}]
[4161,"江欣",361127210004,154231505011,10,{"$f":"VLOOKUP(C4162,Sheet2!A:B,2,FALSE)","v":102}]
[4162,"黄婷",361127210004,154012803411,11,{"$f":"VLOOKUP(C4163,Sheet2!A:B,2,FALSE)","v":102}]
[4163,"邹志豪",361127211005,154060604605,1,{"$f":"VLOOKUP(C4164,Sheet2!A:B,2,FALSE)","v":76.5}]
[4164,"李朵朵",361127211005,154020503202,2,{"$f":"VLOOKUP(C4165,Sheet2!A:B,2,FALSE)","v":76.5}]
[4165,"张志文",361127211005,154060604602,3,{"$f":"VLOOKUP(C4166,Sheet2!A:B,2,FALSE)","v":76.5}]
[4166,"盛寒微",361127211005,154211000913,4,{"$f":"VLOOKUP(C4167,Sheet2!A:B,2,FALSE)","v":76.5}]
[4167,"周建伟",361127211005,154231505101,5,{"$f":"VLOOKUP(C4168,Sheet2!A:B,2,FALSE)","v":76.5}]
[4168,"彭磊",361127212004,154012407128,1,{"$f":"VLOOKUP(C4169,Sheet2!A:B,2,FALSE)","v":117.5}]
[4169,"吴颖",361127212004,154012407213,2,{"$f":"VLOOKUP(C4170,Sheet2!A:B,2,FALSE)","v":117.5}]
[4170,"金正文",361127212004,154020503407,3,{"$f":"VLOOKUP(C4171,Sheet2!A:B,2,FALSE)","v":117.5}]
[4171,"叶虹",361127212004,154012407115,4,{"$f":"VLOOKUP(C4172,Sheet2!A:B,2,FALSE)","v":117.5}]
[4172,"江晓雨",361127212004,154060604709,5,{"$f":"VLOOKUP(C4173,Sheet2!A:B,2,FALSE)","v":117.5}]
[4173,"陈王涛",361127212004,154231505403,6,{"$f":"VLOOKUP(C4174,Sheet2!A:B,2,FALSE)","v":117.5}]
[4174,"施钰芩",361127213003,154012407407,1,{"$f":"VLOOKUP(C4175,Sheet2!A:B,2,FALSE)","v":112.5}]
[4175,"汪莉",361127213003,154012407422,2,{"$f":"VLOOKUP(C4176,Sheet2!A:B,2,FALSE)","v":112.5}]
[4176,"张小峰",361127213003,154012407423,3,{"$f":"VLOOKUP(C4177,Sheet2!A:B,2,FALSE)","v":112.5}]
[4177," 张静",361127213003,154020503503,4,{"$f":"VLOOKUP(C4178,Sheet2!A:B,2,FALSE)","v":112.5}]
[4178,"邹政发",361127213003,154012407404,5,{"$f":"VLOOKUP(C4179,Sheet2!A:B,2,FALSE)","v":112.5}]
[4179," 程集集",361128101044,154040701023,1,{"$f":"VLOOKUP(C4180,Sheet2!A:B,2,FALSE)","v":190.5}]
[4180,"马英凤",361128101044,154012302728,2,{"$f":"VLOOKUP(C4181,Sheet2!A:B,2,FALSE)","v":190.5}]
[4181,"朱虹英",361128101044,154020401129,3,{"$f":"VLOOKUP(C4182,Sheet2!A:B,2,FALSE)","v":190.5}]
[4182,"邓文彩",361128101044,154012101519,4,{"$f":"VLOOKUP(C4183,Sheet2!A:B,2,FALSE)","v":190.5}]
[4183,"冯灵",361128101044,154012300912,6,{"$f":"VLOOKUP(C4184,Sheet2!A:B,2,FALSE)","v":190.5}]
[4184,"江雅婷",361128101044,154012302519,5,{"$f":"VLOOKUP(C4185,Sheet2!A:B,2,FALSE)","v":190.5}]
[4185,"毕晓莉",361128101044,154020400302,7,{"$f":"VLOOKUP(C4186,Sheet2!A:B,2,FALSE)","v":190.5}]
[4186,"盛西铃",361128101044,154012102911,8,{"$f":"VLOOKUP(C4187,Sheet2!A:B,2,FALSE)","v":190.5}]
[4187,"李姜美",361128101044,154012101215,10,{"$f":"VLOOKUP(C4188,Sheet2!A:B,2,FALSE)","v":190.5}]
[4188,"万芬",361128101044,154040700429,11,{"$f":"VLOOKUP(C4189,Sheet2!A:B,2,FALSE)","v":190.5}]
[4189,"吴佳影",361128101044,154012102023,9,{"$f":"VLOOKUP(C4190,Sheet2!A:B,2,FALSE)","v":190.5}]
[4190,"熊晨宏",361128101044,154012101809,12,{"$f":"VLOOKUP(C4191,Sheet2!A:B,2,FALSE)","v":190.5}]
[4191,"王凯鑫",361128101044,154020400927,14,{"$f":"VLOOKUP(C4192,Sheet2!A:B,2,FALSE)","v":190.5}]
[4192,"叶兰茜",361128101044,154012100401,13,{"$f":"VLOOKUP(C4193,Sheet2!A:B,2,FALSE)","v":190.5}]
[4193,"余敏",361128101044,154012301917,17,{"$f":"VLOOKUP(C4194,Sheet2!A:B,2,FALSE)","v":190.5}]
[4194,"石玉亭",361128101044,154012100508,18,{"$f":"VLOOKUP(C4195,Sheet2!A:B,2,FALSE)","v":190.5}]
[4195,"黄婷",361128101044,154012103025,19,{"$f":"VLOOKUP(C4196,Sheet2!A:B,2,FALSE)","v":190.5}]
[4196,"王瑶",361128101044,154242402726,16,{"$f":"VLOOKUP(C4197,Sheet2!A:B,2,FALSE)","v":190.5}]
[4197,"程婷",361128101044,154012100208,15,{"$f":"VLOOKUP(C4198,Sheet2!A:B,2,FALSE)","v":190.5}]
[4198,"陆梦莹",361128101044,154232401610,20,{"$f":"VLOOKUP(C4199,Sheet2!A:B,2,FALSE)","v":190.5}]
[4199,"曾紫琴",361128101044,154012302418,22,{"$f":"VLOOKUP(C4200,Sheet2!A:B,2,FALSE)","v":190.5}]
[4200,"吴凡",361128101044,154012302916,21,{"$f":"VLOOKUP(C4201,Sheet2!A:B,2,FALSE)","v":190.5}]
[4201,"余绿林",361128101044,154012100328,24,{"$f":"VLOOKUP(C4202,Sheet2!A:B,2,FALSE)","v":190.5}]
[4202,"魏莹",361128101044,154221400129,23,{"$f":"VLOOKUP(C4203,Sheet2!A:B,2,FALSE)","v":190.5}]
[4203,"詹映梅",361128101044,154012102004,27,{"$f":"VLOOKUP(C4204,Sheet2!A:B,2,FALSE)","v":190.5}]
[4204,"吴艳芳",361128101044,154012302526,25,{"$f":"VLOOKUP(C4205,Sheet2!A:B,2,FALSE)","v":190.5}]
[4205,"邓娟",361128101044,154012300112,26,{"$f":"VLOOKUP(C4206,Sheet2!A:B,2,FALSE)","v":190.5}]
[4206,"黄毓敏",361128101044,154050313106,29,{"$f":"VLOOKUP(C4207,Sheet2!A:B,2,FALSE)","v":190.5}]
[4207,"黄小美",361128101044,154012100605,28,{"$f":"VLOOKUP(C4208,Sheet2!A:B,2,FALSE)","v":190.5}]
[4208,"张灵静",361128101044,154020400216,30,{"$f":"VLOOKUP(C4209,Sheet2!A:B,2,FALSE)","v":190.5}]
[4209,"张丹丹",361128101044,154012102413,31,{"$f":"VLOOKUP(C4210,Sheet2!A:B,2,FALSE)","v":190.5}]
[4210,"董国洁",361128101044,154232400429,32,{"$f":"VLOOKUP(C4211,Sheet2!A:B,2,FALSE)","v":190.5}]
[4211,"张盼盼",361128101044,154210106915,33,{"$f":"VLOOKUP(C4212,Sheet2!A:B,2,FALSE)","v":190.5}]
[4212,"付金燕",361128101044,154012101008,35,{"$f":"VLOOKUP(C4213,Sheet2!A:B,2,FALSE)","v":190.5}]
[4213,"熊小莲",361128101044,154242402224,34,{"$f":"VLOOKUP(C4214,Sheet2!A:B,2,FALSE)","v":190.5}]
[4214,"熊月瑶",361128101044,154012301215,37,{"$f":"VLOOKUP(C4215,Sheet2!A:B,2,FALSE)","v":190.5}]
[4215,"严秀文",361128101044,154210100924,36,{"$f":"VLOOKUP(C4216,Sheet2!A:B,2,FALSE)","v":190.5}]
[4216,"王文军",361128101044,154012301118,38,{"$f":"VLOOKUP(C4217,Sheet2!A:B,2,FALSE)","v":190.5}]
[4217,"徐诗雨",361128101044,154050312908,39,{"$f":"VLOOKUP(C4218,Sheet2!A:B,2,FALSE)","v":190.5}]
[4218,"严玉贞",361128101044,154012300910,40,{"$f":"VLOOKUP(C4219,Sheet2!A:B,2,FALSE)","v":190.5}]
[4219,"匡美红",361128101044,154012102007,41,{"$f":"VLOOKUP(C4220,Sheet2!A:B,2,FALSE)","v":190.5}]
[4220,"熊彩娟",361128101044,154012301523,42,{"$f":"VLOOKUP(C4221,Sheet2!A:B,2,FALSE)","v":190.5}]
[4221,"周玲",361128101044,154012302308,44,{"$f":"VLOOKUP(C4222,Sheet2!A:B,2,FALSE)","v":190.5}]
[4222,"张梦娇",361128101044,154012101830,43,{"$f":"VLOOKUP(C4223,Sheet2!A:B,2,FALSE)","v":190.5}]
[4223,"徐霞琴",361128101044,154012300502,45,{"$f":"VLOOKUP(C4224,Sheet2!A:B,2,FALSE)","v":190.5}]
[4224,"宁寒冰",361128101044,154012300429,46,{"$f":"VLOOKUP(C4225,Sheet2!A:B,2,FALSE)","v":190.5}]
[4225,"周嘉茜",361128101044,154040701729,47,{"$f":"VLOOKUP(C4226,Sheet2!A:B,2,FALSE)","v":190.5}]
[4226,"张宇",361128101044,154012102001,49,{"$f":"VLOOKUP(C4227,Sheet2!A:B,2,FALSE)","v":190.5}]
[4227,"朱亚丽",361128101044,154012300809,48,{"$f":"VLOOKUP(C4228,Sheet2!A:B,2,FALSE)","v":190.5}]
[4228,"左琴",361128101044,154242402805,53,{"$f":"VLOOKUP(C4229,Sheet2!A:B,2,FALSE)","v":190.5}]
[4229,"黄晴",361128101044,154210103923,52,{"$f":"VLOOKUP(C4230,Sheet2!A:B,2,FALSE)","v":190.5}]
[4230,"李凯维",361128101044,154020400213,51,{"$f":"VLOOKUP(C4231,Sheet2!A:B,2,FALSE)","v":190.5}]
[4231,"郑红梅",361128101044,154012302123,50,{"$f":"VLOOKUP(C4232,Sheet2!A:B,2,FALSE)","v":190.5}]
[4232,"金晓慧",361128101044,154012102419,57,{"$f":"VLOOKUP(C4233,Sheet2!A:B,2,FALSE)","v":190.5}]
[4233,"彭纪太",361128101044,154012101201,54,{"$f":"VLOOKUP(C4234,Sheet2!A:B,2,FALSE)","v":190.5}]
[4234,"李威",361128101044,154012301524,58,{"$f":"VLOOKUP(C4235,Sheet2!A:B,2,FALSE)","v":190.5}]
[4235,"熊露",361128101044,154012100613,56,{"$f":"VLOOKUP(C4236,Sheet2!A:B,2,FALSE)","v":190.5}]
[4236,"朱衣梦",361128101044,154012100825,55,{"$f":"VLOOKUP(C4237,Sheet2!A:B,2,FALSE)","v":190.5}]
[4237,"徐静",361128101044,154232401515,59,{"$f":"VLOOKUP(C4238,Sheet2!A:B,2,FALSE)","v":190.5}]
[4238,"徐英兰",361128101044,154012100324,60,{"$f":"VLOOKUP(C4239,Sheet2!A:B,2,FALSE)","v":190.5}]
[4239,"黄秀娟",361128101044,154012102112,62,{"$f":"VLOOKUP(C4240,Sheet2!A:B,2,FALSE)","v":190.5}]
[4240,"曹雯琪",361128101044,154012101729,61,{"$f":"VLOOKUP(C4241,Sheet2!A:B,2,FALSE)","v":190.5}]
[4241,"宁知云",361128101044,154020400916,65,{"$f":"VLOOKUP(C4242,Sheet2!A:B,2,FALSE)","v":190.5}]
[4242,"彭小婷",361128101044,154221401104,63,{"$f":"VLOOKUP(C4243,Sheet2!A:B,2,FALSE)","v":190.5}]
[4243,"杨怡文",361128101044,154012302109,66,{"$f":"VLOOKUP(C4244,Sheet2!A:B,2,FALSE)","v":190.5}]
[4244,"朱思",361128101044,154012103026,64,{"$f":"VLOOKUP(C4245,Sheet2!A:B,2,FALSE)","v":190.5}]
[4245,"曹珊珊",361128102044,154040800927,1,{"$f":"VLOOKUP(C4246,Sheet2!A:B,2,FALSE)","v":190}]
[4246,"熊逍遥",361128102044,154012202202,2,{"$f":"VLOOKUP(C4247,Sheet2!A:B,2,FALSE)","v":190}]
[4247,"李志伟",361128102044,154020401920,3,{"$f":"VLOOKUP(C4248,Sheet2!A:B,2,FALSE)","v":190}]
[4248,"范文燕",361128102044,154012303708,4,{"$f":"VLOOKUP(C4249,Sheet2!A:B,2,FALSE)","v":190}]
[4249,"沈芳丽",361128102044,154040801014,5,{"$f":"VLOOKUP(C4250,Sheet2!A:B,2,FALSE)","v":190}]
[4250,"吕小乐",361128102044,154012203918,6,{"$f":"VLOOKUP(C4251,Sheet2!A:B,2,FALSE)","v":190}]
[4251,"邓婷",361128102044,154012200602,7,{"$f":"VLOOKUP(C4252,Sheet2!A:B,2,FALSE)","v":190}]
[4252,"帅庚群",361128102044,154012200517,10,{"$f":"VLOOKUP(C4253,Sheet2!A:B,2,FALSE)","v":190}]
[4253,"曾书敏",361128102044,154012201209,9,{"$f":"VLOOKUP(C4254,Sheet2!A:B,2,FALSE)","v":190}]
[4254,"詹诗苑",361128102044,154232404524,8,{"$f":"VLOOKUP(C4255,Sheet2!A:B,2,FALSE)","v":190}]
[4255,"王和美",361128102044,154020401902,11,{"$f":"VLOOKUP(C4256,Sheet2!A:B,2,FALSE)","v":190}]
[4256,"吴玉英",361128102044,154012202717,12,{"$f":"VLOOKUP(C4257,Sheet2!A:B,2,FALSE)","v":190}]
[4257,"毛汝鑫",361128102044,154232402827,13,{"$f":"VLOOKUP(C4258,Sheet2!A:B,2,FALSE)","v":190}]
[4258,"毛雨清",361128102044,154012202803,14,{"$f":"VLOOKUP(C4259,Sheet2!A:B,2,FALSE)","v":190}]
[4259,"陈春华",361128102044,154012200215,15,{"$f":"VLOOKUP(C4260,Sheet2!A:B,2,FALSE)","v":190}]
[4260,"邓东琴",361128102044,154012200504,16,{"$f":"VLOOKUP(C4261,Sheet2!A:B,2,FALSE)","v":190}]
[4261,"施小青",361128102044,154012201512,18,{"$f":"VLOOKUP(C4262,Sheet2!A:B,2,FALSE)","v":190}]
[4262,"朱婷",361128102044,154012203113,17,{"$f":"VLOOKUP(C4263,Sheet2!A:B,2,FALSE)","v":190}]
[4263,"操奇燕",361128102044,154012200627,19,{"$f":"VLOOKUP(C4264,Sheet2!A:B,2,FALSE)","v":190}]
[4264,"曹乐",361128102044,154012203119,20,{"$f":"VLOOKUP(C4265,Sheet2!A:B,2,FALSE)","v":190}]
[4265,"蔡叶琴",361128102044,154012303306,21,{"$f":"VLOOKUP(C4266,Sheet2!A:B,2,FALSE)","v":190}]
[4266,"张桂连",361128102044,154211202122,22,{"$f":"VLOOKUP(C4267,Sheet2!A:B,2,FALSE)","v":190}]
[4267,"王婧",361128102044,154040800804,23,{"$f":"VLOOKUP(C4268,Sheet2!A:B,2,FALSE)","v":190}]
[4268,"吴琳",361128102044,154012303405,25,{"$f":"VLOOKUP(C4269,Sheet2!A:B,2,FALSE)","v":190}]
[4269,"曹文奇",361128102044,154012200310,24,{"$f":"VLOOKUP(C4270,Sheet2!A:B,2,FALSE)","v":190}]
[4270,"倪依婷",361128102044,154012304011,27,{"$f":"VLOOKUP(C4271,Sheet2!A:B,2,FALSE)","v":190}]
[4271,"聂骏琦",361128102044,154012200524,26,{"$f":"VLOOKUP(C4272,Sheet2!A:B,2,FALSE)","v":190}]
[4272,"陈元宵",361128102044,154012303630,28,{"$f":"VLOOKUP(C4273,Sheet2!A:B,2,FALSE)","v":190}]
[4273,"刘清华",361128102044,154012200824,29,{"$f":"VLOOKUP(C4274,Sheet2!A:B,2,FALSE)","v":190}]
[4274,"汤霞芳",361128102044,154012202420,31,{"$f":"VLOOKUP(C4275,Sheet2!A:B,2,FALSE)","v":190}]
[4275,"高玉兰",361128102044,154232403029,30,{"$f":"VLOOKUP(C4276,Sheet2!A:B,2,FALSE)","v":190}]
[4276,"朱琴",361128102044,154012202603,33,{"$f":"VLOOKUP(C4277,Sheet2!A:B,2,FALSE)","v":190}]
[4277,"黎翩翩",361128102044,154012200710,34,{"$f":"VLOOKUP(C4278,Sheet2!A:B,2,FALSE)","v":190}]
[4278,"罗欣",361128102044,154012201809,32,{"$f":"VLOOKUP(C4279,Sheet2!A:B,2,FALSE)","v":190}]
[4279,"徐小倩",361128102044,154250102202,35,{"$f":"VLOOKUP(C4280,Sheet2!A:B,2,FALSE)","v":190}]
[4280,"史雅琪",361128102044,154040801202,36,{"$f":"VLOOKUP(C4281,Sheet2!A:B,2,FALSE)","v":190}]
[4281,"刘佳欣",361128102044,154012203804,37,{"$f":"VLOOKUP(C4282,Sheet2!A:B,2,FALSE)","v":190}]
[4282,"高杰",361128102044,154012202024,38,{"$f":"VLOOKUP(C4283,Sheet2!A:B,2,FALSE)","v":190}]
[4283,"方千惠",361128102044,154012202416,42,{"$f":"VLOOKUP(C4284,Sheet2!A:B,2,FALSE)","v":190}]
[4284,"胡晓春",361128102044,154012200417,39,{"$f":"VLOOKUP(C4285,Sheet2!A:B,2,FALSE)","v":190}]
[4285,"贾碧云",361128102044,154012202608,40,{"$f":"VLOOKUP(C4286,Sheet2!A:B,2,FALSE)","v":190}]
[4286,"程桂琴",361128102044,154012202818,41,{"$f":"VLOOKUP(C4287,Sheet2!A:B,2,FALSE)","v":190}]
[4287,"杨聂",361128102044,154012303721,43,{"$f":"VLOOKUP(C4288,Sheet2!A:B,2,FALSE)","v":190}]
[4288,"黎新宇",361128102044,154012200610,46,{"$f":"VLOOKUP(C4289,Sheet2!A:B,2,FALSE)","v":190}]
[4289,"程纪龙",361128102044,154020402005,47,{"$f":"VLOOKUP(C4290,Sheet2!A:B,2,FALSE)","v":190}]
[4290,"吴丽霞",361128102044,154012204026,44,{"$f":"VLOOKUP(C4291,Sheet2!A:B,2,FALSE)","v":190}]
[4291,"何晋勇",361128102044,154040801615,48,{"$f":"VLOOKUP(C4292,Sheet2!A:B,2,FALSE)","v":190}]
[4292,"张芬",361128102044,154012303517,45,{"$f":"VLOOKUP(C4293,Sheet2!A:B,2,FALSE)","v":190}]
[4293,"汪炜琴",361128102044,154012200106,49,{"$f":"VLOOKUP(C4294,Sheet2!A:B,2,FALSE)","v":190}]
[4294,"曹欣樾",361128102044,154012201420,50,{"$f":"VLOOKUP(C4295,Sheet2!A:B,2,FALSE)","v":190}]
[4295,"李美浪",361128102044,154012303527,51,{"$f":"VLOOKUP(C4296,Sheet2!A:B,2,FALSE)","v":190}]
[4296,"胡佳贝",361128102044,154012202521,52,{"$f":"VLOOKUP(C4297,Sheet2!A:B,2,FALSE)","v":190}]
[4297,"占玉林",361128102044,154250103101,53,{"$f":"VLOOKUP(C4298,Sheet2!A:B,2,FALSE)","v":190}]
[4298,"周平平",361128102044,154012203112,55,{"$f":"VLOOKUP(C4299,Sheet2!A:B,2,FALSE)","v":190}]
[4299,"董思雨",361128102044,154232403224,56,{"$f":"VLOOKUP(C4300,Sheet2!A:B,2,FALSE)","v":190}]
[4300,"龚思美",361128102044,154012303717,54,{"$f":"VLOOKUP(C4301,Sheet2!A:B,2,FALSE)","v":190}]
[4301,"叶建",361128102044,154232404117,57,{"$f":"VLOOKUP(C4302,Sheet2!A:B,2,FALSE)","v":190}]
[4302,"汪柳宏",361128102044,154020402004,59,{"$f":"VLOOKUP(C4303,Sheet2!A:B,2,FALSE)","v":190}]
[4303,"敖慧慧",361128102044,154012200516,58,{"$f":"VLOOKUP(C4304,Sheet2!A:B,2,FALSE)","v":190}]
[4304,"钟怡雯",361128102044,154050313507,60,{"$f":"VLOOKUP(C4305,Sheet2!A:B,2,FALSE)","v":190}]
[4305,"徐芳芳",361128102044,154232404328,61,{"$f":"VLOOKUP(C4306,Sheet2!A:B,2,FALSE)","v":190}]
[4306,"程洁",361128102044,154012203628,62,{"$f":"VLOOKUP(C4307,Sheet2!A:B,2,FALSE)","v":190}]
[4307,"汪雯雯",361128102044,154020402001,65,{"$f":"VLOOKUP(C4308,Sheet2!A:B,2,FALSE)","v":190}]
[4308,"刘洋",361128102044,154040801209,64,{"$f":"VLOOKUP(C4309,Sheet2!A:B,2,FALSE)","v":190}]
[4309,"程文茵",361128102044,154012202209,63,{"$f":"VLOOKUP(C4310,Sheet2!A:B,2,FALSE)","v":190}]
[4310,"吕丽琴",361128102044,154232402730,66,{"$f":"VLOOKUP(C4311,Sheet2!A:B,2,FALSE)","v":190}]
[4311,"程志雄",361128102044,154012202625,67,{"$f":"VLOOKUP(C4312,Sheet2!A:B,2,FALSE)","v":190}]
[4312,"周梦飞",361128103040,154232405625,1,{"$f":"VLOOKUP(C4313,Sheet2!A:B,2,FALSE)","v":176}]
[4313,"朱倩倩",361128103040,154040601019,2,{"$f":"VLOOKUP(C4314,Sheet2!A:B,2,FALSE)","v":176}]
[4314,"刘诗雨",361128103040,154012500705,5,{"$f":"VLOOKUP(C4315,Sheet2!A:B,2,FALSE)","v":176}]
[4315,"王文君",361128103040,154012502112,3,{"$f":"VLOOKUP(C4316,Sheet2!A:B,2,FALSE)","v":176}]
[4316,"王燕芳",361128103040,154040601204,4,{"$f":"VLOOKUP(C4317,Sheet2!A:B,2,FALSE)","v":176}]
[4317,"周君",361128103040,154012500926,6,{"$f":"VLOOKUP(C4318,Sheet2!A:B,2,FALSE)","v":176}]
[4318,"刘满平",361128103040,154020402405,8,{"$f":"VLOOKUP(C4319,Sheet2!A:B,2,FALSE)","v":176}]
[4319,"刘娜",361128103040,154040601209,7,{"$f":"VLOOKUP(C4320,Sheet2!A:B,2,FALSE)","v":176}]
[4320,"计尾霞",361128103040,154012500624,10,{"$f":"VLOOKUP(C4321,Sheet2!A:B,2,FALSE)","v":176}]
[4321,"张倩",361128103040,154012500514,9,{"$f":"VLOOKUP(C4322,Sheet2!A:B,2,FALSE)","v":176}]
[4322,"吴娟",361128103040,154012501518,11,{"$f":"VLOOKUP(C4323,Sheet2!A:B,2,FALSE)","v":176}]
[4323,"龚桃梅",361128103040,154250103428,12,{"$f":"VLOOKUP(C4324,Sheet2!A:B,2,FALSE)","v":176}]
[4324,"王静",361128103040,154012501003,13,{"$f":"VLOOKUP(C4325,Sheet2!A:B,2,FALSE)","v":176}]
[4325,"虞恬",361128103040,154012500928,14,{"$f":"VLOOKUP(C4326,Sheet2!A:B,2,FALSE)","v":176}]
[4326,"余慧慧",361128103040,154012501325,15,{"$f":"VLOOKUP(C4327,Sheet2!A:B,2,FALSE)","v":176}]
[4327,"张莹",361128103040,154012500908,16,{"$f":"VLOOKUP(C4328,Sheet2!A:B,2,FALSE)","v":176}]
[4328,"陈琳",361128103040,154232405309,18,{"$f":"VLOOKUP(C4329,Sheet2!A:B,2,FALSE)","v":176}]
[4329,"江梦柔",361128103040,154012500320,17,{"$f":"VLOOKUP(C4330,Sheet2!A:B,2,FALSE)","v":176}]
[4330,"廖怡菲",361128103040,154012502019,19,{"$f":"VLOOKUP(C4331,Sheet2!A:B,2,FALSE)","v":176}]
[4331,"鲍佳慧",361128103040,154040600205,20,{"$f":"VLOOKUP(C4332,Sheet2!A:B,2,FALSE)","v":176}]
[4332,"程孟龄",361128103040,154020402227,21,{"$f":"VLOOKUP(C4333,Sheet2!A:B,2,FALSE)","v":176}]
[4333,"张静",361128103040,154232404713,22,{"$f":"VLOOKUP(C4334,Sheet2!A:B,2,FALSE)","v":176}]
[4334,"陈玲",361128103040,154040601202,23,{"$f":"VLOOKUP(C4335,Sheet2!A:B,2,FALSE)","v":176}]
[4335,"徐佳",361128103040,154040601213,24,{"$f":"VLOOKUP(C4336,Sheet2!A:B,2,FALSE)","v":176}]
[4336,"邓琪",361128103040,154012502418,25,{"$f":"VLOOKUP(C4337,Sheet2!A:B,2,FALSE)","v":176}]
[4337,"林莉",361128103040,154012500703,26,{"$f":"VLOOKUP(C4338,Sheet2!A:B,2,FALSE)","v":176}]
[4338,"朱少红",361128103040,154242503317,27,{"$f":"VLOOKUP(C4339,Sheet2!A:B,2,FALSE)","v":176}]
[4339,"徐志红",361128103040,154020402528,28,{"$f":"VLOOKUP(C4340,Sheet2!A:B,2,FALSE)","v":176}]
[4340,"汪群丽",361128103040,154020402302,30,{"$f":"VLOOKUP(C4341,Sheet2!A:B,2,FALSE)","v":176}]
[4341,"汪琳霞",361128103040,154012501426,29,{"$f":"VLOOKUP(C4342,Sheet2!A:B,2,FALSE)","v":176}]
[4342,"杨琴",361128103040,154012501019,31,{"$f":"VLOOKUP(C4343,Sheet2!A:B,2,FALSE)","v":176}]
[4343,"邱阳",361128103040,154232405613,32,{"$f":"VLOOKUP(C4344,Sheet2!A:B,2,FALSE)","v":176}]
[4344,"蒋洋",361128103040,154012500802,33,{"$f":"VLOOKUP(C4345,Sheet2!A:B,2,FALSE)","v":176}]
[4345,"王诗琪",361128103040,154020402512,34,{"$f":"VLOOKUP(C4346,Sheet2!A:B,2,FALSE)","v":176}]
[4346,"程义凤",361128103040,154012500909,35,{"$f":"VLOOKUP(C4347,Sheet2!A:B,2,FALSE)","v":176}]
[4347,"吴月",361128103040,154012501024,37,{"$f":"VLOOKUP(C4348,Sheet2!A:B,2,FALSE)","v":176}]
[4348,"夏菁",361128103040,154012500723,36,{"$f":"VLOOKUP(C4349,Sheet2!A:B,2,FALSE)","v":176}]
[4349,"程思芳",361128103040,154020402216,38,{"$f":"VLOOKUP(C4350,Sheet2!A:B,2,FALSE)","v":176}]
[4350,"刘露",361128103040,154012500215,39,{"$f":"VLOOKUP(C4351,Sheet2!A:B,2,FALSE)","v":176}]
[4351,"吴美芳",361128103040,154232405208,40,{"$f":"VLOOKUP(C4352,Sheet2!A:B,2,FALSE)","v":176}]
[4352,"黄巧林",361128103040,154012502405,41,{"$f":"VLOOKUP(C4353,Sheet2!A:B,2,FALSE)","v":176}]
[4353,"胡锦华",361128103040,154232405504,42,{"$f":"VLOOKUP(C4354,Sheet2!A:B,2,FALSE)","v":176}]
[4354,"沈云",361128103040,154040600312,43,{"$f":"VLOOKUP(C4355,Sheet2!A:B,2,FALSE)","v":176}]
[4355,"罗颖",361128103040,154020402307,47,{"$f":"VLOOKUP(C4356,Sheet2!A:B,2,FALSE)","v":176}]
[4356,"卢勇龙",361128103040,154012500409,45,{"$f":"VLOOKUP(C4357,Sheet2!A:B,2,FALSE)","v":176}]
[4357,"邓婷婷",361128103040,154012501430,46,{"$f":"VLOOKUP(C4358,Sheet2!A:B,2,FALSE)","v":176}]
[4358,"敖欣敏",361128103040,154012502118,44,{"$f":"VLOOKUP(C4359,Sheet2!A:B,2,FALSE)","v":176}]
[4359,"黄薇",361128103040,154012500813,48,{"$f":"VLOOKUP(C4360,Sheet2!A:B,2,FALSE)","v":176}]
[4360,"廖梦瑶",361128103040,154242503408,49,{"$f":"VLOOKUP(C4361,Sheet2!A:B,2,FALSE)","v":176}]
[4361,"陈红",361128103040,154232405023,50,{"$f":"VLOOKUP(C4362,Sheet2!A:B,2,FALSE)","v":176}]
[4362,"彭海燕",361128103040,154012500102,51,{"$f":"VLOOKUP(C4363,Sheet2!A:B,2,FALSE)","v":176}]
[4363,"何慈",361128103040,154060602101,52,{"$f":"VLOOKUP(C4364,Sheet2!A:B,2,FALSE)","v":176}]
[4364,"冷澄娟",361128103040,154012502123,54,{"$f":"VLOOKUP(C4365,Sheet2!A:B,2,FALSE)","v":176}]
[4365,"刘星云",361128103040,154020402211,55,{"$f":"VLOOKUP(C4366,Sheet2!A:B,2,FALSE)","v":176}]
[4366,"余春燕",361128103040,154040600723,53,{"$f":"VLOOKUP(C4367,Sheet2!A:B,2,FALSE)","v":176}]
[4367,"李玉群",361128103040,154210601121,57,{"$f":"VLOOKUP(C4368,Sheet2!A:B,2,FALSE)","v":176}]
[4368,"詹甜甜",361128103040,154020402529,56,{"$f":"VLOOKUP(C4369,Sheet2!A:B,2,FALSE)","v":176}]
[4369,"宁冬萍",361128103040,154020402317,59,{"$f":"VLOOKUP(C4370,Sheet2!A:B,2,FALSE)","v":176}]
[4370,"韩芬",361128103040,154040600815,58,{"$f":"VLOOKUP(C4371,Sheet2!A:B,2,FALSE)","v":176}]
[4371,"俞晖",361128103040,154232405518,60,{"$f":"VLOOKUP(C4372,Sheet2!A:B,2,FALSE)","v":176}]
[4372,"程文博",361128103040,154020402202,61,{"$f":"VLOOKUP(C4373,Sheet2!A:B,2,FALSE)","v":176}]
[4373,"詹美灵",361128103040,154012501213,62,{"$f":"VLOOKUP(C4374,Sheet2!A:B,2,FALSE)","v":176}]
[4374,"陈晓珠",361128104009,154012601024,1,{"$f":"VLOOKUP(C4375,Sheet2!A:B,2,FALSE)","v":193.5}]
[4375,"戴心怡",361128104009,154012600327,3,{"$f":"VLOOKUP(C4376,Sheet2!A:B,2,FALSE)","v":193.5}]
[4376,"程杨文",361128104009,154232406405,2,{"$f":"VLOOKUP(C4377,Sheet2!A:B,2,FALSE)","v":193.5}]
[4377,"戴林静",361128104009,154012600403,4,{"$f":"VLOOKUP(C4378,Sheet2!A:B,2,FALSE)","v":193.5}]
[4378,"刘莹莹",361128104009,154040702601,5,{"$f":"VLOOKUP(C4379,Sheet2!A:B,2,FALSE)","v":193.5}]
[4379,"王佳玲",361128104009,154232406022,6,{"$f":"VLOOKUP(C4380,Sheet2!A:B,2,FALSE)","v":193.5}]
[4380,"胡雪玲",361128104009,154012600513,7,{"$f":"VLOOKUP(C4381,Sheet2!A:B,2,FALSE)","v":193.5}]
[4381,"俞路",361128104009,154232406415,8,{"$f":"VLOOKUP(C4382,Sheet2!A:B,2,FALSE)","v":193.5}]
[4382,"郭小丽",361128104009,154012600402,9,{"$f":"VLOOKUP(C4383,Sheet2!A:B,2,FALSE)","v":193.5}]
[4383,"汪雅兰",361128104009,154012600217,10,{"$f":"VLOOKUP(C4384,Sheet2!A:B,2,FALSE)","v":193.5}]
[4384,"吴仔萱",361128104009,154012600108,11,{"$f":"VLOOKUP(C4385,Sheet2!A:B,2,FALSE)","v":193.5}]
[4385,"叶盈盈",361128104009,154012600208,12,{"$f":"VLOOKUP(C4386,Sheet2!A:B,2,FALSE)","v":193.5}]
[4386,"胡倍兰",361128104009,154012600928,13,{"$f":"VLOOKUP(C4387,Sheet2!A:B,2,FALSE)","v":193.5}]
[4387,"汪婷",361128104009,154020402702,14,{"$f":"VLOOKUP(C4388,Sheet2!A:B,2,FALSE)","v":193.5}]
[4388,"卢节盈",361128104009,154012600113,15,{"$f":"VLOOKUP(C4389,Sheet2!A:B,2,FALSE)","v":193.5}]
[4389,"夏玉洁",361128104009,154012600605,16,{"$f":"VLOOKUP(C4390,Sheet2!A:B,2,FALSE)","v":193.5}]
[4390,"张艳",361128104009,154012600417,17,{"$f":"VLOOKUP(C4391,Sheet2!A:B,2,FALSE)","v":193.5}]
[4391,"方锡丽",361128104009,154232406304,18,{"$f":"VLOOKUP(C4392,Sheet2!A:B,2,FALSE)","v":193.5}]
[4392,"王丽斯",361128104009,154232406323,19,{"$f":"VLOOKUP(C4393,Sheet2!A:B,2,FALSE)","v":193.5}]
[4393,"周诗彤",361128104009,154250103912,20,{"$f":"VLOOKUP(C4394,Sheet2!A:B,2,FALSE)","v":193.5}]
[4394,"郑慧敏",361128104009,154012600527,21,{"$f":"VLOOKUP(C4395,Sheet2!A:B,2,FALSE)","v":193.5}]
[4395,"闵佳悦",361128104009,154232406327,22,{"$f":"VLOOKUP(C4396,Sheet2!A:B,2,FALSE)","v":193.5}]
[4396,"孙琦媛",361128104009,154232406009,23,{"$f":"VLOOKUP(C4397,Sheet2!A:B,2,FALSE)","v":193.5}]
[4397,"谢英姿",361128105016,154040703301,1,{"$f":"VLOOKUP(C4398,Sheet2!A:B,2,FALSE)","v":132}]
[4398,"张嘉文",361128105016,154250104221,2,{"$f":"VLOOKUP(C4399,Sheet2!A:B,2,FALSE)","v":132}]
[4399,"程慧琳",361128105016,154012601522,3,{"$f":"VLOOKUP(C4400,Sheet2!A:B,2,FALSE)","v":132}]
[4400,"彭亚玲",361128105016,154232406908,4,{"$f":"VLOOKUP(C4401,Sheet2!A:B,2,FALSE)","v":132}]
[4401,"程春华",361128105016,154012602110,5,{"$f":"VLOOKUP(C4402,Sheet2!A:B,2,FALSE)","v":132}]
[4402,"张力川",361128105016,154050313912,6,{"$f":"VLOOKUP(C4403,Sheet2!A:B,2,FALSE)","v":132}]
[4403,"熊礼健",361128105016,154232406523,7,{"$f":"VLOOKUP(C4404,Sheet2!A:B,2,FALSE)","v":132}]
[4404,"王小鹏",361128105016,154012602205,8,{"$f":"VLOOKUP(C4405,Sheet2!A:B,2,FALSE)","v":132}]
[4405,"吴洵鹏",361128105016,154012601926,9,{"$f":"VLOOKUP(C4406,Sheet2!A:B,2,FALSE)","v":132}]
[4406,"舒世新",361128105016,154050313902,10,{"$f":"VLOOKUP(C4407,Sheet2!A:B,2,FALSE)","v":132}]
[4407,"操古明",361128105016,154020402923,11,{"$f":"VLOOKUP(C4408,Sheet2!A:B,2,FALSE)","v":132}]
[4408,"钟田雨",361128105016,154012602215,12,{"$f":"VLOOKUP(C4409,Sheet2!A:B,2,FALSE)","v":132}]
[4409,"程鑫华",361128105016,154012601605,13,{"$f":"VLOOKUP(C4410,Sheet2!A:B,2,FALSE)","v":132}]
[4410,"姚日珍",361128105016,154232406804,14,{"$f":"VLOOKUP(C4411,Sheet2!A:B,2,FALSE)","v":132}]
[4411,"上官钰义",361128105016,154232406722,15,{"$f":"VLOOKUP(C4412,Sheet2!A:B,2,FALSE)","v":132}]
[4412,"何利鹏",361128105016,154242600509,16,{"$f":"VLOOKUP(C4413,Sheet2!A:B,2,FALSE)","v":132}]
[4413,"姜意",361128105016,154012601510,17,{"$f":"VLOOKUP(C4414,Sheet2!A:B,2,FALSE)","v":132}]
[4414,"张伊梅",361128105016,154232406821,18,{"$f":"VLOOKUP(C4415,Sheet2!A:B,2,FALSE)","v":132}]
[4415,"程朱玲子",361128105016,154232406524,19,{"$f":"VLOOKUP(C4416,Sheet2!A:B,2,FALSE)","v":132}]
[4416,"郑学桐",361128105016,154232406630,20,{"$f":"VLOOKUP(C4417,Sheet2!A:B,2,FALSE)","v":132}]
[4417,"吴子珍",361128105016,154232407020,21,{"$f":"VLOOKUP(C4418,Sheet2!A:B,2,FALSE)","v":132}]
[4418,"严曼",361128105016,154012601513,22,{"$f":"VLOOKUP(C4419,Sheet2!A:B,2,FALSE)","v":132}]
[4419,"刘丹",361128105016,154012602002,23,{"$f":"VLOOKUP(C4420,Sheet2!A:B,2,FALSE)","v":132}]
[4420,"彭智豪",361128105016,154242600223,24,{"$f":"VLOOKUP(C4421,Sheet2!A:B,2,FALSE)","v":132}]
[4421,"张世豪",361128105016,154232406828,25,{"$f":"VLOOKUP(C4422,Sheet2!A:B,2,FALSE)","v":132}]
[4422,"徐德意",361128105016,154232406820,26,{"$f":"VLOOKUP(C4423,Sheet2!A:B,2,FALSE)","v":132}]
[4423,"陶鑫浩",361128105016,154060602416,27,{"$f":"VLOOKUP(C4424,Sheet2!A:B,2,FALSE)","v":132}]
[4424,"陈思宇",361128105016,154232406912,28,{"$f":"VLOOKUP(C4425,Sheet2!A:B,2,FALSE)","v":132}]
[4425,"严代明",361128105016,154232406614,29,{"$f":"VLOOKUP(C4426,Sheet2!A:B,2,FALSE)","v":132}]
[4426,"刘芳",361128105016,154210504007,30,{"$f":"VLOOKUP(C4427,Sheet2!A:B,2,FALSE)","v":132}]
[4427,"叶剑锋",361128105016,154232406616,31,{"$f":"VLOOKUP(C4428,Sheet2!A:B,2,FALSE)","v":132}]
[4428,"吴佳琪",361128105016,154232406902,32,{"$f":"VLOOKUP(C4429,Sheet2!A:B,2,FALSE)","v":132}]
[4429,"王琪",361128106015,154020403213,1,{"$f":"VLOOKUP(C4430,Sheet2!A:B,2,FALSE)","v":169.5}]
[4430,"周婷",361128106015,154012603313,2,{"$f":"VLOOKUP(C4431,Sheet2!A:B,2,FALSE)","v":169.5}]
[4431,"谢颖昭",361128106015,154012602419,3,{"$f":"VLOOKUP(C4432,Sheet2!A:B,2,FALSE)","v":169.5}]
[4432,"韦正霞",361128106015,154020403209,4,{"$f":"VLOOKUP(C4433,Sheet2!A:B,2,FALSE)","v":169.5}]
[4433,"吴美玉",361128106015,154012602517,5,{"$f":"VLOOKUP(C4434,Sheet2!A:B,2,FALSE)","v":169.5}]
[4434,"朱佳敏",361128106015,154020403518,6,{"$f":"VLOOKUP(C4435,Sheet2!A:B,2,FALSE)","v":169.5}]
[4435,"董蓥莹",361128106015,154012603007,7,{"$f":"VLOOKUP(C4436,Sheet2!A:B,2,FALSE)","v":169.5}]
[4436,"罗婷溢",361128106015,154232407202,8,{"$f":"VLOOKUP(C4437,Sheet2!A:B,2,FALSE)","v":169.5}]
[4437,"程爱萍",361128106015,154012602505,9,{"$f":"VLOOKUP(C4438,Sheet2!A:B,2,FALSE)","v":169.5}]
[4438,"叶孝薇",361128106015,154012602607,10,{"$f":"VLOOKUP(C4439,Sheet2!A:B,2,FALSE)","v":169.5}]
[4439,"徐子怡",361128106015,154012603501,11,{"$f":"VLOOKUP(C4440,Sheet2!A:B,2,FALSE)","v":169.5}]
[4440,"方子贞",361128106015,154012602308,12,{"$f":"VLOOKUP(C4441,Sheet2!A:B,2,FALSE)","v":169.5}]
[4441,"程淑婷",361128106015,154020403515,13,{"$f":"VLOOKUP(C4442,Sheet2!A:B,2,FALSE)","v":169.5}]
[4442,"杨洋",361128106015,154012602921,14,{"$f":"VLOOKUP(C4443,Sheet2!A:B,2,FALSE)","v":169.5}]
[4443,"胡莹莹",361128106015,154020403512,15,{"$f":"VLOOKUP(C4444,Sheet2!A:B,2,FALSE)","v":169.5}]
[4444,"陈恩桐",361128106015,154012603205,16,{"$f":"VLOOKUP(C4445,Sheet2!A:B,2,FALSE)","v":169.5}]
[4445,"程紫瑶",361128106015,154012603314,17,{"$f":"VLOOKUP(C4446,Sheet2!A:B,2,FALSE)","v":169.5}]
[4446,"杨志红",361128106015,154020403402,18,{"$f":"VLOOKUP(C4447,Sheet2!A:B,2,FALSE)","v":169.5}]
[4447,"刘安琪",361128106015,154012603115,19,{"$f":"VLOOKUP(C4448,Sheet2!A:B,2,FALSE)","v":169.5}]
[4448,"刘进颖",361128106015,154060602601,20,{"$f":"VLOOKUP(C4449,Sheet2!A:B,2,FALSE)","v":169.5}]
[4449,"李兰凤",361128106015,154211101502,21,{"$f":"VLOOKUP(C4450,Sheet2!A:B,2,FALSE)","v":169.5}]
[4450,"吴梦真",361128106015,154012603316,22,{"$f":"VLOOKUP(C4451,Sheet2!A:B,2,FALSE)","v":169.5}]
[4451,"占嫣嫣",361128106015,154020403311,24,{"$f":"VLOOKUP(C4452,Sheet2!A:B,2,FALSE)","v":169.5}]
[4452,"雷丽娟",361128106015,154232407201,23,{"$f":"VLOOKUP(C4453,Sheet2!A:B,2,FALSE)","v":169.5}]
[4453,"沈玲",361128106015,154012602907,25,{"$f":"VLOOKUP(C4454,Sheet2!A:B,2,FALSE)","v":169.5}]
[4454,"祝佳琪",361128106015,154232407316,26,{"$f":"VLOOKUP(C4455,Sheet2!A:B,2,FALSE)","v":169.5}]
[4455,"万丹",361128106015,154012603415,27,{"$f":"VLOOKUP(C4456,Sheet2!A:B,2,FALSE)","v":169.5}]
[4456,"张芷琪",361128106015,154012603710,28,{"$f":"VLOOKUP(C4457,Sheet2!A:B,2,FALSE)","v":169.5}]
[4457,"彭旦青",361128106015,154012603623,29,{"$f":"VLOOKUP(C4458,Sheet2!A:B,2,FALSE)","v":169.5}]
[4458,"占翔棋",361128106015,154232407408,30,{"$f":"VLOOKUP(C4459,Sheet2!A:B,2,FALSE)","v":169.5}]
[4459,"洪毅",361128107014,154012502910,1,{"$f":"VLOOKUP(C4460,Sheet2!A:B,2,FALSE)","v":124.5}]
[4460,"袁鑫鑫",361128107014,154012502924,2,{"$f":"VLOOKUP(C4461,Sheet2!A:B,2,FALSE)","v":124.5}]
[4461,"付丽文",361128107014,154020403812,3,{"$f":"VLOOKUP(C4462,Sheet2!A:B,2,FALSE)","v":124.5}]
[4462,"蔡桉",361128107014,154232408329,4,{"$f":"VLOOKUP(C4463,Sheet2!A:B,2,FALSE)","v":124.5}]
[4463,"俞婷",361128107014,154232408005,5,{"$f":"VLOOKUP(C4464,Sheet2!A:B,2,FALSE)","v":124.5}]
[4464,"涂嘉琪",361128107014,154012502812,6,{"$f":"VLOOKUP(C4465,Sheet2!A:B,2,FALSE)","v":124.5}]
[4465,"孙海诺",361128107014,154250104623,7,{"$f":"VLOOKUP(C4466,Sheet2!A:B,2,FALSE)","v":124.5}]
[4466,"潘舒琪",361128107014,154232408125,8,{"$f":"VLOOKUP(C4467,Sheet2!A:B,2,FALSE)","v":124.5}]
[4467,"袁露露",361128107014,154221403604,9,{"$f":"VLOOKUP(C4468,Sheet2!A:B,2,FALSE)","v":124.5}]
[4468,"徐沛思",361128107014,154012502725,10,{"$f":"VLOOKUP(C4469,Sheet2!A:B,2,FALSE)","v":124.5}]
[4469,"应宇璐",361128107014,154020403906,11,{"$f":"VLOOKUP(C4470,Sheet2!A:B,2,FALSE)","v":124.5}]
[4470,"林晨",361128107014,154012502819,12,{"$f":"VLOOKUP(C4471,Sheet2!A:B,2,FALSE)","v":124.5}]
[4471,"陈飞",361128107014,154232408001,13,{"$f":"VLOOKUP(C4472,Sheet2!A:B,2,FALSE)","v":124.5}]
[4472,"师永康",361128107014,154012502625,14,{"$f":"VLOOKUP(C4473,Sheet2!A:B,2,FALSE)","v":124.5}]
[4473,"吴涛",361128107014,154232408127,15,{"$f":"VLOOKUP(C4474,Sheet2!A:B,2,FALSE)","v":124.5}]
[4474,"姜良肖",361128107014,154050314202,16,{"$f":"VLOOKUP(C4475,Sheet2!A:B,2,FALSE)","v":124.5}]
[4475,"占涵汐",361128107014,154012502617,17,{"$f":"VLOOKUP(C4476,Sheet2!A:B,2,FALSE)","v":124.5}]
[4476,"黄婷",361128107014,154242500902,18,{"$f":"VLOOKUP(C4477,Sheet2!A:B,2,FALSE)","v":124.5}]
[4477,"王杰宇",361128107014,154020403830,19,{"$f":"VLOOKUP(C4478,Sheet2!A:B,2,FALSE)","v":124.5}]
[4478,"周敏",361128107014,154242500820,20,{"$f":"VLOOKUP(C4479,Sheet2!A:B,2,FALSE)","v":124.5}]
[4479,"杨紫琦",361128107014,154232408105,21,{"$f":"VLOOKUP(C4480,Sheet2!A:B,2,FALSE)","v":124.5}]
[4480,"谭海燕",361128107014,154030304101,23,{"$f":"VLOOKUP(C4481,Sheet2!A:B,2,FALSE)","v":124.5}]
[4481,"程汐泓",361128107014,154020403901,22,{"$f":"VLOOKUP(C4482,Sheet2!A:B,2,FALSE)","v":124.5}]
[4482,"姚慧芳",361128107014,154012502807,24,{"$f":"VLOOKUP(C4483,Sheet2!A:B,2,FALSE)","v":124.5}]
[4483,"周雅倩",361128107014,154012503008,25,{"$f":"VLOOKUP(C4484,Sheet2!A:B,2,FALSE)","v":124.5}]
[4484,"黄逸妃",361128107014,154232408301,26,{"$f":"VLOOKUP(C4485,Sheet2!A:B,2,FALSE)","v":124.5}]
[4485,"俞玲花",361128107014,154232408206,27,{"$f":"VLOOKUP(C4486,Sheet2!A:B,2,FALSE)","v":124.5}]
[4486,"王雅婷",361128107014,154232408117,28,{"$f":"VLOOKUP(C4487,Sheet2!A:B,2,FALSE)","v":124.5}]
[4487,"姜洪康",361128113010,154232408721,1,{"$f":"VLOOKUP(C4488,Sheet2!A:B,2,FALSE)","v":125}]
[4488,"邹昌辉",361128113010,154012603803,2,{"$f":"VLOOKUP(C4489,Sheet2!A:B,2,FALSE)","v":125}]
[4489,"陈丽婷",361128113010,154040601410,3,{"$f":"VLOOKUP(C4490,Sheet2!A:B,2,FALSE)","v":125}]
[4490,"郑欣悦",361128113010,154232408528,4,{"$f":"VLOOKUP(C4491,Sheet2!A:B,2,FALSE)","v":125}]
[4491,"毛颖",361128113010,154012603806,5,{"$f":"VLOOKUP(C4492,Sheet2!A:B,2,FALSE)","v":125}]
[4492,"何梦婕",361128113010,154012404218,6,{"$f":"VLOOKUP(C4493,Sheet2!A:B,2,FALSE)","v":125}]
[4493,"曹雪风",361128113010,154020404012,8,{"$f":"VLOOKUP(C4494,Sheet2!A:B,2,FALSE)","v":125}]
[4494,"胡海洋",361128113010,154012603818,7,{"$f":"VLOOKUP(C4495,Sheet2!A:B,2,FALSE)","v":125}]
[4495,"张秀文",361128113010,154012404223,9,{"$f":"VLOOKUP(C4496,Sheet2!A:B,2,FALSE)","v":125}]
[4496,"谢媛媛",361128113010,154040601421,10,{"$f":"VLOOKUP(C4497,Sheet2!A:B,2,FALSE)","v":125}]
[4497,"张杭燕",361128113010,154012603814,11,{"$f":"VLOOKUP(C4498,Sheet2!A:B,2,FALSE)","v":125}]
[4498,"程丹",361128113010,154012603830,12,{"$f":"VLOOKUP(C4499,Sheet2!A:B,2,FALSE)","v":125}]
[4499,"肖嘉妮",361128113010,154020404008,13,{"$f":"VLOOKUP(C4500,Sheet2!A:B,2,FALSE)","v":125}]
[4500,"张梦如",361128113010,154040601508,14,{"$f":"VLOOKUP(C4501,Sheet2!A:B,2,FALSE)","v":125}]
[4501,"梁洪彬",361128113010,154012604020,15,{"$f":"VLOOKUP(C4502,Sheet2!A:B,2,FALSE)","v":125}]
[4502,"方洁春",361128113010,154012603922,16,{"$f":"VLOOKUP(C4503,Sheet2!A:B,2,FALSE)","v":125}]
[4503,"金钰",361128113010,154210800419,17,{"$f":"VLOOKUP(C4504,Sheet2!A:B,2,FALSE)","v":125}]
[4504,"贺星",361128113010,154012603919,18,{"$f":"VLOOKUP(C4505,Sheet2!A:B,2,FALSE)","v":125}]
[4505,"赵永鉴",361128113010,154012603912,19,{"$f":"VLOOKUP(C4506,Sheet2!A:B,2,FALSE)","v":125}]
[4506,"罗金金",361128113010,154012603905,20,{"$f":"VLOOKUP(C4507,Sheet2!A:B,2,FALSE)","v":125}]
[4507,"曹紫金",361128113010,154040601419,21,{"$f":"VLOOKUP(C4508,Sheet2!A:B,2,FALSE)","v":125}]
[4508,"刘慧琴",361128113010,154232408609,22,{"$f":"VLOOKUP(C4509,Sheet2!A:B,2,FALSE)","v":125}]
[4509,"李喜梅",361128113010,154210800406,23,{"$f":"VLOOKUP(C4510,Sheet2!A:B,2,FALSE)","v":125}]
[4510,"樊佳瑜",361128113010,154012603927,25,{"$f":"VLOOKUP(C4511,Sheet2!A:B,2,FALSE)","v":125}]
[4511,"林翠玲",361128113010,154020404009,26,{"$f":"VLOOKUP(C4512,Sheet2!A:B,2,FALSE)","v":125}]
[4512,"邵皓雪",361128113010,154040601420,24,{"$f":"VLOOKUP(C4513,Sheet2!A:B,2,FALSE)","v":125}]
[4513,"石强",361128115002,154012404716,1,{"$f":"VLOOKUP(C4514,Sheet2!A:B,2,FALSE)","v":183.5}]
[4514,"游丽晶",361128115002,154012404705,2,{"$f":"VLOOKUP(C4515,Sheet2!A:B,2,FALSE)","v":183.5}]
[4515,"钟梦芝",361128115002,154012404811,3,{"$f":"VLOOKUP(C4516,Sheet2!A:B,2,FALSE)","v":183.5}]
[4516,"占招琴",361128115002,154040802529,4,{"$f":"VLOOKUP(C4517,Sheet2!A:B,2,FALSE)","v":183.5}]
[4517,"古珊珊",361128115002,154012404715,5,{"$f":"VLOOKUP(C4518,Sheet2!A:B,2,FALSE)","v":183.5}]
[4518,"黄芳萍",361128115002,154211103404,6,{"$f":"VLOOKUP(C4519,Sheet2!A:B,2,FALSE)","v":183.5}]
[4519,"周共娜",361128116010,154012405119,1,{"$f":"VLOOKUP(C4520,Sheet2!A:B,2,FALSE)","v":181.5}]
[4520,"周思雨",361128116010,154040802708,2,{"$f":"VLOOKUP(C4521,Sheet2!A:B,2,FALSE)","v":181.5}]
[4521,"戴雯静",361128116010,154250105116,3,{"$f":"VLOOKUP(C4522,Sheet2!A:B,2,FALSE)","v":181.5}]
[4522,"罗贤",361128116010,154012405128,4,{"$f":"VLOOKUP(C4523,Sheet2!A:B,2,FALSE)","v":181.5}]
[4523,"赵皓婷",361128116010,154012405108,5,{"$f":"VLOOKUP(C4524,Sheet2!A:B,2,FALSE)","v":181.5}]
[4524,"吴根香",361128116010,154012405319,6,{"$f":"VLOOKUP(C4525,Sheet2!A:B,2,FALSE)","v":181.5}]
[4525,"章佳平",361128116010,154012405406,7,{"$f":"VLOOKUP(C4526,Sheet2!A:B,2,FALSE)","v":181.5}]
[4526,"朱慧敏",361128116010,154221404108,8,{"$f":"VLOOKUP(C4527,Sheet2!A:B,2,FALSE)","v":181.5}]
[4527,"吴紫金",361128116010,154040802804,9,{"$f":"VLOOKUP(C4528,Sheet2!A:B,2,FALSE)","v":181.5}]
[4528,"钱紫瑶",361128116010,154020404306,10,{"$f":"VLOOKUP(C4529,Sheet2!A:B,2,FALSE)","v":181.5}]
[4529,"黄美金",361128116010,154012405103,11,{"$f":"VLOOKUP(C4530,Sheet2!A:B,2,FALSE)","v":181.5}]
[4530,"许文亮",361128116010,154232409016,12,{"$f":"VLOOKUP(C4531,Sheet2!A:B,2,FALSE)","v":181.5}]
[4531,"杨玲",361128116010,154250105118,13,{"$f":"VLOOKUP(C4532,Sheet2!A:B,2,FALSE)","v":181.5}]
[4532,"陈素琪",361128116010,154012405025,14,{"$f":"VLOOKUP(C4533,Sheet2!A:B,2,FALSE)","v":181.5}]
[4533,"吴雨欣",361128116010,154012405310,15,{"$f":"VLOOKUP(C4534,Sheet2!A:B,2,FALSE)","v":181.5}]
[4534,"林崔",361128116010,154012405114,16,{"$f":"VLOOKUP(C4535,Sheet2!A:B,2,FALSE)","v":181.5}]
[4535,"姚依琳",361128116010,154232409107,18,{"$f":"VLOOKUP(C4536,Sheet2!A:B,2,FALSE)","v":181.5}]
[4536,"吴继民",361128116010,154012405301,17,{"$f":"VLOOKUP(C4537,Sheet2!A:B,2,FALSE)","v":181.5}]
[4537,"陈文玲",361128116010,154012405328,19,{"$f":"VLOOKUP(C4538,Sheet2!A:B,2,FALSE)","v":181.5}]
[4538,"徐燕霞",361128116010,154012405113,20,{"$f":"VLOOKUP(C4539,Sheet2!A:B,2,FALSE)","v":181.5}]
[4539,"练艳梅",361128116010,154012405214,21,{"$f":"VLOOKUP(C4540,Sheet2!A:B,2,FALSE)","v":181.5}]
[4540,"张婷",361128116010,154232409007,23,{"$f":"VLOOKUP(C4541,Sheet2!A:B,2,FALSE)","v":181.5}]
[4541,"邱梦琪",361128116010,154012405314,22,{"$f":"VLOOKUP(C4542,Sheet2!A:B,2,FALSE)","v":181.5}]
[4542,"张琴",361128116010,154250105121,24,{"$f":"VLOOKUP(C4543,Sheet2!A:B,2,FALSE)","v":181.5}]
[4543,"李子雯",361128116010,154012405327,25,{"$f":"VLOOKUP(C4544,Sheet2!A:B,2,FALSE)","v":181.5}]
[4544,"张云燕",361128201020,154040602029,1,{"$f":"VLOOKUP(C4545,Sheet2!A:B,2,FALSE)","v":125}]
[4545,"龚素",361128201020,154012700411,2,{"$f":"VLOOKUP(C4546,Sheet2!A:B,2,FALSE)","v":125}]
[4546,"曾琴",361128201020,154012701010,3,{"$f":"VLOOKUP(C4547,Sheet2!A:B,2,FALSE)","v":125}]
[4547,"钟建华",361128201020,154231500308,4,{"$f":"VLOOKUP(C4548,Sheet2!A:B,2,FALSE)","v":125}]
[4548,"俞淑婷",361128201020,154231500216,5,{"$f":"VLOOKUP(C4549,Sheet2!A:B,2,FALSE)","v":125}]
[4549,"曹鑫",361128201020,154231500108,7,{"$f":"VLOOKUP(C4550,Sheet2!A:B,2,FALSE)","v":125}]
[4550,"刘杰荧",361128201020,154012701605,6,{"$f":"VLOOKUP(C4551,Sheet2!A:B,2,FALSE)","v":125}]
[4551,"王杰",361128201020,154012700318,8,{"$f":"VLOOKUP(C4552,Sheet2!A:B,2,FALSE)","v":125}]
[4552,"徐双燕",361128201020,154020500210,9,{"$f":"VLOOKUP(C4553,Sheet2!A:B,2,FALSE)","v":125}]
[4553,"李慧萍",361128201020,154020500119,10,{"$f":"VLOOKUP(C4554,Sheet2!A:B,2,FALSE)","v":125}]
[4554,"程芸芸",361128201020,154012701424,11,{"$f":"VLOOKUP(C4555,Sheet2!A:B,2,FALSE)","v":125}]
[4555,"吴芬芳",361128201020,154012701329,12,{"$f":"VLOOKUP(C4556,Sheet2!A:B,2,FALSE)","v":125}]
[4556,"魏丹丹",361128201020,154012701013,13,{"$f":"VLOOKUP(C4557,Sheet2!A:B,2,FALSE)","v":125}]
[4557,"赵潇潇",361128201020,154040602027,14,{"$f":"VLOOKUP(C4558,Sheet2!A:B,2,FALSE)","v":125}]
[4558,"李敏",361128201020,154012701006,15,{"$f":"VLOOKUP(C4559,Sheet2!A:B,2,FALSE)","v":125}]
[4559,"王枝",361128201020,154242601520,16,{"$f":"VLOOKUP(C4560,Sheet2!A:B,2,FALSE)","v":125}]
[4560,"程肖",361128201020,154020500205,17,{"$f":"VLOOKUP(C4561,Sheet2!A:B,2,FALSE)","v":125}]
[4561,"于新茹",361128201020,154040601717,18,{"$f":"VLOOKUP(C4562,Sheet2!A:B,2,FALSE)","v":125}]
[4562,"张雅婷",361128201020,154020500114,19,{"$f":"VLOOKUP(C4563,Sheet2!A:B,2,FALSE)","v":125}]
[4563,"应江南",361128201020,154012700808,20,{"$f":"VLOOKUP(C4564,Sheet2!A:B,2,FALSE)","v":125}]
[4564,"潘婷",361128201020,154231500204,21,{"$f":"VLOOKUP(C4565,Sheet2!A:B,2,FALSE)","v":125}]
[4565,"俞群",361128201020,154020500125,22,{"$f":"VLOOKUP(C4566,Sheet2!A:B,2,FALSE)","v":125}]
[4566,"占丽锋",361128201020,154020500216,23,{"$f":"VLOOKUP(C4567,Sheet2!A:B,2,FALSE)","v":125}]
[4567,"张玲",361128201020,154020500320,24,{"$f":"VLOOKUP(C4568,Sheet2!A:B,2,FALSE)","v":125}]
[4568,"罗倩",361128201020,154231500504,25,{"$f":"VLOOKUP(C4569,Sheet2!A:B,2,FALSE)","v":125}]
[4569,"彭棱波",361128201020,154012700203,26,{"$f":"VLOOKUP(C4570,Sheet2!A:B,2,FALSE)","v":125}]
[4570,"于长宣",361128201020,154020500124,28,{"$f":"VLOOKUP(C4571,Sheet2!A:B,2,FALSE)","v":125}]
[4571,"汪娜",361128201020,154040601626,27,{"$f":"VLOOKUP(C4572,Sheet2!A:B,2,FALSE)","v":125}]
[4572,"胡梦云",361128201020,154012700810,29,{"$f":"VLOOKUP(C4573,Sheet2!A:B,2,FALSE)","v":125}]
[4573,"黄红宇",361128201020,154040601613,30,{"$f":"VLOOKUP(C4574,Sheet2!A:B,2,FALSE)","v":125}]
[4574,"黄江莉",361128201020,154040601809,32,{"$f":"VLOOKUP(C4575,Sheet2!A:B,2,FALSE)","v":125}]
[4575,"冯育培",361128201020,154012700612,31,{"$f":"VLOOKUP(C4576,Sheet2!A:B,2,FALSE)","v":125}]
[4576,"王金花",361128201020,154030305129,33,{"$f":"VLOOKUP(C4577,Sheet2!A:B,2,FALSE)","v":125}]
[4577,"袁名珠",361128201020,154012700109,34,{"$f":"VLOOKUP(C4578,Sheet2!A:B,2,FALSE)","v":125}]
[4578,"李梦丹",361128201020,154040601719,35,{"$f":"VLOOKUP(C4579,Sheet2!A:B,2,FALSE)","v":125}]
[4579,"李佳欣",361128201020,154231500310,37,{"$f":"VLOOKUP(C4580,Sheet2!A:B,2,FALSE)","v":125}]
[4580,"彭冬燕",361128201020,154020500212,36,{"$f":"VLOOKUP(C4581,Sheet2!A:B,2,FALSE)","v":125}]
[4581,"苏琳娟",361128201020,154231500112,38,{"$f":"VLOOKUP(C4582,Sheet2!A:B,2,FALSE)","v":125}]
[4582,"荣可",361128201020,154030305124,39,{"$f":"VLOOKUP(C4583,Sheet2!A:B,2,FALSE)","v":125}]
[4583,"龙芮",361128201020,154030305024,40,{"$f":"VLOOKUP(C4584,Sheet2!A:B,2,FALSE)","v":125}]
[4584,"吴紫宣",361128202009,154231501103,1,{"$f":"VLOOKUP(C4585,Sheet2!A:B,2,FALSE)","v":141}]
[4585,"刘禹",361128202009,154012906919,2,{"$f":"VLOOKUP(C4586,Sheet2!A:B,2,FALSE)","v":141}]
[4586,"李哲明",361128202009,154012906902,3,{"$f":"VLOOKUP(C4587,Sheet2!A:B,2,FALSE)","v":141}]
[4587,"王佳琪",361128202009,154012907219,4,{"$f":"VLOOKUP(C4588,Sheet2!A:B,2,FALSE)","v":141}]
[4588,"山雨琴",361128202009,154231500802,5,{"$f":"VLOOKUP(C4589,Sheet2!A:B,2,FALSE)","v":141}]
[4589,"曹莹",361128202009,154040803119,6,{"$f":"VLOOKUP(C4590,Sheet2!A:B,2,FALSE)","v":141}]
[4590,"蒋金云",361128202009,154020500612,7,{"$f":"VLOOKUP(C4591,Sheet2!A:B,2,FALSE)","v":141}]
[4591,"王薇",361128202009,154020500903,8,{"$f":"VLOOKUP(C4592,Sheet2!A:B,2,FALSE)","v":141}]
[4592,"洪雅萍",361128202009,154231500927,9,{"$f":"VLOOKUP(C4593,Sheet2!A:B,2,FALSE)","v":141}]
[4593,"俞珍",361128202009,154231501023,10,{"$f":"VLOOKUP(C4594,Sheet2!A:B,2,FALSE)","v":141}]
[4594,"胡锋莹",361128202009,154012906613,11,{"$f":"VLOOKUP(C4595,Sheet2!A:B,2,FALSE)","v":141}]
[4595,"吴彩春",361128202009,154020500820,12,{"$f":"VLOOKUP(C4596,Sheet2!A:B,2,FALSE)","v":141}]
[4596,"孙荣华",361128202009,154012907116,13,{"$f":"VLOOKUP(C4597,Sheet2!A:B,2,FALSE)","v":141}]
[4597,"徐慧",361128202009,154012907109,14,{"$f":"VLOOKUP(C4598,Sheet2!A:B,2,FALSE)","v":141}]
[4598,"金美娟",361128202009,154020500608,15,{"$f":"VLOOKUP(C4599,Sheet2!A:B,2,FALSE)","v":141}]
[4599,"黄丽燕",361128202009,154012907110,16,{"$f":"VLOOKUP(C4600,Sheet2!A:B,2,FALSE)","v":141}]
[4600,"王丽",361128202009,154020500928,17,{"$f":"VLOOKUP(C4601,Sheet2!A:B,2,FALSE)","v":141}]
[4601,"胡李铸",361128202009,154012906324,19,{"$f":"VLOOKUP(C4602,Sheet2!A:B,2,FALSE)","v":141}]
[4602,"方芸",361128202009,154012907112,18,{"$f":"VLOOKUP(C4603,Sheet2!A:B,2,FALSE)","v":141}]
[4603,"方子豪",361128202009,154012906428,20,{"$f":"VLOOKUP(C4604,Sheet2!A:B,2,FALSE)","v":141}]
[4604,"刘子翠",361128202009,154012907106,21,{"$f":"VLOOKUP(C4605,Sheet2!A:B,2,FALSE)","v":141}]
[4605,"李文浩",361128202009,154231500915,22,{"$f":"VLOOKUP(C4606,Sheet2!A:B,2,FALSE)","v":141}]
[4606,"金家玺",361128202009,154040803319,23,{"$f":"VLOOKUP(C4607,Sheet2!A:B,2,FALSE)","v":141}]
[4607,"姜美静",361128203009,154012805218,1,{"$f":"VLOOKUP(C4608,Sheet2!A:B,2,FALSE)","v":163.5}]
[4608,"陈慧平",361128203009,154012907915,2,{"$f":"VLOOKUP(C4609,Sheet2!A:B,2,FALSE)","v":163.5}]
[4609,"胡沂婷",361128203009,154020501302,3,{"$f":"VLOOKUP(C4610,Sheet2!A:B,2,FALSE)","v":163.5}]
[4610,"杨雪卉",361128203009,154020501607,4,{"$f":"VLOOKUP(C4611,Sheet2!A:B,2,FALSE)","v":163.5}]
[4611,"施秀红",361128203009,154221405703,5,{"$f":"VLOOKUP(C4612,Sheet2!A:B,2,FALSE)","v":163.5}]
[4612,"李俊南",361128203009,154040602716,6,{"$f":"VLOOKUP(C4613,Sheet2!A:B,2,FALSE)","v":163.5}]
[4613,"方喆",361128203009,154012908610,7,{"$f":"VLOOKUP(C4614,Sheet2!A:B,2,FALSE)","v":163.5}]
[4614,"毕霞",361128203009,154012907815,8,{"$f":"VLOOKUP(C4615,Sheet2!A:B,2,FALSE)","v":163.5}]
[4615,"毛诗梦",361128203009,154060603801,10,{"$f":"VLOOKUP(C4616,Sheet2!A:B,2,FALSE)","v":163.5}]
[4616,"孙红英",361128203009,154231501414,11,{"$f":"VLOOKUP(C4617,Sheet2!A:B,2,FALSE)","v":163.5}]
[4617,"胡思美",361128203009,154012804901,9,{"$f":"VLOOKUP(C4618,Sheet2!A:B,2,FALSE)","v":163.5}]
[4618,"汪新宇",361128203009,154012907807,12,{"$f":"VLOOKUP(C4619,Sheet2!A:B,2,FALSE)","v":163.5}]
[4619,"汪雨寒",361128203009,154020501223,13,{"$f":"VLOOKUP(C4620,Sheet2!A:B,2,FALSE)","v":163.5}]
[4620,"朱佳宁",361128203009,154231501803,14,{"$f":"VLOOKUP(C4621,Sheet2!A:B,2,FALSE)","v":163.5}]
[4621,"王羽",361128203009,154040602805,16,{"$f":"VLOOKUP(C4622,Sheet2!A:B,2,FALSE)","v":163.5}]
[4622,"韩海洋",361128203009,154231502009,15,{"$f":"VLOOKUP(C4623,Sheet2!A:B,2,FALSE)","v":163.5}]
[4623,"彭晶莹",361128203009,154012806028,17,{"$f":"VLOOKUP(C4624,Sheet2!A:B,2,FALSE)","v":163.5}]
[4624,"苏洁",361128203009,154020501323,18,{"$f":"VLOOKUP(C4625,Sheet2!A:B,2,FALSE)","v":163.5}]
[4625,"陈蒙",361128203009,154231501819,19,{"$f":"VLOOKUP(C4626,Sheet2!A:B,2,FALSE)","v":163.5}]
[4626,"蔡晨露",361128203009,154012805217,20,{"$f":"VLOOKUP(C4627,Sheet2!A:B,2,FALSE)","v":163.5}]
[4627,"舒金兰",361128203009,154020501720,21,{"$f":"VLOOKUP(C4628,Sheet2!A:B,2,FALSE)","v":163.5}]
[4628,"黎钰颖",361128203009,154012805706,22,{"$f":"VLOOKUP(C4629,Sheet2!A:B,2,FALSE)","v":163.5}]
[4629,"蔡宇轩",361128203009,154040602412,23,{"$f":"VLOOKUP(C4630,Sheet2!A:B,2,FALSE)","v":163.5}]
[4630,"查子文",361128204006,154040603201,1,{"$f":"VLOOKUP(C4631,Sheet2!A:B,2,FALSE)","v":83}]
[4631,"严智洁",361128204006,154231502621,2,{"$f":"VLOOKUP(C4632,Sheet2!A:B,2,FALSE)","v":83}]
[4632,"张洁",361128204006,154231502601,3,{"$f":"VLOOKUP(C4633,Sheet2!A:B,2,FALSE)","v":83}]
[4633,"刘园",361128204006,154012908913,4,{"$f":"VLOOKUP(C4634,Sheet2!A:B,2,FALSE)","v":83}]
[4634,"郑海燕",361128204006,154030306312,5,{"$f":"VLOOKUP(C4635,Sheet2!A:B,2,FALSE)","v":83}]
[4635,"赵腊红",361128204006,154012405616,6,{"$f":"VLOOKUP(C4636,Sheet2!A:B,2,FALSE)","v":83}]
[4636,"高建辉",361128205004,154012804023,1,{"$f":"VLOOKUP(C4637,Sheet2!A:B,2,FALSE)","v":90.5}]
[4637,"孙桂英",361128205004,154012406115,2,{"$f":"VLOOKUP(C4638,Sheet2!A:B,2,FALSE)","v":90.5}]
[4638,"张霞",361128205004,154020502217,3,{"$f":"VLOOKUP(C4639,Sheet2!A:B,2,FALSE)","v":90.5}]
[4639,"杨益培",361128205004,154231502928,4,{"$f":"VLOOKUP(C4640,Sheet2!A:B,2,FALSE)","v":90.5}]
[4640,"余紫华",361128205004,154231503130,5,{"$f":"VLOOKUP(C4641,Sheet2!A:B,2,FALSE)","v":90.5}]
[4641,"严鹏飞",361128205004,154012406129,6,{"$f":"VLOOKUP(C4642,Sheet2!A:B,2,FALSE)","v":90.5}]
[4642,"辛佳丽",361128205004,154012405902,7,{"$f":"VLOOKUP(C4643,Sheet2!A:B,2,FALSE)","v":90.5}]
[4643,"汪家粉",361128205004,154030306424,9,{"$f":"VLOOKUP(C4644,Sheet2!A:B,2,FALSE)","v":90.5}]
[4644,"汪光雄",361128205004,154012405914,8,{"$f":"VLOOKUP(C4645,Sheet2!A:B,2,FALSE)","v":90.5}]
[4645,"夏世平",361128205004,154231503205,10,{"$f":"VLOOKUP(C4646,Sheet2!A:B,2,FALSE)","v":90.5}]
[4646,"郑慧",361128205004,154231503324,11,{"$f":"VLOOKUP(C4647,Sheet2!A:B,2,FALSE)","v":90.5}]
[4647,"黄澄辉",361128205004,154020502125,12,{"$f":"VLOOKUP(C4648,Sheet2!A:B,2,FALSE)","v":90.5}]
[4648,"朱皇燕",361128206004,154012702520,1,{"$f":"VLOOKUP(C4649,Sheet2!A:B,2,FALSE)","v":177}]
[4649,"彭丽萍",361128206004,154012702716,2,{"$f":"VLOOKUP(C4650,Sheet2!A:B,2,FALSE)","v":177}]
[4650,"石玉琪",361128206004,154012701729,3,{"$f":"VLOOKUP(C4651,Sheet2!A:B,2,FALSE)","v":177}]
[4651,"李巧婷",361128206004,154012702204,4,{"$f":"VLOOKUP(C4652,Sheet2!A:B,2,FALSE)","v":177}]
[4652,"方朋",361128206004,154012702318,5,{"$f":"VLOOKUP(C4653,Sheet2!A:B,2,FALSE)","v":177}]
[4653,"单梦霜",361128206004,154012702802,6,{"$f":"VLOOKUP(C4654,Sheet2!A:B,2,FALSE)","v":177}]
[4654,"周倩敏",361128206004,154040604021,7,{"$f":"VLOOKUP(C4655,Sheet2!A:B,2,FALSE)","v":177}]
[4655,"华苗",361128206004,154012701705,8,{"$f":"VLOOKUP(C4656,Sheet2!A:B,2,FALSE)","v":177}]
[4656,"王玲",361128206004,154012702426,9,{"$f":"VLOOKUP(C4657,Sheet2!A:B,2,FALSE)","v":177}]
[4657,"赖同彤",361128206004,154012702011,10,{"$f":"VLOOKUP(C4658,Sheet2!A:B,2,FALSE)","v":177}]
[4658,"蒋旸雯",361128206004,154020502308,11,{"$f":"VLOOKUP(C4659,Sheet2!A:B,2,FALSE)","v":177}]
[4659,"郑魏",361128206004,154231503624,12,{"$f":"VLOOKUP(C4660,Sheet2!A:B,2,FALSE)","v":177}]
[4660,"金小玲",361128207002,154231504204,1,{"$f":"VLOOKUP(C4661,Sheet2!A:B,2,FALSE)","v":103.5}]
[4661,"刘蒿如",361128207002,154012703017,2,{"$f":"VLOOKUP(C4662,Sheet2!A:B,2,FALSE)","v":103.5}]
[4662,"王朝威",361128207002,154020502602,3,{"$f":"VLOOKUP(C4663,Sheet2!A:B,2,FALSE)","v":103.5}]
[4663,"苏阳",361128207002,154012702913,4,{"$f":"VLOOKUP(C4664,Sheet2!A:B,2,FALSE)","v":103.5}]
[4664,"英文结",361128207002,154231504126,5,{"$f":"VLOOKUP(C4665,Sheet2!A:B,2,FALSE)","v":103.5}]
[4665,"余湓",361128207002,154012406419,6,{"$f":"VLOOKUP(C4666,Sheet2!A:B,2,FALSE)","v":103.5}]
[4666,"王淑静",361128208006,154231504523,1,{"$f":"VLOOKUP(C4667,Sheet2!A:B,2,FALSE)","v":144.5}]
[4667,"卢阳",361128208006,154012406702,2,{"$f":"VLOOKUP(C4668,Sheet2!A:B,2,FALSE)","v":144.5}]
[4668,"邱雪苗",361128208006,154012406624,3,{"$f":"VLOOKUP(C4669,Sheet2!A:B,2,FALSE)","v":144.5}]
[4669,"张锋波",361128209006,154040803507,1,{"$f":"VLOOKUP(C4670,Sheet2!A:B,2,FALSE)","v":151.5}]
[4670,"王嘉琪",361128209006,154020502815,2,{"$f":"VLOOKUP(C4671,Sheet2!A:B,2,FALSE)","v":151.5}]
[4671,"王倩芳",361128209006,154012406922,4,{"$f":"VLOOKUP(C4672,Sheet2!A:B,2,FALSE)","v":151.5}]
[4672,"王利山",361128209006,154231504716,3,{"$f":"VLOOKUP(C4673,Sheet2!A:B,2,FALSE)","v":151.5}]
[4673,"刘雨迪",361128209006,154012406830,5,{"$f":"VLOOKUP(C4674,Sheet2!A:B,2,FALSE)","v":151.5}]
[4674,"夏忠洁",361128209006,154040803519,6,{"$f":"VLOOKUP(C4675,Sheet2!A:B,2,FALSE)","v":151.5}]
[4675,"高仪",361128210005,154012803230,1,{"$f":"VLOOKUP(C4676,Sheet2!A:B,2,FALSE)","v":111}]
[4676,"蒋圆兰",361128210005,154012803327,2,{"$f":"VLOOKUP(C4677,Sheet2!A:B,2,FALSE)","v":111}]
[4677,"高晓艳",361128210005,154012803225,3,{"$f":"VLOOKUP(C4678,Sheet2!A:B,2,FALSE)","v":111}]
[4678,"陈娇秀",361128210005,154231504928,4,{"$f":"VLOOKUP(C4679,Sheet2!A:B,2,FALSE)","v":111}]
[4679,"王波萍",361128210005,154020502911,5,{"$f":"VLOOKUP(C4680,Sheet2!A:B,2,FALSE)","v":111}]
[4680,"王钰涵",361128210005,154012803216,6,{"$f":"VLOOKUP(C4681,Sheet2!A:B,2,FALSE)","v":111}]
[4681,"王晓",361128210005,154012803102,7,{"$f":"VLOOKUP(C4682,Sheet2!A:B,2,FALSE)","v":111}]
[4682,"侯文欣",361128210005,154020502926,8,{"$f":"VLOOKUP(C4683,Sheet2!A:B,2,FALSE)","v":111}]
[4683,"李红霞",361128210005,154231505014,9,{"$f":"VLOOKUP(C4684,Sheet2!A:B,2,FALSE)","v":111}]
[4684,"程丹阳",361128210005,154020502904,10,{"$f":"VLOOKUP(C4685,Sheet2!A:B,2,FALSE)","v":111}]
[4685,"石秀婷",361128210005,154012803409,11,{"$f":"VLOOKUP(C4686,Sheet2!A:B,2,FALSE)","v":111}]
[4686,"何磊",361128210005,154231504809,12,{"$f":"VLOOKUP(C4687,Sheet2!A:B,2,FALSE)","v":111}]
[4687,"张芳芳",361128210005,154020502905,13,{"$f":"VLOOKUP(C4688,Sheet2!A:B,2,FALSE)","v":111}]
[4688,"徐冰",361128210005,154231504822,14,{"$f":"VLOOKUP(C4689,Sheet2!A:B,2,FALSE)","v":111}]
[4689,"余婷",361128210005,154231504820,15,{"$f":"VLOOKUP(C4690,Sheet2!A:B,2,FALSE)","v":111}]
[4690,"杨澍",361128211008,154231505125,1,{"$f":"VLOOKUP(C4691,Sheet2!A:B,2,FALSE)","v":97.5}]
[4691,"操俊胜",361128211008,154012803719,2,{"$f":"VLOOKUP(C4692,Sheet2!A:B,2,FALSE)","v":97.5}]
[4692,"叶宇恬",361128211008,154231505206,3,{"$f":"VLOOKUP(C4693,Sheet2!A:B,2,FALSE)","v":97.5}]
[4693,"沈平宇",361128211008,154012803523,4,{"$f":"VLOOKUP(C4694,Sheet2!A:B,2,FALSE)","v":97.5}]
[4694,"周回",361128211008,154231505208,5,{"$f":"VLOOKUP(C4695,Sheet2!A:B,2,FALSE)","v":97.5}]
[4695,"王子坤",361128211008,154231505106,6,{"$f":"VLOOKUP(C4696,Sheet2!A:B,2,FALSE)","v":97.5}]
[4696,"孙学春",361128211008,154231505118,7,{"$f":"VLOOKUP(C4697,Sheet2!A:B,2,FALSE)","v":97.5}]
[4697,"计铭",361128211008,154020503227,9,{"$f":"VLOOKUP(C4698,Sheet2!A:B,2,FALSE)","v":97.5}]
[4698,"郑文炎",361128211008,154231505209,8,{"$f":"VLOOKUP(C4699,Sheet2!A:B,2,FALSE)","v":97.5}]
[4699,"刘志威",361128211008,154012803601,10,{"$f":"VLOOKUP(C4700,Sheet2!A:B,2,FALSE)","v":97.5}]
[4700,"何俊武",361128211008,154020503101,11,{"$f":"VLOOKUP(C4701,Sheet2!A:B,2,FALSE)","v":97.5}]
[4701,"喻溶溶",361128211008,154012803708,12,{"$f":"VLOOKUP(C4702,Sheet2!A:B,2,FALSE)","v":97.5}]
[4702,"李国文",361128211008,154231505122,13,{"$f":"VLOOKUP(C4703,Sheet2!A:B,2,FALSE)","v":97.5}]
[4703,"张军",361128211008,154012803815,14,{"$f":"VLOOKUP(C4704,Sheet2!A:B,2,FALSE)","v":97.5}]
[4704,"王志鹏",361128211008,154020503116,15,{"$f":"VLOOKUP(C4705,Sheet2!A:B,2,FALSE)","v":97.5}]
[4705,"余珊",361128212005,154231505329,1,{"$f":"VLOOKUP(C4706,Sheet2!A:B,2,FALSE)","v":122.5}]
[4706,"邓婷凤",361128212005,154012407130,2,{"$f":"VLOOKUP(C4707,Sheet2!A:B,2,FALSE)","v":122.5}]
[4707,"金燕子",361128212005,154020503415,3,{"$f":"VLOOKUP(C4708,Sheet2!A:B,2,FALSE)","v":122.5}]
[4708,"程星云",361128212005,154012407107,4,{"$f":"VLOOKUP(C4709,Sheet2!A:B,2,FALSE)","v":122.5}]
[4709,"朱接",361128212005,154231505330,5,{"$f":"VLOOKUP(C4710,Sheet2!A:B,2,FALSE)","v":122.5}]
[4710,"吴小艳",361128212005,154012407125,6,{"$f":"VLOOKUP(C4711,Sheet2!A:B,2,FALSE)","v":122.5}]
[4711,"江秋雨",361128212005,154012407203,7,{"$f":"VLOOKUP(C4712,Sheet2!A:B,2,FALSE)","v":122.5}]
[4712,"方益玲",361128212005,154020503409,9,{"$f":"VLOOKUP(C4713,Sheet2!A:B,2,FALSE)","v":122.5}]
[4713,"饶潘婷",361128212005,154012407210,8,{"$f":"VLOOKUP(C4714,Sheet2!A:B,2,FALSE)","v":122.5}]
[4714,"蔡梦亭",361128212005,154231505307,10,{"$f":"VLOOKUP(C4715,Sheet2!A:B,2,FALSE)","v":122.5}]
[4715,"余小慧",361128212005,154231505319,11,{"$f":"VLOOKUP(C4716,Sheet2!A:B,2,FALSE)","v":122.5}]
[4716,"邵艳艳",361128212005,154210800701,12,{"$f":"VLOOKUP(C4717,Sheet2!A:B,2,FALSE)","v":122.5}]
[4717,"吴磊",361128212005,154210801022,13,{"$f":"VLOOKUP(C4718,Sheet2!A:B,2,FALSE)","v":122.5}]
[4718,"高小炎",361128212005,154020503418,14,{"$f":"VLOOKUP(C4719,Sheet2!A:B,2,FALSE)","v":122.5}]
[4719,"刘艳芳",361128212005,154231505420,15,{"$f":"VLOOKUP(C4720,Sheet2!A:B,2,FALSE)","v":122.5}]
[4720,"康敏",361128213001,154012407413,1,{"$f":"VLOOKUP(C4721,Sheet2!A:B,2,FALSE)","v":127.5}]
[4721,"吴腾龙",361128213001,154012407421,2,{"$f":"VLOOKUP(C4722,Sheet2!A:B,2,FALSE)","v":127.5}]
[4722,"徐盈盈",361128215001,154231505705,1,{"$f":"VLOOKUP(C4723,Sheet2!A:B,2,FALSE)","v":201.5}]
[4723,"曾俊宇",361129105005,154012601414,1,{"$f":"VLOOKUP(C4724,Sheet2!A:B,2,FALSE)","v":166.5}]
[4724,"董祖贤",361129105005,154012601824,2,{"$f":"VLOOKUP(C4725,Sheet2!A:B,2,FALSE)","v":166.5}]
[4725,"黄欣怡",361129105005,154232406717,3,{"$f":"VLOOKUP(C4726,Sheet2!A:B,2,FALSE)","v":166.5}]
[4726,"彭丽清",361129105005,154221403226,4,{"$f":"VLOOKUP(C4727,Sheet2!A:B,2,FALSE)","v":166.5}]
[4727,"李影",361129105005,154012601408,5,{"$f":"VLOOKUP(C4728,Sheet2!A:B,2,FALSE)","v":166.5}]
[4728,"李晓雨",361129105005,154232406714,6,{"$f":"VLOOKUP(C4729,Sheet2!A:B,2,FALSE)","v":166.5}]
[4729,"左蜜霞",361129105005,154232406518,7,{"$f":"VLOOKUP(C4730,Sheet2!A:B,2,FALSE)","v":166.5}]
[4730,"何林娟",361129105005,154012601818,8,{"$f":"VLOOKUP(C4731,Sheet2!A:B,2,FALSE)","v":166.5}]
[4731,"危永琪",361129105005,154060602404,9,{"$f":"VLOOKUP(C4732,Sheet2!A:B,2,FALSE)","v":166.5}]
[4732,"方中坤",361129105005,154012601821,10,{"$f":"VLOOKUP(C4733,Sheet2!A:B,2,FALSE)","v":166.5}]
[4733,"张文燕",361129105005,154232407112,11,{"$f":"VLOOKUP(C4734,Sheet2!A:B,2,FALSE)","v":166.5}]
[4734,"高羽芩",361129105005,154232406624,12,{"$f":"VLOOKUP(C4735,Sheet2!A:B,2,FALSE)","v":166.5}]
[4735,"叶子豪",361129105005,154232407004,13,{"$f":"VLOOKUP(C4736,Sheet2!A:B,2,FALSE)","v":166.5}]
[4736,"李文洁",361129105005,154012601816,14,{"$f":"VLOOKUP(C4737,Sheet2!A:B,2,FALSE)","v":166.5}]
[4737,"饶琴芬",361129105005,154232406626,15,{"$f":"VLOOKUP(C4738,Sheet2!A:B,2,FALSE)","v":166.5}]
[4738,"余慧雪",361129106007,154012602830,1,{"$f":"VLOOKUP(C4739,Sheet2!A:B,2,FALSE)","v":168.5}]
[4739,"徐佳璐",361129106007,154020403411,2,{"$f":"VLOOKUP(C4740,Sheet2!A:B,2,FALSE)","v":168.5}]
[4740,"徐露苗",361129106007,154232407522,3,{"$f":"VLOOKUP(C4741,Sheet2!A:B,2,FALSE)","v":168.5}]
[4741,"王小丫",361129106007,154232407309,4,{"$f":"VLOOKUP(C4742,Sheet2!A:B,2,FALSE)","v":168.5}]
[4742,"陈孟洁",361129106007,154232407604,5,{"$f":"VLOOKUP(C4743,Sheet2!A:B,2,FALSE)","v":168.5}]
[4743,"廖思意",361129106007,154232407422,6,{"$f":"VLOOKUP(C4744,Sheet2!A:B,2,FALSE)","v":168.5}]
[4744,"姜鹏",361129106007,154232407716,7,{"$f":"VLOOKUP(C4745,Sheet2!A:B,2,FALSE)","v":168.5}]
[4745,"范梦婕",361129106007,154020403701,8,{"$f":"VLOOKUP(C4746,Sheet2!A:B,2,FALSE)","v":168.5}]
[4746,"王吉雨",361129106007,154012602929,10,{"$f":"VLOOKUP(C4747,Sheet2!A:B,2,FALSE)","v":168.5}]
[4747,"吴丹丹",361129106007,154012603506,9,{"$f":"VLOOKUP(C4748,Sheet2!A:B,2,FALSE)","v":168.5}]
[4748,"黄可璇",361129106007,154012603614,11,{"$f":"VLOOKUP(C4749,Sheet2!A:B,2,FALSE)","v":168.5}]
[4749,"黄静野",361129106007,154020403123,12,{"$f":"VLOOKUP(C4750,Sheet2!A:B,2,FALSE)","v":168.5}]
[4750,"胡旺熙",361129106007,154020403115,13,{"$f":"VLOOKUP(C4751,Sheet2!A:B,2,FALSE)","v":168.5}]
[4751,"冯紫怡",361129106007,154012603123,14,{"$f":"VLOOKUP(C4752,Sheet2!A:B,2,FALSE)","v":168.5}]
[4752,"夏康惠",361129106007,154012603105,15,{"$f":"VLOOKUP(C4753,Sheet2!A:B,2,FALSE)","v":168.5}]
[4753,"雷瑶",361129106007,154242600826,16,{"$f":"VLOOKUP(C4754,Sheet2!A:B,2,FALSE)","v":168.5}]
[4754,"董李艺璇",361129106007,154012603713,17,{"$f":"VLOOKUP(C4755,Sheet2!A:B,2,FALSE)","v":168.5}]
[4755,"黄莉",361129106007,154232407708,18,{"$f":"VLOOKUP(C4756,Sheet2!A:B,2,FALSE)","v":168.5}]
[4756,"陈紫怡",361129107006,154232408419,1,{"$f":"VLOOKUP(C4757,Sheet2!A:B,2,FALSE)","v":130}]
[4757,"游玉芳",361129107006,154232408013,2,{"$f":"VLOOKUP(C4758,Sheet2!A:B,2,FALSE)","v":130}]
[4758,"徐茹奕",361129107006,154060410027,3,{"$f":"VLOOKUP(C4759,Sheet2!A:B,2,FALSE)","v":130}]
[4759,"王婷烨",361129107006,154012502815,4,{"$f":"VLOOKUP(C4760,Sheet2!A:B,2,FALSE)","v":130}]
[4760,"黄晨希",361129107006,154060410005,5,{"$f":"VLOOKUP(C4761,Sheet2!A:B,2,FALSE)","v":130}]
[4761,"罗汇",361129107006,154242500921,6,{"$f":"VLOOKUP(C4762,Sheet2!A:B,2,FALSE)","v":130}]
[4762,"王楚萍",361129107006,154232408203,7,{"$f":"VLOOKUP(C4763,Sheet2!A:B,2,FALSE)","v":130}]
[4763,"周慧娜",361129107006,154012502824,8,{"$f":"VLOOKUP(C4764,Sheet2!A:B,2,FALSE)","v":130}]
[4764,"祝王霞",361129107006,154232408409,9,{"$f":"VLOOKUP(C4765,Sheet2!A:B,2,FALSE)","v":130}]
[4765,"徐恩萍",361129107006,154232408107,10,{"$f":"VLOOKUP(C4766,Sheet2!A:B,2,FALSE)","v":130}]
[4766,"邹晴",361129107006,154232408012,11,{"$f":"VLOOKUP(C4767,Sheet2!A:B,2,FALSE)","v":130}]
[4767,"陈娇",361129107006,154232408009,12,{"$f":"VLOOKUP(C4768,Sheet2!A:B,2,FALSE)","v":130}]
[4768,"付盈盈",361129107006,154232408205,13,{"$f":"VLOOKUP(C4769,Sheet2!A:B,2,FALSE)","v":130}]
[4769,"杜谷雨",361129107006,154210300326,14,{"$f":"VLOOKUP(C4770,Sheet2!A:B,2,FALSE)","v":130}]
[4770,"刘雨霞",361129107006,154232408407,15,{"$f":"VLOOKUP(C4771,Sheet2!A:B,2,FALSE)","v":130}]
[4771,"吕智贤",361129113005,154232408701,1,{"$f":"VLOOKUP(C4772,Sheet2!A:B,2,FALSE)","v":128}]
[4772,"姚雨馨",361129113005,154012404216,2,{"$f":"VLOOKUP(C4773,Sheet2!A:B,2,FALSE)","v":128}]
[4773,"李绍云",361129113005,154232408707,3,{"$f":"VLOOKUP(C4774,Sheet2!A:B,2,FALSE)","v":128}]
[4774,"倪仙杰",361129113005,154012404201,4,{"$f":"VLOOKUP(C4775,Sheet2!A:B,2,FALSE)","v":128}]
[4775,"邓晨",361129113005,154012603917,5,{"$f":"VLOOKUP(C4776,Sheet2!A:B,2,FALSE)","v":128}]
[4776,"李倩蕊",361129113005,154232408710,6,{"$f":"VLOOKUP(C4777,Sheet2!A:B,2,FALSE)","v":128}]
[4777,"方乐",361129113005,154232408716,7,{"$f":"VLOOKUP(C4778,Sheet2!A:B,2,FALSE)","v":128}]
[4778,"张静",361129113005,154012604018,8,{"$f":"VLOOKUP(C4779,Sheet2!A:B,2,FALSE)","v":128}]
[4779,"胡雅莹",361129113005,154012404229,9,{"$f":"VLOOKUP(C4780,Sheet2!A:B,2,FALSE)","v":128}]
[4780,"方芳",361129113005,154012604023,10,{"$f":"VLOOKUP(C4781,Sheet2!A:B,2,FALSE)","v":128}]
[4781,"周跃",361129113005,154232408620,11,{"$f":"VLOOKUP(C4782,Sheet2!A:B,2,FALSE)","v":128}]
[4782,"李雪敏",361129114003,154012404415,1,{"$f":"VLOOKUP(C4783,Sheet2!A:B,2,FALSE)","v":187}]
[4783,"黄接涛",361129114003,154012404419,2,{"$f":"VLOOKUP(C4784,Sheet2!A:B,2,FALSE)","v":187}]
[4784,"刘诗雯",361129114003,154012404401,3,{"$f":"VLOOKUP(C4785,Sheet2!A:B,2,FALSE)","v":187}]
[4785,"冷岚",361129114003,154012404404,4,{"$f":"VLOOKUP(C4786,Sheet2!A:B,2,FALSE)","v":187}]
[4786,"黄婷",361129114003,154250104906,5,{"$f":"VLOOKUP(C4787,Sheet2!A:B,2,FALSE)","v":187}]
[4787,"陈子月",361129114003,154012404526,6,{"$f":"VLOOKUP(C4788,Sheet2!A:B,2,FALSE)","v":187}]
[4788,"彭子怡",361129114003,154020404102,7,{"$f":"VLOOKUP(C4789,Sheet2!A:B,2,FALSE)","v":187}]
[4789,"吴火红",361129114003,154012404513,8,{"$f":"VLOOKUP(C4790,Sheet2!A:B,2,FALSE)","v":187}]
[4790,"王知英",361129114003,154012404407,9,{"$f":"VLOOKUP(C4791,Sheet2!A:B,2,FALSE)","v":187}]
[4791,"余思雨",361129115004,154012404713,1,{"$f":"VLOOKUP(C4792,Sheet2!A:B,2,FALSE)","v":195}]
[4792,"徐艳晴",361129115004,154012404719,2,{"$f":"VLOOKUP(C4793,Sheet2!A:B,2,FALSE)","v":195}]
[4793,"熊思敏",361129115004,154221404009,3,{"$f":"VLOOKUP(C4794,Sheet2!A:B,2,FALSE)","v":195}]
[4794,"方静",361129115004,154012404721,4,{"$f":"VLOOKUP(C4795,Sheet2!A:B,2,FALSE)","v":195}]
[4795,"徐甜甜",361129115004,154060602908,5,{"$f":"VLOOKUP(C4796,Sheet2!A:B,2,FALSE)","v":195}]
[4796,"陈托",361129115004,154250105007,6,{"$f":"VLOOKUP(C4797,Sheet2!A:B,2,FALSE)","v":195}]
[4797,"张凡",361129115004,154012404824,7,{"$f":"VLOOKUP(C4798,Sheet2!A:B,2,FALSE)","v":195}]
[4798,"程书琴",361129115004,154012404717,8,{"$f":"VLOOKUP(C4799,Sheet2!A:B,2,FALSE)","v":195}]
[4799,"陶梦婷",361129115004,154060602904,10,{"$f":"VLOOKUP(C4800,Sheet2!A:B,2,FALSE)","v":195}]
[4800,"曹丹",361129115004,154012404813,9,{"$f":"VLOOKUP(C4801,Sheet2!A:B,2,FALSE)","v":195}]
[4801,"毛海燕",361129115004,154012404901,11,{"$f":"VLOOKUP(C4802,Sheet2!A:B,2,FALSE)","v":195}]
[4802,"刘庆渺",361129115004,154012404711,12,{"$f":"VLOOKUP(C4803,Sheet2!A:B,2,FALSE)","v":195}]
[4803,"杨洁",361129201002,154012700709,1,{"$f":"VLOOKUP(C4804,Sheet2!A:B,2,FALSE)","v":98}]
[4804,"王伊梵",361129201002,154231500301,2,{"$f":"VLOOKUP(C4805,Sheet2!A:B,2,FALSE)","v":98}]
[4805,"李晨巍",361129201002,154060603203,3,{"$f":"VLOOKUP(C4806,Sheet2!A:B,2,FALSE)","v":98}]
[4806,"王嘉惠",361129201002,154231500320,4,{"$f":"VLOOKUP(C4807,Sheet2!A:B,2,FALSE)","v":98}]
[4807,"夏慧情",361129201002,154231500528,5,{"$f":"VLOOKUP(C4808,Sheet2!A:B,2,FALSE)","v":98}]
[4808,"雷云星",361129202004,154242702505,1,{"$f":"VLOOKUP(C4809,Sheet2!A:B,2,FALSE)","v":154}]
[4809,"汪星星",361129202004,154231500828,2,{"$f":"VLOOKUP(C4810,Sheet2!A:B,2,FALSE)","v":154}]
[4810,"徐美珍",361129202004,154231501118,3,{"$f":"VLOOKUP(C4811,Sheet2!A:B,2,FALSE)","v":154}]
[4811,"程熔熔",361129202004,154231500905,4,{"$f":"VLOOKUP(C4812,Sheet2!A:B,2,FALSE)","v":154}]
[4812,"姚薇",361129202004,154231500714,5,{"$f":"VLOOKUP(C4813,Sheet2!A:B,2,FALSE)","v":154}]
[4813,"杨泽宇",361129202004,154012907208,6,{"$f":"VLOOKUP(C4814,Sheet2!A:B,2,FALSE)","v":154}]
[4814,"熊彦宸",361129202004,154231501129,7,{"$f":"VLOOKUP(C4815,Sheet2!A:B,2,FALSE)","v":154}]
[4815,"郑永恒",361129202004,154012906424,8,{"$f":"VLOOKUP(C4816,Sheet2!A:B,2,FALSE)","v":154}]
[4816,"洪福生",361129202004,154210200904,9,{"$f":"VLOOKUP(C4817,Sheet2!A:B,2,FALSE)","v":154}]
[4817,"方炎",361129202004,154231500813,10,{"$f":"VLOOKUP(C4818,Sheet2!A:B,2,FALSE)","v":154}]
[4818,"戢薇",361129202004,154231501203,11,{"$f":"VLOOKUP(C4819,Sheet2!A:B,2,FALSE)","v":154}]
[4819,"俞慧",361129202004,154231500903,12,{"$f":"VLOOKUP(C4820,Sheet2!A:B,2,FALSE)","v":154}]
[4820,"陈波兰",361129204004,154012908730,1,{"$f":"VLOOKUP(C4821,Sheet2!A:B,2,FALSE)","v":145.5}]
[4821,"叶丹",361129204004,154231502611,2,{"$f":"VLOOKUP(C4822,Sheet2!A:B,2,FALSE)","v":145.5}]
[4822,"杨婷",361129204004,154012405521,3,{"$f":"VLOOKUP(C4823,Sheet2!A:B,2,FALSE)","v":145.5}]
[4823,"杨淑敏",361129204004,154221406606,4,{"$f":"VLOOKUP(C4824,Sheet2!A:B,2,FALSE)","v":145.5}]
[4824,"吴静",361129204004,154012908925,5,{"$f":"VLOOKUP(C4825,Sheet2!A:B,2,FALSE)","v":145.5}]
[4825,"吴艳青",361129204004,154012908916,6,{"$f":"VLOOKUP(C4826,Sheet2!A:B,2,FALSE)","v":145.5}]
[4826,"敖笑",361129204004,154020501812,7,{"$f":"VLOOKUP(C4827,Sheet2!A:B,2,FALSE)","v":145.5}]
[4827,"章青霞",361129204004,154020501830,8,{"$f":"VLOOKUP(C4828,Sheet2!A:B,2,FALSE)","v":145.5}]
[4828,"涂婷",361129204004,154050315512,9,{"$f":"VLOOKUP(C4829,Sheet2!A:B,2,FALSE)","v":145.5}]
[4829,"柴小琴",361129204004,154060603910,10,{"$f":"VLOOKUP(C4830,Sheet2!A:B,2,FALSE)","v":145.5}]
[4830,"诸葛思颖",361129204004,154231502712,11,{"$f":"VLOOKUP(C4831,Sheet2!A:B,2,FALSE)","v":145.5}]
[4831,"胡娜琴",361129204004,154020501809,12,{"$f":"VLOOKUP(C4832,Sheet2!A:B,2,FALSE)","v":145.5}]
[4832,"余鹏哲",361129205002,154231502902,1,{"$f":"VLOOKUP(C4833,Sheet2!A:B,2,FALSE)","v":125}]
[4833,"洪紫璇",361129205002,154231503024,2,{"$f":"VLOOKUP(C4834,Sheet2!A:B,2,FALSE)","v":125}]
[4834,"许毛情",361129205002,154231503103,3,{"$f":"VLOOKUP(C4835,Sheet2!A:B,2,FALSE)","v":125}]
[4835,"缪静雯",361129205002,154231503220,4,{"$f":"VLOOKUP(C4836,Sheet2!A:B,2,FALSE)","v":125}]
[4836,"曾志梁",361129205002,154012405910,5,{"$f":"VLOOKUP(C4837,Sheet2!A:B,2,FALSE)","v":125}]
[4837,"陈金宇",361129205002,154231503127,6,{"$f":"VLOOKUP(C4838,Sheet2!A:B,2,FALSE)","v":125}]
[4838,"朱志萍",361129206002,154231503725,1,{"$f":"VLOOKUP(C4839,Sheet2!A:B,2,FALSE)","v":157.5}]
[4839,"胡紫鸳",361129206002,154060604114,2,{"$f":"VLOOKUP(C4840,Sheet2!A:B,2,FALSE)","v":157.5}]
[4840,"冯翠玲",361129206002,154020502422,3,{"$f":"VLOOKUP(C4841,Sheet2!A:B,2,FALSE)","v":157.5}]
[4841,"陈红燕",361129206002,154012702519,4,{"$f":"VLOOKUP(C4842,Sheet2!A:B,2,FALSE)","v":157.5}]
[4842,"姚苗苗",361129206002,154210501329,5,{"$f":"VLOOKUP(C4843,Sheet2!A:B,2,FALSE)","v":157.5}]
[4843,"甘琳",361129206002,154012701908,6,{"$f":"VLOOKUP(C4844,Sheet2!A:B,2,FALSE)","v":157.5}]
[4844,"曹林",361129207002,154231504110,1,{"$f":"VLOOKUP(C4845,Sheet2!A:B,2,FALSE)","v":78}]
[4845,"吴茜茹",361129207002,154231504212,2,{"$f":"VLOOKUP(C4846,Sheet2!A:B,2,FALSE)","v":78}]
[4846,"汪元波",361129207002,154231504122,3,{"$f":"VLOOKUP(C4847,Sheet2!A:B,2,FALSE)","v":78}]
[4847,"姚鹏晖",361129207002,154231504107,4,{"$f":"VLOOKUP(C4848,Sheet2!A:B,2,FALSE)","v":78}]
[4848,"胡仕如",361129211002,154231505107,1,{"$f":"VLOOKUP(C4849,Sheet2!A:B,2,FALSE)","v":70.5}]
[4849,"程冲",361129211002,154060604604,2,{"$f":"VLOOKUP(C4850,Sheet2!A:B,2,FALSE)","v":70.5}]
[4850,"林迪",361129211002,154231505108,3,{"$f":"VLOOKUP(C4851,Sheet2!A:B,2,FALSE)","v":70.5}]
[4851,"张亦暄",361129211002,154231505112,4,{"$f":"VLOOKUP(C4852,Sheet2!A:B,2,FALSE)","v":70.5}]
[4852,"汪焱龙",361129211002,154020503308,5,{"$f":"VLOOKUP(C4853,Sheet2!A:B,2,FALSE)","v":70.5}]
[4853,"杨继雲",361129215002,154012407716,1,{"$f":"VLOOKUP(C4854,Sheet2!A:B,2,FALSE)","v":165}]
[4854,"龚莹",361129215002,154060605004,2,{"$f":"VLOOKUP(C4855,Sheet2!A:B,2,FALSE)","v":165}]
[4855,"刘雅雯",361129215002,154231505713,3,{"$f":"VLOOKUP(C4856,Sheet2!A:B,2,FALSE)","v":165}]
[4856,"宁诗琦",361129215002,154060605001,4,{"$f":"VLOOKUP(C4857,Sheet2!A:B,2,FALSE)","v":165}]
[4857,"许晨",361129215002,154231505702,5,{"$f":"VLOOKUP(C4858,Sheet2!A:B,2,FALSE)","v":165}]
[4858,"刘梦雪",361129215002,154231505710,6,{"$f":"VLOOKUP(C4859,Sheet2!A:B,2,FALSE)","v":165}]
[4859,"刘欢",361181104002,154232406317,1,{"$f":"VLOOKUP(C4860,Sheet2!A:B,2,FALSE)","v":206}]
[4860,"施文惠",361181104002,154012600702,2,{"$f":"VLOOKUP(C4861,Sheet2!A:B,2,FALSE)","v":206}]
[4861,"赵静",361181104002,154232406217,3,{"$f":"VLOOKUP(C4862,Sheet2!A:B,2,FALSE)","v":206}]
[4862,"方美铢",361181104002,154232406005,4,{"$f":"VLOOKUP(C4863,Sheet2!A:B,2,FALSE)","v":206}]
[4863,"谢梦婷",361181104002,154232406023,5,{"$f":"VLOOKUP(C4864,Sheet2!A:B,2,FALSE)","v":206}]
[4864,"彭伟莹",361181104002,154012600123,6,{"$f":"VLOOKUP(C4865,Sheet2!A:B,2,FALSE)","v":206}]
[4865,"谌菲",361181116002,154012405010,1,{"$f":"VLOOKUP(C4866,Sheet2!A:B,2,FALSE)","v":170.5}]
[4866,"程乐",361181116002,154232409116,2,{"$f":"VLOOKUP(C4867,Sheet2!A:B,2,FALSE)","v":170.5}]
[4867,"丁小梅",361181116002,154012405112,3,{"$f":"VLOOKUP(C4868,Sheet2!A:B,2,FALSE)","v":170.5}]
[4868,"徐倩",361181116002,154020404302,4,{"$f":"VLOOKUP(C4869,Sheet2!A:B,2,FALSE)","v":170.5}]
[4869,"方佳愉",361181116002,154012405106,5,{"$f":"VLOOKUP(C4870,Sheet2!A:B,2,FALSE)","v":170.5}]
[4870,"吴芳玲",361181116002,154012405309,6,{"$f":"VLOOKUP(C4871,Sheet2!A:B,2,FALSE)","v":170.5}]
[4871,"俞莉萍",361181201002,154231500212,1,{"$f":"VLOOKUP(C4872,Sheet2!A:B,2,FALSE)","v":144}]
[4872,"翁惠",361181201002,154050314808,2,{"$f":"VLOOKUP(C4873,Sheet2!A:B,2,FALSE)","v":144}]
[4873,"姜琳燕",361181201002,154231500527,3,{"$f":"VLOOKUP(C4874,Sheet2!A:B,2,FALSE)","v":144}]
[4874,"汪璇",361181201002,154231500202,4,{"$f":"VLOOKUP(C4875,Sheet2!A:B,2,FALSE)","v":144}]
[4875,"查慧宇",361181201002,154231500505,5,{"$f":"VLOOKUP(C4876,Sheet2!A:B,2,FALSE)","v":144}]
[4876,"余美玲",361181201002,154231500430,6,{"$f":"VLOOKUP(C4877,Sheet2!A:B,2,FALSE)","v":144}]
[4877,"王思澳",361181204002,154030306221,1,{"$f":"VLOOKUP(C4878,Sheet2!A:B,2,FALSE)","v":192.5}]
[4878,"于露琪",361181205001,154231503004,1,{"$f":"VLOOKUP(C4879,Sheet2!A:B,2,FALSE)","v":90.5}]
[4879,"罗微",361181205001,154211002413,2,{"$f":"VLOOKUP(C4880,Sheet2!A:B,2,FALSE)","v":90.5}]
[4880,"卢游",361181205001,154211001709,3,{"$f":"VLOOKUP(C4881,Sheet2!A:B,2,FALSE)","v":90.5}]
[4881,"董诗芬",361181206002,154020502501,1,{"$f":"VLOOKUP(C4882,Sheet2!A:B,2,FALSE)","v":163}]
[4882,"邱希昀",361181206002,154231503622,3,{"$f":"VLOOKUP(C4883,Sheet2!A:B,2,FALSE)","v":163}]
[4883,"江雨钧",361181206002,154012702712,2,{"$f":"VLOOKUP(C4884,Sheet2!A:B,2,FALSE)","v":163}]
[4884,"翁亦清",361181206002,154231504006,4,{"$f":"VLOOKUP(C4885,Sheet2!A:B,2,FALSE)","v":163}]
[4885,"王菲",361181206002,154231503613,5,{"$f":"VLOOKUP(C4886,Sheet2!A:B,2,FALSE)","v":163}]
[4886,"李雪晴",361181206002,154231503602,6,{"$f":"VLOOKUP(C4887,Sheet2!A:B,2,FALSE)","v":163}]
[4887,"马玥",361181207001,154231504105,1,{"$f":"VLOOKUP(C4888,Sheet2!A:B,2,FALSE)","v":102.5}]
[4888,"周颖",361181207001,154231504205,2,{"$f":"VLOOKUP(C4889,Sheet2!A:B,2,FALSE)","v":102.5}]
[4889,"彭馨卉",361181207001,154012702924,3,{"$f":"VLOOKUP(C4890,Sheet2!A:B,2,FALSE)","v":102.5}]
[4890,"吴晓颖",361181210002,154012803113,1,{"$f":"VLOOKUP(C4891,Sheet2!A:B,2,FALSE)","v":112}]
[4891,"胡立华",361181211003,154030307712,1,{"$f":"VLOOKUP(C4892,Sheet2!A:B,2,FALSE)","v":83}]
[4892,"席浩男",361181211003,154231505104,2,{"$f":"VLOOKUP(C4893,Sheet2!A:B,2,FALSE)","v":83}]
[4893,"胡小娟",361181211003,154231505103,3,{"$f":"VLOOKUP(C4894,Sheet2!A:B,2,FALSE)","v":83}]
[4894,"饶璨",361181213002,154231505502,1,{"$f":"VLOOKUP(C4895,Sheet2!A:B,2,FALSE)","v":169}]
[4895,"卢冷雨",361181213002,154040604704,2,{"$f":"VLOOKUP(C4896,Sheet2!A:B,2,FALSE)","v":169}]
[4896,"盛晓倩",361181213002,154020503504,3,{"$f":"VLOOKUP(C4897,Sheet2!A:B,2,FALSE)","v":169}]
[4897,"王诗琪",361181213002,154231505515,4,{"$f":"VLOOKUP(C4898,Sheet2!A:B,2,FALSE)","v":169}]
[4898,"邵泽奇",361181213002,154020503501,5,{"$f":"VLOOKUP(C4899,Sheet2!A:B,2,FALSE)","v":169}]
[4899,"管媛媛",361181213002,154231505504,6,{"$f":"VLOOKUP(C4900,Sheet2!A:B,2,FALSE)","v":169}]
[4900,"解菁菁",361202104002,154242500113,1,{"$f":"VLOOKUP(C4901,Sheet2!A:B,2,FALSE)","v":204}]
[4901,"钟莉莉",361202104002,154210400928,2,{"$f":"VLOOKUP(C4902,Sheet2!A:B,2,FALSE)","v":204}]
[4902,"朱丽香",361202104002,154210400918,3,{"$f":"VLOOKUP(C4903,Sheet2!A:B,2,FALSE)","v":204}]
[4903,"司马清",361202104002,154210400715,4,{"$f":"VLOOKUP(C4904,Sheet2!A:B,2,FALSE)","v":204}]
[4904,"陈慧萍",361202104002,154242500513,5,{"$f":"VLOOKUP(C4905,Sheet2!A:B,2,FALSE)","v":204}]
[4905,"李婷",361202104002,154210401014,6,{"$f":"VLOOKUP(C4906,Sheet2!A:B,2,FALSE)","v":204}]
[4906,"龚茹沅",361202105006,154210503311,1,{"$f":"VLOOKUP(C4907,Sheet2!A:B,2,FALSE)","v":131.5}]
[4907,"黄学敏",361202105006,154210503312,2,{"$f":"VLOOKUP(C4908,Sheet2!A:B,2,FALSE)","v":131.5}]
[4908,"朱悦",361202105006,154210503121,3,{"$f":"VLOOKUP(C4909,Sheet2!A:B,2,FALSE)","v":131.5}]
[4909,"唐鑫娜",361202105006,154221403301,4,{"$f":"VLOOKUP(C4910,Sheet2!A:B,2,FALSE)","v":131.5}]
[4910,"刘玉玲",361202105006,154210503910,5,{"$f":"VLOOKUP(C4911,Sheet2!A:B,2,FALSE)","v":131.5}]
[4911,"廖龙峰",361202105006,154012601322,6,{"$f":"VLOOKUP(C4912,Sheet2!A:B,2,FALSE)","v":131.5}]
[4912,"温杰",361202105006,154210502805,7,{"$f":"VLOOKUP(C4913,Sheet2!A:B,2,FALSE)","v":131.5}]
[4913,"张颖",361202105006,154210503602,8,{"$f":"VLOOKUP(C4914,Sheet2!A:B,2,FALSE)","v":131.5}]
[4914,"刘威",361202105006,154012601707,9,{"$f":"VLOOKUP(C4915,Sheet2!A:B,2,FALSE)","v":131.5}]
[4915,"许小辉",361202105006,154210503415,10,{"$f":"VLOOKUP(C4916,Sheet2!A:B,2,FALSE)","v":131.5}]
[4916,"刘福国",361202105006,154210503313,11,{"$f":"VLOOKUP(C4917,Sheet2!A:B,2,FALSE)","v":131.5}]
[4917,"朱秋霞",361202105006,154210605027,12,{"$f":"VLOOKUP(C4918,Sheet2!A:B,2,FALSE)","v":131.5}]
[4918,"钟荣法",361202105006,154210503004,13,{"$f":"VLOOKUP(C4919,Sheet2!A:B,2,FALSE)","v":131.5}]
[4919,"陈依婷",361202105006,154210605014,14,{"$f":"VLOOKUP(C4920,Sheet2!A:B,2,FALSE)","v":131.5}]
[4920,"刘宏健·",361202105006,154012601927,15,{"$f":"VLOOKUP(C4921,Sheet2!A:B,2,FALSE)","v":131.5}]
[4921,"蒙若楠",361202106005,154211102122,1,{"$f":"VLOOKUP(C4922,Sheet2!A:B,2,FALSE)","v":167}]
[4922,"何炀",361202106005,154211102323,2,{"$f":"VLOOKUP(C4923,Sheet2!A:B,2,FALSE)","v":167}]
[4923,"李欣婷",361202106005,154211100623,3,{"$f":"VLOOKUP(C4924,Sheet2!A:B,2,FALSE)","v":167}]
[4924,"廖芸",361202106005,154211102507,4,{"$f":"VLOOKUP(C4925,Sheet2!A:B,2,FALSE)","v":167}]
[4925,"徐缘",361202106005,154012602307,5,{"$f":"VLOOKUP(C4926,Sheet2!A:B,2,FALSE)","v":167}]
[4926,"郭晶",361202106005,154211102518,6,{"$f":"VLOOKUP(C4927,Sheet2!A:B,2,FALSE)","v":167}]
[4927,"刘润雨",361202106005,154211102001,7,{"$f":"VLOOKUP(C4928,Sheet2!A:B,2,FALSE)","v":167}]
[4928,"严梓玮",361202106005,154211100325,8,{"$f":"VLOOKUP(C4929,Sheet2!A:B,2,FALSE)","v":167}]
[4929,"王菲",361202106005,154211101223,9,{"$f":"VLOOKUP(C4930,Sheet2!A:B,2,FALSE)","v":167}]
[4930,"陈正芳",361202106005,154211102824,10,{"$f":"VLOOKUP(C4931,Sheet2!A:B,2,FALSE)","v":167}]
[4931,"龚玲",361202106005,154211101424,11,{"$f":"VLOOKUP(C4932,Sheet2!A:B,2,FALSE)","v":167}]
[4932,"范尧",361202106005,154211100729,12,{"$f":"VLOOKUP(C4933,Sheet2!A:B,2,FALSE)","v":167}]
[4933,"蓝倩梅",361202106005,154211100226,13,{"$f":"VLOOKUP(C4934,Sheet2!A:B,2,FALSE)","v":167}]
[4934,"黄彩虹",361202106005,154211101027,15,{"$f":"VLOOKUP(C4935,Sheet2!A:B,2,FALSE)","v":167}]
[4935,"章文鑫",361202106005,154020403513,14,{"$f":"VLOOKUP(C4936,Sheet2!A:B,2,FALSE)","v":167}]
[4936,"王晓蕾",361202107005,154210300926,1,{"$f":"VLOOKUP(C4937,Sheet2!A:B,2,FALSE)","v":150}]
[4937,"刘芯沂",361202107005,154210300430,2,{"$f":"VLOOKUP(C4938,Sheet2!A:B,2,FALSE)","v":150}]
[4938,"饶慧珍",361202107005,154210300924,3,{"$f":"VLOOKUP(C4939,Sheet2!A:B,2,FALSE)","v":150}]
[4939,"黎羽君",361202107005,154210300713,4,{"$f":"VLOOKUP(C4940,Sheet2!A:B,2,FALSE)","v":150}]
[4940,"王楚涵",361202107005,154210301019,5,{"$f":"VLOOKUP(C4941,Sheet2!A:B,2,FALSE)","v":150}]
[4941,"卢玉婷",361202107005,154210300901,6,{"$f":"VLOOKUP(C4942,Sheet2!A:B,2,FALSE)","v":150}]
[4942,"郭林艳",361202107005,154210300304,7,{"$f":"VLOOKUP(C4943,Sheet2!A:B,2,FALSE)","v":150}]
[4943,"庄若园",361202107005,154210301417,8,{"$f":"VLOOKUP(C4944,Sheet2!A:B,2,FALSE)","v":150}]
[4944,"陈颖娟",361202107005,154210300316,10,{"$f":"VLOOKUP(C4945,Sheet2!A:B,2,FALSE)","v":150}]
[4945,"殷思勤",361202107005,154210300418,9,{"$f":"VLOOKUP(C4946,Sheet2!A:B,2,FALSE)","v":150}]
[4946,"童莹",361202107005,154210301127,11,{"$f":"VLOOKUP(C4947,Sheet2!A:B,2,FALSE)","v":150}]
[4947,"张草仙",361202107005,154210300515,12,{"$f":"VLOOKUP(C4948,Sheet2!A:B,2,FALSE)","v":150}]
[4948,"刘淄博",361202107005,154210301202,13,{"$f":"VLOOKUP(C4949,Sheet2!A:B,2,FALSE)","v":150}]
[4949,"严婧文",361202107005,154242500806,14,{"$f":"VLOOKUP(C4950,Sheet2!A:B,2,FALSE)","v":150}]
[4950,"刘俊欣",361202107005,154232408101,15,{"$f":"VLOOKUP(C4951,Sheet2!A:B,2,FALSE)","v":150}]
[4951,"刘金娣",361202201024,154210900715,1,{"$f":"VLOOKUP(C4952,Sheet2!A:B,2,FALSE)","v":164}]
[4952,"骆观招",361202201024,154210903024,2,{"$f":"VLOOKUP(C4953,Sheet2!A:B,2,FALSE)","v":164}]
[4953,"魏爱芳",361202201024,154210901222,3,{"$f":"VLOOKUP(C4954,Sheet2!A:B,2,FALSE)","v":164}]
[4954,"龚碧",361202201024,154012701117,4,{"$f":"VLOOKUP(C4955,Sheet2!A:B,2,FALSE)","v":164}]
[4955,"邹招娣",361202201024,154210901501,5,{"$f":"VLOOKUP(C4956,Sheet2!A:B,2,FALSE)","v":164}]
[4956,"蒋海燕",361202201024,154210900529,6,{"$f":"VLOOKUP(C4957,Sheet2!A:B,2,FALSE)","v":164}]
[4957,"郭芷源",361202201024,154012700614,7,{"$f":"VLOOKUP(C4958,Sheet2!A:B,2,FALSE)","v":164}]
[4958,"郭祎",361202201024,154012701409,8,{"$f":"VLOOKUP(C4959,Sheet2!A:B,2,FALSE)","v":164}]
[4959,"庄茜",361202201024,154210902115,9,{"$f":"VLOOKUP(C4960,Sheet2!A:B,2,FALSE)","v":164}]
[4960,"刘文轩",361202201024,154210902214,10,{"$f":"VLOOKUP(C4961,Sheet2!A:B,2,FALSE)","v":164}]
[4961,"蓝丽平",361202201024,154012700108,11,{"$f":"VLOOKUP(C4962,Sheet2!A:B,2,FALSE)","v":164}]
[4962,"张维维",361202201024,154210901612,12,{"$f":"VLOOKUP(C4963,Sheet2!A:B,2,FALSE)","v":164}]
[4963,"王家惠",361202201024,154210901811,13,{"$f":"VLOOKUP(C4964,Sheet2!A:B,2,FALSE)","v":164}]
[4964,"李丽",361202201024,154210902620,14,{"$f":"VLOOKUP(C4965,Sheet2!A:B,2,FALSE)","v":164}]
[4965,"钟舒",361202201024,154210903105,15,{"$f":"VLOOKUP(C4966,Sheet2!A:B,2,FALSE)","v":164}]
[4966,"曾文华",361202201024,154210903013,16,{"$f":"VLOOKUP(C4967,Sheet2!A:B,2,FALSE)","v":164}]
[4967,"李敏华",361202201024,154242601924,17,{"$f":"VLOOKUP(C4968,Sheet2!A:B,2,FALSE)","v":164}]
[4968,"郑训琴",361202201024,154210901802,18,{"$f":"VLOOKUP(C4969,Sheet2!A:B,2,FALSE)","v":164}]
[4969,"刘星",361202201024,154210902427,19,{"$f":"VLOOKUP(C4970,Sheet2!A:B,2,FALSE)","v":164}]
[4970,"严珍",361202201024,154210900513,20,{"$f":"VLOOKUP(C4971,Sheet2!A:B,2,FALSE)","v":164}]
[4971,"黄灯灯",361202201024,154210900311,21,{"$f":"VLOOKUP(C4972,Sheet2!A:B,2,FALSE)","v":164}]
[4972,"姚联馨",361202201024,154210901913,23,{"$f":"VLOOKUP(C4973,Sheet2!A:B,2,FALSE)","v":164}]
[4973,"吴春燕",361202201024,154210902822,22,{"$f":"VLOOKUP(C4974,Sheet2!A:B,2,FALSE)","v":164}]
[4974,"温悦美",361202201024,154210902310,25,{"$f":"VLOOKUP(C4975,Sheet2!A:B,2,FALSE)","v":164}]
[4975,"林贵梅",361202201024,154210901930,24,{"$f":"VLOOKUP(C4976,Sheet2!A:B,2,FALSE)","v":164}]
[4976,"申凤兰",361202201024,154210901413,26,{"$f":"VLOOKUP(C4977,Sheet2!A:B,2,FALSE)","v":164}]
[4977,"段荟萍",361202201024,154012700822,27,{"$f":"VLOOKUP(C4978,Sheet2!A:B,2,FALSE)","v":164}]
[4978,"张慧",361202201024,154210901324,28,{"$f":"VLOOKUP(C4979,Sheet2!A:B,2,FALSE)","v":164}]
[4979,"沈玲",361202201024,154040601702,29,{"$f":"VLOOKUP(C4980,Sheet2!A:B,2,FALSE)","v":164}]
[4980,"刘鑫焰",361202201024,154210903014,33,{"$f":"VLOOKUP(C4981,Sheet2!A:B,2,FALSE)","v":164}]
[4981,"严路芳",361202201024,154210903016,31,{"$f":"VLOOKUP(C4982,Sheet2!A:B,2,FALSE)","v":164}]
[4982,"李雨彤",361202201024,154210901530,32,{"$f":"VLOOKUP(C4983,Sheet2!A:B,2,FALSE)","v":164}]
[4983,"刘书琴",361202201024,154040601621,34,{"$f":"VLOOKUP(C4984,Sheet2!A:B,2,FALSE)","v":164}]
[4984,"邱慧雯",361202201024,154210902730,30,{"$f":"VLOOKUP(C4985,Sheet2!A:B,2,FALSE)","v":164}]
[4985,"张小华",361202201024,154210902612,35,{"$f":"VLOOKUP(C4986,Sheet2!A:B,2,FALSE)","v":164}]
[4986,"邱红",361202201024,154210901724,36,{"$f":"VLOOKUP(C4987,Sheet2!A:B,2,FALSE)","v":164}]
[4987,"朱清香",361202201024,154210900126,38,{"$f":"VLOOKUP(C4988,Sheet2!A:B,2,FALSE)","v":164}]
[4988,"李燕涛",361202201024,154210902010,37,{"$f":"VLOOKUP(C4989,Sheet2!A:B,2,FALSE)","v":164}]
[4989,"杨洁",361202202020,154210201706,1,{"$f":"VLOOKUP(C4990,Sheet2!A:B,2,FALSE)","v":167.5}]
[4990,"范家华",361202202020,154210201515,2,{"$f":"VLOOKUP(C4991,Sheet2!A:B,2,FALSE)","v":167.5}]
[4991,"曾艺菁",361202202020,154012906310,3,{"$f":"VLOOKUP(C4992,Sheet2!A:B,2,FALSE)","v":167.5}]
[4992,"梁珊",361202202020,154210200730,4,{"$f":"VLOOKUP(C4993,Sheet2!A:B,2,FALSE)","v":167.5}]
[4993,"林小燕",361202202020,154210201329,5,{"$f":"VLOOKUP(C4994,Sheet2!A:B,2,FALSE)","v":167.5}]
[4994,"梁婷",361202202020,154210201806,6,{"$f":"VLOOKUP(C4995,Sheet2!A:B,2,FALSE)","v":167.5}]
[4995,"谢诚娟",361202202020,154210200811,7,{"$f":"VLOOKUP(C4996,Sheet2!A:B,2,FALSE)","v":167.5}]
[4996,"刘广鸿",361202202020,154012906823,8,{"$f":"VLOOKUP(C4997,Sheet2!A:B,2,FALSE)","v":167.5}]
[4997,"丁来秀",361202202020,154210700117,9,{"$f":"VLOOKUP(C4998,Sheet2!A:B,2,FALSE)","v":167.5}]
[4998,"邱瑾",361202202020,154210201621,10,{"$f":"VLOOKUP(C4999,Sheet2!A:B,2,FALSE)","v":167.5}]
[4999,"刘娟",361202202020,154210200716,11,{"$f":"VLOOKUP(C5000,Sheet2!A:B,2,FALSE)","v":167.5}]
[5000,"谢缘",361202202020,154210201205,12,{"$f":"VLOOKUP(C5001,Sheet2!A:B,2,FALSE)","v":167.5}]
[5001,"胡文飞",361202202020,154210201830,13,{"$f":"VLOOKUP(C5002,Sheet2!A:B,2,FALSE)","v":167.5}]
[5002,"万少芬",361202202020,154040803323,14,{"$f":"VLOOKUP(C5003,Sheet2!A:B,2,FALSE)","v":167.5}]
[5003,"宋康",361202202020,154210201828,15,{"$f":"VLOOKUP(C5004,Sheet2!A:B,2,FALSE)","v":167.5}]
[5004,"吴艳林",361202202020,154210201420,16,{"$f":"VLOOKUP(C5005,Sheet2!A:B,2,FALSE)","v":167.5}]
[5005,"曾钰",361202202020,154210200926,19,{"$f":"VLOOKUP(C5006,Sheet2!A:B,2,FALSE)","v":167.5}]
[5006,"田春花",361202202020,154210201905,17,{"$f":"VLOOKUP(C5007,Sheet2!A:B,2,FALSE)","v":167.5}]
[5007,"段奇奇",361202202020,154210201809,18,{"$f":"VLOOKUP(C5008,Sheet2!A:B,2,FALSE)","v":167.5}]
[5008,"陈小琴",361202202020,154210201022,20,{"$f":"VLOOKUP(C5009,Sheet2!A:B,2,FALSE)","v":167.5}]
[5009,"胡莎",361202202020,154210201111,21,{"$f":"VLOOKUP(C5010,Sheet2!A:B,2,FALSE)","v":167.5}]
[5010,"徐喜霞",361202202020,154020500607,22,{"$f":"VLOOKUP(C5011,Sheet2!A:B,2,FALSE)","v":167.5}]
[5011,"江晓芸",361202202020,154210201727,23,{"$f":"VLOOKUP(C5012,Sheet2!A:B,2,FALSE)","v":167.5}]
[5012,"涂伊莎",361202202020,154012907204,24,{"$f":"VLOOKUP(C5013,Sheet2!A:B,2,FALSE)","v":167.5}]
[5013,"温春梅",361202202020,154210200915,26,{"$f":"VLOOKUP(C5014,Sheet2!A:B,2,FALSE)","v":167.5}]
[5014,"肖军",361202202020,154210200810,25,{"$f":"VLOOKUP(C5015,Sheet2!A:B,2,FALSE)","v":167.5}]
[5015,"陈福长",361202202020,154210201122,27,{"$f":"VLOOKUP(C5016,Sheet2!A:B,2,FALSE)","v":167.5}]
[5016,"陈静",361202202020,154210201312,28,{"$f":"VLOOKUP(C5017,Sheet2!A:B,2,FALSE)","v":167.5}]
[5017,"胡梦玲",361202202020,154012906123,29,{"$f":"VLOOKUP(C5018,Sheet2!A:B,2,FALSE)","v":167.5}]
[5018,"郭丹",361202202020,154242702930,30,{"$f":"VLOOKUP(C5019,Sheet2!A:B,2,FALSE)","v":167.5}]
[5019,"邹淑琳",361202202020,154210201907,32,{"$f":"VLOOKUP(C5020,Sheet2!A:B,2,FALSE)","v":167.5}]
[5020,"王惠",361202202020,154210200613,31,{"$f":"VLOOKUP(C5021,Sheet2!A:B,2,FALSE)","v":167.5}]
[5021,"赖明兰",361202202020,154210201908,33,{"$f":"VLOOKUP(C5022,Sheet2!A:B,2,FALSE)","v":167.5}]
[5022,"吴太阳",361202202020,154210700105,34,{"$f":"VLOOKUP(C5023,Sheet2!A:B,2,FALSE)","v":167.5}]
[5023,"赵香美",361202202020,154210201629,35,{"$f":"VLOOKUP(C5024,Sheet2!A:B,2,FALSE)","v":167.5}]
[5024,"何琪琳",361202202020,154210200228,36,{"$f":"VLOOKUP(C5025,Sheet2!A:B,2,FALSE)","v":167.5}]
[5025,"范心意",361202202020,154210201412,38,{"$f":"VLOOKUP(C5026,Sheet2!A:B,2,FALSE)","v":167.5}]
[5026,"朱萍",361202202020,154012907213,37,{"$f":"VLOOKUP(C5027,Sheet2!A:B,2,FALSE)","v":167.5}]
[5027,"麦香兰",361202202020,154250105406,39,{"$f":"VLOOKUP(C5028,Sheet2!A:B,2,FALSE)","v":167.5}]
[5028,"李绚娇",361202202020,154210200808,40,{"$f":"VLOOKUP(C5029,Sheet2!A:B,2,FALSE)","v":167.5}]
[5029,"张珍珍",361202203018,154012907726,1,{"$f":"VLOOKUP(C5030,Sheet2!A:B,2,FALSE)","v":186}]
[5030,"李珍",361202203018,154210703517,2,{"$f":"VLOOKUP(C5031,Sheet2!A:B,2,FALSE)","v":186}]
[5031,"曾亚莉",361202203018,154210703611,3,{"$f":"VLOOKUP(C5032,Sheet2!A:B,2,FALSE)","v":186}]
[5032,"廖丹芳",361202203018,154210700602,4,{"$f":"VLOOKUP(C5033,Sheet2!A:B,2,FALSE)","v":186}]
[5033,"王维华",361202203018,154210700319,5,{"$f":"VLOOKUP(C5034,Sheet2!A:B,2,FALSE)","v":186}]
[5034,"张丽菁",361202203018,154210702006,6,{"$f":"VLOOKUP(C5035,Sheet2!A:B,2,FALSE)","v":186}]
[5035,"王思颖",361202203018,154210701123,7,{"$f":"VLOOKUP(C5036,Sheet2!A:B,2,FALSE)","v":186}]
[5036,"董婕",361202203018,154210701201,8,{"$f":"VLOOKUP(C5037,Sheet2!A:B,2,FALSE)","v":186}]
[5037,"毛心玉",361202203018,154210700830,12,{"$f":"VLOOKUP(C5038,Sheet2!A:B,2,FALSE)","v":186}]
[5038,"黄柳春",361202203018,154210701113,11,{"$f":"VLOOKUP(C5039,Sheet2!A:B,2,FALSE)","v":186}]
[5039,"李梦园",361202203018,154040602314,9,{"$f":"VLOOKUP(C5040,Sheet2!A:B,2,FALSE)","v":186}]
[5040,"陈桃花",361202203018,154012908026,10,{"$f":"VLOOKUP(C5041,Sheet2!A:B,2,FALSE)","v":186}]
[5041,"陈聪",361202203018,154210701211,13,{"$f":"VLOOKUP(C5042,Sheet2!A:B,2,FALSE)","v":186}]
[5042,"曾凡连",361202203018,154210701910,14,{"$f":"VLOOKUP(C5043,Sheet2!A:B,2,FALSE)","v":186}]
[5043,"李芳梅",361202203018,154210702803,15,{"$f":"VLOOKUP(C5044,Sheet2!A:B,2,FALSE)","v":186}]
[5044,"兰小莲",361202203018,154210702505,19,{"$f":"VLOOKUP(C5045,Sheet2!A:B,2,FALSE)","v":186}]
[5045,"黄淑珍",361202203018,154040602423,18,{"$f":"VLOOKUP(C5046,Sheet2!A:B,2,FALSE)","v":186}]
[5046,"凌遥",361202203018,154012908330,17,{"$f":"VLOOKUP(C5047,Sheet2!A:B,2,FALSE)","v":186}]
[5047,"杨红",361202203018,154210702225,16,{"$f":"VLOOKUP(C5048,Sheet2!A:B,2,FALSE)","v":186}]
[5048,"杨娟",361202203018,154210700228,21,{"$f":"VLOOKUP(C5049,Sheet2!A:B,2,FALSE)","v":186}]
[5049,"郭龙燕",361202203018,154210700922,20,{"$f":"VLOOKUP(C5050,Sheet2!A:B,2,FALSE)","v":186}]
[5050,"张林英",361202203018,154210700715,23,{"$f":"VLOOKUP(C5051,Sheet2!A:B,2,FALSE)","v":186}]
[5051,"黄路平",361202203018,154210700722,22,{"$f":"VLOOKUP(C5052,Sheet2!A:B,2,FALSE)","v":186}]
[5052,"刘书情",361202203018,154210702115,24,{"$f":"VLOOKUP(C5053,Sheet2!A:B,2,FALSE)","v":186}]
[5053,"程丹丹",361202203018,154012805306,25,{"$f":"VLOOKUP(C5054,Sheet2!A:B,2,FALSE)","v":186}]
[5054,"陈燕",361202203018,154210703102,26,{"$f":"VLOOKUP(C5055,Sheet2!A:B,2,FALSE)","v":186}]
[5055,"邱清盈",361202203018,154210703514,27,{"$f":"VLOOKUP(C5056,Sheet2!A:B,2,FALSE)","v":186}]
[5056,"何小香",361202203018,154210701802,28,{"$f":"VLOOKUP(C5057,Sheet2!A:B,2,FALSE)","v":186}]
[5057,"严素娟",361202203018,154012804704,31,{"$f":"VLOOKUP(C5058,Sheet2!A:B,2,FALSE)","v":186}]
[5058,"王瑜",361202203018,154210702723,30,{"$f":"VLOOKUP(C5059,Sheet2!A:B,2,FALSE)","v":186}]
[5059,"罗芬",361202203018,154210701227,29,{"$f":"VLOOKUP(C5060,Sheet2!A:B,2,FALSE)","v":186}]
[5060,"李洁",361202203018,154210700526,32,{"$f":"VLOOKUP(C5061,Sheet2!A:B,2,FALSE)","v":186}]
[5061,"唐璟",361202203018,154210701324,34,{"$f":"VLOOKUP(C5062,Sheet2!A:B,2,FALSE)","v":186}]
[5062,"刘恬",361202203018,154210700301,33,{"$f":"VLOOKUP(C5063,Sheet2!A:B,2,FALSE)","v":186}]
[5063,"陶慧",361202203018,154210703330,35,{"$f":"VLOOKUP(C5064,Sheet2!A:B,2,FALSE)","v":186}]
[5064,"郑煜",361202203018,154040602715,36,{"$f":"VLOOKUP(C5065,Sheet2!A:B,2,FALSE)","v":186}]
[5065,"郑芳",361202204005,154210203026,1,{"$f":"VLOOKUP(C5066,Sheet2!A:B,2,FALSE)","v":145}]
[5066,"缪燕",361202204005,154210202330,2,{"$f":"VLOOKUP(C5067,Sheet2!A:B,2,FALSE)","v":145}]
[5067,"刘宏媛",361202204005,154210203018,3,{"$f":"VLOOKUP(C5068,Sheet2!A:B,2,FALSE)","v":145}]
[5068,"黄松华",361202204005,154210203002,4,{"$f":"VLOOKUP(C5069,Sheet2!A:B,2,FALSE)","v":145}]
[5069,"刘智佳",361202204005,154210202822,5,{"$f":"VLOOKUP(C5070,Sheet2!A:B,2,FALSE)","v":145}]
[5070,"刘杏康",361202204005,154210202215,6,{"$f":"VLOOKUP(C5071,Sheet2!A:B,2,FALSE)","v":145}]
[5071,"丁如平",361202204005,154210202115,7,{"$f":"VLOOKUP(C5072,Sheet2!A:B,2,FALSE)","v":145}]
[5072,"谢佳雯",361202204005,154012405610,8,{"$f":"VLOOKUP(C5073,Sheet2!A:B,2,FALSE)","v":145}]
[5073,"卢维珊",361202204005,154210202917,9,{"$f":"VLOOKUP(C5074,Sheet2!A:B,2,FALSE)","v":145}]
[5074,"欧阳雨芸",361202204005,154210202607,10,{"$f":"VLOOKUP(C5075,Sheet2!A:B,2,FALSE)","v":145}]
[5075,"黄萍",361202204005,154210202618,11,{"$f":"VLOOKUP(C5076,Sheet2!A:B,2,FALSE)","v":145}]
[5076,"郑华霞",361202204005,154210202322,12,{"$f":"VLOOKUP(C5077,Sheet2!A:B,2,FALSE)","v":145}]
[5077,"刘钰",361202204005,154210202122,13,{"$f":"VLOOKUP(C5078,Sheet2!A:B,2,FALSE)","v":145}]
[5078,"赵巧巧",361202204005,154210202324,14,{"$f":"VLOOKUP(C5079,Sheet2!A:B,2,FALSE)","v":145}]
[5079,"李馨",361202204005,154210202114,15,{"$f":"VLOOKUP(C5080,Sheet2!A:B,2,FALSE)","v":145}]
[5080,"杨德梁",361202205004,154242703608,1,{"$f":"VLOOKUP(C5081,Sheet2!A:B,2,FALSE)","v":161}]
[5081,"王余松",361202205004,154211002218,2,{"$f":"VLOOKUP(C5082,Sheet2!A:B,2,FALSE)","v":161}]
[5082,"蔡江龙",361202205004,154211002928,3,{"$f":"VLOOKUP(C5083,Sheet2!A:B,2,FALSE)","v":161}]
[5083,"管海洋",361202205004,154211002226,4,{"$f":"VLOOKUP(C5084,Sheet2!A:B,2,FALSE)","v":161}]
[5084,"王玲燕",361202205004,154231503221,5,{"$f":"VLOOKUP(C5085,Sheet2!A:B,2,FALSE)","v":161}]
[5085,"王展鹏",361202205004,154012405904,6,{"$f":"VLOOKUP(C5086,Sheet2!A:B,2,FALSE)","v":161}]
[5086,"邹志清",361202205004,154211003405,7,{"$f":"VLOOKUP(C5087,Sheet2!A:B,2,FALSE)","v":161}]
[5087,"邹招娣",361202205004,154211002016,8,{"$f":"VLOOKUP(C5088,Sheet2!A:B,2,FALSE)","v":161}]
[5088,"郭荣禄",361202205004,154211003217,9,{"$f":"VLOOKUP(C5089,Sheet2!A:B,2,FALSE)","v":161}]
[5089,"刘怡",361202205004,154211002713,10,{"$f":"VLOOKUP(C5090,Sheet2!A:B,2,FALSE)","v":161}]
[5090,"肖国政",361202205004,154211002602,11,{"$f":"VLOOKUP(C5091,Sheet2!A:B,2,FALSE)","v":161}]
[5091,"王静怡",361202205004,154211003416,12,{"$f":"VLOOKUP(C5092,Sheet2!A:B,2,FALSE)","v":161}]
[5092,"陈惠琪",361202206001,154210501412,1,{"$f":"VLOOKUP(C5093,Sheet2!A:B,2,FALSE)","v":181}]
[5093,"谢丹",361202206001,154210502010,2,{"$f":"VLOOKUP(C5094,Sheet2!A:B,2,FALSE)","v":181}]
[5094,"黎梦莎",361202206001,154210500620,3,{"$f":"VLOOKUP(C5095,Sheet2!A:B,2,FALSE)","v":181}]
[5095,"李佳瑶",361202207001,154210401916,1,{"$f":"VLOOKUP(C5096,Sheet2!A:B,2,FALSE)","v":164}]
[5096,"袁国皓",361202207001,154210401826,2,{"$f":"VLOOKUP(C5097,Sheet2!A:B,2,FALSE)","v":164}]
[5097,"刘子康",361202207001,154210402225,3,{"$f":"VLOOKUP(C5098,Sheet2!A:B,2,FALSE)","v":164}]
[5098,"陈相名",361202208006,154210303123,1,{"$f":"VLOOKUP(C5099,Sheet2!A:B,2,FALSE)","v":182}]
[5099,"许婷",361202208006,154210303609,2,{"$f":"VLOOKUP(C5100,Sheet2!A:B,2,FALSE)","v":182}]
[5100,"唐可心",361202208006,154210303115,3,{"$f":"VLOOKUP(C5101,Sheet2!A:B,2,FALSE)","v":182}]
[5101,"龚林",361202208006,154210303120,4,{"$f":"VLOOKUP(C5102,Sheet2!A:B,2,FALSE)","v":182}]
[5102,"王丽",361202208006,154231504521,5,{"$f":"VLOOKUP(C5103,Sheet2!A:B,2,FALSE)","v":182}]
[5103,"刘琳",361202208006,154210303126,6,{"$f":"VLOOKUP(C5104,Sheet2!A:B,2,FALSE)","v":182}]
[5104,"游建红",361202208006,154210303708,7,{"$f":"VLOOKUP(C5105,Sheet2!A:B,2,FALSE)","v":182}]
[5105,"徐琪",361202208006,154210303121,8,{"$f":"VLOOKUP(C5106,Sheet2!A:B,2,FALSE)","v":182}]
[5106,"徐林",361202208006,154210303704,9,{"$f":"VLOOKUP(C5107,Sheet2!A:B,2,FALSE)","v":182}]
[5107,"刘秀琼",361202208006,154210303228,10,{"$f":"VLOOKUP(C5108,Sheet2!A:B,2,FALSE)","v":182}]
[5108,"王若宇",361202208006,154210303223,11,{"$f":"VLOOKUP(C5109,Sheet2!A:B,2,FALSE)","v":182}]
[5109,"罗杰",361202208006,154210303526,12,{"$f":"VLOOKUP(C5110,Sheet2!A:B,2,FALSE)","v":182}]
[5110,"朱志超",361202208006,154210303210,13,{"$f":"VLOOKUP(C5111,Sheet2!A:B,2,FALSE)","v":182}]
[5111,"刘芳",361202208006,154210303218,14,{"$f":"VLOOKUP(C5112,Sheet2!A:B,2,FALSE)","v":182}]
[5112,"赖颖星",361202208006,154210303327,15,{"$f":"VLOOKUP(C5113,Sheet2!A:B,2,FALSE)","v":182}]
[5113,"陈小燕",361202209004,154210403023,1,{"$f":"VLOOKUP(C5114,Sheet2!A:B,2,FALSE)","v":176}]
[5114,"王娟",361202209004,154242603926,2,{"$f":"VLOOKUP(C5115,Sheet2!A:B,2,FALSE)","v":176}]
[5115,"朱诗敏",361202209004,154210402714,3,{"$f":"VLOOKUP(C5116,Sheet2!A:B,2,FALSE)","v":176}]
[5116,"陈婷",361202209004,154231504602,4,{"$f":"VLOOKUP(C5117,Sheet2!A:B,2,FALSE)","v":176}]
[5117,"钟翠兰",361202209004,154210402605,5,{"$f":"VLOOKUP(C5118,Sheet2!A:B,2,FALSE)","v":176}]
[5118,"钟慧",361202209004,154210402916,6,{"$f":"VLOOKUP(C5119,Sheet2!A:B,2,FALSE)","v":176}]
[5119,"刘逸萍",361202209004,154210403019,8,{"$f":"VLOOKUP(C5120,Sheet2!A:B,2,FALSE)","v":176}]
[5120,"钟慧婕",361202209004,154210403127,7,{"$f":"VLOOKUP(C5121,Sheet2!A:B,2,FALSE)","v":176}]
[5121,"陈淑函",361202209004,154210402902,9,{"$f":"VLOOKUP(C5122,Sheet2!A:B,2,FALSE)","v":176}]
[5122,"黄段女",361202209004,154210403109,10,{"$f":"VLOOKUP(C5123,Sheet2!A:B,2,FALSE)","v":176}]
[5123,"刘露昕",361202209004,154210403010,11,{"$f":"VLOOKUP(C5124,Sheet2!A:B,2,FALSE)","v":176}]
[5124,"黄攀",361202209004,154012406908,12,{"$f":"VLOOKUP(C5125,Sheet2!A:B,2,FALSE)","v":176}]
[5125,"汤珊",361202210002,154210303906,1,{"$f":"VLOOKUP(C5126,Sheet2!A:B,2,FALSE)","v":164.5}]
[5126,"刘雅倩",361202210002,154210303905,2,{"$f":"VLOOKUP(C5127,Sheet2!A:B,2,FALSE)","v":164.5}]
[5127,"林鹤",361202210002,154210303903,3,{"$f":"VLOOKUP(C5128,Sheet2!A:B,2,FALSE)","v":164.5}]
[5128,"朱明明",361202210002,154210303901,4,{"$f":"VLOOKUP(C5129,Sheet2!A:B,2,FALSE)","v":164.5}]
[5129,"马亚兰",361202210002,154210304004,5,{"$f":"VLOOKUP(C5130,Sheet2!A:B,2,FALSE)","v":164.5}]
[5130,"温金华",361202210002,154210304218,6,{"$f":"VLOOKUP(C5131,Sheet2!A:B,2,FALSE)","v":164.5}]
[5131,"钟花华",361202211009,154211001019,1,{"$f":"VLOOKUP(C5132,Sheet2!A:B,2,FALSE)","v":140}]
[5132,"湛礼鸿",361202211009,154211000916,2,{"$f":"VLOOKUP(C5133,Sheet2!A:B,2,FALSE)","v":140}]
[5133,"练长福",361202211009,154211000711,3,{"$f":"VLOOKUP(C5134,Sheet2!A:B,2,FALSE)","v":140}]
[5134,"罗海",361202211009,154012803813,4,{"$f":"VLOOKUP(C5135,Sheet2!A:B,2,FALSE)","v":140}]
[5135,"朱仟",361202211009,154211000521,5,{"$f":"VLOOKUP(C5136,Sheet2!A:B,2,FALSE)","v":140}]
[5136,"刘世松",361202211009,154211000918,6,{"$f":"VLOOKUP(C5137,Sheet2!A:B,2,FALSE)","v":140}]
[5137,"赖伟春",361202211009,154211000617,7,{"$f":"VLOOKUP(C5138,Sheet2!A:B,2,FALSE)","v":140}]
[5138,"邱娟",361202211009,154012803521,9,{"$f":"VLOOKUP(C5139,Sheet2!A:B,2,FALSE)","v":140}]
[5139,"曾俊",361202211009,154211001030,8,{"$f":"VLOOKUP(C5140,Sheet2!A:B,2,FALSE)","v":140}]
[5140,"龚钰淇",361202211009,154211001010,10,{"$f":"VLOOKUP(C5141,Sheet2!A:B,2,FALSE)","v":140}]
[5141,"肖盛",361202211009,154211000529,11,{"$f":"VLOOKUP(C5142,Sheet2!A:B,2,FALSE)","v":140}]
[5142,"凌荣",361202211009,154211000601,13,{"$f":"VLOOKUP(C5143,Sheet2!A:B,2,FALSE)","v":140}]
[5143,"龚帮俊",361202211009,154211000522,12,{"$f":"VLOOKUP(C5144,Sheet2!A:B,2,FALSE)","v":140}]
[5144,"伍金梅",361202211009,154211001020,14,{"$f":"VLOOKUP(C5145,Sheet2!A:B,2,FALSE)","v":140}]
[5145,"王文辉",361202211009,154211001029,15,{"$f":"VLOOKUP(C5146,Sheet2!A:B,2,FALSE)","v":140}]
[5146,"周云",361202211009,154211000608,16,{"$f":"VLOOKUP(C5147,Sheet2!A:B,2,FALSE)","v":140}]
[5147,"康梦烨",361202211009,154211000716,17,{"$f":"VLOOKUP(C5148,Sheet2!A:B,2,FALSE)","v":140}]
[5148,"何海",361202211009,154211000923,18,{"$f":"VLOOKUP(C5149,Sheet2!A:B,2,FALSE)","v":140}]
[5149,"宗家清",361202211009,154211000708,19,{"$f":"VLOOKUP(C5150,Sheet2!A:B,2,FALSE)","v":140}]
[5150,"李凯旋",361202211009,154211001023,20,{"$f":"VLOOKUP(C5151,Sheet2!A:B,2,FALSE)","v":140}]
[5151,"江珊",361202211009,154221409101,21,{"$f":"VLOOKUP(C5152,Sheet2!A:B,2,FALSE)","v":140}]
[5152,"肖娟",361202211009,154211000826,22,{"$f":"VLOOKUP(C5153,Sheet2!A:B,2,FALSE)","v":140}]
[5153,"温珍伟",361202211009,154211000821,23,{"$f":"VLOOKUP(C5154,Sheet2!A:B,2,FALSE)","v":140}]
[5154,"郭斐妤",361202212007,154210800629,1,{"$f":"VLOOKUP(C5155,Sheet2!A:B,2,FALSE)","v":171.5}]
[5155,"陈晓玲",361202212007,154210800714,2,{"$f":"VLOOKUP(C5156,Sheet2!A:B,2,FALSE)","v":171.5}]
[5156,"廖金凤",361202212007,154210800919,3,{"$f":"VLOOKUP(C5157,Sheet2!A:B,2,FALSE)","v":171.5}]
[5157,"郑丽丽",361202212007,154210800909,4,{"$f":"VLOOKUP(C5158,Sheet2!A:B,2,FALSE)","v":171.5}]
[5158,"刘艳婷",361202212007,154210800811,5,{"$f":"VLOOKUP(C5159,Sheet2!A:B,2,FALSE)","v":171.5}]
[5159,"孙琦",361202212007,154012407214,6,{"$f":"VLOOKUP(C5160,Sheet2!A:B,2,FALSE)","v":171.5}]
[5160,"刘超倍",361202212007,154012407208,7,{"$f":"VLOOKUP(C5161,Sheet2!A:B,2,FALSE)","v":171.5}]
[5161,"刘忠顺",361202212007,154210800821,8,{"$f":"VLOOKUP(C5162,Sheet2!A:B,2,FALSE)","v":171.5}]
[5162,"邱雯",361202212007,154210800812,9,{"$f":"VLOOKUP(C5163,Sheet2!A:B,2,FALSE)","v":171.5}]
[5163,"黄文君",361202212007,154210800916,10,{"$f":"VLOOKUP(C5164,Sheet2!A:B,2,FALSE)","v":171.5}]
[5164,"赖非焉",361202212007,154210800809,11,{"$f":"VLOOKUP(C5165,Sheet2!A:B,2,FALSE)","v":171.5}]
[5165,"龙诗玉",361202212007,154012407108,12,{"$f":"VLOOKUP(C5166,Sheet2!A:B,2,FALSE)","v":171.5}]
[5166,"刘小莉",361202212007,154210800929,13,{"$f":"VLOOKUP(C5167,Sheet2!A:B,2,FALSE)","v":171.5}]
[5167,"罗财洲",361202212007,154040803905,14,{"$f":"VLOOKUP(C5168,Sheet2!A:B,2,FALSE)","v":171.5}]
[5168,"许剑钧",361202212007,154242502712,15,{"$f":"VLOOKUP(C5169,Sheet2!A:B,2,FALSE)","v":171.5}]
[5169,"刘雨然",361202212007,154210800818,16,{"$f":"VLOOKUP(C5170,Sheet2!A:B,2,FALSE)","v":171.5}]
[5170,"谢桂芳",361202212007,154210801029,17,{"$f":"VLOOKUP(C5171,Sheet2!A:B,2,FALSE)","v":171.5}]
[5171,"潘潘",361202212007,154012407202,18,{"$f":"VLOOKUP(C5172,Sheet2!A:B,2,FALSE)","v":171.5}]
[5172,"蔡诗萍",361202213001,154211001226,1,{"$f":"VLOOKUP(C5173,Sheet2!A:B,2,FALSE)","v":187.5}]
[5173,"陈东",361202213001,154211001309,2,{"$f":"VLOOKUP(C5174,Sheet2!A:B,2,FALSE)","v":187.5}]
[5174,"幸礼娟",361202213001,154250107007,3,{"$f":"VLOOKUP(C5175,Sheet2!A:B,2,FALSE)","v":187.5}]
[5175,"邹观莲",361204103005,154210602614,1,{"$f":"VLOOKUP(C5176,Sheet2!A:B,2,FALSE)","v":176.5}]
[5176,"赖路梅",361204103005,154210602825,2,{"$f":"VLOOKUP(C5177,Sheet2!A:B,2,FALSE)","v":176.5}]
[5177,"黎贞",361204103005,154210604110,3,{"$f":"VLOOKUP(C5178,Sheet2!A:B,2,FALSE)","v":176.5}]
[5178,"何琴",361204103005,154012502213,4,{"$f":"VLOOKUP(C5179,Sheet2!A:B,2,FALSE)","v":176.5}]
[5179,"郭燕琼",361204103005,154242503404,5,{"$f":"VLOOKUP(C5180,Sheet2!A:B,2,FALSE)","v":176.5}]
[5180,"彭昕瑜",361204103005,154012500615,6,{"$f":"VLOOKUP(C5181,Sheet2!A:B,2,FALSE)","v":176.5}]
[5181,"李祥莲",361204103005,154210601702,7,{"$f":"VLOOKUP(C5182,Sheet2!A:B,2,FALSE)","v":176.5}]
[5182,"黄林霞",361204103005,154210602830,8,{"$f":"VLOOKUP(C5183,Sheet2!A:B,2,FALSE)","v":176.5}]
[5183,"黄瑞芳",361204103005,154242503401,9,{"$f":"VLOOKUP(C5184,Sheet2!A:B,2,FALSE)","v":176.5}]
[5184,"王敏",361204103005,154210604423,11,{"$f":"VLOOKUP(C5185,Sheet2!A:B,2,FALSE)","v":176.5}]
[5185,"幸瑶瑶",361204103005,154250103507,10,{"$f":"VLOOKUP(C5186,Sheet2!A:B,2,FALSE)","v":176.5}]
[5186,"钟珍",361204103005,154210602118,12,{"$f":"VLOOKUP(C5187,Sheet2!A:B,2,FALSE)","v":176.5}]
[5187,"张婷婷",361204103005,154210603325,13,{"$f":"VLOOKUP(C5188,Sheet2!A:B,2,FALSE)","v":176.5}]
[5188,"严奇特",361204103005,154210601111,14,{"$f":"VLOOKUP(C5189,Sheet2!A:B,2,FALSE)","v":176.5}]
[5189,"郭佳",361204103005,154012501626,15,{"$f":"VLOOKUP(C5190,Sheet2!A:B,2,FALSE)","v":176.5}]
[5190,"谢珊珊",361204104010,154012600613,1,{"$f":"VLOOKUP(C5191,Sheet2!A:B,2,FALSE)","v":206}]
[5191,"华艳芳",361204104010,154012600606,3,{"$f":"VLOOKUP(C5192,Sheet2!A:B,2,FALSE)","v":206}]
[5192,"彭薇",361204104010,154242500317,2,{"$f":"VLOOKUP(C5193,Sheet2!A:B,2,FALSE)","v":206}]
[5193,"陈思羽",361204104010,154210302923,4,{"$f":"VLOOKUP(C5194,Sheet2!A:B,2,FALSE)","v":206}]
[5194,"罗莎",361204104010,154030303415,5,{"$f":"VLOOKUP(C5195,Sheet2!A:B,2,FALSE)","v":206}]
[5195,"王萍凤",361204104010,154242500520,6,{"$f":"VLOOKUP(C5196,Sheet2!A:B,2,FALSE)","v":206}]
[5196,"雷珊珊",361204104010,154210302914,8,{"$f":"VLOOKUP(C5197,Sheet2!A:B,2,FALSE)","v":206}]
[5197,"吴莉莉",361204104010,154210302519,7,{"$f":"VLOOKUP(C5198,Sheet2!A:B,2,FALSE)","v":206}]
[5198,"李桃",361204104010,154242500409,9,{"$f":"VLOOKUP(C5199,Sheet2!A:B,2,FALSE)","v":206}]
[5199,"胡婉璐",361204104010,154030303417,10,{"$f":"VLOOKUP(C5200,Sheet2!A:B,2,FALSE)","v":206}]
[5200,"王晶晶",361204104010,154210400217,11,{"$f":"VLOOKUP(C5201,Sheet2!A:B,2,FALSE)","v":206}]
[5201,"罗雨娇",361204104010,154012600529,12,{"$f":"VLOOKUP(C5202,Sheet2!A:B,2,FALSE)","v":206}]
[5202,"石朝美",361204104010,154210302915,14,{"$f":"VLOOKUP(C5203,Sheet2!A:B,2,FALSE)","v":206}]
[5203,"范文瑶",361204104010,154012600614,13,{"$f":"VLOOKUP(C5204,Sheet2!A:B,2,FALSE)","v":206}]
[5204,"陈梅秀",361204104010,154210302614,15,{"$f":"VLOOKUP(C5205,Sheet2!A:B,2,FALSE)","v":206}]
[5205,"钟佳蕊",361204104010,154250103823,16,{"$f":"VLOOKUP(C5206,Sheet2!A:B,2,FALSE)","v":206}]
[5206,"官敏",361204104010,154012601008,17,{"$f":"VLOOKUP(C5207,Sheet2!A:B,2,FALSE)","v":206}]
[5207,"龚新美",361204104010,154210400710,20,{"$f":"VLOOKUP(C5208,Sheet2!A:B,2,FALSE)","v":206}]
[5208,"肖豪荷",361204104010,154242500118,19,{"$f":"VLOOKUP(C5209,Sheet2!A:B,2,FALSE)","v":206}]
[5209,"温露欣",361204104010,154210400422,18,{"$f":"VLOOKUP(C5210,Sheet2!A:B,2,FALSE)","v":206}]
[5210,"肖双双",361204104010,154242500401,21,{"$f":"VLOOKUP(C5211,Sheet2!A:B,2,FALSE)","v":206}]
[5211,"刘馨",361204104010,154242500109,22,{"$f":"VLOOKUP(C5212,Sheet2!A:B,2,FALSE)","v":206}]
[5212,"郑金丽",361204104010,154210400128,23,{"$f":"VLOOKUP(C5213,Sheet2!A:B,2,FALSE)","v":206}]
[5213,"俞芬",361204104010,154210400929,25,{"$f":"VLOOKUP(C5214,Sheet2!A:B,2,FALSE)","v":206}]
[5214,"朱佩珍",361204104010,154210400927,24,{"$f":"VLOOKUP(C5215,Sheet2!A:B,2,FALSE)","v":206}]
[5215,"谢娟",361204105010,154012601606,1,{"$f":"VLOOKUP(C5216,Sheet2!A:B,2,FALSE)","v":145}]
[5216,"刘寒梅",361204105010,154210605011,2,{"$f":"VLOOKUP(C5217,Sheet2!A:B,2,FALSE)","v":145}]
[5217,"黄世俊",361204105010,154210604812,3,{"$f":"VLOOKUP(C5218,Sheet2!A:B,2,FALSE)","v":145}]
[5218,"谢彦福",361204105010,154210503308,4,{"$f":"VLOOKUP(C5219,Sheet2!A:B,2,FALSE)","v":145}]
[5219,"王龙",361204105010,154210503607,5,{"$f":"VLOOKUP(C5220,Sheet2!A:B,2,FALSE)","v":145}]
[5220,"廖宝强",361204105010,154210503704,6,{"$f":"VLOOKUP(C5221,Sheet2!A:B,2,FALSE)","v":145}]
[5221,"陈莉",361204105010,154210503420,7,{"$f":"VLOOKUP(C5222,Sheet2!A:B,2,FALSE)","v":145}]
[5222,"邓一诺",361204105010,154210502728,8,{"$f":"VLOOKUP(C5223,Sheet2!A:B,2,FALSE)","v":145}]
[5223,"刘思静",361204105010,154242600321,9,{"$f":"VLOOKUP(C5224,Sheet2!A:B,2,FALSE)","v":145}]
[5224,"范科",361204105010,154242600513,10,{"$f":"VLOOKUP(C5225,Sheet2!A:B,2,FALSE)","v":145}]
[5225,"孙溢",361204105010,154210605120,11,{"$f":"VLOOKUP(C5226,Sheet2!A:B,2,FALSE)","v":145}]
[5226,"黄兰",361204105010,154030303514,13,{"$f":"VLOOKUP(C5227,Sheet2!A:B,2,FALSE)","v":145}]
[5227,"杨涛",361204105010,154210503212,12,{"$f":"VLOOKUP(C5228,Sheet2!A:B,2,FALSE)","v":145}]
[5228,"钟宇翔",361204105010,154210503224,14,{"$f":"VLOOKUP(C5229,Sheet2!A:B,2,FALSE)","v":145}]
[5229,"李明龙",361204105010,154210503014,15,{"$f":"VLOOKUP(C5230,Sheet2!A:B,2,FALSE)","v":145}]
[5230,"范嘉莉",361204105010,154030303517,16,{"$f":"VLOOKUP(C5231,Sheet2!A:B,2,FALSE)","v":145}]
[5231,"刘小汉",361204105010,154210503505,17,{"$f":"VLOOKUP(C5232,Sheet2!A:B,2,FALSE)","v":145}]
[5232,"肖作玉",361204105010,154210503630,18,{"$f":"VLOOKUP(C5233,Sheet2!A:B,2,FALSE)","v":145}]
[5233,"黄金龙",361204105010,154012601826,19,{"$f":"VLOOKUP(C5234,Sheet2!A:B,2,FALSE)","v":145}]
[5234,"谢钦龙",361204105010,154012601426,20,{"$f":"VLOOKUP(C5235,Sheet2!A:B,2,FALSE)","v":145}]
[5235,"邹宇诚",361204105010,154012601811,21,{"$f":"VLOOKUP(C5236,Sheet2!A:B,2,FALSE)","v":145}]
[5236,"吴晓武",361204105010,154210503008,22,{"$f":"VLOOKUP(C5237,Sheet2!A:B,2,FALSE)","v":145}]
[5237,"罗潮松",361204105010,154210503925,23,{"$f":"VLOOKUP(C5238,Sheet2!A:B,2,FALSE)","v":145}]
[5238,"王文标",361204105010,154210504015,24,{"$f":"VLOOKUP(C5239,Sheet2!A:B,2,FALSE)","v":145}]
[5239,"李长青",361204105010,154210503707,25,{"$f":"VLOOKUP(C5240,Sheet2!A:B,2,FALSE)","v":145}]
[5240,"陈江南",361204106010,154211102604,1,{"$f":"VLOOKUP(C5241,Sheet2!A:B,2,FALSE)","v":162}]
[5241,"唐怡婷",361204106010,154211102117,2,{"$f":"VLOOKUP(C5242,Sheet2!A:B,2,FALSE)","v":162}]
[5242,"曾繁燕",361204106010,154211101207,3,{"$f":"VLOOKUP(C5243,Sheet2!A:B,2,FALSE)","v":162}]
[5243,"刘薇",361204106010,154211100507,4,{"$f":"VLOOKUP(C5244,Sheet2!A:B,2,FALSE)","v":162}]
[5244,"刘丽",361204106010,154211100702,6,{"$f":"VLOOKUP(C5245,Sheet2!A:B,2,FALSE)","v":162}]
[5245,"曹韫",361204106010,154211102615,5,{"$f":"VLOOKUP(C5246,Sheet2!A:B,2,FALSE)","v":162}]
[5246,"李咏",361204106010,154211102405,8,{"$f":"VLOOKUP(C5247,Sheet2!A:B,2,FALSE)","v":162}]
[5247,"方耘",361204106010,154012602304,7,{"$f":"VLOOKUP(C5248,Sheet2!A:B,2,FALSE)","v":162}]
[5248,"王玉玲",361204106010,154211103103,9,{"$f":"VLOOKUP(C5249,Sheet2!A:B,2,FALSE)","v":162}]
[5249,"黄楠",361204106010,154211100519,10,{"$f":"VLOOKUP(C5250,Sheet2!A:B,2,FALSE)","v":162}]
[5250,"欧阳慧敏",361204106010,154242600804,11,{"$f":"VLOOKUP(C5251,Sheet2!A:B,2,FALSE)","v":162}]
[5251,"刘燕",361204106010,154211102124,12,{"$f":"VLOOKUP(C5252,Sheet2!A:B,2,FALSE)","v":162}]
[5252,"朱艳",361204106010,154211101422,13,{"$f":"VLOOKUP(C5253,Sheet2!A:B,2,FALSE)","v":162}]
[5253,"罗琦",361204106010,154242600820,14,{"$f":"VLOOKUP(C5254,Sheet2!A:B,2,FALSE)","v":162}]
[5254,"宋慧倩",361204106010,154211100723,16,{"$f":"VLOOKUP(C5255,Sheet2!A:B,2,FALSE)","v":162}]
[5255,"郭纪澳",361204106010,154211101720,15,{"$f":"VLOOKUP(C5256,Sheet2!A:B,2,FALSE)","v":162}]
[5256,"严静芸",361204106010,154211102211,17,{"$f":"VLOOKUP(C5257,Sheet2!A:B,2,FALSE)","v":162}]
[5257,"邬涛",361204106010,154211100417,18,{"$f":"VLOOKUP(C5258,Sheet2!A:B,2,FALSE)","v":162}]
[5258,"黄万有",361204106010,154211100312,19,{"$f":"VLOOKUP(C5259,Sheet2!A:B,2,FALSE)","v":162}]
[5259,"叶秀兰",361204106010,154211100304,20,{"$f":"VLOOKUP(C5260,Sheet2!A:B,2,FALSE)","v":162}]
[5260,"胡艳",361204106010,154211102816,21,{"$f":"VLOOKUP(C5261,Sheet2!A:B,2,FALSE)","v":162}]
[5261,"刘程涛",361204106010,154211101120,22,{"$f":"VLOOKUP(C5262,Sheet2!A:B,2,FALSE)","v":162}]
[5262,"邓春燕",361204106010,154211100515,23,{"$f":"VLOOKUP(C5263,Sheet2!A:B,2,FALSE)","v":162}]
[5263,"康海平",361204106010,154211100224,24,{"$f":"VLOOKUP(C5264,Sheet2!A:B,2,FALSE)","v":162}]
[5264,"龙金平",361204106010,154211102516,26,{"$f":"VLOOKUP(C5265,Sheet2!A:B,2,FALSE)","v":162}]
[5265,"李帆",361204106010,154211101008,25,{"$f":"VLOOKUP(C5266,Sheet2!A:B,2,FALSE)","v":162}]
[5266,"朱淑华",361204113005,154210800312,1,{"$f":"VLOOKUP(C5267,Sheet2!A:B,2,FALSE)","v":156.5}]
[5267,"温凤",361204113005,154012603826,2,{"$f":"VLOOKUP(C5268,Sheet2!A:B,2,FALSE)","v":156.5}]
[5268,"廖宗强",361204113005,154210800403,3,{"$f":"VLOOKUP(C5269,Sheet2!A:B,2,FALSE)","v":156.5}]
[5269,"丁净凝",361204113005,154012604019,4,{"$f":"VLOOKUP(C5270,Sheet2!A:B,2,FALSE)","v":156.5}]
[5270,"胡敏",361204113005,154242601002,5,{"$f":"VLOOKUP(C5271,Sheet2!A:B,2,FALSE)","v":156.5}]
[5271,"段晶晶",361204113005,154210800509,6,{"$f":"VLOOKUP(C5272,Sheet2!A:B,2,FALSE)","v":156.5}]
[5272,"丁李英",361204113005,154210800409,7,{"$f":"VLOOKUP(C5273,Sheet2!A:B,2,FALSE)","v":156.5}]
[5273,"陈子晗",361204113005,154210800524,8,{"$f":"VLOOKUP(C5274,Sheet2!A:B,2,FALSE)","v":156.5}]
[5274,"钟燕琴",361204113005,154210800228,9,{"$f":"VLOOKUP(C5275,Sheet2!A:B,2,FALSE)","v":156.5}]
[5275,"吕滢",361204113005,154210800207,10,{"$f":"VLOOKUP(C5276,Sheet2!A:B,2,FALSE)","v":156.5}]
[5276,"马鑫",361204113005,154012404206,11,{"$f":"VLOOKUP(C5277,Sheet2!A:B,2,FALSE)","v":156.5}]
[5277,"曾慧萍",361204113005,154242601106,12,{"$f":"VLOOKUP(C5278,Sheet2!A:B,2,FALSE)","v":156.5}]
[5278,"卢林瑜",361204113005,154210800426,13,{"$f":"VLOOKUP(C5279,Sheet2!A:B,2,FALSE)","v":156.5}]
[5279,"钟宪琪",361204113005,154210800111,14,{"$f":"VLOOKUP(C5280,Sheet2!A:B,2,FALSE)","v":156.5}]
[5280,"江璐",361204113005,154210800323,15,{"$f":"VLOOKUP(C5281,Sheet2!A:B,2,FALSE)","v":156.5}]
[5281,"邓俊康",361204113005,154210800314,16,{"$f":"VLOOKUP(C5282,Sheet2!A:B,2,FALSE)","v":156.5}]
[5282,"钟琪",361204201010,154210901712,1,{"$f":"VLOOKUP(C5283,Sheet2!A:B,2,FALSE)","v":151.5}]
[5283,"段丽君",361204201010,154012700604,2,{"$f":"VLOOKUP(C5284,Sheet2!A:B,2,FALSE)","v":151.5}]
[5284,"丁小婷",361204201010,154210902120,3,{"$f":"VLOOKUP(C5285,Sheet2!A:B,2,FALSE)","v":151.5}]
[5285,"谢莹",361204201010,154210900622,5,{"$f":"VLOOKUP(C5286,Sheet2!A:B,2,FALSE)","v":151.5}]
[5286,"廖辉",361204201010,154210901404,4,{"$f":"VLOOKUP(C5287,Sheet2!A:B,2,FALSE)","v":151.5}]
[5287,"郭婧",361204201010,154210902904,6,{"$f":"VLOOKUP(C5288,Sheet2!A:B,2,FALSE)","v":151.5}]
[5288,"钟淇",361204201010,154210902329,7,{"$f":"VLOOKUP(C5289,Sheet2!A:B,2,FALSE)","v":151.5}]
[5289,"邱石丽",361204201010,154210901203,8,{"$f":"VLOOKUP(C5290,Sheet2!A:B,2,FALSE)","v":151.5}]
[5290,"刘丽红",361204201010,154210902522,9,{"$f":"VLOOKUP(C5291,Sheet2!A:B,2,FALSE)","v":151.5}]
[5291,"邓旗",361204201010,154210900810,10,{"$f":"VLOOKUP(C5292,Sheet2!A:B,2,FALSE)","v":151.5}]
[5292,"林小芳",361204201010,154210901411,11,{"$f":"VLOOKUP(C5293,Sheet2!A:B,2,FALSE)","v":151.5}]
[5293,"徐娟",361204201010,154210903226,12,{"$f":"VLOOKUP(C5294,Sheet2!A:B,2,FALSE)","v":151.5}]
[5294,"韩金玉",361204201010,154210902426,14,{"$f":"VLOOKUP(C5295,Sheet2!A:B,2,FALSE)","v":151.5}]
[5295,"邓书媛",361204201010,154210900520,13,{"$f":"VLOOKUP(C5296,Sheet2!A:B,2,FALSE)","v":151.5}]
[5296,"邹欣",361204201010,154210901719,15,{"$f":"VLOOKUP(C5297,Sheet2!A:B,2,FALSE)","v":151.5}]
[5297,"谢一梅",361204201010,154210901010,16,{"$f":"VLOOKUP(C5298,Sheet2!A:B,2,FALSE)","v":151.5}]
[5298,"张蕊",361204201010,154210900316,17,{"$f":"VLOOKUP(C5299,Sheet2!A:B,2,FALSE)","v":151.5}]
[5299,"杨水华",361204201010,154210902525,18,{"$f":"VLOOKUP(C5300,Sheet2!A:B,2,FALSE)","v":151.5}]
[5300,"肖冰",361204201010,154210900629,19,{"$f":"VLOOKUP(C5301,Sheet2!A:B,2,FALSE)","v":151.5}]
[5301,"李书燕",361204201010,154210902709,20,{"$f":"VLOOKUP(C5302,Sheet2!A:B,2,FALSE)","v":151.5}]
[5302,"黄媛",361204201010,154210902118,21,{"$f":"VLOOKUP(C5303,Sheet2!A:B,2,FALSE)","v":151.5}]
[5303,"彭江华",361204201010,154210903222,22,{"$f":"VLOOKUP(C5304,Sheet2!A:B,2,FALSE)","v":151.5}]
[5304,"李银娟",361204201010,154242601610,23,{"$f":"VLOOKUP(C5305,Sheet2!A:B,2,FALSE)","v":151.5}]
[5305,"张伟",361204201010,154050314902,24,{"$f":"VLOOKUP(C5306,Sheet2!A:B,2,FALSE)","v":151.5}]
[5306,"何平薇",361204201010,154210901204,25,{"$f":"VLOOKUP(C5307,Sheet2!A:B,2,FALSE)","v":151.5}]
[5307,"邱艳",361204202015,154210200804,1,{"$f":"VLOOKUP(C5308,Sheet2!A:B,2,FALSE)","v":161}]
[5308,"上官桃凤",361204202015,154210201909,2,{"$f":"VLOOKUP(C5309,Sheet2!A:B,2,FALSE)","v":161}]
[5309,"叶丽华",361204202015,154012906812,3,{"$f":"VLOOKUP(C5310,Sheet2!A:B,2,FALSE)","v":161}]
[5310,"刘丽云",361204202015,154210200718,4,{"$f":"VLOOKUP(C5311,Sheet2!A:B,2,FALSE)","v":161}]
[5311,"刘桂芳",361204202015,154210201208,5,{"$f":"VLOOKUP(C5312,Sheet2!A:B,2,FALSE)","v":161}]
[5312,"谢芙蓉",361204202015,154210201108,6,{"$f":"VLOOKUP(C5313,Sheet2!A:B,2,FALSE)","v":161}]
[5313,"刘语",361204202015,154012906208,7,{"$f":"VLOOKUP(C5314,Sheet2!A:B,2,FALSE)","v":161}]
[5314,"何金平",361204202015,154242702907,8,{"$f":"VLOOKUP(C5315,Sheet2!A:B,2,FALSE)","v":161}]
[5315,"夏金香",361204202015,154210201916,9,{"$f":"VLOOKUP(C5316,Sheet2!A:B,2,FALSE)","v":161}]
[5316,"谢妙茹",361204202015,154210200306,10,{"$f":"VLOOKUP(C5317,Sheet2!A:B,2,FALSE)","v":161}]
[5317,"李青霞",361204202015,154210201413,11,{"$f":"VLOOKUP(C5318,Sheet2!A:B,2,FALSE)","v":161}]
[5318,"魏文娜",361204202015,154210201923,12,{"$f":"VLOOKUP(C5319,Sheet2!A:B,2,FALSE)","v":161}]
[5319,"赖嘉妍",361204202015,154210200328,13,{"$f":"VLOOKUP(C5320,Sheet2!A:B,2,FALSE)","v":161}]
[5320,"龚孟玲",361204202015,154210201501,14,{"$f":"VLOOKUP(C5321,Sheet2!A:B,2,FALSE)","v":161}]
[5321,"魏芸",361204202015,154210201020,15,{"$f":"VLOOKUP(C5322,Sheet2!A:B,2,FALSE)","v":161}]
[5322,"丁家强",361204202015,154210201301,16,{"$f":"VLOOKUP(C5323,Sheet2!A:B,2,FALSE)","v":161}]
[5323,"曾悦",361204202015,154210201904,17,{"$f":"VLOOKUP(C5324,Sheet2!A:B,2,FALSE)","v":161}]
[5324,"曾素萍",361204202015,154210201502,18,{"$f":"VLOOKUP(C5325,Sheet2!A:B,2,FALSE)","v":161}]
[5325,"胡水莲",361204202015,154210200110,19,{"$f":"VLOOKUP(C5326,Sheet2!A:B,2,FALSE)","v":161}]
[5326,"钟玲",361204202015,154210201819,20,{"$f":"VLOOKUP(C5327,Sheet2!A:B,2,FALSE)","v":161}]
[5327,"刘亚婷",361204202015,154210200526,21,{"$f":"VLOOKUP(C5328,Sheet2!A:B,2,FALSE)","v":161}]
[5328,"谢培燚",361204202015,154012906429,22,{"$f":"VLOOKUP(C5329,Sheet2!A:B,2,FALSE)","v":161}]
[5329,"吴家粱",361204202015,154210201204,23,{"$f":"VLOOKUP(C5330,Sheet2!A:B,2,FALSE)","v":161}]
[5330,"朱琪",361204202015,154210200919,24,{"$f":"VLOOKUP(C5331,Sheet2!A:B,2,FALSE)","v":161}]
[5331,"陈鑫",361204202015,154210201815,25,{"$f":"VLOOKUP(C5332,Sheet2!A:B,2,FALSE)","v":161}]
[5332,"陈娜",361204202015,154210201627,26,{"$f":"VLOOKUP(C5333,Sheet2!A:B,2,FALSE)","v":161}]
[5333,"朱婷婷",361204202015,154210201925,27,{"$f":"VLOOKUP(C5334,Sheet2!A:B,2,FALSE)","v":161}]
[5334,"王家明",361204202015,154210201117,28,{"$f":"VLOOKUP(C5335,Sheet2!A:B,2,FALSE)","v":161}]
[5335,"罗诗鹏",361204202015,154210200523,29,{"$f":"VLOOKUP(C5336,Sheet2!A:B,2,FALSE)","v":161}]
[5336,"刘美婷",361204202015,154210201522,30,{"$f":"VLOOKUP(C5337,Sheet2!A:B,2,FALSE)","v":161}]
[5337,"周小惠",361204203010,154210700626,1,{"$f":"VLOOKUP(C5338,Sheet2!A:B,2,FALSE)","v":175}]
[5338,"朱海霞",361204203010,154012804720,2,{"$f":"VLOOKUP(C5339,Sheet2!A:B,2,FALSE)","v":175}]
[5339,"徐婧",361204203010,154210702403,3,{"$f":"VLOOKUP(C5340,Sheet2!A:B,2,FALSE)","v":175}]
[5340,"周平平",361204203010,154210703803,4,{"$f":"VLOOKUP(C5341,Sheet2!A:B,2,FALSE)","v":175}]
[5341,"胡群英",361204203010,154012805017,5,{"$f":"VLOOKUP(C5342,Sheet2!A:B,2,FALSE)","v":175}]
[5342,"吴玉慧",361204203010,154012908324,7,{"$f":"VLOOKUP(C5343,Sheet2!A:B,2,FALSE)","v":175}]
[5343,"钟美灵",361204203010,154250105902,6,{"$f":"VLOOKUP(C5344,Sheet2!A:B,2,FALSE)","v":175}]
[5344,"李婷婷",361204203010,154210701402,10,{"$f":"VLOOKUP(C5345,Sheet2!A:B,2,FALSE)","v":175}]
[5345,"钟凌彤",361204203010,154210700901,9,{"$f":"VLOOKUP(C5346,Sheet2!A:B,2,FALSE)","v":175}]
[5346,"钟远梅",361204203010,154012907821,8,{"$f":"VLOOKUP(C5347,Sheet2!A:B,2,FALSE)","v":175}]
[5347,"刘宏星",361204203010,154210701204,11,{"$f":"VLOOKUP(C5348,Sheet2!A:B,2,FALSE)","v":175}]
[5348,"叶金红",361204203010,154210703114,12,{"$f":"VLOOKUP(C5349,Sheet2!A:B,2,FALSE)","v":175}]
[5349,"肖伟薇",361204203010,154210700702,13,{"$f":"VLOOKUP(C5350,Sheet2!A:B,2,FALSE)","v":175}]
[5350,"钟芳",361204203010,154210701724,14,{"$f":"VLOOKUP(C5351,Sheet2!A:B,2,FALSE)","v":175}]
[5351,"张聪",361204203010,154210701305,15,{"$f":"VLOOKUP(C5352,Sheet2!A:B,2,FALSE)","v":175}]
[5352,"刘香华",361204203010,154210700501,16,{"$f":"VLOOKUP(C5353,Sheet2!A:B,2,FALSE)","v":175}]
[5353,"成嘉莉",361204203010,154210700907,18,{"$f":"VLOOKUP(C5354,Sheet2!A:B,2,FALSE)","v":175}]
[5354,"吕伊杰",361204203010,154210702525,17,{"$f":"VLOOKUP(C5355,Sheet2!A:B,2,FALSE)","v":175}]
[5355,"谢利亲",361204203010,154210701829,19,{"$f":"VLOOKUP(C5356,Sheet2!A:B,2,FALSE)","v":175}]
[5356,"龙慧敏",361204203010,154030305921,20,{"$f":"VLOOKUP(C5357,Sheet2!A:B,2,FALSE)","v":175}]
[5357,"曾罗利",361204203010,154210703513,21,{"$f":"VLOOKUP(C5358,Sheet2!A:B,2,FALSE)","v":175}]
[5358,"陈姻羽",361204203010,154210702606,22,{"$f":"VLOOKUP(C5359,Sheet2!A:B,2,FALSE)","v":175}]
[5359,"沈婕",361204203010,154210701001,23,{"$f":"VLOOKUP(C5360,Sheet2!A:B,2,FALSE)","v":175}]
[5360,"孙冀婷",361204203010,154210701608,24,{"$f":"VLOOKUP(C5361,Sheet2!A:B,2,FALSE)","v":175}]
[5361,"聂清云",361204203010,154210703822,25,{"$f":"VLOOKUP(C5362,Sheet2!A:B,2,FALSE)","v":175}]
[5362,"刘品端",361204204010,154210202808,1,{"$f":"VLOOKUP(C5363,Sheet2!A:B,2,FALSE)","v":99}]
[5363,"刘丽汾",361204204010,154030306304,2,{"$f":"VLOOKUP(C5364,Sheet2!A:B,2,FALSE)","v":99}]
[5364,"杜金珊",361204204010,154210202211,3,{"$f":"VLOOKUP(C5365,Sheet2!A:B,2,FALSE)","v":99}]
[5365,"陈春霞",361204204010,154210202228,4,{"$f":"VLOOKUP(C5366,Sheet2!A:B,2,FALSE)","v":99}]
[5366,"曾亚婷",361204204010,154210202824,5,{"$f":"VLOOKUP(C5367,Sheet2!A:B,2,FALSE)","v":99}]
[5367,"朱沛霖",361204204010,154210202912,6,{"$f":"VLOOKUP(C5368,Sheet2!A:B,2,FALSE)","v":99}]
[5368,"陈丽",361204204010,154210202217,7,{"$f":"VLOOKUP(C5369,Sheet2!A:B,2,FALSE)","v":99}]
[5369,"赖源",361204204010,154020501902,8,{"$f":"VLOOKUP(C5370,Sheet2!A:B,2,FALSE)","v":99}]
[5370,"邓娇琴",361204204010,154210202505,9,{"$f":"VLOOKUP(C5371,Sheet2!A:B,2,FALSE)","v":99}]
[5371,"黄秋婷",361204204010,154210202026,10,{"$f":"VLOOKUP(C5372,Sheet2!A:B,2,FALSE)","v":99}]
[5372,"钟婷婷",361204204010,154210202723,11,{"$f":"VLOOKUP(C5373,Sheet2!A:B,2,FALSE)","v":99}]
[5373,"刘抒妍",361204204010,154210202726,12,{"$f":"VLOOKUP(C5374,Sheet2!A:B,2,FALSE)","v":99}]
[5374,"张洪燕",361204204010,154210202729,13,{"$f":"VLOOKUP(C5375,Sheet2!A:B,2,FALSE)","v":99}]
[5375,"邝福香",361204204010,154210202018,14,{"$f":"VLOOKUP(C5376,Sheet2!A:B,2,FALSE)","v":99}]
[5376,"许明辉",361204204010,154210202230,15,{"$f":"VLOOKUP(C5377,Sheet2!A:B,2,FALSE)","v":99}]
[5377,"伍清",361204204010,154012908816,16,{"$f":"VLOOKUP(C5378,Sheet2!A:B,2,FALSE)","v":99}]
[5378,"黎炫志",361204204010,154210202518,18,{"$f":"VLOOKUP(C5379,Sheet2!A:B,2,FALSE)","v":99}]
[5379,"钟梅萍",361204204010,154210202329,17,{"$f":"VLOOKUP(C5380,Sheet2!A:B,2,FALSE)","v":99}]
[5380,"邱惠妹",361204204010,154210202623,19,{"$f":"VLOOKUP(C5381,Sheet2!A:B,2,FALSE)","v":99}]
[5381,"黄旭萍",361204204010,154210202710,20,{"$f":"VLOOKUP(C5382,Sheet2!A:B,2,FALSE)","v":99}]
[5382,"吴青青",361204204010,154210202107,21,{"$f":"VLOOKUP(C5383,Sheet2!A:B,2,FALSE)","v":99}]
[5383,"陈申龙",361204205005,154211002203,1,{"$f":"VLOOKUP(C5384,Sheet2!A:B,2,FALSE)","v":131.5}]
[5384,"陈嘉豪",361204205005,154211003020,2,{"$f":"VLOOKUP(C5385,Sheet2!A:B,2,FALSE)","v":131.5}]
[5385,"田雪华",361204205005,154211002722,3,{"$f":"VLOOKUP(C5386,Sheet2!A:B,2,FALSE)","v":131.5}]
[5386,"葛露奇",361204205005,154211002314,4,{"$f":"VLOOKUP(C5387,Sheet2!A:B,2,FALSE)","v":131.5}]
[5387,"廖鑫",361204205005,154211001903,5,{"$f":"VLOOKUP(C5388,Sheet2!A:B,2,FALSE)","v":131.5}]
[5388,"徐智明",361204205005,154211001602,6,{"$f":"VLOOKUP(C5389,Sheet2!A:B,2,FALSE)","v":131.5}]
[5389,"李琳",361204205005,154211002515,7,{"$f":"VLOOKUP(C5390,Sheet2!A:B,2,FALSE)","v":131.5}]
[5390,"黄小龙",361204205005,154211002205,8,{"$f":"VLOOKUP(C5391,Sheet2!A:B,2,FALSE)","v":131.5}]
[5391,"刘燕",361204205005,154211002104,9,{"$f":"VLOOKUP(C5392,Sheet2!A:B,2,FALSE)","v":131.5}]
[5392,"罗丽蓉",361204205005,154211002319,10,{"$f":"VLOOKUP(C5393,Sheet2!A:B,2,FALSE)","v":131.5}]
[5393,"肖刚",361204205005,154211002530,11,{"$f":"VLOOKUP(C5394,Sheet2!A:B,2,FALSE)","v":131.5}]
[5394,"袁周亮",361204205005,154211003401,12,{"$f":"VLOOKUP(C5395,Sheet2!A:B,2,FALSE)","v":131.5}]
[5395,"张龙",361204205005,154211003125,13,{"$f":"VLOOKUP(C5396,Sheet2!A:B,2,FALSE)","v":131.5}]
[5396,"曹文胜",361204205005,154211002308,14,{"$f":"VLOOKUP(C5397,Sheet2!A:B,2,FALSE)","v":131.5}]
[5397,"曹金娣",361204205005,154211001816,15,{"$f":"VLOOKUP(C5398,Sheet2!A:B,2,FALSE)","v":131.5}]
[5398,"何瑶",361204206005,154012701801,1,{"$f":"VLOOKUP(C5399,Sheet2!A:B,2,FALSE)","v":178}]
[5399,"黄丽",361204206005,154012702704,2,{"$f":"VLOOKUP(C5400,Sheet2!A:B,2,FALSE)","v":178}]
[5400,"袁梦",361204206005,154242602504,3,{"$f":"VLOOKUP(C5401,Sheet2!A:B,2,FALSE)","v":178}]
[5401,"杨雨欣",361204206005,154210502423,4,{"$f":"VLOOKUP(C5402,Sheet2!A:B,2,FALSE)","v":178}]
[5402,"钟意",361204206005,154210501026,5,{"$f":"VLOOKUP(C5403,Sheet2!A:B,2,FALSE)","v":178}]
[5403,"肖倩",361204206005,154210500822,6,{"$f":"VLOOKUP(C5404,Sheet2!A:B,2,FALSE)","v":178}]
[5404,"朱路平",361204206005,154210502024,7,{"$f":"VLOOKUP(C5405,Sheet2!A:B,2,FALSE)","v":178}]
[5405,"陈秋萍",361204206005,154210501322,8,{"$f":"VLOOKUP(C5406,Sheet2!A:B,2,FALSE)","v":178}]
[5406,"杨柔",361204206005,154210500807,9,{"$f":"VLOOKUP(C5407,Sheet2!A:B,2,FALSE)","v":178}]
[5407,"张玲霖",361204206005,154210501720,10,{"$f":"VLOOKUP(C5408,Sheet2!A:B,2,FALSE)","v":178}]
[5408,"陈美玲",361204206005,154210501427,11,{"$f":"VLOOKUP(C5409,Sheet2!A:B,2,FALSE)","v":178}]
[5409,"俞珠",361204206005,154210500525,12,{"$f":"VLOOKUP(C5410,Sheet2!A:B,2,FALSE)","v":178}]
[5410,"钟莉萍",361204206005,154210501606,13,{"$f":"VLOOKUP(C5411,Sheet2!A:B,2,FALSE)","v":178}]
[5411,"王辰祎",361204206005,154210500921,14,{"$f":"VLOOKUP(C5412,Sheet2!A:B,2,FALSE)","v":178}]
[5412,"罗诗雨",361204206005,154210502624,15,{"$f":"VLOOKUP(C5413,Sheet2!A:B,2,FALSE)","v":178}]
[5413,"卢毅",361204207005,154210401908,1,{"$f":"VLOOKUP(C5414,Sheet2!A:B,2,FALSE)","v":159.5}]
[5414,"兰惠婷",361204207005,154012703014,2,{"$f":"VLOOKUP(C5415,Sheet2!A:B,2,FALSE)","v":159.5}]
[5415,"钟云峰",361204207005,154210401909,3,{"$f":"VLOOKUP(C5416,Sheet2!A:B,2,FALSE)","v":159.5}]
[5416,"刘本法",361204207005,154210401122,4,{"$f":"VLOOKUP(C5417,Sheet2!A:B,2,FALSE)","v":159.5}]
[5417,"肖思梦",361204207005,154210401218,5,{"$f":"VLOOKUP(C5418,Sheet2!A:B,2,FALSE)","v":159.5}]
[5418,"刘冬",361204207005,154012406421,6,{"$f":"VLOOKUP(C5419,Sheet2!A:B,2,FALSE)","v":159.5}]
[5419,"肖文慧",361204207005,154210401718,7,{"$f":"VLOOKUP(C5420,Sheet2!A:B,2,FALSE)","v":159.5}]
[5420,"张家瑜",361204207005,154210401317,8,{"$f":"VLOOKUP(C5421,Sheet2!A:B,2,FALSE)","v":159.5}]
[5421,"罗素珍",361204207005,154210401724,9,{"$f":"VLOOKUP(C5422,Sheet2!A:B,2,FALSE)","v":159.5}]
[5422,"陈朵儿",361204207005,154210401413,10,{"$f":"VLOOKUP(C5423,Sheet2!A:B,2,FALSE)","v":159.5}]
[5423,"邱卉",361204207005,154012406316,11,{"$f":"VLOOKUP(C5424,Sheet2!A:B,2,FALSE)","v":159.5}]
[5424,"李琴",361204207005,154210401708,12,{"$f":"VLOOKUP(C5425,Sheet2!A:B,2,FALSE)","v":159.5}]
[5425,"谢彦华",361204207005,154210401630,13,{"$f":"VLOOKUP(C5426,Sheet2!A:B,2,FALSE)","v":159.5}]
[5426,"何海清",361204207005,154012703012,14,{"$f":"VLOOKUP(C5427,Sheet2!A:B,2,FALSE)","v":159.5}]
[5427,"黄雯",361204207005,154210401211,15,{"$f":"VLOOKUP(C5428,Sheet2!A:B,2,FALSE)","v":159.5}]
[5428,"余冬冬",361204208005,154210303802,1,{"$f":"VLOOKUP(C5429,Sheet2!A:B,2,FALSE)","v":128.5}]
[5429,"严晓娟",361204208005,154210303408,2,{"$f":"VLOOKUP(C5430,Sheet2!A:B,2,FALSE)","v":128.5}]
[5430,"周冬妹",361204208005,154231504407,3,{"$f":"VLOOKUP(C5431,Sheet2!A:B,2,FALSE)","v":128.5}]
[5431,"谢润梅",361204208005,154210303230,4,{"$f":"VLOOKUP(C5432,Sheet2!A:B,2,FALSE)","v":128.5}]
[5432,"张竞文",361204208005,154210303403,5,{"$f":"VLOOKUP(C5433,Sheet2!A:B,2,FALSE)","v":128.5}]
[5433,"谢检香",361204208005,154210303109,6,{"$f":"VLOOKUP(C5434,Sheet2!A:B,2,FALSE)","v":128.5}]
[5434,"欧阳雯娟",361204210005,154210303913,1,{"$f":"VLOOKUP(C5435,Sheet2!A:B,2,FALSE)","v":130.5}]
[5435,"李露",361204210005,154210304216,2,{"$f":"VLOOKUP(C5436,Sheet2!A:B,2,FALSE)","v":130.5}]
[5436,"谢莹灵",361204210005,154210304207,3,{"$f":"VLOOKUP(C5437,Sheet2!A:B,2,FALSE)","v":130.5}]
[5437,"赖章春",361204210005,154210304203,4,{"$f":"VLOOKUP(C5438,Sheet2!A:B,2,FALSE)","v":130.5}]
[5438,"刘煊怡",361204210005,154210304221,5,{"$f":"VLOOKUP(C5439,Sheet2!A:B,2,FALSE)","v":130.5}]
[5439,"周彬",361204210005,154210303916,7,{"$f":"VLOOKUP(C5440,Sheet2!A:B,2,FALSE)","v":130.5}]
[5440,"刘小慧",361204210005,154210303918,6,{"$f":"VLOOKUP(C5441,Sheet2!A:B,2,FALSE)","v":130.5}]
[5441,"胡欣宇",361204210005,154210304126,8,{"$f":"VLOOKUP(C5442,Sheet2!A:B,2,FALSE)","v":130.5}]
[5442,"刘玉娇",361204210005,154030307612,9,{"$f":"VLOOKUP(C5443,Sheet2!A:B,2,FALSE)","v":130.5}]
[5443,"彭素蓉",361204210005,154210304025,10,{"$f":"VLOOKUP(C5444,Sheet2!A:B,2,FALSE)","v":130.5}]
[5444,"陈小伟",361204210005,154210303914,11,{"$f":"VLOOKUP(C5445,Sheet2!A:B,2,FALSE)","v":130.5}]
[5445,"曾凡",361204210005,154210303908,13,{"$f":"VLOOKUP(C5446,Sheet2!A:B,2,FALSE)","v":130.5}]
[5446,"肖玉",361204210005,154012803313,12,{"$f":"VLOOKUP(C5447,Sheet2!A:B,2,FALSE)","v":130.5}]
[5447,"周林怡",361204210005,154210303927,14,{"$f":"VLOOKUP(C5448,Sheet2!A:B,2,FALSE)","v":130.5}]
[5448,"彭江泉",361204210005,154210304205,15,{"$f":"VLOOKUP(C5449,Sheet2!A:B,2,FALSE)","v":130.5}]
[5449,"洪定玮",361204211005,154211001001,1,{"$f":"VLOOKUP(C5450,Sheet2!A:B,2,FALSE)","v":104}]
[5450,"陈乐华",361204211005,154211000802,2,{"$f":"VLOOKUP(C5451,Sheet2!A:B,2,FALSE)","v":104}]
[5451,"吴忠喜",361204211005,154211000514,3,{"$f":"VLOOKUP(C5452,Sheet2!A:B,2,FALSE)","v":104}]
[5452,"刘遂亮",361204211005,154211000707,4,{"$f":"VLOOKUP(C5453,Sheet2!A:B,2,FALSE)","v":104}]
[5453,"周树平",361204211005,154211000511,5,{"$f":"VLOOKUP(C5454,Sheet2!A:B,2,FALSE)","v":104}]
[5454,"张文远",361204211005,154211000922,6,{"$f":"VLOOKUP(C5455,Sheet2!A:B,2,FALSE)","v":104}]
[5455,"王晨",361204211005,154211000506,7,{"$f":"VLOOKUP(C5456,Sheet2!A:B,2,FALSE)","v":104}]
[5456,"钟高云",361204211005,154211000815,8,{"$f":"VLOOKUP(C5457,Sheet2!A:B,2,FALSE)","v":104}]
[5457,"王英进",361204211005,154211000825,9,{"$f":"VLOOKUP(C5458,Sheet2!A:B,2,FALSE)","v":104}]
[5458,"洪洁",361204211005,154211000628,10,{"$f":"VLOOKUP(C5459,Sheet2!A:B,2,FALSE)","v":104}]
[5459,"廖穗芳",361204211005,154211000812,11,{"$f":"VLOOKUP(C5460,Sheet2!A:B,2,FALSE)","v":104}]
[5460,"黎金锋",361204211005,154211000701,12,{"$f":"VLOOKUP(C5461,Sheet2!A:B,2,FALSE)","v":104}]
[5461,"吴雪峰",361204211005,154211000808,13,{"$f":"VLOOKUP(C5462,Sheet2!A:B,2,FALSE)","v":104}]
[5462,"申美华",361204211005,154211000619,14,{"$f":"VLOOKUP(C5463,Sheet2!A:B,2,FALSE)","v":104}]
[5463,"蔡艳",361204211005,154211000507,15,{"$f":"VLOOKUP(C5464,Sheet2!A:B,2,FALSE)","v":104}]
[5464,"邱银玲",361204212005,154210800827,1,{"$f":"VLOOKUP(C5465,Sheet2!A:B,2,FALSE)","v":119}]
[5465,"姚慧",361204212005,154221409215,2,{"$f":"VLOOKUP(C5466,Sheet2!A:B,2,FALSE)","v":119}]
[5466,"谢微",361204212005,154210800930,3,{"$f":"VLOOKUP(C5467,Sheet2!A:B,2,FALSE)","v":119}]
[5467,"黄欢",361204212005,154210800728,4,{"$f":"VLOOKUP(C5468,Sheet2!A:B,2,FALSE)","v":119}]
[5468,"唐洁",361204212005,154210800718,5,{"$f":"VLOOKUP(C5469,Sheet2!A:B,2,FALSE)","v":119}]
[5469," 吴玉芳",361204212005,154012407217,6,{"$f":"VLOOKUP(C5470,Sheet2!A:B,2,FALSE)","v":119}]
[5470,"李华铮",361204212005,154210800910,7,{"$f":"VLOOKUP(C5471,Sheet2!A:B,2,FALSE)","v":119}]
[5471,"凌喜良",361204212005,154210800715,8,{"$f":"VLOOKUP(C5472,Sheet2!A:B,2,FALSE)","v":119}]
[5472,"陈丽香",361204212005,154231505308,9,{"$f":"VLOOKUP(C5473,Sheet2!A:B,2,FALSE)","v":119}]
[5473,"刘玉贞",361206101015,154012301129,1,{"$f":"VLOOKUP(C5474,Sheet2!A:B,2,FALSE)","v":188}]
[5474,"梁晓诗",361206101015,154210106602,2,{"$f":"VLOOKUP(C5475,Sheet2!A:B,2,FALSE)","v":188}]
[5475,"周媛媛",361206101015,154242402302,3,{"$f":"VLOOKUP(C5476,Sheet2!A:B,2,FALSE)","v":188}]
[5476,"王青青",361206101015,154210104414,4,{"$f":"VLOOKUP(C5477,Sheet2!A:B,2,FALSE)","v":188}]
[5477,"刘春燕",361206101015,154012100502,5,{"$f":"VLOOKUP(C5478,Sheet2!A:B,2,FALSE)","v":188}]
[5478,"毕悦",361206101015,154210105426,6,{"$f":"VLOOKUP(C5479,Sheet2!A:B,2,FALSE)","v":188}]
[5479,"李小妹",361206101015,154242400216,8,{"$f":"VLOOKUP(C5480,Sheet2!A:B,2,FALSE)","v":188}]
[5480,"施静",361206101015,154210104105,7,{"$f":"VLOOKUP(C5481,Sheet2!A:B,2,FALSE)","v":188}]
[5481,"钟媛",361206101015,154012301008,9,{"$f":"VLOOKUP(C5482,Sheet2!A:B,2,FALSE)","v":188}]
[5482,"张宇",361206101015,154012100707,10,{"$f":"VLOOKUP(C5483,Sheet2!A:B,2,FALSE)","v":188}]
[5483,"朱乐君",361206101015,154210600629,11,{"$f":"VLOOKUP(C5484,Sheet2!A:B,2,FALSE)","v":188}]
[5484,"高嘉暄",361206101015,154012300814,12,{"$f":"VLOOKUP(C5485,Sheet2!A:B,2,FALSE)","v":188}]
[5485,"蒋丽",361206101015,154012300318,13,{"$f":"VLOOKUP(C5486,Sheet2!A:B,2,FALSE)","v":188}]
[5486,"许嫣婷",361206101015,154012102207,14,{"$f":"VLOOKUP(C5487,Sheet2!A:B,2,FALSE)","v":188}]
[5487,"陈涛",361206101015,154210105524,15,{"$f":"VLOOKUP(C5488,Sheet2!A:B,2,FALSE)","v":188}]
[5488,"赖树华",361206101015,154012302903,16,{"$f":"VLOOKUP(C5489,Sheet2!A:B,2,FALSE)","v":188}]
[5489,"易洋",361206101015,154221400318,18,{"$f":"VLOOKUP(C5490,Sheet2!A:B,2,FALSE)","v":188}]
[5490,"彭春莲",361206101015,154210101112,17,{"$f":"VLOOKUP(C5491,Sheet2!A:B,2,FALSE)","v":188}]
[5491,"刘婷",361206101015,154210105328,19,{"$f":"VLOOKUP(C5492,Sheet2!A:B,2,FALSE)","v":188}]
[5492,"叶新丽",361206101015,154210106103,20,{"$f":"VLOOKUP(C5493,Sheet2!A:B,2,FALSE)","v":188}]
[5493,"陈璐",361206101015,154210106320,21,{"$f":"VLOOKUP(C5494,Sheet2!A:B,2,FALSE)","v":188}]
[5494,"华翔",361206101015,154210106421,22,{"$f":"VLOOKUP(C5495,Sheet2!A:B,2,FALSE)","v":188}]
[5495,"陈桃香",361206101015,154012102517,23,{"$f":"VLOOKUP(C5496,Sheet2!A:B,2,FALSE)","v":188}]
[5496,"滕学颖",361206101015,154210102803,24,{"$f":"VLOOKUP(C5497,Sheet2!A:B,2,FALSE)","v":188}]
[5497,"陈霞",361206101015,154012302502,25,{"$f":"VLOOKUP(C5498,Sheet2!A:B,2,FALSE)","v":188}]
[5498,"袁雨",361206101015,154012300730,26,{"$f":"VLOOKUP(C5499,Sheet2!A:B,2,FALSE)","v":188}]
[5499,"段丽琴",361206101015,154060600127,27,{"$f":"VLOOKUP(C5500,Sheet2!A:B,2,FALSE)","v":188}]
[5500,"巫君钰",361206101015,154210104522,28,{"$f":"VLOOKUP(C5501,Sheet2!A:B,2,FALSE)","v":188}]
[5501,"刘燕",361206101015,154012100702,29,{"$f":"VLOOKUP(C5502,Sheet2!A:B,2,FALSE)","v":188}]
[5502,"郭莎莎",361206101015,154012300626,30,{"$f":"VLOOKUP(C5503,Sheet2!A:B,2,FALSE)","v":188}]
[5503,"王优",361206101015,154210100218,31,{"$f":"VLOOKUP(C5504,Sheet2!A:B,2,FALSE)","v":188}]
[5504,"万若兰",361206102015,154250102407,1,{"$f":"VLOOKUP(C5505,Sheet2!A:B,2,FALSE)","v":196.5}]
[5505,"阳春林",361206102015,154012201225,2,{"$f":"VLOOKUP(C5506,Sheet2!A:B,2,FALSE)","v":196.5}]
[5506,"邹月明",361206102015,154211201818,3,{"$f":"VLOOKUP(C5507,Sheet2!A:B,2,FALSE)","v":196.5}]
[5507,"李嘉钰",361206102015,154211204018,4,{"$f":"VLOOKUP(C5508,Sheet2!A:B,2,FALSE)","v":196.5}]
[5508,"王甜",361206102015,154211200908,5,{"$f":"VLOOKUP(C5509,Sheet2!A:B,2,FALSE)","v":196.5}]
[5509,"肖彬",361206102015,154211203111,6,{"$f":"VLOOKUP(C5510,Sheet2!A:B,2,FALSE)","v":196.5}]
[5510,"焦琼",361206102015,154012303719,7,{"$f":"VLOOKUP(C5511,Sheet2!A:B,2,FALSE)","v":196.5}]
[5511,"罗浪",361206102015,154012201616,8,{"$f":"VLOOKUP(C5512,Sheet2!A:B,2,FALSE)","v":196.5}]
[5512,"邹婉莹",361206102015,154242700425,9,{"$f":"VLOOKUP(C5513,Sheet2!A:B,2,FALSE)","v":196.5}]
[5513,"王孚娟",361206102015,154211203318,10,{"$f":"VLOOKUP(C5514,Sheet2!A:B,2,FALSE)","v":196.5}]
[5514,"何庆英",361206102015,154012203621,11,{"$f":"VLOOKUP(C5515,Sheet2!A:B,2,FALSE)","v":196.5}]
[5515,"廖德婷",361206102015,154211201219,12,{"$f":"VLOOKUP(C5516,Sheet2!A:B,2,FALSE)","v":196.5}]
[5516,"卢致珍",361206102015,154211202417,13,{"$f":"VLOOKUP(C5517,Sheet2!A:B,2,FALSE)","v":196.5}]
[5517,"何流",361206102015,154211202506,14,{"$f":"VLOOKUP(C5518,Sheet2!A:B,2,FALSE)","v":196.5}]
[5518,"肖芳玲",361206102015,154211201203,15,{"$f":"VLOOKUP(C5519,Sheet2!A:B,2,FALSE)","v":196.5}]
[5519,"王洁",361206102015,154211200517,18,{"$f":"VLOOKUP(C5520,Sheet2!A:B,2,FALSE)","v":196.5}]
[5520,"瞿婧婧",361206102015,154040801003,17,{"$f":"VLOOKUP(C5521,Sheet2!A:B,2,FALSE)","v":196.5}]
[5521,"甘攀",361206102015,154012203304,16,{"$f":"VLOOKUP(C5522,Sheet2!A:B,2,FALSE)","v":196.5}]
[5522,"郭起芳",361206102015,154012203309,21,{"$f":"VLOOKUP(C5523,Sheet2!A:B,2,FALSE)","v":196.5}]
[5523,"黄莲英",361206102015,154210802411,20,{"$f":"VLOOKUP(C5524,Sheet2!A:B,2,FALSE)","v":196.5}]
[5524,"兰韬",361206102015,154211200222,19,{"$f":"VLOOKUP(C5525,Sheet2!A:B,2,FALSE)","v":196.5}]
[5525,"王超",361206102015,154210802908,23,{"$f":"VLOOKUP(C5526,Sheet2!A:B,2,FALSE)","v":196.5}]
[5526,"李珍",361206102015,154211201812,22,{"$f":"VLOOKUP(C5527,Sheet2!A:B,2,FALSE)","v":196.5}]
[5527,"何玉凤",361206102015,154250103122,24,{"$f":"VLOOKUP(C5528,Sheet2!A:B,2,FALSE)","v":196.5}]
[5528,"廖冬妹",361206102015,154211201514,26,{"$f":"VLOOKUP(C5529,Sheet2!A:B,2,FALSE)","v":196.5}]
[5529,"杨欧",361206102015,154012203401,27,{"$f":"VLOOKUP(C5530,Sheet2!A:B,2,FALSE)","v":196.5}]
[5530,"许辉",361206102015,154012200619,25,{"$f":"VLOOKUP(C5531,Sheet2!A:B,2,FALSE)","v":196.5}]
[5531,"吴松丽",361206102015,154211203325,29,{"$f":"VLOOKUP(C5532,Sheet2!A:B,2,FALSE)","v":196.5}]
[5532,"邱开心",361206102015,154211202312,28,{"$f":"VLOOKUP(C5533,Sheet2!A:B,2,FALSE)","v":196.5}]
[5533,"邱梦",361206102015,154211203128,30,{"$f":"VLOOKUP(C5534,Sheet2!A:B,2,FALSE)","v":196.5}]
[5534,"王琳",361206103010,154210602420,1,{"$f":"VLOOKUP(C5535,Sheet2!A:B,2,FALSE)","v":177}]
[5535,"赵艳梅",361206103010,154210602110,2,{"$f":"VLOOKUP(C5536,Sheet2!A:B,2,FALSE)","v":177}]
[5536,"梁雨",361206103010,154242503515,3,{"$f":"VLOOKUP(C5537,Sheet2!A:B,2,FALSE)","v":177}]
[5537,"朱林艳",361206103010,154012500825,4,{"$f":"VLOOKUP(C5538,Sheet2!A:B,2,FALSE)","v":177}]
[5538,"周娟",361206103010,154250103416,5,{"$f":"VLOOKUP(C5539,Sheet2!A:B,2,FALSE)","v":177}]
[5539,"邱梦珍",361206103010,154210604328,6,{"$f":"VLOOKUP(C5540,Sheet2!A:B,2,FALSE)","v":177}]
[5540,"刘子怡",361206103010,154242503920,7,{"$f":"VLOOKUP(C5541,Sheet2!A:B,2,FALSE)","v":177}]
[5541,"刘雯茜",361206103010,154012502524,8,{"$f":"VLOOKUP(C5542,Sheet2!A:B,2,FALSE)","v":177}]
[5542,"王文睿",361206103010,154210603727,9,{"$f":"VLOOKUP(C5543,Sheet2!A:B,2,FALSE)","v":177}]
[5543,"季诗懿",361206103010,154060601910,11,{"$f":"VLOOKUP(C5544,Sheet2!A:B,2,FALSE)","v":177}]
[5544,"龙艳",361206103010,154242503623,10,{"$f":"VLOOKUP(C5545,Sheet2!A:B,2,FALSE)","v":177}]
[5545,"池慧婷",361206103010,154210603527,12,{"$f":"VLOOKUP(C5546,Sheet2!A:B,2,FALSE)","v":177}]
[5546,"李芸芸",361206103010,154012502420,13,{"$f":"VLOOKUP(C5547,Sheet2!A:B,2,FALSE)","v":177}]
[5547,"曹辉",361206103010,154210603508,14,{"$f":"VLOOKUP(C5548,Sheet2!A:B,2,FALSE)","v":177}]
[5548,"蔡丽霞",361206103010,154210602504,15,{"$f":"VLOOKUP(C5549,Sheet2!A:B,2,FALSE)","v":177}]
[5549,"张力云",361206103010,154242504024,16,{"$f":"VLOOKUP(C5550,Sheet2!A:B,2,FALSE)","v":177}]
[5550,"潘晓文",361206103010,154210600901,17,{"$f":"VLOOKUP(C5551,Sheet2!A:B,2,FALSE)","v":177}]
[5551,"蒙美凤",361206103010,154210601410,18,{"$f":"VLOOKUP(C5552,Sheet2!A:B,2,FALSE)","v":177}]
[5552,"刘舒逸",361206103010,154210603401,19,{"$f":"VLOOKUP(C5553,Sheet2!A:B,2,FALSE)","v":177}]
[5553,"邓清秀",361206103010,154210601905,20,{"$f":"VLOOKUP(C5554,Sheet2!A:B,2,FALSE)","v":177}]
[5554,"陈晨",361206103010,154040600407,21,{"$f":"VLOOKUP(C5555,Sheet2!A:B,2,FALSE)","v":177}]
[5555,"曾青青",361206103010,154012502416,22,{"$f":"VLOOKUP(C5556,Sheet2!A:B,2,FALSE)","v":177}]
[5556," 赖丽",361206103010,154210603318,24,{"$f":"VLOOKUP(C5557,Sheet2!A:B,2,FALSE)","v":177}]
[5557,"余俊涛",361206103010,154012502129,25,{"$f":"VLOOKUP(C5558,Sheet2!A:B,2,FALSE)","v":177}]
[5558,"王怡清",361206103010,154012502409,23,{"$f":"VLOOKUP(C5559,Sheet2!A:B,2,FALSE)","v":177}]
[5559,"黄红",361206104008,154210400114,1,{"$f":"VLOOKUP(C5560,Sheet2!A:B,2,FALSE)","v":204}]
[5560,"徐娜",361206104008,154030303403,2,{"$f":"VLOOKUP(C5561,Sheet2!A:B,2,FALSE)","v":204}]
[5561,"黄美兰",361206104008,154210303013,3,{"$f":"VLOOKUP(C5562,Sheet2!A:B,2,FALSE)","v":204}]
[5562,"赖道芳",361206104008,154210400512,4,{"$f":"VLOOKUP(C5563,Sheet2!A:B,2,FALSE)","v":204}]
[5563,"邝春燕",361206104008,154012600302,6,{"$f":"VLOOKUP(C5564,Sheet2!A:B,2,FALSE)","v":204}]
[5564,"张帆",361206104008,154210400806,5,{"$f":"VLOOKUP(C5565,Sheet2!A:B,2,FALSE)","v":204}]
[5565,"汤益群",361206104008,154242500218,7,{"$f":"VLOOKUP(C5566,Sheet2!A:B,2,FALSE)","v":204}]
[5566,"倪佳",361206104008,154012600410,8,{"$f":"VLOOKUP(C5567,Sheet2!A:B,2,FALSE)","v":204}]
[5567,"曹佐红",361206104008,154210302618,9,{"$f":"VLOOKUP(C5568,Sheet2!A:B,2,FALSE)","v":204}]
[5568,"邓含笑",361206104008,154012600511,10,{"$f":"VLOOKUP(C5569,Sheet2!A:B,2,FALSE)","v":204}]
[5569,"邹明珠",361206104008,154210400405,11,{"$f":"VLOOKUP(C5570,Sheet2!A:B,2,FALSE)","v":204}]
[5570,"唐慧",361206104008,154012600902,12,{"$f":"VLOOKUP(C5571,Sheet2!A:B,2,FALSE)","v":204}]
[5571,"袁智银",361206104008,154210400110,13,{"$f":"VLOOKUP(C5572,Sheet2!A:B,2,FALSE)","v":204}]
[5572,"郑小玉",361206104008,154242500224,14,{"$f":"VLOOKUP(C5573,Sheet2!A:B,2,FALSE)","v":204}]
[5573,"肖惠娟",361206104008,154210302629,16,{"$f":"VLOOKUP(C5574,Sheet2!A:B,2,FALSE)","v":204}]
[5574,"赖祎琳",361206104008,154210302803,15,{"$f":"VLOOKUP(C5575,Sheet2!A:B,2,FALSE)","v":204}]
[5575,"陈洁",361206104008,154210302807,18,{"$f":"VLOOKUP(C5576,Sheet2!A:B,2,FALSE)","v":204}]
[5576,"刘霞",361206104008,154012600419,17,{"$f":"VLOOKUP(C5577,Sheet2!A:B,2,FALSE)","v":204}]
[5577,"王丽君",361206104008,154012600214,19,{"$f":"VLOOKUP(C5578,Sheet2!A:B,2,FALSE)","v":204}]
[5578,"陈苏萍",361206104008,154242500318,20,{"$f":"VLOOKUP(C5579,Sheet2!A:B,2,FALSE)","v":204}]
[5579,"刘露",361206104008,154030303420,21,{"$f":"VLOOKUP(C5580,Sheet2!A:B,2,FALSE)","v":204}]
[5580,"钟小露",361206105004,154210604917,1,{"$f":"VLOOKUP(C5581,Sheet2!A:B,2,FALSE)","v":146.5}]
[5581,"廖天翔",361206105004,154210503329,2,{"$f":"VLOOKUP(C5582,Sheet2!A:B,2,FALSE)","v":146.5}]
[5582,"段丽",361206105004,154210503922,3,{"$f":"VLOOKUP(C5583,Sheet2!A:B,2,FALSE)","v":146.5}]
[5583,"胡远芳",361206105004,154210604814,4,{"$f":"VLOOKUP(C5584,Sheet2!A:B,2,FALSE)","v":146.5}]
[5584,"朱东求",361206105004,154210604712,5,{"$f":"VLOOKUP(C5585,Sheet2!A:B,2,FALSE)","v":146.5}]
[5585,"何小华",361206105004,154210503609,6,{"$f":"VLOOKUP(C5586,Sheet2!A:B,2,FALSE)","v":146.5}]
[5586,"郭惟宝",361206105004,154012601627,7,{"$f":"VLOOKUP(C5587,Sheet2!A:B,2,FALSE)","v":146.5}]
[5587,"卢意",361206105004,154242600306,8,{"$f":"VLOOKUP(C5588,Sheet2!A:B,2,FALSE)","v":146.5}]
[5588,"康志毅",361206105004,154210503708,9,{"$f":"VLOOKUP(C5589,Sheet2!A:B,2,FALSE)","v":146.5}]
[5589,"陈岩峰",361206105004,154210605121,10,{"$f":"VLOOKUP(C5590,Sheet2!A:B,2,FALSE)","v":146.5}]
[5590,"赵来聪",361206105004,154210502815,11,{"$f":"VLOOKUP(C5591,Sheet2!A:B,2,FALSE)","v":146.5}]
[5591,"谢海欣",361206105004,154210604822,12,{"$f":"VLOOKUP(C5592,Sheet2!A:B,2,FALSE)","v":146.5}]
[5592,"刘艳屏",361206106008,154211101112,1,{"$f":"VLOOKUP(C5593,Sheet2!A:B,2,FALSE)","v":154}]
[5593,"李花",361206106008,154211101119,2,{"$f":"VLOOKUP(C5594,Sheet2!A:B,2,FALSE)","v":154}]
[5594,"叶苇清",361206106008,154211101228,3,{"$f":"VLOOKUP(C5595,Sheet2!A:B,2,FALSE)","v":154}]
[5595,"钟丽珍",361206106008,154211101907,4,{"$f":"VLOOKUP(C5596,Sheet2!A:B,2,FALSE)","v":154}]
[5596,"张永",361206106008,154242600726,5,{"$f":"VLOOKUP(C5597,Sheet2!A:B,2,FALSE)","v":154}]
[5597,"邱婷",361206106008,154211101601,6,{"$f":"VLOOKUP(C5598,Sheet2!A:B,2,FALSE)","v":154}]
[5598,"林荣镇",361206106008,154211102722,7,{"$f":"VLOOKUP(C5599,Sheet2!A:B,2,FALSE)","v":154}]
[5599,"刘微",361206106008,154211101302,8,{"$f":"VLOOKUP(C5600,Sheet2!A:B,2,FALSE)","v":154}]
[5600,"罗宇",361206106008,154012603312,9,{"$f":"VLOOKUP(C5601,Sheet2!A:B,2,FALSE)","v":154}]
[5601,"谢艳芳",361206106008,154211102614,10,{"$f":"VLOOKUP(C5602,Sheet2!A:B,2,FALSE)","v":154}]
[5602,"黄银艳",361206106008,154211100921,13,{"$f":"VLOOKUP(C5603,Sheet2!A:B,2,FALSE)","v":154}]
[5603,"陈珂",361206106008,154211100319,11,{"$f":"VLOOKUP(C5604,Sheet2!A:B,2,FALSE)","v":154}]
[5604,"陈圳龙",361206106008,154211102616,12,{"$f":"VLOOKUP(C5605,Sheet2!A:B,2,FALSE)","v":154}]
[5605,"邬思怡",361206106008,154211100713,14,{"$f":"VLOOKUP(C5606,Sheet2!A:B,2,FALSE)","v":154}]
[5606,"罗文鹃",361206106008,154012602507,15,{"$f":"VLOOKUP(C5607,Sheet2!A:B,2,FALSE)","v":154}]
[5607,"廖金美",361206106008,154211101610,16,{"$f":"VLOOKUP(C5608,Sheet2!A:B,2,FALSE)","v":154}]
[5608,"刘萍萍",361206106008,154211100805,17,{"$f":"VLOOKUP(C5609,Sheet2!A:B,2,FALSE)","v":154}]
[5609,"周子悦",361206106008,154211101002,18,{"$f":"VLOOKUP(C5610,Sheet2!A:B,2,FALSE)","v":154}]
[5610,"邹甜甜",361206106008,154211100722,19,{"$f":"VLOOKUP(C5611,Sheet2!A:B,2,FALSE)","v":154}]
[5611,"杜小燕",361206106008,154211102625,20,{"$f":"VLOOKUP(C5612,Sheet2!A:B,2,FALSE)","v":154}]
[5612,"周霏",361206107008,154242500814,1,{"$f":"VLOOKUP(C5613,Sheet2!A:B,2,FALSE)","v":137}]
[5613,"何玥琪",361206107008,154012502826,2,{"$f":"VLOOKUP(C5614,Sheet2!A:B,2,FALSE)","v":137}]
[5614,"崔嘉艺",361206107008,154210300919,3,{"$f":"VLOOKUP(C5615,Sheet2!A:B,2,FALSE)","v":137}]
[5615,"顾语欣",361206107008,154210300912,4,{"$f":"VLOOKUP(C5616,Sheet2!A:B,2,FALSE)","v":137}]
[5616,"朱晓青",361206107008,154210300308,5,{"$f":"VLOOKUP(C5617,Sheet2!A:B,2,FALSE)","v":137}]
[5617,"彭钰佳",361206107008,154210301209,6,{"$f":"VLOOKUP(C5618,Sheet2!A:B,2,FALSE)","v":137}]
[5618,"王秋凤",361206107008,154012404110,7,{"$f":"VLOOKUP(C5619,Sheet2!A:B,2,FALSE)","v":137}]
[5619,"袁进",361206107008,154210300202,8,{"$f":"VLOOKUP(C5620,Sheet2!A:B,2,FALSE)","v":137}]
[5620,"毛腾涵",361206107008,154210300124,9,{"$f":"VLOOKUP(C5621,Sheet2!A:B,2,FALSE)","v":137}]
[5621,"郑双佳",361206107008,154210301103,10,{"$f":"VLOOKUP(C5622,Sheet2!A:B,2,FALSE)","v":137}]
[5622,"陈玉亭",361206107008,154210300320,11,{"$f":"VLOOKUP(C5623,Sheet2!A:B,2,FALSE)","v":137}]
[5623,"曾苗",361206107008,154242500721,12,{"$f":"VLOOKUP(C5624,Sheet2!A:B,2,FALSE)","v":137}]
[5624,"赖金霞",361206107008,154210300613,13,{"$f":"VLOOKUP(C5625,Sheet2!A:B,2,FALSE)","v":137}]
[5625,"聂小祥",361206107008,154210301405,14,{"$f":"VLOOKUP(C5626,Sheet2!A:B,2,FALSE)","v":137}]
[5626,"陈紫怡",361206107008,154242500923,15,{"$f":"VLOOKUP(C5627,Sheet2!A:B,2,FALSE)","v":137}]
[5627,"陈坤秀",361206107008,154210301006,16,{"$f":"VLOOKUP(C5628,Sheet2!A:B,2,FALSE)","v":137}]
[5628,"马金花",361206107008,154210300715,17,{"$f":"VLOOKUP(C5629,Sheet2!A:B,2,FALSE)","v":137}]
[5629,"黄子琪",361206107008,154242500829,18,{"$f":"VLOOKUP(C5630,Sheet2!A:B,2,FALSE)","v":137}]
[5630,"赵祥",361206107008,154210300806,19,{"$f":"VLOOKUP(C5631,Sheet2!A:B,2,FALSE)","v":137}]
[5631,"康丽珍",361206107008,154242501014,20,{"$f":"VLOOKUP(C5632,Sheet2!A:B,2,FALSE)","v":137}]
[5632,"刘美玲",361206113002,154210800202,1,{"$f":"VLOOKUP(C5633,Sheet2!A:B,2,FALSE)","v":154}]
[5633,"王祺",361206113002,154210800511,2,{"$f":"VLOOKUP(C5634,Sheet2!A:B,2,FALSE)","v":154}]
[5634,"罗玲",361206113002,154210800329,3,{"$f":"VLOOKUP(C5635,Sheet2!A:B,2,FALSE)","v":154}]
[5635,"黄康宁",361206113002,154040601502,4,{"$f":"VLOOKUP(C5636,Sheet2!A:B,2,FALSE)","v":154}]
[5636,"张燕露",361206113002,154210800115,5,{"$f":"VLOOKUP(C5637,Sheet2!A:B,2,FALSE)","v":154}]
[5637,"严芳",361206113002,154210800118,6,{"$f":"VLOOKUP(C5638,Sheet2!A:B,2,FALSE)","v":154}]
[5638,"蓝菲菲",361206115008,154012404829,1,{"$f":"VLOOKUP(C5639,Sheet2!A:B,2,FALSE)","v":198}]
[5639,"雷蕾",361206115008,154012404822,2,{"$f":"VLOOKUP(C5640,Sheet2!A:B,2,FALSE)","v":198}]
[5640,"钟冬英",361206115008,154211103209,3,{"$f":"VLOOKUP(C5641,Sheet2!A:B,2,FALSE)","v":198}]
[5641,"罗东",361206115008,154211103305,4,{"$f":"VLOOKUP(C5642,Sheet2!A:B,2,FALSE)","v":198}]
[5642,"曾干兰",361206115008,154211103310,5,{"$f":"VLOOKUP(C5643,Sheet2!A:B,2,FALSE)","v":198}]
[5643,"张粤华",361206115008,154250105015,6,{"$f":"VLOOKUP(C5644,Sheet2!A:B,2,FALSE)","v":198}]
[5644,"刘锦平",361206115008,154012404712,7,{"$f":"VLOOKUP(C5645,Sheet2!A:B,2,FALSE)","v":198}]
[5645,"陈中梅",361206115008,154012404815,8,{"$f":"VLOOKUP(C5646,Sheet2!A:B,2,FALSE)","v":198}]
[5646,"许天凤",361206115008,154211103506,9,{"$f":"VLOOKUP(C5647,Sheet2!A:B,2,FALSE)","v":198}]
[5647,"刘香君",361206115008,154012404816,10,{"$f":"VLOOKUP(C5648,Sheet2!A:B,2,FALSE)","v":198}]
[5648,"刘杨慧",361206115008,154040802604,12,{"$f":"VLOOKUP(C5649,Sheet2!A:B,2,FALSE)","v":198}]
[5649,"罗敏红",361206115008,154221404015,11,{"$f":"VLOOKUP(C5650,Sheet2!A:B,2,FALSE)","v":198}]
[5650,"陈金晶",361206115008,154242403015,13,{"$f":"VLOOKUP(C5651,Sheet2!A:B,2,FALSE)","v":198}]
[5651,"董悦",361206115008,154211103307,14,{"$f":"VLOOKUP(C5652,Sheet2!A:B,2,FALSE)","v":198}]
[5652,"钟丽丽",361206115008,154242403017,16,{"$f":"VLOOKUP(C5653,Sheet2!A:B,2,FALSE)","v":198}]
[5653,"朱秋红",361206115008,154211103428,17,{"$f":"VLOOKUP(C5654,Sheet2!A:B,2,FALSE)","v":198}]
[5654,"刘玲",361206115008,154040802607,15,{"$f":"VLOOKUP(C5655,Sheet2!A:B,2,FALSE)","v":198}]
[5655,"黄贝贝",361206115008,154250105004,18,{"$f":"VLOOKUP(C5656,Sheet2!A:B,2,FALSE)","v":198}]
[5656,"赖清",361206115008,154211103201,19,{"$f":"VLOOKUP(C5657,Sheet2!A:B,2,FALSE)","v":198}]
[5657,"黄幸琼",361206115008,154221404016,20,{"$f":"VLOOKUP(C5658,Sheet2!A:B,2,FALSE)","v":198}]
[5658,"郑玉风",361206116002,154210302111,1,{"$f":"VLOOKUP(C5659,Sheet2!A:B,2,FALSE)","v":175}]
[5659,"吴声发",361206116002,154012405004,2,{"$f":"VLOOKUP(C5660,Sheet2!A:B,2,FALSE)","v":175}]
[5660,"邱悦",361206116002,154210301707,3,{"$f":"VLOOKUP(C5661,Sheet2!A:B,2,FALSE)","v":175}]
[5661,"严冰冰",361206116002,154210301716,4,{"$f":"VLOOKUP(C5662,Sheet2!A:B,2,FALSE)","v":175}]
[5662,"赖月",361206116002,154012405021,5,{"$f":"VLOOKUP(C5663,Sheet2!A:B,2,FALSE)","v":175}]
[5663,"刘小梅",361206116002,154210302421,6,{"$f":"VLOOKUP(C5664,Sheet2!A:B,2,FALSE)","v":175}]
[5664,"邱慧慧",361206201015,154012700613,1,{"$f":"VLOOKUP(C5665,Sheet2!A:B,2,FALSE)","v":153}]
[5665,"夏洁",361206201015,154012701323,2,{"$f":"VLOOKUP(C5666,Sheet2!A:B,2,FALSE)","v":153}]
[5666,"林嘉欣",361206201015,154210902930,3,{"$f":"VLOOKUP(C5667,Sheet2!A:B,2,FALSE)","v":153}]
[5667,"何春萍",361206201015,154242601721,4,{"$f":"VLOOKUP(C5668,Sheet2!A:B,2,FALSE)","v":153}]
[5668,"丁美琪",361206201015,154012701015,5,{"$f":"VLOOKUP(C5669,Sheet2!A:B,2,FALSE)","v":153}]
[5669,"李娅玲",361206201015,154210901309,6,{"$f":"VLOOKUP(C5670,Sheet2!A:B,2,FALSE)","v":153}]
[5670,"颜慧",361206201015,154242601705,7,{"$f":"VLOOKUP(C5671,Sheet2!A:B,2,FALSE)","v":153}]
[5671,"陈玉萍",361206201015,154012701317,9,{"$f":"VLOOKUP(C5672,Sheet2!A:B,2,FALSE)","v":153}]
[5672,"张兰萍",361206201015,154210903018,8,{"$f":"VLOOKUP(C5673,Sheet2!A:B,2,FALSE)","v":153}]
[5673,"江敏",361206201015,154210903005,10,{"$f":"VLOOKUP(C5674,Sheet2!A:B,2,FALSE)","v":153}]
[5674,"彭子璎",361206201015,154210902607,11,{"$f":"VLOOKUP(C5675,Sheet2!A:B,2,FALSE)","v":153}]
[5675,"陈海清",361206201015,154242602022,12,{"$f":"VLOOKUP(C5676,Sheet2!A:B,2,FALSE)","v":153}]
[5676,"李珍",361206201015,154210901630,13,{"$f":"VLOOKUP(C5677,Sheet2!A:B,2,FALSE)","v":153}]
[5677,"温小波",361206201015,154210900808,14,{"$f":"VLOOKUP(C5678,Sheet2!A:B,2,FALSE)","v":153}]
[5678,"郭玲玲",361206201015,154210902717,15,{"$f":"VLOOKUP(C5679,Sheet2!A:B,2,FALSE)","v":153}]
[5679,"邱娜",361206201015,154040602111,17,{"$f":"VLOOKUP(C5680,Sheet2!A:B,2,FALSE)","v":153}]
[5680,"朱倩",361206201015,154210902720,16,{"$f":"VLOOKUP(C5681,Sheet2!A:B,2,FALSE)","v":153}]
[5681,"王婷婷",361206201015,154210902409,18,{"$f":"VLOOKUP(C5682,Sheet2!A:B,2,FALSE)","v":153}]
[5682,"罗明华",361206201015,154242601211,19,{"$f":"VLOOKUP(C5683,Sheet2!A:B,2,FALSE)","v":153}]
[5683,"王红",361206201015,154210901110,20,{"$f":"VLOOKUP(C5684,Sheet2!A:B,2,FALSE)","v":153}]
[5684,"黄玉群",361206201015,154210902410,21,{"$f":"VLOOKUP(C5685,Sheet2!A:B,2,FALSE)","v":153}]
[5685,"朱莉",361206201015,154210902614,22,{"$f":"VLOOKUP(C5686,Sheet2!A:B,2,FALSE)","v":153}]
[5686,"黄飞凤",361206201015,154210902508,23,{"$f":"VLOOKUP(C5687,Sheet2!A:B,2,FALSE)","v":153}]
[5687,"张玉玲",361206201015,154210902103,24,{"$f":"VLOOKUP(C5688,Sheet2!A:B,2,FALSE)","v":153}]
[5688,"黎健",361206201015,154210901020,26,{"$f":"VLOOKUP(C5689,Sheet2!A:B,2,FALSE)","v":153}]
[5689,"曾芳方",361206201015,154210900602,27,{"$f":"VLOOKUP(C5690,Sheet2!A:B,2,FALSE)","v":153}]
[5690,"吕园园",361206201015,154210902810,25,{"$f":"VLOOKUP(C5691,Sheet2!A:B,2,FALSE)","v":153}]
[5691,"刘婷",361206201015,154221404806,28,{"$f":"VLOOKUP(C5692,Sheet2!A:B,2,FALSE)","v":153}]
[5692,"彭玉立",361206201015,154012700717,29,{"$f":"VLOOKUP(C5693,Sheet2!A:B,2,FALSE)","v":153}]
[5693,"袁玲",361206201015,154210900610,30,{"$f":"VLOOKUP(C5694,Sheet2!A:B,2,FALSE)","v":153}]
[5694,"赖其斌",361206202015,154210201817,1,{"$f":"VLOOKUP(C5695,Sheet2!A:B,2,FALSE)","v":170.5}]
[5695,"刘雨希",361206202015,154210200829,2,{"$f":"VLOOKUP(C5696,Sheet2!A:B,2,FALSE)","v":170.5}]
[5696,"王钰琪",361206202015,154012906906,4,{"$f":"VLOOKUP(C5697,Sheet2!A:B,2,FALSE)","v":170.5}]
[5697,"董淑瑛",361206202015,154231501027,3,{"$f":"VLOOKUP(C5698,Sheet2!A:B,2,FALSE)","v":170.5}]
[5698,"邵飞凡",361206202015,154012906723,5,{"$f":"VLOOKUP(C5699,Sheet2!A:B,2,FALSE)","v":170.5}]
[5699,"陈秋香",361206202015,154210201928,6,{"$f":"VLOOKUP(C5700,Sheet2!A:B,2,FALSE)","v":170.5}]
[5700,"刘峰",361206202015,154210201609,7,{"$f":"VLOOKUP(C5701,Sheet2!A:B,2,FALSE)","v":170.5}]
[5701,"袁凤",361206202015,154210200907,8,{"$f":"VLOOKUP(C5702,Sheet2!A:B,2,FALSE)","v":170.5}]
[5702,"高欢",361206202015,154012906109,9,{"$f":"VLOOKUP(C5703,Sheet2!A:B,2,FALSE)","v":170.5}]
[5703,"王裕华",361206202015,154242702719,10,{"$f":"VLOOKUP(C5704,Sheet2!A:B,2,FALSE)","v":170.5}]
[5704,"袁冬英",361206202015,154210201611,11,{"$f":"VLOOKUP(C5705,Sheet2!A:B,2,FALSE)","v":170.5}]
[5705,"方观香",361206202015,154210201521,12,{"$f":"VLOOKUP(C5706,Sheet2!A:B,2,FALSE)","v":170.5}]
[5706,"蒙明明",361206202015,154210201728,13,{"$f":"VLOOKUP(C5707,Sheet2!A:B,2,FALSE)","v":170.5}]
[5707,"吴爱萍",361206202015,154242703209,14,{"$f":"VLOOKUP(C5708,Sheet2!A:B,2,FALSE)","v":170.5}]
[5708,"彭纪林",361206202015,154210200519,15,{"$f":"VLOOKUP(C5709,Sheet2!A:B,2,FALSE)","v":170.5}]
[5709,"谌桂玲",361206202015,154210201127,16,{"$f":"VLOOKUP(C5710,Sheet2!A:B,2,FALSE)","v":170.5}]
[5710,"赖玉",361206202015,154210201009,17,{"$f":"VLOOKUP(C5711,Sheet2!A:B,2,FALSE)","v":170.5}]
[5711,"杜小燕",361206202015,154210201613,18,{"$f":"VLOOKUP(C5712,Sheet2!A:B,2,FALSE)","v":170.5}]
[5712,"郑云娇",361206202015,154210201827,19,{"$f":"VLOOKUP(C5713,Sheet2!A:B,2,FALSE)","v":170.5}]
[5713,"郭萃茜",361206202015,154210201811,20,{"$f":"VLOOKUP(C5714,Sheet2!A:B,2,FALSE)","v":170.5}]
[5714,"冷盈盈",361206202015,154040803316,21,{"$f":"VLOOKUP(C5715,Sheet2!A:B,2,FALSE)","v":170.5}]
[5715,"郭露",361206202015,154210200428,22,{"$f":"VLOOKUP(C5716,Sheet2!A:B,2,FALSE)","v":170.5}]
[5716,"郑丽萍",361206202015,154210201424,23,{"$f":"VLOOKUP(C5717,Sheet2!A:B,2,FALSE)","v":170.5}]
[5717,"钟鑫",361206202015,154210200409,24,{"$f":"VLOOKUP(C5718,Sheet2!A:B,2,FALSE)","v":170.5}]
[5718,"邓利莎",361206202015,154231500803,25,{"$f":"VLOOKUP(C5719,Sheet2!A:B,2,FALSE)","v":170.5}]
[5719,"余海威",361206202015,154040803025,26,{"$f":"VLOOKUP(C5720,Sheet2!A:B,2,FALSE)","v":170.5}]
[5720,"郭敏",361206202015,154242702804,27,{"$f":"VLOOKUP(C5721,Sheet2!A:B,2,FALSE)","v":170.5}]
[5721,"何水香",361206202015,154210201719,28,{"$f":"VLOOKUP(C5722,Sheet2!A:B,2,FALSE)","v":170.5}]
[5722,"张丽丽",361206202015,154210200111,30,{"$f":"VLOOKUP(C5723,Sheet2!A:B,2,FALSE)","v":170.5}]
[5723,"赖敏",361206202015,154210201411,29,{"$f":"VLOOKUP(C5724,Sheet2!A:B,2,FALSE)","v":170.5}]
[5724,"徐玮伯",361206203015,154030305705,1,{"$f":"VLOOKUP(C5725,Sheet2!A:B,2,FALSE)","v":177.5}]
[5725,"朱中妹",361206203015,154210700302,2,{"$f":"VLOOKUP(C5726,Sheet2!A:B,2,FALSE)","v":177.5}]
[5726,"严丽",361206203015,154210703825,4,{"$f":"VLOOKUP(C5727,Sheet2!A:B,2,FALSE)","v":177.5}]
[5727,"卢微",361206203015,154210700411,3,{"$f":"VLOOKUP(C5728,Sheet2!A:B,2,FALSE)","v":177.5}]
[5728,"钱文青",361206203015,154221405621,5,{"$f":"VLOOKUP(C5729,Sheet2!A:B,2,FALSE)","v":177.5}]
[5729,"兰乐云",361206203015,154012907615,6,{"$f":"VLOOKUP(C5730,Sheet2!A:B,2,FALSE)","v":177.5}]
[5730,"王姝敏",361206203015,154210701607,7,{"$f":"VLOOKUP(C5731,Sheet2!A:B,2,FALSE)","v":177.5}]
[5731,"刘雅",361206203015,154210701529,8,{"$f":"VLOOKUP(C5732,Sheet2!A:B,2,FALSE)","v":177.5}]
[5732,"王娟",361206203015,154012805702,9,{"$f":"VLOOKUP(C5733,Sheet2!A:B,2,FALSE)","v":177.5}]
[5733,"郭俊玲",361206203015,154210701613,10,{"$f":"VLOOKUP(C5734,Sheet2!A:B,2,FALSE)","v":177.5}]
[5734,"黄华康",361206203015,154210702117,11,{"$f":"VLOOKUP(C5735,Sheet2!A:B,2,FALSE)","v":177.5}]
[5735,"郭淑萍",361206203015,154210701023,12,{"$f":"VLOOKUP(C5736,Sheet2!A:B,2,FALSE)","v":177.5}]
[5736,"李坤",361206203015,154012805707,13,{"$f":"VLOOKUP(C5737,Sheet2!A:B,2,FALSE)","v":177.5}]
[5737,"廖慧芳",361206203015,154210700707,14,{"$f":"VLOOKUP(C5738,Sheet2!A:B,2,FALSE)","v":177.5}]
[5738,"黄晶晶",361206203015,154210702830,15,{"$f":"VLOOKUP(C5739,Sheet2!A:B,2,FALSE)","v":177.5}]
[5739,"邹霞",361206203015,154242502523,16,{"$f":"VLOOKUP(C5740,Sheet2!A:B,2,FALSE)","v":177.5}]
[5740,"张员员",361206203015,154210703206,17,{"$f":"VLOOKUP(C5741,Sheet2!A:B,2,FALSE)","v":177.5}]
[5741,"汤永红",361206203015,154210700716,18,{"$f":"VLOOKUP(C5742,Sheet2!A:B,2,FALSE)","v":177.5}]
[5742,"郑倩琴",361206203015,154012806023,19,{"$f":"VLOOKUP(C5743,Sheet2!A:B,2,FALSE)","v":177.5}]
[5743,"刘华丽",361206203015,154210701911,21,{"$f":"VLOOKUP(C5744,Sheet2!A:B,2,FALSE)","v":177.5}]
[5744,"钟婷",361206203015,154210702725,20,{"$f":"VLOOKUP(C5745,Sheet2!A:B,2,FALSE)","v":177.5}]
[5745,"王莹",361206203015,154231501902,22,{"$f":"VLOOKUP(C5746,Sheet2!A:B,2,FALSE)","v":177.5}]
[5746,"王瑛",361206203015,154012805921,24,{"$f":"VLOOKUP(C5747,Sheet2!A:B,2,FALSE)","v":177.5}]
[5747,"张妍",361206203015,154210701930,23,{"$f":"VLOOKUP(C5748,Sheet2!A:B,2,FALSE)","v":177.5}]
[5748,"洪玥",361206203015,154210703302,25,{"$f":"VLOOKUP(C5749,Sheet2!A:B,2,FALSE)","v":177.5}]
[5749,"吕善博",361206203015,154040602205,26,{"$f":"VLOOKUP(C5750,Sheet2!A:B,2,FALSE)","v":177.5}]
[5750,"卓芬",361206203015,154210700214,27,{"$f":"VLOOKUP(C5751,Sheet2!A:B,2,FALSE)","v":177.5}]
[5751,"王思",361206203015,154242501817,28,{"$f":"VLOOKUP(C5752,Sheet2!A:B,2,FALSE)","v":177.5}]
[5752,"黄小康",361206203015,154210701803,29,{"$f":"VLOOKUP(C5753,Sheet2!A:B,2,FALSE)","v":177.5}]
[5753,"张燕",361206203015,154210702412,31,{"$f":"VLOOKUP(C5754,Sheet2!A:B,2,FALSE)","v":177.5}]
[5754,"张晨",361206203015,154210702419,30,{"$f":"VLOOKUP(C5755,Sheet2!A:B,2,FALSE)","v":177.5}]
[5755,"张才虹",361206204010,154210202207,1,{"$f":"VLOOKUP(C5756,Sheet2!A:B,2,FALSE)","v":166.5}]
[5756,"邓娟",361206204010,154210202527,2,{"$f":"VLOOKUP(C5757,Sheet2!A:B,2,FALSE)","v":166.5}]
[5757,"李枝芬",361206204010,154210202602,3,{"$f":"VLOOKUP(C5758,Sheet2!A:B,2,FALSE)","v":166.5}]
[5758,"何允香",361206204010,154210202622,4,{"$f":"VLOOKUP(C5759,Sheet2!A:B,2,FALSE)","v":166.5}]
[5759,"郭燕",361206204010,154012908807,5,{"$f":"VLOOKUP(C5760,Sheet2!A:B,2,FALSE)","v":166.5}]
[5760,"温世兰",361206204010,154210203009,6,{"$f":"VLOOKUP(C5761,Sheet2!A:B,2,FALSE)","v":166.5}]
[5761,"黎清",361206204010,154210202712,7,{"$f":"VLOOKUP(C5762,Sheet2!A:B,2,FALSE)","v":166.5}]
[5762,"仲玉玲",361206204010,154210202311,8,{"$f":"VLOOKUP(C5763,Sheet2!A:B,2,FALSE)","v":166.5}]
[5763,"黄玉梅",361206204010,154210202017,9,{"$f":"VLOOKUP(C5764,Sheet2!A:B,2,FALSE)","v":166.5}]
[5764,"张小慧",361206204010,154210202601,10,{"$f":"VLOOKUP(C5765,Sheet2!A:B,2,FALSE)","v":166.5}]
[5765,"杨晨晨",361206204010,154210203029,11,{"$f":"VLOOKUP(C5766,Sheet2!A:B,2,FALSE)","v":166.5}]
[5766,"彭娟",361206204010,154012909026,12,{"$f":"VLOOKUP(C5767,Sheet2!A:B,2,FALSE)","v":166.5}]
[5767,"曾纤",361206204010,154210202514,13,{"$f":"VLOOKUP(C5768,Sheet2!A:B,2,FALSE)","v":166.5}]
[5768,"罗兰",361206204010,154210202711,14,{"$f":"VLOOKUP(C5769,Sheet2!A:B,2,FALSE)","v":166.5}]
[5769,"王晶",361206204010,154210202225,15,{"$f":"VLOOKUP(C5770,Sheet2!A:B,2,FALSE)","v":166.5}]
[5770,"袁国平",361206204010,154210202425,16,{"$f":"VLOOKUP(C5771,Sheet2!A:B,2,FALSE)","v":166.5}]
[5771,"袁萍",361206204010,154210202709,17,{"$f":"VLOOKUP(C5772,Sheet2!A:B,2,FALSE)","v":166.5}]
[5772,"蔡章福",361206204010,154210202812,18,{"$f":"VLOOKUP(C5773,Sheet2!A:B,2,FALSE)","v":166.5}]
[5773,"金玉",361206204010,154210202003,19,{"$f":"VLOOKUP(C5774,Sheet2!A:B,2,FALSE)","v":166.5}]
[5774,"何美丽",361206204010,154012405518,20,{"$f":"VLOOKUP(C5775,Sheet2!A:B,2,FALSE)","v":166.5}]
[5775,"王芳",361206204010,154210202515,21,{"$f":"VLOOKUP(C5776,Sheet2!A:B,2,FALSE)","v":166.5}]
[5776,"邱贻凤",361206204010,154210202609,22,{"$f":"VLOOKUP(C5777,Sheet2!A:B,2,FALSE)","v":166.5}]
[5777,"周水萍",361206204010,154210202327,23,{"$f":"VLOOKUP(C5778,Sheet2!A:B,2,FALSE)","v":166.5}]
[5778,"刘姝祺",361206204010,154210202302,24,{"$f":"VLOOKUP(C5779,Sheet2!A:B,2,FALSE)","v":166.5}]
[5779,"邱云鹏",361206204010,154210202903,25,{"$f":"VLOOKUP(C5780,Sheet2!A:B,2,FALSE)","v":166.5}]
[5780,"严惠芳",361206206005,154210501428,2,{"$f":"VLOOKUP(C5781,Sheet2!A:B,2,FALSE)","v":170.5}]
[5781,"钟玲",361206206005,154210500128,1,{"$f":"VLOOKUP(C5782,Sheet2!A:B,2,FALSE)","v":170.5}]
[5782,"刘子杨",361206206005,154210501930,3,{"$f":"VLOOKUP(C5783,Sheet2!A:B,2,FALSE)","v":170.5}]
[5783,"卢红园",361206206005,154210502223,4,{"$f":"VLOOKUP(C5784,Sheet2!A:B,2,FALSE)","v":170.5}]
[5784,"刘煜",361206206005,154210501223,5,{"$f":"VLOOKUP(C5785,Sheet2!A:B,2,FALSE)","v":170.5}]
[5785,"钟雨尘",361206206005,154210500125,6,{"$f":"VLOOKUP(C5786,Sheet2!A:B,2,FALSE)","v":170.5}]
[5786,"黎菁菁",361206206005,154012701727,7,{"$f":"VLOOKUP(C5787,Sheet2!A:B,2,FALSE)","v":170.5}]
[5787,"郭凌青",361206206005,154210501513,9,{"$f":"VLOOKUP(C5788,Sheet2!A:B,2,FALSE)","v":170.5}]
[5788,"邝悦",361206206005,154210501604,8,{"$f":"VLOOKUP(C5789,Sheet2!A:B,2,FALSE)","v":170.5}]
[5789,"陈晓璐",361206206005,154210502017,10,{"$f":"VLOOKUP(C5790,Sheet2!A:B,2,FALSE)","v":170.5}]
[5790," 唐浩州",361206206005,154210500210,11,{"$f":"VLOOKUP(C5791,Sheet2!A:B,2,FALSE)","v":170.5}]
[5791,"谢玉婷",361206206005,154210500702,12,{"$f":"VLOOKUP(C5792,Sheet2!A:B,2,FALSE)","v":170.5}]
[5792,"钟明龙",361206206005,154210500601,13,{"$f":"VLOOKUP(C5793,Sheet2!A:B,2,FALSE)","v":170.5}]
[5793,"邓爱珍",361206206005,154210501819,14,{"$f":"VLOOKUP(C5794,Sheet2!A:B,2,FALSE)","v":170.5}]
[5794,"刘嘉玲",361206206005,154012702211,15,{"$f":"VLOOKUP(C5795,Sheet2!A:B,2,FALSE)","v":170.5}]
[5795,"朱丽颖",361206207005,154210401621,1,{"$f":"VLOOKUP(C5796,Sheet2!A:B,2,FALSE)","v":138}]
[5796,"赵唯伊",361206207005,154210401224,2,{"$f":"VLOOKUP(C5797,Sheet2!A:B,2,FALSE)","v":138}]
[5797,"黄叶珍",361206207005,154210402011,3,{"$f":"VLOOKUP(C5798,Sheet2!A:B,2,FALSE)","v":138}]
[5798,"吴玉林",361206207005,154210401126,4,{"$f":"VLOOKUP(C5799,Sheet2!A:B,2,FALSE)","v":138}]
[5799,"衷秀秀",361206207005,154210401502,5,{"$f":"VLOOKUP(C5800,Sheet2!A:B,2,FALSE)","v":138}]
[5800,"吕菁",361206207005,154210402213,6,{"$f":"VLOOKUP(C5801,Sheet2!A:B,2,FALSE)","v":138}]
[5801,"罗礼涛",361206207005,154210401216,7,{"$f":"VLOOKUP(C5802,Sheet2!A:B,2,FALSE)","v":138}]
[5802,"邹乐",361206207005,154210401226,8,{"$f":"VLOOKUP(C5803,Sheet2!A:B,2,FALSE)","v":138}]
[5803,"吴萍",361206207005,154210401405,9,{"$f":"VLOOKUP(C5804,Sheet2!A:B,2,FALSE)","v":138}]
[5804,"仉志云",361206207005,154210401810,10,{"$f":"VLOOKUP(C5805,Sheet2!A:B,2,FALSE)","v":138}]
[5805,"郑佳慧",361206207005,154210401321,11,{"$f":"VLOOKUP(C5806,Sheet2!A:B,2,FALSE)","v":138}]
[5806,"刘秋林",361206207005,154210401110,12,{"$f":"VLOOKUP(C5807,Sheet2!A:B,2,FALSE)","v":138}]
[5807,"李雨晴",361206207005,154210402318,13,{"$f":"VLOOKUP(C5808,Sheet2!A:B,2,FALSE)","v":138}]
[5808,"吴培培",361206207005,154210401816,14,{"$f":"VLOOKUP(C5809,Sheet2!A:B,2,FALSE)","v":138}]
[5809,"李红",361206207005,154210401417,15,{"$f":"VLOOKUP(C5810,Sheet2!A:B,2,FALSE)","v":138}]
[5810,"李紫娟",361206207005,154210402108,16,{"$f":"VLOOKUP(C5811,Sheet2!A:B,2,FALSE)","v":138}]
[5811,"林忆真",361206208006,154231504512,1,{"$f":"VLOOKUP(C5812,Sheet2!A:B,2,FALSE)","v":150}]
[5812,"邬娇华",361206208006,154210303709,2,{"$f":"VLOOKUP(C5813,Sheet2!A:B,2,FALSE)","v":150}]
[5813,"池文星",361206208006,154210303520,3,{"$f":"VLOOKUP(C5814,Sheet2!A:B,2,FALSE)","v":150}]
[5814,"王华瑾",361206208006,154210303104,4,{"$f":"VLOOKUP(C5815,Sheet2!A:B,2,FALSE)","v":150}]
[5815,"胡玉红",361206208006,154210303603,5,{"$f":"VLOOKUP(C5816,Sheet2!A:B,2,FALSE)","v":150}]
[5816,"刘雨",361206208006,154210303508,6,{"$f":"VLOOKUP(C5817,Sheet2!A:B,2,FALSE)","v":150}]
[5817,"杜雅玲",361206208006,154210303524,7,{"$f":"VLOOKUP(C5818,Sheet2!A:B,2,FALSE)","v":150}]
[5818,"王飞",361206208006,154210303705,8,{"$f":"VLOOKUP(C5819,Sheet2!A:B,2,FALSE)","v":150}]
[5819,"朱秀霞",361206208006,154210303125,9,{"$f":"VLOOKUP(C5820,Sheet2!A:B,2,FALSE)","v":150}]
[5820,"唐冬苹",361206208006,154210303607,10,{"$f":"VLOOKUP(C5821,Sheet2!A:B,2,FALSE)","v":150}]
[5821,"袁静",361206208006,154210303312,11,{"$f":"VLOOKUP(C5822,Sheet2!A:B,2,FALSE)","v":150}]
[5822,"王竟",361206208006,154210303324,12,{"$f":"VLOOKUP(C5823,Sheet2!A:B,2,FALSE)","v":150}]
[5823,"张飞",361206208006,154210303729,13,{"$f":"VLOOKUP(C5824,Sheet2!A:B,2,FALSE)","v":150}]
[5824,"郭浩",361206208006,154210303513,14,{"$f":"VLOOKUP(C5825,Sheet2!A:B,2,FALSE)","v":150}]
[5825,"廖水长",361206208006,154210303320,15,{"$f":"VLOOKUP(C5826,Sheet2!A:B,2,FALSE)","v":150}]
[5826,"张秋禧",361206209006,154210402805,1,{"$f":"VLOOKUP(C5827,Sheet2!A:B,2,FALSE)","v":179.5}]
[5827,"张荣康",361206209006,154012406930,2,{"$f":"VLOOKUP(C5828,Sheet2!A:B,2,FALSE)","v":179.5}]
[5828,"张玮",361206209006,154210403112,3,{"$f":"VLOOKUP(C5829,Sheet2!A:B,2,FALSE)","v":179.5}]
[5829,"巫殷鸿",361206209006,154012406813,5,{"$f":"VLOOKUP(C5830,Sheet2!A:B,2,FALSE)","v":179.5}]
[5830,"邱丽华",361206209006,154210403006,4,{"$f":"VLOOKUP(C5831,Sheet2!A:B,2,FALSE)","v":179.5}]
[5831,"李兰兰",361206209006,154210402730,6,{"$f":"VLOOKUP(C5832,Sheet2!A:B,2,FALSE)","v":179.5}]
[5832,"王洁",361206209006,154210403004,7,{"$f":"VLOOKUP(C5833,Sheet2!A:B,2,FALSE)","v":179.5}]
[5833,"朱洪艳",361206209006,154210402802,8,{"$f":"VLOOKUP(C5834,Sheet2!A:B,2,FALSE)","v":179.5}]
[5834,"张宁宁",361206209006,154210402529,9,{"$f":"VLOOKUP(C5835,Sheet2!A:B,2,FALSE)","v":179.5}]
[5835,"王文豪",361206209006,154210403022,10,{"$f":"VLOOKUP(C5836,Sheet2!A:B,2,FALSE)","v":179.5}]
[5836,"李元亲",361206209006,154040803513,11,{"$f":"VLOOKUP(C5837,Sheet2!A:B,2,FALSE)","v":179.5}]
[5837,"王钰青",361206209006,154210402506,12,{"$f":"VLOOKUP(C5838,Sheet2!A:B,2,FALSE)","v":179.5}]
[5838,"张飞凤",361206209006,154210403212,13,{"$f":"VLOOKUP(C5839,Sheet2!A:B,2,FALSE)","v":179.5}]
[5839,"肖珊",361206209006,154210402925,14,{"$f":"VLOOKUP(C5840,Sheet2!A:B,2,FALSE)","v":179.5}]
[5840,"李菲",361206209006,154210402722,15,{"$f":"VLOOKUP(C5841,Sheet2!A:B,2,FALSE)","v":179.5}]
[5841,"曾祥慧",361206210005,154210304111,1,{"$f":"VLOOKUP(C5842,Sheet2!A:B,2,FALSE)","v":75}]
[5842,"叶保玲",361206210005,154210303902,2,{"$f":"VLOOKUP(C5843,Sheet2!A:B,2,FALSE)","v":75}]
[5843,"陈玉霞",361206210005,154012803222,3,{"$f":"VLOOKUP(C5844,Sheet2!A:B,2,FALSE)","v":75}]
[5844,"刘欣鹄",361206210005,154012803226,4,{"$f":"VLOOKUP(C5845,Sheet2!A:B,2,FALSE)","v":75}]
[5845,"赖梦珍",361206210005,154242703907,5,{"$f":"VLOOKUP(C5846,Sheet2!A:B,2,FALSE)","v":75}]
[5846,"高友",361206210005,154012803330,6,{"$f":"VLOOKUP(C5847,Sheet2!A:B,2,FALSE)","v":75}]
[5847,"柯丽霞",361206210005,154040803722,7,{"$f":"VLOOKUP(C5848,Sheet2!A:B,2,FALSE)","v":75}]
[5848,"邱棠茹",361206210005,154210303907,8,{"$f":"VLOOKUP(C5849,Sheet2!A:B,2,FALSE)","v":75}]
[5849,"刘淑平",361206210005,154210304118,9,{"$f":"VLOOKUP(C5850,Sheet2!A:B,2,FALSE)","v":75}]
[5850,"张欣",361206210005,154210304115,10,{"$f":"VLOOKUP(C5851,Sheet2!A:B,2,FALSE)","v":75}]
[5851,"彭芳艳",361206210005,154231504929,11,{"$f":"VLOOKUP(C5852,Sheet2!A:B,2,FALSE)","v":75}]
[5852,"王小玉",361206210005,154210304229,12,{"$f":"VLOOKUP(C5853,Sheet2!A:B,2,FALSE)","v":75}]
[5853,"汪丽芳",361206210005,154210304009,13,{"$f":"VLOOKUP(C5854,Sheet2!A:B,2,FALSE)","v":75}]
[5854,"黄怡超",361206210005,154210304101,14,{"$f":"VLOOKUP(C5855,Sheet2!A:B,2,FALSE)","v":75}]
[5855,"朱江",361206211006,154211000718,1,{"$f":"VLOOKUP(C5856,Sheet2!A:B,2,FALSE)","v":102}]
[5856,"曹小金",361206211006,154211000630,2,{"$f":"VLOOKUP(C5857,Sheet2!A:B,2,FALSE)","v":102}]
[5857,"李江南",361206211006,154211000919,3,{"$f":"VLOOKUP(C5858,Sheet2!A:B,2,FALSE)","v":102}]
[5858,"施鹏鹏",361206211006,154211000830,4,{"$f":"VLOOKUP(C5859,Sheet2!A:B,2,FALSE)","v":102}]
[5859,"林钰",361206211006,154211000927,5,{"$f":"VLOOKUP(C5860,Sheet2!A:B,2,FALSE)","v":102}]
[5860,"彭敏",361206211006,154211000814,6,{"$f":"VLOOKUP(C5861,Sheet2!A:B,2,FALSE)","v":102}]
[5861,"王家明",361206211006,154211001004,7,{"$f":"VLOOKUP(C5862,Sheet2!A:B,2,FALSE)","v":102}]
[5862,"谢东",361206211006,154211000921,8,{"$f":"VLOOKUP(C5863,Sheet2!A:B,2,FALSE)","v":102}]
[5863,"魏琳霞",361206212005,154210800912,1,{"$f":"VLOOKUP(C5864,Sheet2!A:B,2,FALSE)","v":147.5}]
[5864,"凌薇",361206212005,154210800917,2,{"$f":"VLOOKUP(C5865,Sheet2!A:B,2,FALSE)","v":147.5}]
[5865,"郭梓琪",361206212005,154210800813,3,{"$f":"VLOOKUP(C5866,Sheet2!A:B,2,FALSE)","v":147.5}]
[5866,"朱作源",361206212005,154210800627,4,{"$f":"VLOOKUP(C5867,Sheet2!A:B,2,FALSE)","v":147.5}]
[5867,"肖建萍",361206212005,154210800704,5,{"$f":"VLOOKUP(C5868,Sheet2!A:B,2,FALSE)","v":147.5}]
[5868,"夏江东",361206212005,154210800603,6,{"$f":"VLOOKUP(C5869,Sheet2!A:B,2,FALSE)","v":147.5}]
[5869,"杜淑琦",361206212005,154210800703,7,{"$f":"VLOOKUP(C5870,Sheet2!A:B,2,FALSE)","v":147.5}]
[5870,"郑海青",361206212005,154210801112,8,{"$f":"VLOOKUP(C5871,Sheet2!A:B,2,FALSE)","v":147.5}]
[5871,"许秋燕",361206212005,154210800828,9,{"$f":"VLOOKUP(C5872,Sheet2!A:B,2,FALSE)","v":147.5}]
[5872,"郭莹",361206212005,154050316502,10,{"$f":"VLOOKUP(C5873,Sheet2!A:B,2,FALSE)","v":147.5}]
[5873,"黄艳阳",361206212005,154210801021,11,{"$f":"VLOOKUP(C5874,Sheet2!A:B,2,FALSE)","v":147.5}]
[5874,"郭晓妍",361206212005,154242502711,12,{"$f":"VLOOKUP(C5875,Sheet2!A:B,2,FALSE)","v":147.5}]
[5875,"赖晓丽",361206212005,154210801002,13,{"$f":"VLOOKUP(C5876,Sheet2!A:B,2,FALSE)","v":147.5}]
[5876,"卢一帆",361206212005,154210800608,14,{"$f":"VLOOKUP(C5877,Sheet2!A:B,2,FALSE)","v":147.5}]
[5877,"邹诗琴",361206212005,154210800610,15,{"$f":"VLOOKUP(C5878,Sheet2!A:B,2,FALSE)","v":147.5}]
[5878,"刘杏花",361206213003,154012407429,1,{"$f":"VLOOKUP(C5879,Sheet2!A:B,2,FALSE)","v":134}]
[5879,"黄桂兰",361206213003,154221409402,2,{"$f":"VLOOKUP(C5880,Sheet2!A:B,2,FALSE)","v":134}]
[5880,"漆律",361206213003,154012407417,3,{"$f":"VLOOKUP(C5881,Sheet2!A:B,2,FALSE)","v":134}]
[5881,"袁玲玲",361206213003,154211001320,4,{"$f":"VLOOKUP(C5882,Sheet2!A:B,2,FALSE)","v":134}]
[5882,"蔡龙明",361206213003,154250107008,5,{"$f":"VLOOKUP(C5883,Sheet2!A:B,2,FALSE)","v":134}]
[5883,"易云",361206213003,154242502905,6,{"$f":"VLOOKUP(C5884,Sheet2!A:B,2,FALSE)","v":134}]
[5884,"黄银树",361206213003,154211001312,7,{"$f":"VLOOKUP(C5885,Sheet2!A:B,2,FALSE)","v":134}]
[5885,"张永青",361206213003,154211001108,8,{"$f":"VLOOKUP(C5886,Sheet2!A:B,2,FALSE)","v":134}]
[5886,"陈新星",361206213003,154211001306,9,{"$f":"VLOOKUP(C5887,Sheet2!A:B,2,FALSE)","v":134}]
[5887,"刘丁香",361206215004,154210903503,1,{"$f":"VLOOKUP(C5888,Sheet2!A:B,2,FALSE)","v":164}]
[5888,"余香",361206215004,154012407725,2,{"$f":"VLOOKUP(C5889,Sheet2!A:B,2,FALSE)","v":164}]
[5889,"钟婷",361206215004,154210903402,3,{"$f":"VLOOKUP(C5890,Sheet2!A:B,2,FALSE)","v":164}]
[5890,"李翎",361206215004,154210903409,4,{"$f":"VLOOKUP(C5891,Sheet2!A:B,2,FALSE)","v":164}]
[5891,"邓丹",361206215004,154210903406,5,{"$f":"VLOOKUP(C5892,Sheet2!A:B,2,FALSE)","v":164}]
[5892,"刘雅倩",361206215004,154012407719,6,{"$f":"VLOOKUP(C5893,Sheet2!A:B,2,FALSE)","v":164}]
[5893,"彭宗艳",361206215004,154210903508,7,{"$f":"VLOOKUP(C5894,Sheet2!A:B,2,FALSE)","v":164}]
[5894,"苏瑜琼",361206215004,154210903513,8,{"$f":"VLOOKUP(C5895,Sheet2!A:B,2,FALSE)","v":164}]
[5895,"赖嘉丹",361206215004,154242503114,9,{"$f":"VLOOKUP(C5896,Sheet2!A:B,2,FALSE)","v":164}]
[5896,"张齐英",361206215004,154210903422,10,{"$f":"VLOOKUP(C5897,Sheet2!A:B,2,FALSE)","v":164}]
[5897,"叶嘉玲",361206215004,154210903423,11,{"$f":"VLOOKUP(C5898,Sheet2!A:B,2,FALSE)","v":164}]
[5898,"邝月兰",361206215004,154210903521,12,{"$f":"VLOOKUP(C5899,Sheet2!A:B,2,FALSE)","v":164}]
[5899,"廖丹霞",361207204003,154210202730,1,{"$f":"VLOOKUP(C5900,Sheet2!A:B,2,FALSE)","v":159}]
[5900,"周煊",361207204003,154012908917,2,{"$f":"VLOOKUP(C5901,Sheet2!A:B,2,FALSE)","v":159}]
[5901,"廖晓玉",361207204003,154210202909,3,{"$f":"VLOOKUP(C5902,Sheet2!A:B,2,FALSE)","v":159}]
[5902,"赖园芳",361207204003,154242403422,4,{"$f":"VLOOKUP(C5903,Sheet2!A:B,2,FALSE)","v":159}]
[5903,"刘翠",361207204003,154210203016,5,{"$f":"VLOOKUP(C5904,Sheet2!A:B,2,FALSE)","v":159}]
[5904,"徐辉",361207204003,154210202513,6,{"$f":"VLOOKUP(C5905,Sheet2!A:B,2,FALSE)","v":159}]
[5905,"杨悦青",361207204003,154210202825,7,{"$f":"VLOOKUP(C5906,Sheet2!A:B,2,FALSE)","v":159}]
[5906,"曾玉秀",361207204003,154210202506,8,{"$f":"VLOOKUP(C5907,Sheet2!A:B,2,FALSE)","v":159}]
[5907,"钟秋",361207204003,154210202908,9,{"$f":"VLOOKUP(C5908,Sheet2!A:B,2,FALSE)","v":159}]
[5908,"黄子恒",361207205001,154211002315,1,{"$f":"VLOOKUP(C5909,Sheet2!A:B,2,FALSE)","v":166}]
[5909,"刘婷",361207205001,154211002020,2,{"$f":"VLOOKUP(C5910,Sheet2!A:B,2,FALSE)","v":166}]
[5910,"叶帮余",361207205001,154211002710,3,{"$f":"VLOOKUP(C5911,Sheet2!A:B,2,FALSE)","v":166}]
[5911,"施如意",361207208003,154210303315,1,{"$f":"VLOOKUP(C5912,Sheet2!A:B,2,FALSE)","v":153.5}]
[5912,"谢泽辉",361207208003,154012406524,2,{"$f":"VLOOKUP(C5913,Sheet2!A:B,2,FALSE)","v":153.5}]
[5913,"廖晓妍",361207208003,154210303507,3,{"$f":"VLOOKUP(C5914,Sheet2!A:B,2,FALSE)","v":153.5}]
[5914,"刘艺",361207208003,154210303706,4,{"$f":"VLOOKUP(C5915,Sheet2!A:B,2,FALSE)","v":153.5}]
[5915,"古章淦",361207208003,154210303516,5,{"$f":"VLOOKUP(C5916,Sheet2!A:B,2,FALSE)","v":153.5}]
[5916,"舒丰",361207208003,154210303319,6,{"$f":"VLOOKUP(C5917,Sheet2!A:B,2,FALSE)","v":153.5}]
[5917,"郭莉平",361207208003,154210303204,7,{"$f":"VLOOKUP(C5918,Sheet2!A:B,2,FALSE)","v":153.5}]
[5918,"张梦跟",361207208003,154242603709,8,{"$f":"VLOOKUP(C5919,Sheet2!A:B,2,FALSE)","v":153.5}]
[5919,"黎紫煊",361207208003,154210303202,9,{"$f":"VLOOKUP(C5920,Sheet2!A:B,2,FALSE)","v":153.5}]
[5920,"曾舒婷",361207209002,154210402826,1,{"$f":"VLOOKUP(C5921,Sheet2!A:B,2,FALSE)","v":176}]
[5921,"赖玲香",361207209002,154210402517,2,{"$f":"VLOOKUP(C5922,Sheet2!A:B,2,FALSE)","v":176}]
[5922,"陈心宇",361207209002,154020502810,3,{"$f":"VLOOKUP(C5923,Sheet2!A:B,2,FALSE)","v":176}]
[5923,"罗恩平",361207209002,154210403017,4,{"$f":"VLOOKUP(C5924,Sheet2!A:B,2,FALSE)","v":176}]
[5924,"邱倩梅",361207209002,154210403125,5,{"$f":"VLOOKUP(C5925,Sheet2!A:B,2,FALSE)","v":176}]
[5925,"黄秋香",361207209002,154210402827,6,{"$f":"VLOOKUP(C5926,Sheet2!A:B,2,FALSE)","v":176}]
[5926,"钟祥莉",361207210004,154210304114,1,{"$f":"VLOOKUP(C5927,Sheet2!A:B,2,FALSE)","v":108.5}]
[5927,"严由芳",361207210004,154210304103,2,{"$f":"VLOOKUP(C5928,Sheet2!A:B,2,FALSE)","v":108.5}]
[5928,"黄金英",361207210004,154210303909,3,{"$f":"VLOOKUP(C5929,Sheet2!A:B,2,FALSE)","v":108.5}]
[5929,"肖志超",361207210004,154210304223,4,{"$f":"VLOOKUP(C5930,Sheet2!A:B,2,FALSE)","v":108.5}]
[5930,"罗棋",361207210004,154210303930,5,{"$f":"VLOOKUP(C5931,Sheet2!A:B,2,FALSE)","v":108.5}]
[5931,"肖冬兰",361207210004,154210303919,6,{"$f":"VLOOKUP(C5932,Sheet2!A:B,2,FALSE)","v":108.5}]
[5932,"奚丽萍",361207210004,154210304106,7,{"$f":"VLOOKUP(C5933,Sheet2!A:B,2,FALSE)","v":108.5}]
[5933,"泮昌磊",361207210004,154231504823,8,{"$f":"VLOOKUP(C5934,Sheet2!A:B,2,FALSE)","v":108.5}]
[5934,"方华香",361207210004,154210304005,9,{"$f":"VLOOKUP(C5935,Sheet2!A:B,2,FALSE)","v":108.5}]
[5935,"黄艳",361207211004,154211000705,1,{"$f":"VLOOKUP(C5936,Sheet2!A:B,2,FALSE)","v":99}]
[5936,"陈锦仁",361207211004,154211000806,2,{"$f":"VLOOKUP(C5937,Sheet2!A:B,2,FALSE)","v":99}]
[5937,"钟玲娟",361207211004,154211000526,3,{"$f":"VLOOKUP(C5938,Sheet2!A:B,2,FALSE)","v":99}]
[5938,"王玲",361207211004,154211000501,4,{"$f":"VLOOKUP(C5939,Sheet2!A:B,2,FALSE)","v":99}]
[5939,"余光辉",361207211004,154211000624,5,{"$f":"VLOOKUP(C5940,Sheet2!A:B,2,FALSE)","v":99}]
[5940,"刘剑",361207211004,154211000807,6,{"$f":"VLOOKUP(C5941,Sheet2!A:B,2,FALSE)","v":99}]
[5941,"温芳艳",361207211004,154211000803,7,{"$f":"VLOOKUP(C5942,Sheet2!A:B,2,FALSE)","v":99}]
[5942,"钟文立",361207211004,154211000627,8,{"$f":"VLOOKUP(C5943,Sheet2!A:B,2,FALSE)","v":99}]
[5943,"罗淑菁",361207212003,154210800921,1,{"$f":"VLOOKUP(C5944,Sheet2!A:B,2,FALSE)","v":154.5}]
[5944,"谢姗颖",361207212003,154210800925,2,{"$f":"VLOOKUP(C5945,Sheet2!A:B,2,FALSE)","v":154.5}]
[5945,"赖慧",361207212003,154210800926,3,{"$f":"VLOOKUP(C5946,Sheet2!A:B,2,FALSE)","v":154.5}]
[5946,"袁儒星",361207212003,154210800622,4,{"$f":"VLOOKUP(C5947,Sheet2!A:B,2,FALSE)","v":154.5}]
[5947,"曾丹",361207212003,154210800604,5,{"$f":"VLOOKUP(C5948,Sheet2!A:B,2,FALSE)","v":154.5}]
[5948,"杨珊珊",361207212003,154210800609,6,{"$f":"VLOOKUP(C5949,Sheet2!A:B,2,FALSE)","v":154.5}]
[5949,"胡珊",361207212003,154210801005,7,{"$f":"VLOOKUP(C5950,Sheet2!A:B,2,FALSE)","v":154.5}]
[5950,"李金华",361207212003,154210800628,8,{"$f":"VLOOKUP(C5951,Sheet2!A:B,2,FALSE)","v":154.5}]
[5951,"刘祺",361207212003,154210801006,9,{"$f":"VLOOKUP(C5952,Sheet2!A:B,2,FALSE)","v":154.5}]
[5952,"刘娟",361209204002,154210202628,1,{"$f":"VLOOKUP(C5953,Sheet2!A:B,2,FALSE)","v":116}]
[5953,"蓝玉琴",361209204002,154242403629,2,{"$f":"VLOOKUP(C5954,Sheet2!A:B,2,FALSE)","v":116}]
[5954,"麦纬秀",361209204002,154210202007,3,{"$f":"VLOOKUP(C5955,Sheet2!A:B,2,FALSE)","v":116}]
[5955,"李鸿玉",361209204002,154210202922,4,{"$f":"VLOOKUP(C5956,Sheet2!A:B,2,FALSE)","v":116}]
[5956,"彭丽娟",361209204002,154210202220,5,{"$f":"VLOOKUP(C5957,Sheet2!A:B,2,FALSE)","v":116}]
[5957,"张露露",361209204002,154210202328,6,{"$f":"VLOOKUP(C5958,Sheet2!A:B,2,FALSE)","v":116}]
[5958,"黄海燕",361209205002,154211002007,1,{"$f":"VLOOKUP(C5959,Sheet2!A:B,2,FALSE)","v":143.5}]
[5959,"刘龙妹",361209205002,154211001721,2,{"$f":"VLOOKUP(C5960,Sheet2!A:B,2,FALSE)","v":143.5}]
[5960,"肖自宝",361209205002,154211002027,3,{"$f":"VLOOKUP(C5961,Sheet2!A:B,2,FALSE)","v":143.5}]
[5961,"肖杨",361209205002,154012406016,4,{"$f":"VLOOKUP(C5962,Sheet2!A:B,2,FALSE)","v":143.5}]
[5962,"甘业伟",361209205002,154211001612,5,{"$f":"VLOOKUP(C5963,Sheet2!A:B,2,FALSE)","v":143.5}]
[5963,"蔡惠娟",361209205002,154211002216,6,{"$f":"VLOOKUP(C5964,Sheet2!A:B,2,FALSE)","v":143.5}]
[5964,"杨鹏兰",361209206002,154210502426,1,{"$f":"VLOOKUP(C5965,Sheet2!A:B,2,FALSE)","v":168.5}]
[5965,"刘勇",361209206002,154242602813,2,{"$f":"VLOOKUP(C5966,Sheet2!A:B,2,FALSE)","v":168.5}]
[5966,"张丽华",361209206002,154210501726,3,{"$f":"VLOOKUP(C5967,Sheet2!A:B,2,FALSE)","v":168.5}]
[5967,"钟轲",361209206002,154210501127,4,{"$f":"VLOOKUP(C5968,Sheet2!A:B,2,FALSE)","v":168.5}]
[5968,"楚芳菁",361209206002,154210502524,5,{"$f":"VLOOKUP(C5969,Sheet2!A:B,2,FALSE)","v":168.5}]
[5969,"张维媛",361209206002,154210501616,6,{"$f":"VLOOKUP(C5970,Sheet2!A:B,2,FALSE)","v":168.5}]
[5970,"王莎",361209207002,154210401514,1,{"$f":"VLOOKUP(C5971,Sheet2!A:B,2,FALSE)","v":110.5}]
[5971,"马佳婧",361209207002,154210402021,2,{"$f":"VLOOKUP(C5972,Sheet2!A:B,2,FALSE)","v":110.5}]
[5972,"陈艳玲",361209207002,154210402220,3,{"$f":"VLOOKUP(C5973,Sheet2!A:B,2,FALSE)","v":110.5}]
[5973,"朱洁",361209207002,154210401620,4,{"$f":"VLOOKUP(C5974,Sheet2!A:B,2,FALSE)","v":110.5}]
[5974,"廖晴",361209207002,154210402325,5,{"$f":"VLOOKUP(C5975,Sheet2!A:B,2,FALSE)","v":110.5}]
[5975,"温佳曦",361209207002,154012406308,6,{"$f":"VLOOKUP(C5976,Sheet2!A:B,2,FALSE)","v":110.5}]
[5976,"邹绪龙",361209211001,154211000909,1,{"$f":"VLOOKUP(C5977,Sheet2!A:B,2,FALSE)","v":157}]
[5977,"熊雪婷",361210103015,154012501404,1,{"$f":"VLOOKUP(C5978,Sheet2!A:B,2,FALSE)","v":170.5}]
[5978,"赖慧怡",361210103015,154210604004,2,{"$f":"VLOOKUP(C5979,Sheet2!A:B,2,FALSE)","v":170.5}]
[5979,"严晓红",361210103015,154210601417,3,{"$f":"VLOOKUP(C5980,Sheet2!A:B,2,FALSE)","v":170.5}]
[5980,"王晓纯",361210103015,154040600628,4,{"$f":"VLOOKUP(C5981,Sheet2!A:B,2,FALSE)","v":170.5}]
[5981,"邱小芳",361210103015,154012502216,5,{"$f":"VLOOKUP(C5982,Sheet2!A:B,2,FALSE)","v":170.5}]
[5982,"汪晓慧",361210103015,154210602020,6,{"$f":"VLOOKUP(C5983,Sheet2!A:B,2,FALSE)","v":170.5}]
[5983,"刘莹",361210103015,154012500210,8,{"$f":"VLOOKUP(C5984,Sheet2!A:B,2,FALSE)","v":170.5}]
[5984,"黄艳梅",361210103015,154210601924,7,{"$f":"VLOOKUP(C5985,Sheet2!A:B,2,FALSE)","v":170.5}]
[5985,"彭家欣",361210103015,154242503804,9,{"$f":"VLOOKUP(C5986,Sheet2!A:B,2,FALSE)","v":170.5}]
[5986,"谢春霞",361210103015,154210602222,11,{"$f":"VLOOKUP(C5987,Sheet2!A:B,2,FALSE)","v":170.5}]
[5987,"黄涛",361210103015,154210604226,10,{"$f":"VLOOKUP(C5988,Sheet2!A:B,2,FALSE)","v":170.5}]
[5988,"林钰静",361210103015,154012501623,13,{"$f":"VLOOKUP(C5989,Sheet2!A:B,2,FALSE)","v":170.5}]
[5989,"李静静",361210103015,154012501917,12,{"$f":"VLOOKUP(C5990,Sheet2!A:B,2,FALSE)","v":170.5}]
[5990,"阳逸芸",361210103015,154210603710,14,{"$f":"VLOOKUP(C5991,Sheet2!A:B,2,FALSE)","v":170.5}]
[5991,"黄玉清",361210103015,154210603215,15,{"$f":"VLOOKUP(C5992,Sheet2!A:B,2,FALSE)","v":170.5}]
[5992,"袁泉",361210103015,154242503629,16,{"$f":"VLOOKUP(C5993,Sheet2!A:B,2,FALSE)","v":170.5}]
[5993,"肖青青",361210103015,154210602606,17,{"$f":"VLOOKUP(C5994,Sheet2!A:B,2,FALSE)","v":170.5}]
[5994,"黄莉",361210103015,154221402530,18,{"$f":"VLOOKUP(C5995,Sheet2!A:B,2,FALSE)","v":170.5}]
[5995,"葛小英",361210103015,154210603612,19,{"$f":"VLOOKUP(C5996,Sheet2!A:B,2,FALSE)","v":170.5}]
[5996,"张小梅",361210103015,154012500529,20,{"$f":"VLOOKUP(C5997,Sheet2!A:B,2,FALSE)","v":170.5}]
[5997,"谢艳芳",361210103015,154210604213,22,{"$f":"VLOOKUP(C5998,Sheet2!A:B,2,FALSE)","v":170.5}]
[5998,"马丽娟",361210103015,154242503527,21,{"$f":"VLOOKUP(C5999,Sheet2!A:B,2,FALSE)","v":170.5}]
[5999,"朱小慧",361210103015,154012501302,23,{"$f":"VLOOKUP(C6000,Sheet2!A:B,2,FALSE)","v":170.5}]
[6000,"朱春",361210103015,154210602909,24,{"$f":"VLOOKUP(C6001,Sheet2!A:B,2,FALSE)","v":170.5}]
[6001,"叶国妹",361210103015,154210603513,27,{"$f":"VLOOKUP(C6002,Sheet2!A:B,2,FALSE)","v":170.5}]
[6002,"聂桂芳",361210103015,154012501216,25,{"$f":"VLOOKUP(C6003,Sheet2!A:B,2,FALSE)","v":170.5}]
[6003,"吴顺英",361210103015,154012501719,26,{"$f":"VLOOKUP(C6004,Sheet2!A:B,2,FALSE)","v":170.5}]
[6004,"郑小露",361210103015,154210603916,28,{"$f":"VLOOKUP(C6005,Sheet2!A:B,2,FALSE)","v":170.5}]
[6005,"张芸",361210103015,154232405218,29,{"$f":"VLOOKUP(C6006,Sheet2!A:B,2,FALSE)","v":170.5}]
[6006,"赖文",361210103015,154210601416,30,{"$f":"VLOOKUP(C6007,Sheet2!A:B,2,FALSE)","v":170.5}]
[6007,"王雄道",361210116005,154012405118,1,{"$f":"VLOOKUP(C6008,Sheet2!A:B,2,FALSE)","v":172.5}]
[6008,"刘微",361210116005,154210301926,2,{"$f":"VLOOKUP(C6009,Sheet2!A:B,2,FALSE)","v":172.5}]
[6009,"冯丹丹",361210116005,154012405405,3,{"$f":"VLOOKUP(C6010,Sheet2!A:B,2,FALSE)","v":172.5}]
[6010,"吴玉红",361210116005,154012405230,4,{"$f":"VLOOKUP(C6011,Sheet2!A:B,2,FALSE)","v":172.5}]
[6011,"李建超",361210116005,154232409027,5,{"$f":"VLOOKUP(C6012,Sheet2!A:B,2,FALSE)","v":172.5}]
[6012,"刘雅芳",361210116005,154012405225,6,{"$f":"VLOOKUP(C6013,Sheet2!A:B,2,FALSE)","v":172.5}]
[6013,"邓生文",361210116005,154210301725,7,{"$f":"VLOOKUP(C6014,Sheet2!A:B,2,FALSE)","v":172.5}]
[6014,"张婷",361210116005,154210302310,8,{"$f":"VLOOKUP(C6015,Sheet2!A:B,2,FALSE)","v":172.5}]
[6015,"陈萍",361210116005,154210301910,9,{"$f":"VLOOKUP(C6016,Sheet2!A:B,2,FALSE)","v":172.5}]
[6016,"赖小娟",361210116005,154012405307,10,{"$f":"VLOOKUP(C6017,Sheet2!A:B,2,FALSE)","v":172.5}]
[6017,"黄伟",361210116005,154210302022,11,{"$f":"VLOOKUP(C6018,Sheet2!A:B,2,FALSE)","v":172.5}]
[6018,"古花",361210116005,154210301830,12,{"$f":"VLOOKUP(C6019,Sheet2!A:B,2,FALSE)","v":172.5}]
[6019,"李梦",361210116005,154221404107,13,{"$f":"VLOOKUP(C6020,Sheet2!A:B,2,FALSE)","v":172.5}]
[6020,"张雪梅",361210116005,154210302201,14,{"$f":"VLOOKUP(C6021,Sheet2!A:B,2,FALSE)","v":172.5}]
[6021,"江敏清",361210116005,154221404104,15,{"$f":"VLOOKUP(C6022,Sheet2!A:B,2,FALSE)","v":172.5}]
[6022,"刘英",361210116005,154210302108,16,{"$f":"VLOOKUP(C6023,Sheet2!A:B,2,FALSE)","v":172.5}]
[6023,"郭玲",361210201005,154012700608,1,{"$f":"VLOOKUP(C6024,Sheet2!A:B,2,FALSE)","v":141}]
[6024,"潘琴",361210201005,154231500416,2,{"$f":"VLOOKUP(C6025,Sheet2!A:B,2,FALSE)","v":141}]
[6025,"欧阳雯",361210201005,154210900615,4,{"$f":"VLOOKUP(C6026,Sheet2!A:B,2,FALSE)","v":141}]
[6026,"严丽瑶",361210201005,154210901205,3,{"$f":"VLOOKUP(C6027,Sheet2!A:B,2,FALSE)","v":141}]
[6027,"卢继林",361210201005,154210902126,5,{"$f":"VLOOKUP(C6028,Sheet2!A:B,2,FALSE)","v":141}]
[6028,"赖水红",361210201005,154210903107,6,{"$f":"VLOOKUP(C6029,Sheet2!A:B,2,FALSE)","v":141}]
[6029,"刘梓瑶",361210201005,154210900720,7,{"$f":"VLOOKUP(C6030,Sheet2!A:B,2,FALSE)","v":141}]
[6030,"郭露",361210201005,154210902019,8,{"$f":"VLOOKUP(C6031,Sheet2!A:B,2,FALSE)","v":141}]
[6031,"郭红梅",361210201005,154210901122,9,{"$f":"VLOOKUP(C6032,Sheet2!A:B,2,FALSE)","v":141}]
[6032,"钟慧娟",361210201005,154012701217,10,{"$f":"VLOOKUP(C6033,Sheet2!A:B,2,FALSE)","v":141}]
[6033,"廖怡芳",361210201005,154210900329,11,{"$f":"VLOOKUP(C6034,Sheet2!A:B,2,FALSE)","v":141}]
[6034,"潘媛",361210201005,154210900314,12,{"$f":"VLOOKUP(C6035,Sheet2!A:B,2,FALSE)","v":141}]
[6035,"崔丽",361210201005,154210903208,13,{"$f":"VLOOKUP(C6036,Sheet2!A:B,2,FALSE)","v":141}]
[6036,"江六青",361210201005,154040602018,14,{"$f":"VLOOKUP(C6037,Sheet2!A:B,2,FALSE)","v":141}]
[6037,"黎文洁",361210201005,154210902404,15,{"$f":"VLOOKUP(C6038,Sheet2!A:B,2,FALSE)","v":141}]
[6038,"唐文彩",361210202010,154210200209,1,{"$f":"VLOOKUP(C6039,Sheet2!A:B,2,FALSE)","v":59}]
[6039,"胡佩君",361210202010,154231501208,2,{"$f":"VLOOKUP(C6040,Sheet2!A:B,2,FALSE)","v":59}]
[6040,"谢罗金",361210202010,154210200921,3,{"$f":"VLOOKUP(C6041,Sheet2!A:B,2,FALSE)","v":59}]
[6041,"谢静玉",361210202010,154012907030,4,{"$f":"VLOOKUP(C6042,Sheet2!A:B,2,FALSE)","v":59}]
[6042,"赖春林",361210202010,154012906510,5,{"$f":"VLOOKUP(C6043,Sheet2!A:B,2,FALSE)","v":59}]
[6043,"兰荣芳",361210202010,154210201027,6,{"$f":"VLOOKUP(C6044,Sheet2!A:B,2,FALSE)","v":59}]
[6044,"廖健",361210202010,154210201805,7,{"$f":"VLOOKUP(C6045,Sheet2!A:B,2,FALSE)","v":59}]
[6045,"章奕亮",361210202010,154250105505,8,{"$f":"VLOOKUP(C6046,Sheet2!A:B,2,FALSE)","v":59}]
[6046,"陈淑青",361210202010,154210200318,9,{"$f":"VLOOKUP(C6047,Sheet2!A:B,2,FALSE)","v":59}]
[6047,"孙丽华",361210202010,154040803211,10,{"$f":"VLOOKUP(C6048,Sheet2!A:B,2,FALSE)","v":59}]
[6048,"赖燕城",361210202010,154210201024,11,{"$f":"VLOOKUP(C6049,Sheet2!A:B,2,FALSE)","v":59}]
[6049,"古晓燕",361210202010,154210200201,12,{"$f":"VLOOKUP(C6050,Sheet2!A:B,2,FALSE)","v":59}]
[6050,"李露",361210202010,154040803229,13,{"$f":"VLOOKUP(C6051,Sheet2!A:B,2,FALSE)","v":59}]
[6051,"唐佳熠",361210202010,154012906520,14,{"$f":"VLOOKUP(C6052,Sheet2!A:B,2,FALSE)","v":59}]
[6052,"廖玉萍",361210202010,154210200518,15,{"$f":"VLOOKUP(C6053,Sheet2!A:B,2,FALSE)","v":59}]
[6053,"曾丽娟",361210202010,154210201801,16,{"$f":"VLOOKUP(C6054,Sheet2!A:B,2,FALSE)","v":59}]
[6054,"刘文娣",361210202010,154210201228,17,{"$f":"VLOOKUP(C6055,Sheet2!A:B,2,FALSE)","v":59}]
[6055,"曾晓红",361210202010,154210201029,18,{"$f":"VLOOKUP(C6056,Sheet2!A:B,2,FALSE)","v":59}]
[6056,"谢寿园",361210202010,154210201418,19,{"$f":"VLOOKUP(C6057,Sheet2!A:B,2,FALSE)","v":59}]
[6057,"刘聪",361210202010,154210201128,20,{"$f":"VLOOKUP(C6058,Sheet2!A:B,2,FALSE)","v":59}]
[6058,"叶文韬",361210202010,154210200517,21,{"$f":"VLOOKUP(C6059,Sheet2!A:B,2,FALSE)","v":59}]
[6059,"梁玉",361210202010,154210200629,22,{"$f":"VLOOKUP(C6060,Sheet2!A:B,2,FALSE)","v":59}]
[6060,"廖彩莲",361210202010,154210201026,23,{"$f":"VLOOKUP(C6061,Sheet2!A:B,2,FALSE)","v":59}]
[6061,"赖淑莹",361210204010,154210202010,1,{"$f":"VLOOKUP(C6062,Sheet2!A:B,2,FALSE)","v":131}]
[6062,"刘欣",361210204010,154210202902,2,{"$f":"VLOOKUP(C6063,Sheet2!A:B,2,FALSE)","v":131}]
[6063,"郭凤",361210204010,154210202227,3,{"$f":"VLOOKUP(C6064,Sheet2!A:B,2,FALSE)","v":131}]
[6064,"杜淑华",361210204010,154060603914,4,{"$f":"VLOOKUP(C6065,Sheet2!A:B,2,FALSE)","v":131}]
[6065,"赖梦瑶",361210204010,154012908701,5,{"$f":"VLOOKUP(C6066,Sheet2!A:B,2,FALSE)","v":131}]
[6066,"薛淦",361210204010,154210202914,6,{"$f":"VLOOKUP(C6067,Sheet2!A:B,2,FALSE)","v":131}]
[6067,"张晓兰",361210204010,154210202226,7,{"$f":"VLOOKUP(C6068,Sheet2!A:B,2,FALSE)","v":131}]
[6068,"王林燕",361210204010,154012909020,8,{"$f":"VLOOKUP(C6069,Sheet2!A:B,2,FALSE)","v":131}]
[6069,"钟玉凤",361210204010,154210202828,9,{"$f":"VLOOKUP(C6070,Sheet2!A:B,2,FALSE)","v":131}]
[6070,"李应兰",361210204010,154210202605,10,{"$f":"VLOOKUP(C6071,Sheet2!A:B,2,FALSE)","v":131}]
[6071,"罗玉萍",361210204010,154210202715,11,{"$f":"VLOOKUP(C6072,Sheet2!A:B,2,FALSE)","v":131}]
[6072,"曾玉倩",361210204010,154242403713,12,{"$f":"VLOOKUP(C6073,Sheet2!A:B,2,FALSE)","v":131}]
[6073,"廖琦娟",361210204010,154210202719,13,{"$f":"VLOOKUP(C6074,Sheet2!A:B,2,FALSE)","v":131}]
[6074,"孙雨",361210204010,154210202617,14,{"$f":"VLOOKUP(C6075,Sheet2!A:B,2,FALSE)","v":131}]
[6075,"郭楠芳",361210204010,154210202321,15,{"$f":"VLOOKUP(C6076,Sheet2!A:B,2,FALSE)","v":131}]
[6076,"欧阳锋",361210204010,154210202408,16,{"$f":"VLOOKUP(C6077,Sheet2!A:B,2,FALSE)","v":131}]
[6077,"黎爱勇",361210204010,154242403519,17,{"$f":"VLOOKUP(C6078,Sheet2!A:B,2,FALSE)","v":131}]
[6078,"凌利红",361210204010,154210202704,18,{"$f":"VLOOKUP(C6079,Sheet2!A:B,2,FALSE)","v":131}]
[6079,"王小漫",361210204010,154012909023,19,{"$f":"VLOOKUP(C6080,Sheet2!A:B,2,FALSE)","v":131}]
[6080,"张周林",361210204010,154210202413,20,{"$f":"VLOOKUP(C6081,Sheet2!A:B,2,FALSE)","v":131}]
[6081,"钟检发",361210204010,154210202401,21,{"$f":"VLOOKUP(C6082,Sheet2!A:B,2,FALSE)","v":131}]
[6082,"廖东明",361210204010,154012405507,22,{"$f":"VLOOKUP(C6083,Sheet2!A:B,2,FALSE)","v":131}]
[6083,"魏孟兰",361210204010,154210202517,23,{"$f":"VLOOKUP(C6084,Sheet2!A:B,2,FALSE)","v":131}]
[6084,"陈春华",361210204010,154210203006,24,{"$f":"VLOOKUP(C6085,Sheet2!A:B,2,FALSE)","v":131}]
[6085,"卢丽婷",361210204010,154210202418,25,{"$f":"VLOOKUP(C6086,Sheet2!A:B,2,FALSE)","v":131}]
[6086,"何金兰",361210208004,154030307414,1,{"$f":"VLOOKUP(C6087,Sheet2!A:B,2,FALSE)","v":130}]
[6087,"刘嘉琪",361210208004,154242603720,2,{"$f":"VLOOKUP(C6088,Sheet2!A:B,2,FALSE)","v":130}]
[6088,"王经红",361210209011,154210403008,1,{"$f":"VLOOKUP(C6089,Sheet2!A:B,2,FALSE)","v":162}]
[6089,"钟萍",361210209011,154210402526,2,{"$f":"VLOOKUP(C6090,Sheet2!A:B,2,FALSE)","v":162}]
[6090,"唐敏媛",361210209011,154210402524,3,{"$f":"VLOOKUP(C6091,Sheet2!A:B,2,FALSE)","v":162}]
[6091,"钟宏",361210209011,154210402726,4,{"$f":"VLOOKUP(C6092,Sheet2!A:B,2,FALSE)","v":162}]
[6092,"郭玉琴",361210209011,154210403016,5,{"$f":"VLOOKUP(C6093,Sheet2!A:B,2,FALSE)","v":162}]
[6093,"钟晓聪",361210209011,154210403103,7,{"$f":"VLOOKUP(C6094,Sheet2!A:B,2,FALSE)","v":162}]
[6094,"范琼弘",361210209011,154210403124,6,{"$f":"VLOOKUP(C6095,Sheet2!A:B,2,FALSE)","v":162}]
[6095,"魏圆",361210209011,154210403104,8,{"$f":"VLOOKUP(C6096,Sheet2!A:B,2,FALSE)","v":162}]
[6096,"宋文荣",361210209011,154210402623,9,{"$f":"VLOOKUP(C6097,Sheet2!A:B,2,FALSE)","v":162}]
[6097,"王婷婷",361210209011,154210403114,10,{"$f":"VLOOKUP(C6098,Sheet2!A:B,2,FALSE)","v":162}]
[6098,"陈红连",361210209011,154210402911,11,{"$f":"VLOOKUP(C6099,Sheet2!A:B,2,FALSE)","v":162}]
[6099,"陈婷",361210209011,154210402812,12,{"$f":"VLOOKUP(C6100,Sheet2!A:B,2,FALSE)","v":162}]
[6100,"鄢淑怡",361210209011,154012406929,13,{"$f":"VLOOKUP(C6101,Sheet2!A:B,2,FALSE)","v":162}]
[6101,"邹婷",361210209011,154210402713,14,{"$f":"VLOOKUP(C6102,Sheet2!A:B,2,FALSE)","v":162}]
[6102,"叶洪林",361210209011,154210402626,15,{"$f":"VLOOKUP(C6103,Sheet2!A:B,2,FALSE)","v":162}]
[6103,"赖美林",361210209011,154210402706,16,{"$f":"VLOOKUP(C6104,Sheet2!A:B,2,FALSE)","v":162}]
[6104,"朱艳芳",361210209011,154210403216,17,{"$f":"VLOOKUP(C6105,Sheet2!A:B,2,FALSE)","v":162}]
[6105,"唐晓梅",361210209011,154210403207,18,{"$f":"VLOOKUP(C6106,Sheet2!A:B,2,FALSE)","v":162}]
[6106,"赖艳阳",361210209011,154210402821,19,{"$f":"VLOOKUP(C6107,Sheet2!A:B,2,FALSE)","v":162}]
[6107,"曹美云",361210209011,154210402917,20,{"$f":"VLOOKUP(C6108,Sheet2!A:B,2,FALSE)","v":162}]
[6108,"廖水金",361210209011,154210403030,21,{"$f":"VLOOKUP(C6109,Sheet2!A:B,2,FALSE)","v":162}]
[6109,"欧阳炅",361210209011,154221408627,22,{"$f":"VLOOKUP(C6110,Sheet2!A:B,2,FALSE)","v":162}]
[6110,"朱东阳",361210211011,154211000504,1,{"$f":"VLOOKUP(C6111,Sheet2!A:B,2,FALSE)","v":77}]
[6111,"徐建平",361210211011,154211000603,2,{"$f":"VLOOKUP(C6112,Sheet2!A:B,2,FALSE)","v":77}]
[6112,"唐晓青",361210211011,154211000622,3,{"$f":"VLOOKUP(C6113,Sheet2!A:B,2,FALSE)","v":77}]
[6113,"黄国胜",361210211011,154211001008,4,{"$f":"VLOOKUP(C6114,Sheet2!A:B,2,FALSE)","v":77}]
[6114,"刘众",361210211011,154211000517,5,{"$f":"VLOOKUP(C6115,Sheet2!A:B,2,FALSE)","v":77}]
[6115,"唐倩倩",361210211011,154211000920,6,{"$f":"VLOOKUP(C6116,Sheet2!A:B,2,FALSE)","v":77}]
[6116,"邓玉慧",361210211011,154211000620,7,{"$f":"VLOOKUP(C6117,Sheet2!A:B,2,FALSE)","v":77}]
[6117,"欧阳天平",361210211011,154211000508,8,{"$f":"VLOOKUP(C6118,Sheet2!A:B,2,FALSE)","v":77}]
[6118,"谢芳涛",361210211011,154211000813,9,{"$f":"VLOOKUP(C6119,Sheet2!A:B,2,FALSE)","v":77}]
[6119,"缪智光",361210211011,154211000725,10,{"$f":"VLOOKUP(C6120,Sheet2!A:B,2,FALSE)","v":77}]
[6120,"陈有添",361210211011,154211000924,11,{"$f":"VLOOKUP(C6121,Sheet2!A:B,2,FALSE)","v":77}]
[6121,"黄来妹",361210211011,154211001022,12,{"$f":"VLOOKUP(C6122,Sheet2!A:B,2,FALSE)","v":77}]
[6122,"廖种金",361210211011,154211000502,13,{"$f":"VLOOKUP(C6123,Sheet2!A:B,2,FALSE)","v":77}]
[6123,"蔡学龙",361210211011,154211000817,14,{"$f":"VLOOKUP(C6124,Sheet2!A:B,2,FALSE)","v":77}]
[6124,"周水艳",361210211011,154211000520,15,{"$f":"VLOOKUP(C6125,Sheet2!A:B,2,FALSE)","v":77}]
[6125,"欧阳小清",361210211011,154211001003,16,{"$f":"VLOOKUP(C6126,Sheet2!A:B,2,FALSE)","v":77}]
[6126,"钟书兵",361210212003,154210800605,1,{"$f":"VLOOKUP(C6127,Sheet2!A:B,2,FALSE)","v":124.5}]
[6127,"黄晓玲",361210212003,154242502716,2,{"$f":"VLOOKUP(C6128,Sheet2!A:B,2,FALSE)","v":124.5}]
[6128,"李彤彤",361210212003,154210800601,3,{"$f":"VLOOKUP(C6129,Sheet2!A:B,2,FALSE)","v":124.5}]
[6129,"叶萍",361210212003,154210800915,4,{"$f":"VLOOKUP(C6130,Sheet2!A:B,2,FALSE)","v":124.5}]
[6130,"杨培鑫",361210212003,154210801003,5,{"$f":"VLOOKUP(C6131,Sheet2!A:B,2,FALSE)","v":124.5}]
[6131,"胡乐菁",361210212003,154210800702,6,{"$f":"VLOOKUP(C6132,Sheet2!A:B,2,FALSE)","v":124.5}]
[6132,"陈林珠",361210212003,154210801024,7,{"$f":"VLOOKUP(C6133,Sheet2!A:B,2,FALSE)","v":124.5}]
[6133,"田淑娟",361210212003,154210800614,8,{"$f":"VLOOKUP(C6134,Sheet2!A:B,2,FALSE)","v":124.5}]
[6134,"赖树娟",361210212003,154210800905,9,{"$f":"VLOOKUP(C6135,Sheet2!A:B,2,FALSE)","v":124.5}]
[6135,"薛明夕",361210214001,154210604602,1,{"$f":"VLOOKUP(C6136,Sheet2!A:B,2,FALSE)","v":105.5}]
[6136,"肖湉彦",361211101010,154012302706,1,{"$f":"VLOOKUP(C6137,Sheet2!A:B,2,FALSE)","v":194}]
[6137,"黄丽婷",361211101010,154040701922,2,{"$f":"VLOOKUP(C6138,Sheet2!A:B,2,FALSE)","v":194}]
[6138,"陈颖",361211101010,154012100626,3,{"$f":"VLOOKUP(C6139,Sheet2!A:B,2,FALSE)","v":194}]
[6139,"朱开源",361211101010,154210103016,4,{"$f":"VLOOKUP(C6140,Sheet2!A:B,2,FALSE)","v":194}]
[6140,"尹姗姗",361211101010,154242401621,5,{"$f":"VLOOKUP(C6141,Sheet2!A:B,2,FALSE)","v":194}]
[6141,"刘清华",361211101010,154210100226,6,{"$f":"VLOOKUP(C6142,Sheet2!A:B,2,FALSE)","v":194}]
[6142,"黎丽霞",361211101010,154210105526,7,{"$f":"VLOOKUP(C6143,Sheet2!A:B,2,FALSE)","v":194}]
[6143,"黄玉兰",361211101010,154210103105,8,{"$f":"VLOOKUP(C6144,Sheet2!A:B,2,FALSE)","v":194}]
[6144,"郭湘",361211101010,154210600110,9,{"$f":"VLOOKUP(C6145,Sheet2!A:B,2,FALSE)","v":194}]
[6145,"刘蓓",361211101010,154210103706,10,{"$f":"VLOOKUP(C6146,Sheet2!A:B,2,FALSE)","v":194}]
[6146,"廖琳",361211101010,154012300501,11,{"$f":"VLOOKUP(C6147,Sheet2!A:B,2,FALSE)","v":194}]
[6147,"唐纯",361211101010,154210600704,12,{"$f":"VLOOKUP(C6148,Sheet2!A:B,2,FALSE)","v":194}]
[6148,"朱姝",361211101010,154012102824,13,{"$f":"VLOOKUP(C6149,Sheet2!A:B,2,FALSE)","v":194}]
[6149,"刘慧萍",361211101010,154210101511,14,{"$f":"VLOOKUP(C6150,Sheet2!A:B,2,FALSE)","v":194}]
[6150,"吴婷婷",361211101010,154210103524,17,{"$f":"VLOOKUP(C6151,Sheet2!A:B,2,FALSE)","v":194}]
[6151,"赵璐",361211101010,154210600428,15,{"$f":"VLOOKUP(C6152,Sheet2!A:B,2,FALSE)","v":194}]
[6152,"邱丽华",361211101010,154210104712,16,{"$f":"VLOOKUP(C6153,Sheet2!A:B,2,FALSE)","v":194}]
[6153,"吴莉莉",361211101010,154012102714,18,{"$f":"VLOOKUP(C6154,Sheet2!A:B,2,FALSE)","v":194}]
[6154,"郭婷",361211101010,154012300218,19,{"$f":"VLOOKUP(C6155,Sheet2!A:B,2,FALSE)","v":194}]
[6155,"廖裕",361211101010,154012301727,20,{"$f":"VLOOKUP(C6156,Sheet2!A:B,2,FALSE)","v":194}]
[6156,"张银华",361211101010,154210105724,22,{"$f":"VLOOKUP(C6157,Sheet2!A:B,2,FALSE)","v":194}]
[6157,"谢芳华",361211101010,154012101104,21,{"$f":"VLOOKUP(C6158,Sheet2!A:B,2,FALSE)","v":194}]
[6158,"罗颖慧",361211101010,154012302915,24,{"$f":"VLOOKUP(C6159,Sheet2!A:B,2,FALSE)","v":194}]
[6159,"曾霞",361211101010,154210105808,23,{"$f":"VLOOKUP(C6160,Sheet2!A:B,2,FALSE)","v":194}]
[6160,"王丽",361211101010,154012100104,26,{"$f":"VLOOKUP(C6161,Sheet2!A:B,2,FALSE)","v":194}]
[6161,"胡孝梅",361211101010,154242401917,27,{"$f":"VLOOKUP(C6162,Sheet2!A:B,2,FALSE)","v":194}]
[6162,"黄小萍",361211101010,154210105922,25,{"$f":"VLOOKUP(C6163,Sheet2!A:B,2,FALSE)","v":194}]
[6163,"李玟",361211102008,154012303120,1,{"$f":"VLOOKUP(C6164,Sheet2!A:B,2,FALSE)","v":193.5}]
[6164,"赖秀英·",361211102008,154211203001,2,{"$f":"VLOOKUP(C6165,Sheet2!A:B,2,FALSE)","v":193.5}]
[6165,"谢玫娟",361211102008,154211204026,3,{"$f":"VLOOKUP(C6166,Sheet2!A:B,2,FALSE)","v":193.5}]
[6166,"刘康萍",361211102008,154211201906,4,{"$f":"VLOOKUP(C6167,Sheet2!A:B,2,FALSE)","v":193.5}]
[6167,"邹志勇",361211102008,154012200908,5,{"$f":"VLOOKUP(C6168,Sheet2!A:B,2,FALSE)","v":193.5}]
[6168,"李文慧",361211102008,154012202126,6,{"$f":"VLOOKUP(C6169,Sheet2!A:B,2,FALSE)","v":193.5}]
[6169,"徐苗",361211102008,154012202016,7,{"$f":"VLOOKUP(C6170,Sheet2!A:B,2,FALSE)","v":193.5}]
[6170,"武艳",361211102008,154211202906,8,{"$f":"VLOOKUP(C6171,Sheet2!A:B,2,FALSE)","v":193.5}]
[6171,"罗露婷",361211102008,154012201409,9,{"$f":"VLOOKUP(C6172,Sheet2!A:B,2,FALSE)","v":193.5}]
[6172,"邓天明",361211102008,154210802108,10,{"$f":"VLOOKUP(C6173,Sheet2!A:B,2,FALSE)","v":193.5}]
[6173,"薛传涛",361211102008,154012201705,12,{"$f":"VLOOKUP(C6174,Sheet2!A:B,2,FALSE)","v":193.5}]
[6174,"明心鹏",361211102008,154012202318,11,{"$f":"VLOOKUP(C6175,Sheet2!A:B,2,FALSE)","v":193.5}]
[6175,"范佩琪",361211102008,154210802807,14,{"$f":"VLOOKUP(C6176,Sheet2!A:B,2,FALSE)","v":193.5}]
[6176,"凌婷婷",361211102008,154012303804,13,{"$f":"VLOOKUP(C6177,Sheet2!A:B,2,FALSE)","v":193.5}]
[6177,"李勇",361211102008,154210801220,15,{"$f":"VLOOKUP(C6178,Sheet2!A:B,2,FALSE)","v":193.5}]
[6178,"缪莹",361211102008,154211203906,16,{"$f":"VLOOKUP(C6179,Sheet2!A:B,2,FALSE)","v":193.5}]
[6179,"钟华",361211102008,154210801613,17,{"$f":"VLOOKUP(C6180,Sheet2!A:B,2,FALSE)","v":193.5}]
[6180,"魏琪",361211102008,154210802503,18,{"$f":"VLOOKUP(C6181,Sheet2!A:B,2,FALSE)","v":193.5}]
[6181,"吴亚楠",361211102008,154211201013,19,{"$f":"VLOOKUP(C6182,Sheet2!A:B,2,FALSE)","v":193.5}]
[6182,"袁粤青",361211102008,154012303901,20,{"$f":"VLOOKUP(C6183,Sheet2!A:B,2,FALSE)","v":193.5}]
[6183,"赖晓芬",361211103004,154210601202,1,{"$f":"VLOOKUP(C6184,Sheet2!A:B,2,FALSE)","v":173}]
[6184,"匡根华",361211103004,154012500830,2,{"$f":"VLOOKUP(C6185,Sheet2!A:B,2,FALSE)","v":173}]
[6185,"蔡宇丹",361211103004,154012501813,3,{"$f":"VLOOKUP(C6186,Sheet2!A:B,2,FALSE)","v":173}]
[6186,"刘珍珍",361211103004,154210602411,4,{"$f":"VLOOKUP(C6187,Sheet2!A:B,2,FALSE)","v":173}]
[6187,"刘璇",361211103004,154012500305,5,{"$f":"VLOOKUP(C6188,Sheet2!A:B,2,FALSE)","v":173}]
[6188,"吴诗思",361211103004,154012500809,6,{"$f":"VLOOKUP(C6189,Sheet2!A:B,2,FALSE)","v":173}]
[6189,"曾卉",361211103004,154012502501,7,{"$f":"VLOOKUP(C6190,Sheet2!A:B,2,FALSE)","v":173}]
[6190,"刘雯",361211103004,154012500117,9,{"$f":"VLOOKUP(C6191,Sheet2!A:B,2,FALSE)","v":173}]
[6191,"刘梅",361211103004,154210600911,8,{"$f":"VLOOKUP(C6192,Sheet2!A:B,2,FALSE)","v":173}]
[6192,"廖岩宇",361211103004,154210603709,10,{"$f":"VLOOKUP(C6193,Sheet2!A:B,2,FALSE)","v":173}]
[6193,"廖雨露",361211103004,154210601523,11,{"$f":"VLOOKUP(C6194,Sheet2!A:B,2,FALSE)","v":173}]
[6194,"严海芸",361211103004,154210602527,12,{"$f":"VLOOKUP(C6195,Sheet2!A:B,2,FALSE)","v":173}]
[6195,"刘嘉慧",361211105011,154012601827,1,{"$f":"VLOOKUP(C6196,Sheet2!A:B,2,FALSE)","v":160}]
[6196,"邱文婷",361211105011,154210503908,2,{"$f":"VLOOKUP(C6197,Sheet2!A:B,2,FALSE)","v":160}]
[6197,"宋子蕾",361211105011,154012602101,3,{"$f":"VLOOKUP(C6198,Sheet2!A:B,2,FALSE)","v":160}]
[6198,"毛子康",361211105011,154242600222,4,{"$f":"VLOOKUP(C6199,Sheet2!A:B,2,FALSE)","v":160}]
[6199,"刘玉芳",361211105011,154210503219,5,{"$f":"VLOOKUP(C6200,Sheet2!A:B,2,FALSE)","v":160}]
[6200,"肖沁雨",361211105011,154242600213,6,{"$f":"VLOOKUP(C6201,Sheet2!A:B,2,FALSE)","v":160}]
[6201,"刘玉坤",361211105011,154012601810,7,{"$f":"VLOOKUP(C6202,Sheet2!A:B,2,FALSE)","v":160}]
[6202,"高阳",361211105011,154242600512,8,{"$f":"VLOOKUP(C6203,Sheet2!A:B,2,FALSE)","v":160}]
[6203,"王征宇",361211105011,154012601215,9,{"$f":"VLOOKUP(C6204,Sheet2!A:B,2,FALSE)","v":160}]
[6204,"蓝丽丽",361211105011,154012602130,10,{"$f":"VLOOKUP(C6205,Sheet2!A:B,2,FALSE)","v":160}]
[6205,"李红",361211105011,154210605110,11,{"$f":"VLOOKUP(C6206,Sheet2!A:B,2,FALSE)","v":160}]
[6206,"曹丽",361211105011,154210502902,12,{"$f":"VLOOKUP(C6207,Sheet2!A:B,2,FALSE)","v":160}]
[6207,"叶玉莲",361211105011,154210503228,13,{"$f":"VLOOKUP(C6208,Sheet2!A:B,2,FALSE)","v":160}]
[6208,"唐思睿",361211105011,154210502930,15,{"$f":"VLOOKUP(C6209,Sheet2!A:B,2,FALSE)","v":160}]
[6209,"罗烜",361211105011,154012601918,14,{"$f":"VLOOKUP(C6210,Sheet2!A:B,2,FALSE)","v":160}]
[6210,"唐淑雯",361211105011,154210503427,16,{"$f":"VLOOKUP(C6211,Sheet2!A:B,2,FALSE)","v":160}]
[6211,"林杰",361211105011,154210503120,17,{"$f":"VLOOKUP(C6212,Sheet2!A:B,2,FALSE)","v":160}]
[6212,"黄书涛",361211105011,154242600121,19,{"$f":"VLOOKUP(C6213,Sheet2!A:B,2,FALSE)","v":160}]
[6213,"明星莲",361211105011,154210502712,18,{"$f":"VLOOKUP(C6214,Sheet2!A:B,2,FALSE)","v":160}]
[6214,"缪阳娟",361211105011,154210604811,20,{"$f":"VLOOKUP(C6215,Sheet2!A:B,2,FALSE)","v":160}]
[6215,"温小峰",361211105011,154210605007,21,{"$f":"VLOOKUP(C6216,Sheet2!A:B,2,FALSE)","v":160}]
[6216,"夏梦琴",361211105011,154210502717,22,{"$f":"VLOOKUP(C6217,Sheet2!A:B,2,FALSE)","v":160}]
[6217,"陈倩",361211106002,154211101728,1,{"$f":"VLOOKUP(C6218,Sheet2!A:B,2,FALSE)","v":156}]
[6218,"梅思燕",361211106002,154012603323,2,{"$f":"VLOOKUP(C6219,Sheet2!A:B,2,FALSE)","v":156}]
[6219,"赖玉娟",361211106002,154012602421,3,{"$f":"VLOOKUP(C6220,Sheet2!A:B,2,FALSE)","v":156}]
[6220,"韩颖",361211106002,154050314016,4,{"$f":"VLOOKUP(C6221,Sheet2!A:B,2,FALSE)","v":156}]
[6221,"陈小涵",361211106002,154211100917,5,{"$f":"VLOOKUP(C6222,Sheet2!A:B,2,FALSE)","v":156}]
[6222,"谢荟慧",361211106002,154211101414,6,{"$f":"VLOOKUP(C6223,Sheet2!A:B,2,FALSE)","v":156}]
[6223,"何丹",361211107004,154210301028,1,{"$f":"VLOOKUP(C6224,Sheet2!A:B,2,FALSE)","v":120}]
[6224,"徐林薇",361211107004,154210301129,2,{"$f":"VLOOKUP(C6225,Sheet2!A:B,2,FALSE)","v":120}]
[6225,"蓝艳",361211107004,154210300627,3,{"$f":"VLOOKUP(C6226,Sheet2!A:B,2,FALSE)","v":120}]
[6226,"廖雨涵",361211107004,154250104613,4,{"$f":"VLOOKUP(C6227,Sheet2!A:B,2,FALSE)","v":120}]
[6227,"李金玲",361211107004,154210301110,5,{"$f":"VLOOKUP(C6228,Sheet2!A:B,2,FALSE)","v":120}]
[6228,"郭文洁",361211107004,154210300629,6,{"$f":"VLOOKUP(C6229,Sheet2!A:B,2,FALSE)","v":120}]
[6229,"廖嘉慧",361211107004,154210300714,7,{"$f":"VLOOKUP(C6230,Sheet2!A:B,2,FALSE)","v":120}]
[6230,"钟家标",361211107004,154012502618,8,{"$f":"VLOOKUP(C6231,Sheet2!A:B,2,FALSE)","v":120}]
[6231,"胡文媚",361211107004,154210301319,9,{"$f":"VLOOKUP(C6232,Sheet2!A:B,2,FALSE)","v":120}]
[6232,"李倩文",361211107004,154242501016,10,{"$f":"VLOOKUP(C6233,Sheet2!A:B,2,FALSE)","v":120}]
[6233,"眭丽娟",361211107004,154210300622,11,{"$f":"VLOOKUP(C6234,Sheet2!A:B,2,FALSE)","v":120}]
[6234,"廖倩芸",361211107004,154210300930,12,{"$f":"VLOOKUP(C6235,Sheet2!A:B,2,FALSE)","v":120}]
[6235,"蔡火荣",361211113004,154040601429,1,{"$f":"VLOOKUP(C6236,Sheet2!A:B,2,FALSE)","v":134}]
[6236,"王宇",361211113004,154250104703,2,{"$f":"VLOOKUP(C6237,Sheet2!A:B,2,FALSE)","v":134}]
[6237,"陈宏梅",361211113004,154210800227,3,{"$f":"VLOOKUP(C6238,Sheet2!A:B,2,FALSE)","v":134}]
[6238,"邝凯",361211113004,154210800223,4,{"$f":"VLOOKUP(C6239,Sheet2!A:B,2,FALSE)","v":134}]
[6239,"吴朵花",361211113004,154040601519,5,{"$f":"VLOOKUP(C6240,Sheet2!A:B,2,FALSE)","v":134}]
[6240,"张伟萍",361211113004,154210800408,6,{"$f":"VLOOKUP(C6241,Sheet2!A:B,2,FALSE)","v":134}]
[6241,"罗倩",361211113004,154242601009,7,{"$f":"VLOOKUP(C6242,Sheet2!A:B,2,FALSE)","v":134}]
[6242,"段斌",361211113004,154242601014,8,{"$f":"VLOOKUP(C6243,Sheet2!A:B,2,FALSE)","v":134}]
[6243,"黄文晖",361211113004,154210800214,9,{"$f":"VLOOKUP(C6244,Sheet2!A:B,2,FALSE)","v":134}]
[6244,"陈怡",361211113004,154210800305,10,{"$f":"VLOOKUP(C6245,Sheet2!A:B,2,FALSE)","v":134}]
[6245,"沈洋",361211113004,154040601403,11,{"$f":"VLOOKUP(C6246,Sheet2!A:B,2,FALSE)","v":134}]
[6246,"廖宁",361211113004,154210800522,12,{"$f":"VLOOKUP(C6247,Sheet2!A:B,2,FALSE)","v":134}]
[6247,"温慧琳",361211201010,154242601805,1,{"$f":"VLOOKUP(C6248,Sheet2!A:B,2,FALSE)","v":143.5}]
[6248,"龙珈璐",361211201010,154012700224,2,{"$f":"VLOOKUP(C6249,Sheet2!A:B,2,FALSE)","v":143.5}]
[6249,"廖丽萍",361211201010,154012700405,3,{"$f":"VLOOKUP(C6250,Sheet2!A:B,2,FALSE)","v":143.5}]
[6250,"杜有娣",361211201010,154210902512,4,{"$f":"VLOOKUP(C6251,Sheet2!A:B,2,FALSE)","v":143.5}]
[6251,"肖春雨",361211201010,154210902729,5,{"$f":"VLOOKUP(C6252,Sheet2!A:B,2,FALSE)","v":143.5}]
[6252,"钟小莉",361211201010,154210902007,6,{"$f":"VLOOKUP(C6253,Sheet2!A:B,2,FALSE)","v":143.5}]
[6253,"袁童",361211201010,154210900926,7,{"$f":"VLOOKUP(C6254,Sheet2!A:B,2,FALSE)","v":143.5}]
[6254,"廖洋",361211201010,154242601501,8,{"$f":"VLOOKUP(C6255,Sheet2!A:B,2,FALSE)","v":143.5}]
[6255,"刘芳婷",361211201010,154012701311,9,{"$f":"VLOOKUP(C6256,Sheet2!A:B,2,FALSE)","v":143.5}]
[6256,"刘唐慧",361211201010,154210901812,10,{"$f":"VLOOKUP(C6257,Sheet2!A:B,2,FALSE)","v":143.5}]
[6257,"钟超",361211201010,154210901625,11,{"$f":"VLOOKUP(C6258,Sheet2!A:B,2,FALSE)","v":143.5}]
[6258,"张玉婷",361211201010,154210902710,12,{"$f":"VLOOKUP(C6259,Sheet2!A:B,2,FALSE)","v":143.5}]
[6259,"张龙清",361211201010,154030305111,13,{"$f":"VLOOKUP(C6260,Sheet2!A:B,2,FALSE)","v":143.5}]
[6260,"钟芳",361211201010,154210900626,14,{"$f":"VLOOKUP(C6261,Sheet2!A:B,2,FALSE)","v":143.5}]
[6261,"廖赛",361211201010,154012700211,15,{"$f":"VLOOKUP(C6262,Sheet2!A:B,2,FALSE)","v":143.5}]
[6262,"廖玉华",361211201010,154210901928,16,{"$f":"VLOOKUP(C6263,Sheet2!A:B,2,FALSE)","v":143.5}]
[6263,"任月琴",361211201010,154210900308,17,{"$f":"VLOOKUP(C6264,Sheet2!A:B,2,FALSE)","v":143.5}]
[6264,"成玉萍",361211201010,154210900115,18,{"$f":"VLOOKUP(C6265,Sheet2!A:B,2,FALSE)","v":143.5}]
[6265,"陈丽萍",361211201010,154210902225,19,{"$f":"VLOOKUP(C6266,Sheet2!A:B,2,FALSE)","v":143.5}]
[6266,"容欢",361211201010,154210900619,21,{"$f":"VLOOKUP(C6267,Sheet2!A:B,2,FALSE)","v":143.5}]
[6267,"蓝燕",361211201010,154210901312,20,{"$f":"VLOOKUP(C6268,Sheet2!A:B,2,FALSE)","v":143.5}]
[6268,"徐美娴",361211201010,154210901801,22,{"$f":"VLOOKUP(C6269,Sheet2!A:B,2,FALSE)","v":143.5}]
[6269,"朱怡婷",361211201010,154221404216,23,{"$f":"VLOOKUP(C6270,Sheet2!A:B,2,FALSE)","v":143.5}]
[6270,"梁颖慧",361211201010,154210900608,24,{"$f":"VLOOKUP(C6271,Sheet2!A:B,2,FALSE)","v":143.5}]
[6271,"张酉",361211201010,154012701111,25,{"$f":"VLOOKUP(C6272,Sheet2!A:B,2,FALSE)","v":143.5}]
[6272,"朱慧芬",361211203006,154210701321,1,{"$f":"VLOOKUP(C6273,Sheet2!A:B,2,FALSE)","v":172.5}]
[6273,"刘园园",361211203006,154242501917,2,{"$f":"VLOOKUP(C6274,Sheet2!A:B,2,FALSE)","v":172.5}]
[6274,"孙晴",361211203006,154210701111,3,{"$f":"VLOOKUP(C6275,Sheet2!A:B,2,FALSE)","v":172.5}]
[6275,"廖慧",361211203006,154210703305,4,{"$f":"VLOOKUP(C6276,Sheet2!A:B,2,FALSE)","v":172.5}]
[6276,"欧阳慧",361211203006,154210702319,5,{"$f":"VLOOKUP(C6277,Sheet2!A:B,2,FALSE)","v":172.5}]
[6277,"黄欢",361211203006,154210702125,7,{"$f":"VLOOKUP(C6278,Sheet2!A:B,2,FALSE)","v":172.5}]
[6278,"谭利航",361211203006,154210703417,6,{"$f":"VLOOKUP(C6279,Sheet2!A:B,2,FALSE)","v":172.5}]
[6279,"朱宝玉",361211203006,154040602224,8,{"$f":"VLOOKUP(C6280,Sheet2!A:B,2,FALSE)","v":172.5}]
[6280,"章雯丽",361211203006,154250105813,9,{"$f":"VLOOKUP(C6281,Sheet2!A:B,2,FALSE)","v":172.5}]
[6281,"李林瑶",361211203006,154210700303,10,{"$f":"VLOOKUP(C6282,Sheet2!A:B,2,FALSE)","v":172.5}]
[6282,"彭美璐",361211203006,154242501624,11,{"$f":"VLOOKUP(C6283,Sheet2!A:B,2,FALSE)","v":172.5}]
[6283,"刘金炎",361211203006,154210700703,12,{"$f":"VLOOKUP(C6284,Sheet2!A:B,2,FALSE)","v":172.5}]
[6284,"王小华",361211203006,154242501721,13,{"$f":"VLOOKUP(C6285,Sheet2!A:B,2,FALSE)","v":172.5}]
[6285,"叶贵婷",361211203006,154210700414,14,{"$f":"VLOOKUP(C6286,Sheet2!A:B,2,FALSE)","v":172.5}]
[6286,"彭佳佳",361211203006,154242501514,15,{"$f":"VLOOKUP(C6287,Sheet2!A:B,2,FALSE)","v":172.5}]
[6287,"叶健莹",361211205002,154211002024,1,{"$f":"VLOOKUP(C6288,Sheet2!A:B,2,FALSE)","v":132.5}]
[6288,"吴云华",361211205002,154221407303,2,{"$f":"VLOOKUP(C6289,Sheet2!A:B,2,FALSE)","v":132.5}]
[6289,"钟海玉",361211205002,154211002726,3,{"$f":"VLOOKUP(C6290,Sheet2!A:B,2,FALSE)","v":132.5}]
[6290,"廖厉",361211205002,154211001615,4,{"$f":"VLOOKUP(C6291,Sheet2!A:B,2,FALSE)","v":132.5}]
[6291,"胡伟军",361211205002,154030306403,6,{"$f":"VLOOKUP(C6292,Sheet2!A:B,2,FALSE)","v":132.5}]
[6292,"刘吉君",361211205002,154211002517,5,{"$f":"VLOOKUP(C6293,Sheet2!A:B,2,FALSE)","v":132.5}]
[6293,"廖芊",361211206002,154210500612,1,{"$f":"VLOOKUP(C6294,Sheet2!A:B,2,FALSE)","v":175.5}]
[6294,"王声雷",361211206002,154210502427,2,{"$f":"VLOOKUP(C6295,Sheet2!A:B,2,FALSE)","v":175.5}]
[6295,"吴莲",361211206002,154012701816,3,{"$f":"VLOOKUP(C6296,Sheet2!A:B,2,FALSE)","v":175.5}]
[6296,"钟敏",361211206002,154210502408,4,{"$f":"VLOOKUP(C6297,Sheet2!A:B,2,FALSE)","v":175.5}]
[6297,"曾小俊",361211206002,154210500121,5,{"$f":"VLOOKUP(C6298,Sheet2!A:B,2,FALSE)","v":175.5}]
[6298,"唐龙杰",361211206002,154210500517,6,{"$f":"VLOOKUP(C6299,Sheet2!A:B,2,FALSE)","v":175.5}]
[6299,"刘嘉靖",361211207003,154210401626,1,{"$f":"VLOOKUP(C6300,Sheet2!A:B,2,FALSE)","v":141.5}]
[6300,"吴煜",361211207003,154210401820,2,{"$f":"VLOOKUP(C6301,Sheet2!A:B,2,FALSE)","v":141.5}]
[6301,"钟林",361211207003,154210402007,3,{"$f":"VLOOKUP(C6302,Sheet2!A:B,2,FALSE)","v":141.5}]
[6302,"唐婵琪",361211207003,154012703021,4,{"$f":"VLOOKUP(C6303,Sheet2!A:B,2,FALSE)","v":141.5}]
[6303,"胡程尹",361211207003,154210401208,5,{"$f":"VLOOKUP(C6304,Sheet2!A:B,2,FALSE)","v":141.5}]
[6304,"赖文静",361211207003,154210401618,6,{"$f":"VLOOKUP(C6305,Sheet2!A:B,2,FALSE)","v":141.5}]
[6305,"袁宇",361211207003,154210401415,7,{"$f":"VLOOKUP(C6306,Sheet2!A:B,2,FALSE)","v":141.5}]
[6306,"谢莹芳",361211207003,154210401118,8,{"$f":"VLOOKUP(C6307,Sheet2!A:B,2,FALSE)","v":141.5}]
[6307,"古洪民",361211207003,154210402217,9,{"$f":"VLOOKUP(C6308,Sheet2!A:B,2,FALSE)","v":141.5}]
[6308,"刘莹",361212201002,154210901320,1,{"$f":"VLOOKUP(C6309,Sheet2!A:B,2,FALSE)","v":123}]
[6309,"罗莉萍",361212201002,154012700627,2,{"$f":"VLOOKUP(C6310,Sheet2!A:B,2,FALSE)","v":123}]
[6310,"彭倩莹",361212201002,154210901002,3,{"$f":"VLOOKUP(C6311,Sheet2!A:B,2,FALSE)","v":123}]
[6311,"刘玉",361212201002,154210903027,4,{"$f":"VLOOKUP(C6312,Sheet2!A:B,2,FALSE)","v":123}]
[6312,"罗欢",361212201002,154210901412,5,{"$f":"VLOOKUP(C6313,Sheet2!A:B,2,FALSE)","v":123}]
[6313,"唐文森",361212201002,154250105310,6,{"$f":"VLOOKUP(C6314,Sheet2!A:B,2,FALSE)","v":123}]
[6314,"罗平平",361212202002,154210201620,1,{"$f":"VLOOKUP(C6315,Sheet2!A:B,2,FALSE)","v":136.5}]
[6315,"黄国涛",361212202002,154210200912,2,{"$f":"VLOOKUP(C6316,Sheet2!A:B,2,FALSE)","v":136.5}]
[6316,"胡兰阳",361212202002,154210201328,3,{"$f":"VLOOKUP(C6317,Sheet2!A:B,2,FALSE)","v":136.5}]
[6317,"肖南圳",361212202002,154221405228,4,{"$f":"VLOOKUP(C6318,Sheet2!A:B,2,FALSE)","v":136.5}]
[6318,"贺艺璇",361212202002,154050315023,5,{"$f":"VLOOKUP(C6319,Sheet2!A:B,2,FALSE)","v":136.5}]
[6319,"徐政毅",361212202002,154210201812,6,{"$f":"VLOOKUP(C6320,Sheet2!A:B,2,FALSE)","v":136.5}]
[6320,"胡佳敏",361212203002,154210700629,1,{"$f":"VLOOKUP(C6321,Sheet2!A:B,2,FALSE)","v":168.5}]
[6321,"余秋敏",361212203002,154210701513,2,{"$f":"VLOOKUP(C6322,Sheet2!A:B,2,FALSE)","v":168.5}]
[6322,"钟欣",361212203002,154210702914,3,{"$f":"VLOOKUP(C6323,Sheet2!A:B,2,FALSE)","v":168.5}]
[6323,"刘玉婷",361212203002,154231502503,4,{"$f":"VLOOKUP(C6324,Sheet2!A:B,2,FALSE)","v":168.5}]
[6324,"曾婷婷",361212203002,154210701103,5,{"$f":"VLOOKUP(C6325,Sheet2!A:B,2,FALSE)","v":168.5}]
[6325,"叶倩倩",361212203002,154210702303,6,{"$f":"VLOOKUP(C6326,Sheet2!A:B,2,FALSE)","v":168.5}]
[6326,"冯露培",361212205001,154211001923,1,{"$f":"VLOOKUP(C6327,Sheet2!A:B,2,FALSE)","v":112.5}]
[6327,"王瑾",361212205001,154211003006,2,{"$f":"VLOOKUP(C6328,Sheet2!A:B,2,FALSE)","v":112.5}]
[6328,"易春生",361212205001,154211002801,3,{"$f":"VLOOKUP(C6329,Sheet2!A:B,2,FALSE)","v":112.5}]
[6329,"徐琪",361212206001,154210501321,1,{"$f":"VLOOKUP(C6330,Sheet2!A:B,2,FALSE)","v":169.5}]
[6330,"蔡青",361212206001,154210502321,2,{"$f":"VLOOKUP(C6331,Sheet2!A:B,2,FALSE)","v":169.5}]
[6331,"胡秋妹",361212206001,154210501505,3,{"$f":"VLOOKUP(C6332,Sheet2!A:B,2,FALSE)","v":169.5}]
[6332,"黄琳",361212207001,154231504210,1,{"$f":"VLOOKUP(C6333,Sheet2!A:B,2,FALSE)","v":96.5}]
[6333,"陈小青",361212207001,154210402316,2,{"$f":"VLOOKUP(C6334,Sheet2!A:B,2,FALSE)","v":96.5}]
[6334,"郭文燕",361212207001,154210401921,3,{"$f":"VLOOKUP(C6335,Sheet2!A:B,2,FALSE)","v":96.5}]
[6335,"欧阳宇菲",361213204002,154210203001,1,{"$f":"VLOOKUP(C6336,Sheet2!A:B,2,FALSE)","v":145.5}]
[6336,"刘微",361213204002,154210202409,2,{"$f":"VLOOKUP(C6337,Sheet2!A:B,2,FALSE)","v":145.5}]
[6337,"李晓峰",361213205004,154012804311,1,{"$f":"VLOOKUP(C6338,Sheet2!A:B,2,FALSE)","v":100.5}]
[6338,"廖丽华",361213205004,154012405812,2,{"$f":"VLOOKUP(C6339,Sheet2!A:B,2,FALSE)","v":100.5}]
[6339,"缪城林",361213205004,154012405926,3,{"$f":"VLOOKUP(C6340,Sheet2!A:B,2,FALSE)","v":100.5}]
[6340,"钟嘉俊",361213205004,154211003226,4,{"$f":"VLOOKUP(C6341,Sheet2!A:B,2,FALSE)","v":100.5}]
[6341,"缪玲妹",361213205004,154211002619,5,{"$f":"VLOOKUP(C6342,Sheet2!A:B,2,FALSE)","v":100.5}]
[6342,"邱明凤",361213205004,154211001507,6,{"$f":"VLOOKUP(C6343,Sheet2!A:B,2,FALSE)","v":100.5}]
[6343,"陈学付",361213205004,154211002424,7,{"$f":"VLOOKUP(C6344,Sheet2!A:B,2,FALSE)","v":100.5}]
[6344,"陈雪松",361213205004,154211001410,8,{"$f":"VLOOKUP(C6345,Sheet2!A:B,2,FALSE)","v":100.5}]
[6345,"钟杉婷",361213205004,154231503011,9,{"$f":"VLOOKUP(C6346,Sheet2!A:B,2,FALSE)","v":100.5}]
[6346,"曾朝麟",361213205004,154231502919,10,{"$f":"VLOOKUP(C6347,Sheet2!A:B,2,FALSE)","v":100.5}]
[6347,"谌小蝶",361213205004,154211003214,11,{"$f":"VLOOKUP(C6348,Sheet2!A:B,2,FALSE)","v":100.5}]
[6348,"陈丽清",361213205004,154211002110,14,{"$f":"VLOOKUP(C6349,Sheet2!A:B,2,FALSE)","v":100.5}]
[6349,"涂锐",361213205004,154211002816,13,{"$f":"VLOOKUP(C6350,Sheet2!A:B,2,FALSE)","v":100.5}]
[6350,"王紫微",361213205004,154012804022,12,{"$f":"VLOOKUP(C6351,Sheet2!A:B,2,FALSE)","v":100.5}]
[6351,"李松",361213206002,154210502615,1,{"$f":"VLOOKUP(C6352,Sheet2!A:B,2,FALSE)","v":157}]
[6352,"叶玉煌",361213206002,154210502418,2,{"$f":"VLOOKUP(C6353,Sheet2!A:B,2,FALSE)","v":157}]
[6353,"刘凯丽",361213206002,154012702813,3,{"$f":"VLOOKUP(C6354,Sheet2!A:B,2,FALSE)","v":157}]
[6354,"李晶",361213206002,154210500920,4,{"$f":"VLOOKUP(C6355,Sheet2!A:B,2,FALSE)","v":157}]
[6355,"周小玉",361213206002,154210500307,5,{"$f":"VLOOKUP(C6356,Sheet2!A:B,2,FALSE)","v":157}]
[6356,"易世炜",361213206002,154210501423,7,{"$f":"VLOOKUP(C6357,Sheet2!A:B,2,FALSE)","v":157}]
[6357,"陈海韵",361213206002,154210500129,8,{"$f":"VLOOKUP(C6358,Sheet2!A:B,2,FALSE)","v":157}]
[6358,"郭颖",361213206002,154210502207,9,{"$f":"VLOOKUP(C6359,Sheet2!A:B,2,FALSE)","v":157}]
[6359,"唐淑瑶",361213206002,154012702126,6,{"$f":"VLOOKUP(C6360,Sheet2!A:B,2,FALSE)","v":157}]
[6360,"刘娜",361213207002,154012406418,1,{"$f":"VLOOKUP(C6361,Sheet2!A:B,2,FALSE)","v":89}]
[6361,"廖芷仪",361213207002,154210401827,2,{"$f":"VLOOKUP(C6362,Sheet2!A:B,2,FALSE)","v":89}]
[6362,"欧阳燕",361213207002,154210401721,3,{"$f":"VLOOKUP(C6363,Sheet2!A:B,2,FALSE)","v":89}]
[6363,"余欣儿",361213207002,154210401420,4,{"$f":"VLOOKUP(C6364,Sheet2!A:B,2,FALSE)","v":89}]
[6364,"陈鑫",361213207002,154210401327,5,{"$f":"VLOOKUP(C6365,Sheet2!A:B,2,FALSE)","v":89}]
[6365,"谌嘉欣",361213207002,154210401805,6,{"$f":"VLOOKUP(C6366,Sheet2!A:B,2,FALSE)","v":89}]
[6366,"郭丽华",361214101005,154210102218,1,{"$f":"VLOOKUP(C6367,Sheet2!A:B,2,FALSE)","v":189}]
[6367,"符银红",361214101005,154210106615,2,{"$f":"VLOOKUP(C6368,Sheet2!A:B,2,FALSE)","v":189}]
[6368,"曹璐",361214101005,154012300415,4,{"$f":"VLOOKUP(C6369,Sheet2!A:B,2,FALSE)","v":189}]
[6369,"胡玲玲",361214101005,154210101803,3,{"$f":"VLOOKUP(C6370,Sheet2!A:B,2,FALSE)","v":189}]
[6370,"郑雅琴",361214101005,154040701812,6,{"$f":"VLOOKUP(C6371,Sheet2!A:B,2,FALSE)","v":189}]
[6371,"董凤仙",361214101005,154210104611,5,{"$f":"VLOOKUP(C6372,Sheet2!A:B,2,FALSE)","v":189}]
[6372,"郭美玲",361214101005,154210105205,7,{"$f":"VLOOKUP(C6373,Sheet2!A:B,2,FALSE)","v":189}]
[6373,"朱桂花",361214101005,154012301817,8,{"$f":"VLOOKUP(C6374,Sheet2!A:B,2,FALSE)","v":189}]
[6374,"张象群",361214101005,154012102923,9,{"$f":"VLOOKUP(C6375,Sheet2!A:B,2,FALSE)","v":189}]
[6375,"夏雪",361214101005,154012102306,10,{"$f":"VLOOKUP(C6376,Sheet2!A:B,2,FALSE)","v":189}]
[6376,"邓茹芸",361214101005,154210102012,12,{"$f":"VLOOKUP(C6377,Sheet2!A:B,2,FALSE)","v":189}]
[6377,"刘佩琪",361214101005,154210105517,11,{"$f":"VLOOKUP(C6378,Sheet2!A:B,2,FALSE)","v":189}]
[6378,"谢菲",361214101005,154210103530,13,{"$f":"VLOOKUP(C6379,Sheet2!A:B,2,FALSE)","v":189}]
[6379,"彭素萍",361214101005,154210104605,14,{"$f":"VLOOKUP(C6380,Sheet2!A:B,2,FALSE)","v":189}]
[6380,"崔颖",361214101005,154210102620,15,{"$f":"VLOOKUP(C6381,Sheet2!A:B,2,FALSE)","v":189}]
[6381,"温佳莉",361214101005,154210102419,16,{"$f":"VLOOKUP(C6382,Sheet2!A:B,2,FALSE)","v":189}]
[6382,"欧阳娇",361214102005,154211201808,1,{"$f":"VLOOKUP(C6383,Sheet2!A:B,2,FALSE)","v":191.5}]
[6383,"廖海鑫",361214102005,154211202423,2,{"$f":"VLOOKUP(C6384,Sheet2!A:B,2,FALSE)","v":191.5}]
[6384,"黄丽珠",361214102005,154211200910,3,{"$f":"VLOOKUP(C6385,Sheet2!A:B,2,FALSE)","v":191.5}]
[6385,"龚杰波",361214102005,154250103307,4,{"$f":"VLOOKUP(C6386,Sheet2!A:B,2,FALSE)","v":191.5}]
[6386,"付瑶",361214102005,154250102212,5,{"$f":"VLOOKUP(C6387,Sheet2!A:B,2,FALSE)","v":191.5}]
[6387,"刘跃飞",361214102005,154012201702,6,{"$f":"VLOOKUP(C6388,Sheet2!A:B,2,FALSE)","v":191.5}]
[6388,"谢佳敏",361214102005,154250102516,7,{"$f":"VLOOKUP(C6389,Sheet2!A:B,2,FALSE)","v":191.5}]
[6389,"黄小红",361214102005,154211202017,8,{"$f":"VLOOKUP(C6390,Sheet2!A:B,2,FALSE)","v":191.5}]
[6390,"温艺航",361214102005,154012202006,9,{"$f":"VLOOKUP(C6391,Sheet2!A:B,2,FALSE)","v":191.5}]
[6391,"柯荣荣",361214102005,154012203915,10,{"$f":"VLOOKUP(C6392,Sheet2!A:B,2,FALSE)","v":191.5}]
[6392,"王越",361214102005,154210802507,11,{"$f":"VLOOKUP(C6393,Sheet2!A:B,2,FALSE)","v":191.5}]
[6393,"王芬芳",361214102005,154210803508,12,{"$f":"VLOOKUP(C6394,Sheet2!A:B,2,FALSE)","v":191.5}]
[6394,"廖丽红",361214102005,154250102009,13,{"$f":"VLOOKUP(C6395,Sheet2!A:B,2,FALSE)","v":191.5}]
[6395,"曾晴",361214102005,154211201726,14,{"$f":"VLOOKUP(C6396,Sheet2!A:B,2,FALSE)","v":191.5}]
[6396,"陈拥发",361214102005,154211201324,15,{"$f":"VLOOKUP(C6397,Sheet2!A:B,2,FALSE)","v":191.5}]
[6397,"陈愉",361214102005,154242700216,16,{"$f":"VLOOKUP(C6398,Sheet2!A:B,2,FALSE)","v":191.5}]
[6398,"郭龙英",361214103005,154012501414,1,{"$f":"VLOOKUP(C6399,Sheet2!A:B,2,FALSE)","v":174.5}]
[6399,"赖臻",361214103005,154210603307,2,{"$f":"VLOOKUP(C6400,Sheet2!A:B,2,FALSE)","v":174.5}]
[6400,"陈丽霞",361214103005,154012502406,3,{"$f":"VLOOKUP(C6401,Sheet2!A:B,2,FALSE)","v":174.5}]
[6401,"赖凌云",361214103005,154012501916,4,{"$f":"VLOOKUP(C6402,Sheet2!A:B,2,FALSE)","v":174.5}]
[6402,"李丹",361214103005,154210603605,5,{"$f":"VLOOKUP(C6403,Sheet2!A:B,2,FALSE)","v":174.5}]
[6403,"曾雪红",361214103005,154012502316,6,{"$f":"VLOOKUP(C6404,Sheet2!A:B,2,FALSE)","v":174.5}]
[6404,"陈丽",361214103005,154012500530,7,{"$f":"VLOOKUP(C6405,Sheet2!A:B,2,FALSE)","v":174.5}]
[6405,"曾宛如",361214103005,154210603317,8,{"$f":"VLOOKUP(C6406,Sheet2!A:B,2,FALSE)","v":174.5}]
[6406,"曾愉婷",361214103005,154012500422,9,{"$f":"VLOOKUP(C6407,Sheet2!A:B,2,FALSE)","v":174.5}]
[6407,"范标亭",361214103005,154221402412,10,{"$f":"VLOOKUP(C6408,Sheet2!A:B,2,FALSE)","v":174.5}]
[6408,"李莎莎",361214103005,154250103511,11,{"$f":"VLOOKUP(C6409,Sheet2!A:B,2,FALSE)","v":174.5}]
[6409,"肖月红",361214103005,154210603629,12,{"$f":"VLOOKUP(C6410,Sheet2!A:B,2,FALSE)","v":174.5}]
[6410,"曾亚静",361214103005,154210602702,13,{"$f":"VLOOKUP(C6411,Sheet2!A:B,2,FALSE)","v":174.5}]
[6411,"邹雨",361214103005,154012502021,14,{"$f":"VLOOKUP(C6412,Sheet2!A:B,2,FALSE)","v":174.5}]
[6412,"李珊珊",361214103005,154012500720,15,{"$f":"VLOOKUP(C6413,Sheet2!A:B,2,FALSE)","v":174.5}]
[6413,"宋春梅",361214104003,154210302905,1,{"$f":"VLOOKUP(C6414,Sheet2!A:B,2,FALSE)","v":205}]
[6414,"卢清岚",361214104003,154012600914,2,{"$f":"VLOOKUP(C6415,Sheet2!A:B,2,FALSE)","v":205}]
[6415,"张玉婷",361214104003,154221402927,3,{"$f":"VLOOKUP(C6416,Sheet2!A:B,2,FALSE)","v":205}]
[6416,"黎慧毅",361214104003,154210400211,5,{"$f":"VLOOKUP(C6417,Sheet2!A:B,2,FALSE)","v":205}]
[6417,"肖粤",361214104003,154012600401,4,{"$f":"VLOOKUP(C6418,Sheet2!A:B,2,FALSE)","v":205}]
[6418,"李晓慧",361214104003,154012600106,6,{"$f":"VLOOKUP(C6419,Sheet2!A:B,2,FALSE)","v":205}]
[6419,"李佩成",361214104003,154012600611,7,{"$f":"VLOOKUP(C6420,Sheet2!A:B,2,FALSE)","v":205}]
[6420,"吴丽娜",361214104003,154012600711,8,{"$f":"VLOOKUP(C6421,Sheet2!A:B,2,FALSE)","v":205}]
[6421,"夏雪清",361214104003,154012600203,9,{"$f":"VLOOKUP(C6422,Sheet2!A:B,2,FALSE)","v":205}]
[6422,"宋雨晴",361214104003,154210302822,10,{"$f":"VLOOKUP(C6423,Sheet2!A:B,2,FALSE)","v":205}]
[6423,"郭灵凤",361214105004,154012601924,1,{"$f":"VLOOKUP(C6424,Sheet2!A:B,2,FALSE)","v":143}]
[6424,"黄蕊璐",361214105004,154221403312,2,{"$f":"VLOOKUP(C6425,Sheet2!A:B,2,FALSE)","v":143}]
[6425,"谢莘苇",361214105004,154210503203,3,{"$f":"VLOOKUP(C6426,Sheet2!A:B,2,FALSE)","v":143}]
[6426,"吴梓辉",361214105004,154060602412,4,{"$f":"VLOOKUP(C6427,Sheet2!A:B,2,FALSE)","v":143}]
[6427,"杨燊",361214105004,154040703018,5,{"$f":"VLOOKUP(C6428,Sheet2!A:B,2,FALSE)","v":143}]
[6428,"陈科霖",361214105004,154210503216,6,{"$f":"VLOOKUP(C6429,Sheet2!A:B,2,FALSE)","v":143}]
[6429,"王燕",361214105004,154210605026,7,{"$f":"VLOOKUP(C6430,Sheet2!A:B,2,FALSE)","v":143}]
[6430,"张旺来",361214105004,154012601629,8,{"$f":"VLOOKUP(C6431,Sheet2!A:B,2,FALSE)","v":143}]
[6431,"贺珍",361214105004,154030303607,9,{"$f":"VLOOKUP(C6432,Sheet2!A:B,2,FALSE)","v":143}]
[6432,"周慧文",361214105004,154242600405,10,{"$f":"VLOOKUP(C6433,Sheet2!A:B,2,FALSE)","v":143}]
[6433,"陈宏志",361214105004,154210503510,11,{"$f":"VLOOKUP(C6434,Sheet2!A:B,2,FALSE)","v":143}]
[6434,"刘思清",361214105004,154012601305,12,{"$f":"VLOOKUP(C6435,Sheet2!A:B,2,FALSE)","v":143}]
[6435,"郭雅萍",361214106002,154012603214,1,{"$f":"VLOOKUP(C6436,Sheet2!A:B,2,FALSE)","v":138.5}]
[6436,"张惠萍",361214106002,154211103109,2,{"$f":"VLOOKUP(C6437,Sheet2!A:B,2,FALSE)","v":138.5}]
[6437,"王涛",361214106002,154012603207,3,{"$f":"VLOOKUP(C6438,Sheet2!A:B,2,FALSE)","v":138.5}]
[6438,"李嘉瑶",361214106002,154012602903,4,{"$f":"VLOOKUP(C6439,Sheet2!A:B,2,FALSE)","v":138.5}]
[6439,"石欣宜",361214106002,154012603516,5,{"$f":"VLOOKUP(C6440,Sheet2!A:B,2,FALSE)","v":138.5}]
[6440,"龙诗鸿",361214106002,154211102105,6,{"$f":"VLOOKUP(C6441,Sheet2!A:B,2,FALSE)","v":138.5}]
[6441,"杜欢",361214107003,154210301009,1,{"$f":"VLOOKUP(C6442,Sheet2!A:B,2,FALSE)","v":123.5}]
[6442,"张淑华",361214107003,154012502905,2,{"$f":"VLOOKUP(C6443,Sheet2!A:B,2,FALSE)","v":123.5}]
[6443,"王君",361214107003,154242501005,3,{"$f":"VLOOKUP(C6444,Sheet2!A:B,2,FALSE)","v":123.5}]
[6444,"刘倩倩",361214107003,154210300928,4,{"$f":"VLOOKUP(C6445,Sheet2!A:B,2,FALSE)","v":123.5}]
[6445,"丁少峻",361214107003,154210300825,5,{"$f":"VLOOKUP(C6446,Sheet2!A:B,2,FALSE)","v":123.5}]
[6446,"冯梦",361214107003,154040703506,6,{"$f":"VLOOKUP(C6447,Sheet2!A:B,2,FALSE)","v":123.5}]
[6447,"林峰",361214107003,154012502801,7,{"$f":"VLOOKUP(C6448,Sheet2!A:B,2,FALSE)","v":123.5}]
[6448,"邹浩",361214107003,154012502913,8,{"$f":"VLOOKUP(C6449,Sheet2!A:B,2,FALSE)","v":123.5}]
[6449,"廖甜甜",361214107003,154210301428,9,{"$f":"VLOOKUP(C6450,Sheet2!A:B,2,FALSE)","v":123.5}]
[6450,"李惠",361214113002,154210800122,1,{"$f":"VLOOKUP(C6451,Sheet2!A:B,2,FALSE)","v":157}]
[6451,"杨国清",361214113002,154242601023,2,{"$f":"VLOOKUP(C6452,Sheet2!A:B,2,FALSE)","v":157}]
[6452,"杨雨馨",361214113002,154050314304,3,{"$f":"VLOOKUP(C6453,Sheet2!A:B,2,FALSE)","v":157}]
[6453,"李嘉鑫",361214113002,154250104718,4,{"$f":"VLOOKUP(C6454,Sheet2!A:B,2,FALSE)","v":157}]
[6454,"郭晴",361214113002,154242601016,5,{"$f":"VLOOKUP(C6455,Sheet2!A:B,2,FALSE)","v":157}]
[6455,"黄艳",361214113002,154242601010,6,{"$f":"VLOOKUP(C6456,Sheet2!A:B,2,FALSE)","v":157}]
[6456,"王芳琦",361214116001,154012405408,1,{"$f":"VLOOKUP(C6457,Sheet2!A:B,2,FALSE)","v":185}]
[6457,"廖颖",361214116001,154210301825,2,{"$f":"VLOOKUP(C6458,Sheet2!A:B,2,FALSE)","v":185}]
[6458,"廖美芸",361214116001,154210302407,3,{"$f":"VLOOKUP(C6459,Sheet2!A:B,2,FALSE)","v":185}]
[6459,"凌婷",361214201005,154020500304,1,{"$f":"VLOOKUP(C6460,Sheet2!A:B,2,FALSE)","v":153.5}]
[6460,"张巧缘",361214201005,154012700723,2,{"$f":"VLOOKUP(C6461,Sheet2!A:B,2,FALSE)","v":153.5}]
[6461,"肖永芹",361214201005,154210901416,3,{"$f":"VLOOKUP(C6462,Sheet2!A:B,2,FALSE)","v":153.5}]
[6462,"李倩",361214201005,154210901026,4,{"$f":"VLOOKUP(C6463,Sheet2!A:B,2,FALSE)","v":153.5}]
[6463,"徐微",361214201005,154210901318,5,{"$f":"VLOOKUP(C6464,Sheet2!A:B,2,FALSE)","v":153.5}]
[6464,"陈梦茹",361214201005,154012700902,6,{"$f":"VLOOKUP(C6465,Sheet2!A:B,2,FALSE)","v":153.5}]
[6465,"肖纪云",361214201005,154020500428,7,{"$f":"VLOOKUP(C6466,Sheet2!A:B,2,FALSE)","v":153.5}]
[6466,"胡兆妤",361214201005,154210902008,8,{"$f":"VLOOKUP(C6467,Sheet2!A:B,2,FALSE)","v":153.5}]
[6467,"傅慧娴",361214201005,154210901409,9,{"$f":"VLOOKUP(C6468,Sheet2!A:B,2,FALSE)","v":153.5}]
[6468,"陈丽遥",361214201005,154012701215,10,{"$f":"VLOOKUP(C6469,Sheet2!A:B,2,FALSE)","v":153.5}]
[6469,"王雨辰",361214201005,154012700618,11,{"$f":"VLOOKUP(C6470,Sheet2!A:B,2,FALSE)","v":153.5}]
[6470,"黄桂英",361214201005,154020500204,12,{"$f":"VLOOKUP(C6471,Sheet2!A:B,2,FALSE)","v":153.5}]
[6471,"钟庆玉",361214201005,154210902924,13,{"$f":"VLOOKUP(C6472,Sheet2!A:B,2,FALSE)","v":153.5}]
[6472,"肖蕊欣",361214201005,154210902005,14,{"$f":"VLOOKUP(C6473,Sheet2!A:B,2,FALSE)","v":153.5}]
[6473,"古琼",361214201005,154012701009,15,{"$f":"VLOOKUP(C6474,Sheet2!A:B,2,FALSE)","v":153.5}]
[6474,"吴倩如",361214202005,154210200217,1,{"$f":"VLOOKUP(C6475,Sheet2!A:B,2,FALSE)","v":147.5}]
[6475,"温雪琴",361214202005,154210201823,2,{"$f":"VLOOKUP(C6476,Sheet2!A:B,2,FALSE)","v":147.5}]
[6476,"曾美芳",361214202005,154210201319,3,{"$f":"VLOOKUP(C6477,Sheet2!A:B,2,FALSE)","v":147.5}]
[6477,"李艳风",361214202005,154210200104,4,{"$f":"VLOOKUP(C6478,Sheet2!A:B,2,FALSE)","v":147.5}]
[6478,"谢薇",361214202005,154210200706,5,{"$f":"VLOOKUP(C6479,Sheet2!A:B,2,FALSE)","v":147.5}]
[6479,"温恬",361214202005,154210201723,6,{"$f":"VLOOKUP(C6480,Sheet2!A:B,2,FALSE)","v":147.5}]
[6480,"黄林萍",361214202005,154210200805,7,{"$f":"VLOOKUP(C6481,Sheet2!A:B,2,FALSE)","v":147.5}]
[6481,"孙琪",361214202005,154210200107,8,{"$f":"VLOOKUP(C6482,Sheet2!A:B,2,FALSE)","v":147.5}]
[6482,"陈如贤",361214202005,154210200226,9,{"$f":"VLOOKUP(C6483,Sheet2!A:B,2,FALSE)","v":147.5}]
[6483,"张志超",361214202005,154060603316,10,{"$f":"VLOOKUP(C6484,Sheet2!A:B,2,FALSE)","v":147.5}]
[6484,"李静",361214202005,154242703013,11,{"$f":"VLOOKUP(C6485,Sheet2!A:B,2,FALSE)","v":147.5}]
[6485,"于文鋆",361214202005,154012906921,12,{"$f":"VLOOKUP(C6486,Sheet2!A:B,2,FALSE)","v":147.5}]
[6486,"陈肖虎",361214202005,154210201820,13,{"$f":"VLOOKUP(C6487,Sheet2!A:B,2,FALSE)","v":147.5}]
[6487,"管林",361214202005,154210200208,14,{"$f":"VLOOKUP(C6488,Sheet2!A:B,2,FALSE)","v":147.5}]
[6488,"赖辉鹏",361214202005,154210200727,15,{"$f":"VLOOKUP(C6489,Sheet2!A:B,2,FALSE)","v":147.5}]
[6489,"谢桂英",361214203004,154012908309,1,{"$f":"VLOOKUP(C6490,Sheet2!A:B,2,FALSE)","v":162.5}]
[6490,"江欣",361214203004,154012804501,2,{"$f":"VLOOKUP(C6491,Sheet2!A:B,2,FALSE)","v":162.5}]
[6491,"谢莲",361214203004,154040602809,3,{"$f":"VLOOKUP(C6492,Sheet2!A:B,2,FALSE)","v":162.5}]
[6492,"温毅平",361214203004,154020501705,4,{"$f":"VLOOKUP(C6493,Sheet2!A:B,2,FALSE)","v":162.5}]
[6493,"姜云燕",361214203004,154040603014,5,{"$f":"VLOOKUP(C6494,Sheet2!A:B,2,FALSE)","v":162.5}]
[6494,"宋海泉",361214203004,154012805802,6,{"$f":"VLOOKUP(C6495,Sheet2!A:B,2,FALSE)","v":162.5}]
[6495,"张亚莉",361214203004,154210701219,7,{"$f":"VLOOKUP(C6496,Sheet2!A:B,2,FALSE)","v":162.5}]
[6496,"彭茗菁",361214203004,154210700515,8,{"$f":"VLOOKUP(C6497,Sheet2!A:B,2,FALSE)","v":162.5}]
[6497,"赵美琴",361214203004,154020501702,9,{"$f":"VLOOKUP(C6498,Sheet2!A:B,2,FALSE)","v":162.5}]
[6498,"曾小敏",361214203004,154210701309,10,{"$f":"VLOOKUP(C6499,Sheet2!A:B,2,FALSE)","v":162.5}]
[6499,"陈红",361214203004,154210702828,11,{"$f":"VLOOKUP(C6500,Sheet2!A:B,2,FALSE)","v":162.5}]
[6500,"李楠",361214203004,154210702727,12,{"$f":"VLOOKUP(C6501,Sheet2!A:B,2,FALSE)","v":162.5}]
[6501,"曾梦婷",361214204006,154210202904,1,{"$f":"VLOOKUP(C6502,Sheet2!A:B,2,FALSE)","v":172}]
[6502,"温梦祺",361214204006,154210202523,2,{"$f":"VLOOKUP(C6503,Sheet2!A:B,2,FALSE)","v":172}]
[6503,"罗素英",361214204006,154210202314,3,{"$f":"VLOOKUP(C6504,Sheet2!A:B,2,FALSE)","v":172}]
[6504,"任晓飞",361214204006,154012909012,4,{"$f":"VLOOKUP(C6505,Sheet2!A:B,2,FALSE)","v":172}]
[6505,"郭芳芳",361214204006,154210202301,5,{"$f":"VLOOKUP(C6506,Sheet2!A:B,2,FALSE)","v":172}]
[6506,"邱雪兰",361214204006,154030306228,6,{"$f":"VLOOKUP(C6507,Sheet2!A:B,2,FALSE)","v":172}]
[6507,"李志红",361214204006,154210202009,7,{"$f":"VLOOKUP(C6508,Sheet2!A:B,2,FALSE)","v":172}]
[6508,"席佳南",361214204006,154012405506,8,{"$f":"VLOOKUP(C6509,Sheet2!A:B,2,FALSE)","v":172}]
[6509,"谢琳",361214204006,154210202803,9,{"$f":"VLOOKUP(C6510,Sheet2!A:B,2,FALSE)","v":172}]
[6510,"陈敏",361214204006,154012405619,10,{"$f":"VLOOKUP(C6511,Sheet2!A:B,2,FALSE)","v":172}]
[6511,"涂晓庆",361214204006,154250106028,11,{"$f":"VLOOKUP(C6512,Sheet2!A:B,2,FALSE)","v":172}]
[6512,"刘琴",361214204006,154242403328,12,{"$f":"VLOOKUP(C6513,Sheet2!A:B,2,FALSE)","v":172}]
[6513,"李彤瑶",361214204006,154012909029,13,{"$f":"VLOOKUP(C6514,Sheet2!A:B,2,FALSE)","v":172}]
[6514,"胡丽娟",361214204006,154210202816,14,{"$f":"VLOOKUP(C6515,Sheet2!A:B,2,FALSE)","v":172}]
[6515,"符燕",361214204006,154012405529,15,{"$f":"VLOOKUP(C6516,Sheet2!A:B,2,FALSE)","v":172}]
[6516,"张水林",361214205020,154211001927,1,{"$f":"VLOOKUP(C6517,Sheet2!A:B,2,FALSE)","v":145}]
[6517,"赖嘉诚",361214205020,154211001719,2,{"$f":"VLOOKUP(C6518,Sheet2!A:B,2,FALSE)","v":145}]
[6518,"谭丽华",361214205020,154211003415,3,{"$f":"VLOOKUP(C6519,Sheet2!A:B,2,FALSE)","v":145}]
[6519,"陈芳",361214205020,154211003412,4,{"$f":"VLOOKUP(C6520,Sheet2!A:B,2,FALSE)","v":145}]
[6520,"丁文晟",361214205020,154211003007,5,{"$f":"VLOOKUP(C6521,Sheet2!A:B,2,FALSE)","v":145}]
[6521,"梁昌锋",361214205020,154211003322,6,{"$f":"VLOOKUP(C6522,Sheet2!A:B,2,FALSE)","v":145}]
[6522,"谢达珩",361214205020,154211002103,7,{"$f":"VLOOKUP(C6523,Sheet2!A:B,2,FALSE)","v":145}]
[6523,"李欢",361214205020,154250106107,8,{"$f":"VLOOKUP(C6524,Sheet2!A:B,2,FALSE)","v":145}]
[6524,"漆琴",361214205020,154012405811,9,{"$f":"VLOOKUP(C6525,Sheet2!A:B,2,FALSE)","v":145}]
[6525,"郭坚",361214205020,154211003015,10,{"$f":"VLOOKUP(C6526,Sheet2!A:B,2,FALSE)","v":145}]
[6526,"谢小龙",361214205020,154030306501,11,{"$f":"VLOOKUP(C6527,Sheet2!A:B,2,FALSE)","v":145}]
[6527,"郑小梅",361214205020,154211002811,12,{"$f":"VLOOKUP(C6528,Sheet2!A:B,2,FALSE)","v":145}]
[6528,"李莉珍",361214205020,154012406122,13,{"$f":"VLOOKUP(C6529,Sheet2!A:B,2,FALSE)","v":145}]
[6529,"李霞",361214205020,154211001416,14,{"$f":"VLOOKUP(C6530,Sheet2!A:B,2,FALSE)","v":145}]
[6530,"崔咏发",361214205020,154050315617,15,{"$f":"VLOOKUP(C6531,Sheet2!A:B,2,FALSE)","v":145}]
[6531,"曾玮萱",361214205020,154211001806,16,{"$f":"VLOOKUP(C6532,Sheet2!A:B,2,FALSE)","v":145}]
[6532,"刘鑫",361214205020,154211002005,17,{"$f":"VLOOKUP(C6533,Sheet2!A:B,2,FALSE)","v":145}]
[6533,"江小琴",361214205020,154211002904,18,{"$f":"VLOOKUP(C6534,Sheet2!A:B,2,FALSE)","v":145}]
[6534,"张捡春",361214205020,154211001414,19,{"$f":"VLOOKUP(C6535,Sheet2!A:B,2,FALSE)","v":145}]
[6535,"曾胤",361214205020,154012405906,20,{"$f":"VLOOKUP(C6536,Sheet2!A:B,2,FALSE)","v":145}]
[6536,"肖钟强",361214205020,154231503116,21,{"$f":"VLOOKUP(C6537,Sheet2!A:B,2,FALSE)","v":145}]
[6537,"李学圆",361214205020,154242703701,22,{"$f":"VLOOKUP(C6538,Sheet2!A:B,2,FALSE)","v":145}]
[6538,"彭烽",361214205020,154211002716,23,{"$f":"VLOOKUP(C6539,Sheet2!A:B,2,FALSE)","v":145}]
[6539,"刘丽芸",361214205020,154211002009,24,{"$f":"VLOOKUP(C6540,Sheet2!A:B,2,FALSE)","v":145}]
[6540,"薛国栋",361214205020,154211001916,25,{"$f":"VLOOKUP(C6541,Sheet2!A:B,2,FALSE)","v":145}]
[6541,"廖远超",361214205020,154211002212,27,{"$f":"VLOOKUP(C6542,Sheet2!A:B,2,FALSE)","v":145}]
[6542,"潘东虹",361214205020,154231503305,26,{"$f":"VLOOKUP(C6543,Sheet2!A:B,2,FALSE)","v":145}]
[6543,"郭梁",361214205020,154211003228,28,{"$f":"VLOOKUP(C6544,Sheet2!A:B,2,FALSE)","v":145}]
[6544,"刘立文",361214205020,154221407206,29,{"$f":"VLOOKUP(C6545,Sheet2!A:B,2,FALSE)","v":145}]
[6545,"黄涛",361214205020,154211002511,30,{"$f":"VLOOKUP(C6546,Sheet2!A:B,2,FALSE)","v":145}]
[6546,"黄浚",361214205020,154050315601,31,{"$f":"VLOOKUP(C6547,Sheet2!A:B,2,FALSE)","v":145}]
[6547,"钟宇",361214205020,154211001630,32,{"$f":"VLOOKUP(C6548,Sheet2!A:B,2,FALSE)","v":145}]
[6548,"江新",361214205020,154030306723,33,{"$f":"VLOOKUP(C6549,Sheet2!A:B,2,FALSE)","v":145}]
[6549,"周璇",361214205020,154211001929,35,{"$f":"VLOOKUP(C6550,Sheet2!A:B,2,FALSE)","v":145}]
[6550,"陈勇",361214205020,154221407230,34,{"$f":"VLOOKUP(C6551,Sheet2!A:B,2,FALSE)","v":145}]
[6551,"朱秀清",361214205020,154211003019,36,{"$f":"VLOOKUP(C6552,Sheet2!A:B,2,FALSE)","v":145}]
[6552,"李强",361214205020,154211002703,37,{"$f":"VLOOKUP(C6553,Sheet2!A:B,2,FALSE)","v":145}]
[6553,"夏金焜",361214205020,154250106117,38,{"$f":"VLOOKUP(C6554,Sheet2!A:B,2,FALSE)","v":145}]
[6554,"刘生辉",361214205020,154040603625,39,{"$f":"VLOOKUP(C6555,Sheet2!A:B,2,FALSE)","v":145}]
[6555,"刘桢",361214205020,154211001415,40,{"$f":"VLOOKUP(C6556,Sheet2!A:B,2,FALSE)","v":145}]
[6556,"周磊",361214206006,154012702829,1,{"$f":"VLOOKUP(C6557,Sheet2!A:B,2,FALSE)","v":174}]
[6557,"吴文晋",361214206006,154210501330,3,{"$f":"VLOOKUP(C6558,Sheet2!A:B,2,FALSE)","v":174}]
[6558,"李婷",361214206006,154012702130,2,{"$f":"VLOOKUP(C6559,Sheet2!A:B,2,FALSE)","v":174}]
[6559,"熊惠",361214206006,154210502226,4,{"$f":"VLOOKUP(C6560,Sheet2!A:B,2,FALSE)","v":174}]
[6560,"黄思琴",361214206006,154012702008,6,{"$f":"VLOOKUP(C6561,Sheet2!A:B,2,FALSE)","v":174}]
[6561,"肖卓",361214206006,154012702724,5,{"$f":"VLOOKUP(C6562,Sheet2!A:B,2,FALSE)","v":174}]
[6562,"赖雅娟",361214206006,154210501918,7,{"$f":"VLOOKUP(C6563,Sheet2!A:B,2,FALSE)","v":174}]
[6563,"张瑜",361214206006,154210501913,8,{"$f":"VLOOKUP(C6564,Sheet2!A:B,2,FALSE)","v":174}]
[6564,"龙佳雪",361214206006,154210501706,9,{"$f":"VLOOKUP(C6565,Sheet2!A:B,2,FALSE)","v":174}]
[6565,"刘志鹏",361214206006,154012702109,10,{"$f":"VLOOKUP(C6566,Sheet2!A:B,2,FALSE)","v":174}]
[6566,"钟叶惠子",361214206006,154221407601,11,{"$f":"VLOOKUP(C6567,Sheet2!A:B,2,FALSE)","v":174}]
[6567,"沈灵煜",361214206006,154210501129,12,{"$f":"VLOOKUP(C6568,Sheet2!A:B,2,FALSE)","v":174}]
[6568,"郭立红",361214206006,154012701903,13,{"$f":"VLOOKUP(C6569,Sheet2!A:B,2,FALSE)","v":174}]
[6569,"林佳婧",361214206006,154012702213,14,{"$f":"VLOOKUP(C6570,Sheet2!A:B,2,FALSE)","v":174}]
[6570,"李薇",361214206006,154210501621,15,{"$f":"VLOOKUP(C6571,Sheet2!A:B,2,FALSE)","v":174}]
[6571,"何佳琪",361214207006,154210401516,1,{"$f":"VLOOKUP(C6572,Sheet2!A:B,2,FALSE)","v":143}]
[6572,"刘小燕",361214207006,154210402402,2,{"$f":"VLOOKUP(C6573,Sheet2!A:B,2,FALSE)","v":143}]
[6573,"林春春",361214207006,154012702910,3,{"$f":"VLOOKUP(C6574,Sheet2!A:B,2,FALSE)","v":143}]
[6574,"肖雨",361214207006,154210402326,4,{"$f":"VLOOKUP(C6575,Sheet2!A:B,2,FALSE)","v":143}]
[6575,"刘佳",361214207006,154210401507,5,{"$f":"VLOOKUP(C6576,Sheet2!A:B,2,FALSE)","v":143}]
[6576,"温凤娇",361214207006,154012703024,6,{"$f":"VLOOKUP(C6577,Sheet2!A:B,2,FALSE)","v":143}]
[6577,"钟渊淇",361214207006,154210402221,7,{"$f":"VLOOKUP(C6578,Sheet2!A:B,2,FALSE)","v":143}]
[6578,"李昇",361214207006,154012703006,8,{"$f":"VLOOKUP(C6579,Sheet2!A:B,2,FALSE)","v":143}]
[6579,"黄淑贞",361214207006,154210401316,9,{"$f":"VLOOKUP(C6580,Sheet2!A:B,2,FALSE)","v":143}]
[6580,"林纤",361214207006,154012703023,10,{"$f":"VLOOKUP(C6581,Sheet2!A:B,2,FALSE)","v":143}]
[6581,"巫资峰",361214207006,154210402022,11,{"$f":"VLOOKUP(C6582,Sheet2!A:B,2,FALSE)","v":143}]
[6582,"赖莹",361214207006,154210401209,12,{"$f":"VLOOKUP(C6583,Sheet2!A:B,2,FALSE)","v":143}]
[6583,"王玉霞",361214207006,154210402401,13,{"$f":"VLOOKUP(C6584,Sheet2!A:B,2,FALSE)","v":143}]
[6584,"李洋",361214207006,154210401819,14,{"$f":"VLOOKUP(C6585,Sheet2!A:B,2,FALSE)","v":143}]
[6585,"廖舒敏",361214207006,154210401229,15,{"$f":"VLOOKUP(C6586,Sheet2!A:B,2,FALSE)","v":143}]
[6586,"田晓航",361214208002,154030307417,2,{"$f":"VLOOKUP(C6587,Sheet2!A:B,2,FALSE)","v":156.5}]
[6587,"李鹏",361214208002,154020502711,1,{"$f":"VLOOKUP(C6588,Sheet2!A:B,2,FALSE)","v":156.5}]
[6588,"邱士琪",361214208002,154210303306,3,{"$f":"VLOOKUP(C6589,Sheet2!A:B,2,FALSE)","v":156.5}]
[6589,"邱聪敏",361214208002,154210303510,4,{"$f":"VLOOKUP(C6590,Sheet2!A:B,2,FALSE)","v":156.5}]
[6590,"杜斌",361214208002,154210303410,6,{"$f":"VLOOKUP(C6591,Sheet2!A:B,2,FALSE)","v":156.5}]
[6591,"王小燕",361214208002,154231504423,5,{"$f":"VLOOKUP(C6592,Sheet2!A:B,2,FALSE)","v":156.5}]
[6592,"张运华",361214209003,154012406827,1,{"$f":"VLOOKUP(C6593,Sheet2!A:B,2,FALSE)","v":150}]
[6593,"钟灵芝",361214209003,154210403012,2,{"$f":"VLOOKUP(C6594,Sheet2!A:B,2,FALSE)","v":150}]
[6594,"刘佳敏",361214209003,154210402723,3,{"$f":"VLOOKUP(C6595,Sheet2!A:B,2,FALSE)","v":150}]
[6595,"廖芳",361214209003,154210402815,4,{"$f":"VLOOKUP(C6596,Sheet2!A:B,2,FALSE)","v":150}]
[6596,"邹妍",361214209003,154210402515,5,{"$f":"VLOOKUP(C6597,Sheet2!A:B,2,FALSE)","v":150}]
[6597,"何琴",361214209003,154012406917,6,{"$f":"VLOOKUP(C6598,Sheet2!A:B,2,FALSE)","v":150}]
[6598,"李燕颖",361214209003,154210402905,7,{"$f":"VLOOKUP(C6599,Sheet2!A:B,2,FALSE)","v":150}]
[6599,"温露露",361214209003,154210403122,8,{"$f":"VLOOKUP(C6600,Sheet2!A:B,2,FALSE)","v":150}]
[6600,"肖佩",361214209003,154242603903,9,{"$f":"VLOOKUP(C6601,Sheet2!A:B,2,FALSE)","v":150}]
[6601,"何冬云",361214210004,154012803221,1,{"$f":"VLOOKUP(C6602,Sheet2!A:B,2,FALSE)","v":103}]
[6602,"包慧",361214210004,154210304013,2,{"$f":"VLOOKUP(C6603,Sheet2!A:B,2,FALSE)","v":103}]
[6603,"李犁丽",361214210004,154210304124,3,{"$f":"VLOOKUP(C6604,Sheet2!A:B,2,FALSE)","v":103}]
[6604,"万昭洵",361214210004,154210303921,4,{"$f":"VLOOKUP(C6605,Sheet2!A:B,2,FALSE)","v":103}]
[6605,"魏璐",361214210004,154210304113,5,{"$f":"VLOOKUP(C6606,Sheet2!A:B,2,FALSE)","v":103}]
[6606,"李诗浪",361214210004,154210304017,6,{"$f":"VLOOKUP(C6607,Sheet2!A:B,2,FALSE)","v":103}]
[6607,"刘吉响",361214210004,154221408819,7,{"$f":"VLOOKUP(C6608,Sheet2!A:B,2,FALSE)","v":103}]
[6608,"姜钰翀",361214210004,154250106707,8,{"$f":"VLOOKUP(C6609,Sheet2!A:B,2,FALSE)","v":103}]
[6609,"温名卿",361214210004,154210304024,9,{"$f":"VLOOKUP(C6610,Sheet2!A:B,2,FALSE)","v":103}]
[6610,"许芳芳",361214210004,154210304010,10,{"$f":"VLOOKUP(C6611,Sheet2!A:B,2,FALSE)","v":103}]
[6611,"肖婷",361214210004,154210304217,11,{"$f":"VLOOKUP(C6612,Sheet2!A:B,2,FALSE)","v":103}]
[6612,"徐曾强",361214210004,154210304030,12,{"$f":"VLOOKUP(C6613,Sheet2!A:B,2,FALSE)","v":103}]
[6613,"李敏",361214211004,154211000726,1,{"$f":"VLOOKUP(C6614,Sheet2!A:B,2,FALSE)","v":89}]
[6614,"谢妙云",361214211004,154050316401,2,{"$f":"VLOOKUP(C6615,Sheet2!A:B,2,FALSE)","v":89}]
[6615,"彭宇杰",361214211004,154012803624,3,{"$f":"VLOOKUP(C6616,Sheet2!A:B,2,FALSE)","v":89}]
[6616,"邓明明",361214211004,154211000609,4,{"$f":"VLOOKUP(C6617,Sheet2!A:B,2,FALSE)","v":89}]
[6617,"徐葆林",361214211004,154211000902,5,{"$f":"VLOOKUP(C6618,Sheet2!A:B,2,FALSE)","v":89}]
[6618,"李鹏",361214211004,154211000715,6,{"$f":"VLOOKUP(C6619,Sheet2!A:B,2,FALSE)","v":89}]
[6619,"万少千",361214211004,154012803823,7,{"$f":"VLOOKUP(C6620,Sheet2!A:B,2,FALSE)","v":89}]
[6620,"邹松",361214211004,154050316402,8,{"$f":"VLOOKUP(C6621,Sheet2!A:B,2,FALSE)","v":89}]
[6621,"黄文伟",361214211004,154211000822,9,{"$f":"VLOOKUP(C6622,Sheet2!A:B,2,FALSE)","v":89}]
[6622,"张志勇",361214212003,154210800819,1,{"$f":"VLOOKUP(C6623,Sheet2!A:B,2,FALSE)","v":123}]
[6623,"黄素萍",361214212003,154210800620,2,{"$f":"VLOOKUP(C6624,Sheet2!A:B,2,FALSE)","v":123}]
[6624,"李秋玲",361214212003,154040803907,3,{"$f":"VLOOKUP(C6625,Sheet2!A:B,2,FALSE)","v":123}]
[6625,"何凯",361214212003,154210800816,4,{"$f":"VLOOKUP(C6626,Sheet2!A:B,2,FALSE)","v":123}]
[6626,"宋梦瑶",361214212003,154210801107,5,{"$f":"VLOOKUP(C6627,Sheet2!A:B,2,FALSE)","v":123}]
[6627,"赖文文",361214212003,154210800607,6,{"$f":"VLOOKUP(C6628,Sheet2!A:B,2,FALSE)","v":123}]
[6628,"郭晶晶",361214212003,154012407220,7,{"$f":"VLOOKUP(C6629,Sheet2!A:B,2,FALSE)","v":123}]
[6629,"黄梓璇",361214212003,154210800923,8,{"$f":"VLOOKUP(C6630,Sheet2!A:B,2,FALSE)","v":123}]
[6630,"赖麟",361214212003,154210800824,9,{"$f":"VLOOKUP(C6631,Sheet2!A:B,2,FALSE)","v":123}]
[6631,"蔡佩",361214213001,154211001215,1,{"$f":"VLOOKUP(C6632,Sheet2!A:B,2,FALSE)","v":128.5}]
[6632,"陈清霞",361214213001,154250107004,2,{"$f":"VLOOKUP(C6633,Sheet2!A:B,2,FALSE)","v":128.5}]
[6633,"廖金华",361214213001,154211001125,3,{"$f":"VLOOKUP(C6634,Sheet2!A:B,2,FALSE)","v":128.5}]
[6634,"廖淑萍",361214215001,154210903509,1,{"$f":"VLOOKUP(C6635,Sheet2!A:B,2,FALSE)","v":168}]
[6635,"古丽",361214215001,154210903515,2,{"$f":"VLOOKUP(C6636,Sheet2!A:B,2,FALSE)","v":168}]
[6636,"陈丽芹",361214215001,154210903407,3,{"$f":"VLOOKUP(C6637,Sheet2!A:B,2,FALSE)","v":168}]
[6637,"谢婷婷",361215101005,154210100120,1,{"$f":"VLOOKUP(C6638,Sheet2!A:B,2,FALSE)","v":189}]
[6638,"朱艳梅",361215101005,154210102001,2,{"$f":"VLOOKUP(C6639,Sheet2!A:B,2,FALSE)","v":189}]
[6639,"赖美佳",361215101005,154210600402,3,{"$f":"VLOOKUP(C6640,Sheet2!A:B,2,FALSE)","v":189}]
[6640,"潘佳美",361215101005,154210104227,4,{"$f":"VLOOKUP(C6641,Sheet2!A:B,2,FALSE)","v":189}]
[6641,"钟红梅",361215101005,154210107209,5,{"$f":"VLOOKUP(C6642,Sheet2!A:B,2,FALSE)","v":189}]
[6642,"刘佳卉",361215101005,154221401105,6,{"$f":"VLOOKUP(C6643,Sheet2!A:B,2,FALSE)","v":189}]
[6643,"邹鑫",361215101005,154210104514,7,{"$f":"VLOOKUP(C6644,Sheet2!A:B,2,FALSE)","v":189}]
[6644,"廖滢滢",361215101005,154210105912,8,{"$f":"VLOOKUP(C6645,Sheet2!A:B,2,FALSE)","v":189}]
[6645,"刘弯弯",361215101005,154040700814,9,{"$f":"VLOOKUP(C6646,Sheet2!A:B,2,FALSE)","v":189}]
[6646,"谭青萍",361215101005,154012301613,10,{"$f":"VLOOKUP(C6647,Sheet2!A:B,2,FALSE)","v":189}]
[6647,"肖婷",361215101005,154210102705,11,{"$f":"VLOOKUP(C6648,Sheet2!A:B,2,FALSE)","v":189}]
[6648,"王惠莲",361215101005,154210106325,12,{"$f":"VLOOKUP(C6649,Sheet2!A:B,2,FALSE)","v":189}]
[6649,"蒋晶晶",361215101005,154210100326,13,{"$f":"VLOOKUP(C6650,Sheet2!A:B,2,FALSE)","v":189}]
[6650,"罗小珊",361215101005,154210103102,14,{"$f":"VLOOKUP(C6651,Sheet2!A:B,2,FALSE)","v":189}]
[6651,"钟叶清",361215101005,154210101716,15,{"$f":"VLOOKUP(C6652,Sheet2!A:B,2,FALSE)","v":189}]
[6652,"郭曦",361215102005,154012201618,1,{"$f":"VLOOKUP(C6653,Sheet2!A:B,2,FALSE)","v":183.5}]
[6653,"肖蓉",361215102005,154012202305,2,{"$f":"VLOOKUP(C6654,Sheet2!A:B,2,FALSE)","v":183.5}]
[6654,"易金秀",361215102005,154211200703,3,{"$f":"VLOOKUP(C6655,Sheet2!A:B,2,FALSE)","v":183.5}]
[6655,"周甜",361215102005,154012203928,4,{"$f":"VLOOKUP(C6656,Sheet2!A:B,2,FALSE)","v":183.5}]
[6656,"何嫚",361215102005,154012201309,5,{"$f":"VLOOKUP(C6657,Sheet2!A:B,2,FALSE)","v":183.5}]
[6657,"肖婉婷",361215102005,154210802429,6,{"$f":"VLOOKUP(C6658,Sheet2!A:B,2,FALSE)","v":183.5}]
[6658,"罗凤香",361215102005,154210801228,8,{"$f":"VLOOKUP(C6659,Sheet2!A:B,2,FALSE)","v":183.5}]
[6659,"钟金艳",361215102005,154210802116,7,{"$f":"VLOOKUP(C6660,Sheet2!A:B,2,FALSE)","v":183.5}]
[6660,"周凡",361215102005,154012201306,9,{"$f":"VLOOKUP(C6661,Sheet2!A:B,2,FALSE)","v":183.5}]
[6661,"李映霞",361215102005,154221402008,11,{"$f":"VLOOKUP(C6662,Sheet2!A:B,2,FALSE)","v":183.5}]
[6662,"王露",361215102005,154210802626,10,{"$f":"VLOOKUP(C6663,Sheet2!A:B,2,FALSE)","v":183.5}]
[6663,"许欢",361215102005,154012200823,12,{"$f":"VLOOKUP(C6664,Sheet2!A:B,2,FALSE)","v":183.5}]
[6664,"钟慧",361215102005,154211203511,13,{"$f":"VLOOKUP(C6665,Sheet2!A:B,2,FALSE)","v":183.5}]
[6665,"曾淑清",361215102005,154012303329,14,{"$f":"VLOOKUP(C6666,Sheet2!A:B,2,FALSE)","v":183.5}]
[6666,"周艳",361215102005,154210801307,15,{"$f":"VLOOKUP(C6667,Sheet2!A:B,2,FALSE)","v":183.5}]
[6667,"吴娇",361215103006,154012500521,1,{"$f":"VLOOKUP(C6668,Sheet2!A:B,2,FALSE)","v":175}]
[6668,"陈丽梅",361215103006,154210601009,2,{"$f":"VLOOKUP(C6669,Sheet2!A:B,2,FALSE)","v":175}]
[6669,"余传书",361215103006,154210603105,3,{"$f":"VLOOKUP(C6670,Sheet2!A:B,2,FALSE)","v":175}]
[6670,"李晶晶",361215103006,154210602319,4,{"$f":"VLOOKUP(C6671,Sheet2!A:B,2,FALSE)","v":175}]
[6671,"刘华丽",361215103006,154210602810,5,{"$f":"VLOOKUP(C6672,Sheet2!A:B,2,FALSE)","v":175}]
[6672,"袁梦茹",361215103006,154210603603,6,{"$f":"VLOOKUP(C6673,Sheet2!A:B,2,FALSE)","v":175}]
[6673,"宋艳丽",361215103006,154210602419,7,{"$f":"VLOOKUP(C6674,Sheet2!A:B,2,FALSE)","v":175}]
[6674,"孙敏",361215103006,154210601023,8,{"$f":"VLOOKUP(C6675,Sheet2!A:B,2,FALSE)","v":175}]
[6675,"龚静",361215103006,154242503426,9,{"$f":"VLOOKUP(C6676,Sheet2!A:B,2,FALSE)","v":175}]
[6676,"刘城",361215103006,154242503415,10,{"$f":"VLOOKUP(C6677,Sheet2!A:B,2,FALSE)","v":175}]
[6677,"杨玲",361215103006,154210601304,11,{"$f":"VLOOKUP(C6678,Sheet2!A:B,2,FALSE)","v":175}]
[6678,"李斐",361215103006,154210601215,12,{"$f":"VLOOKUP(C6679,Sheet2!A:B,2,FALSE)","v":175}]
[6679,"朱馨",361215103006,154210603026,13,{"$f":"VLOOKUP(C6680,Sheet2!A:B,2,FALSE)","v":175}]
[6680,"尹亚萍",361215103006,154210601608,14,{"$f":"VLOOKUP(C6681,Sheet2!A:B,2,FALSE)","v":175}]
[6681,"刘莉",361215103006,154210602315,15,{"$f":"VLOOKUP(C6682,Sheet2!A:B,2,FALSE)","v":175}]
[6682,"林卉",361215104004,154012600127,1,{"$f":"VLOOKUP(C6683,Sheet2!A:B,2,FALSE)","v":199.5}]
[6683,"邹小娇",361215104004,154210400902,2,{"$f":"VLOOKUP(C6684,Sheet2!A:B,2,FALSE)","v":199.5}]
[6684,"周蕾",361215104004,154012600328,3,{"$f":"VLOOKUP(C6685,Sheet2!A:B,2,FALSE)","v":199.5}]
[6685,"陈媛媛",361215104004,154210302710,4,{"$f":"VLOOKUP(C6686,Sheet2!A:B,2,FALSE)","v":199.5}]
[6686,"肖敏",361215104004,154210400824,5,{"$f":"VLOOKUP(C6687,Sheet2!A:B,2,FALSE)","v":199.5}]
[6687,"章书娟",361215104004,154012600224,6,{"$f":"VLOOKUP(C6688,Sheet2!A:B,2,FALSE)","v":199.5}]
[6688,"谢婧",361215104004,154250103923,7,{"$f":"VLOOKUP(C6689,Sheet2!A:B,2,FALSE)","v":199.5}]
[6689,"欧阳心语",361215104004,154012601003,8,{"$f":"VLOOKUP(C6690,Sheet2!A:B,2,FALSE)","v":199.5}]
[6690,"占美其",361215104004,154250104003,10,{"$f":"VLOOKUP(C6691,Sheet2!A:B,2,FALSE)","v":199.5}]
[6691,"江慧帅",361215104004,154012600411,9,{"$f":"VLOOKUP(C6692,Sheet2!A:B,2,FALSE)","v":199.5}]
[6692,"陈紫娟",361215104004,154012600617,11,{"$f":"VLOOKUP(C6693,Sheet2!A:B,2,FALSE)","v":199.5}]
[6693,"郭思婕",361215104004,154250104011,12,{"$f":"VLOOKUP(C6694,Sheet2!A:B,2,FALSE)","v":199.5}]
[6694,"谢雅婷",361215106004,154211101621,1,{"$f":"VLOOKUP(C6695,Sheet2!A:B,2,FALSE)","v":153.5}]
[6695,"钟丹",361215106004,154211102715,2,{"$f":"VLOOKUP(C6696,Sheet2!A:B,2,FALSE)","v":153.5}]
[6696,"李乔",361215106004,154012603417,3,{"$f":"VLOOKUP(C6697,Sheet2!A:B,2,FALSE)","v":153.5}]
[6697,"李文慧",361215106004,154012602806,4,{"$f":"VLOOKUP(C6698,Sheet2!A:B,2,FALSE)","v":153.5}]
[6698,"罗军",361215106004,154211102023,5,{"$f":"VLOOKUP(C6699,Sheet2!A:B,2,FALSE)","v":153.5}]
[6699,"刘芳桢",361215106004,154211102010,6,{"$f":"VLOOKUP(C6700,Sheet2!A:B,2,FALSE)","v":153.5}]
[6700,"郭碧绿",361215106004,154242600904,7,{"$f":"VLOOKUP(C6701,Sheet2!A:B,2,FALSE)","v":153.5}]
[6701,"陈宇",361215106004,154211101926,8,{"$f":"VLOOKUP(C6702,Sheet2!A:B,2,FALSE)","v":153.5}]
[6702,"陈以汝",361215106004,154211100123,9,{"$f":"VLOOKUP(C6703,Sheet2!A:B,2,FALSE)","v":153.5}]
[6703,"陈祖月",361215106004,154211100930,10,{"$f":"VLOOKUP(C6704,Sheet2!A:B,2,FALSE)","v":153.5}]
[6704,"赖欣",361215106004,154211103007,11,{"$f":"VLOOKUP(C6705,Sheet2!A:B,2,FALSE)","v":153.5}]
[6705,"郭欣",361215106004,154012602707,12,{"$f":"VLOOKUP(C6706,Sheet2!A:B,2,FALSE)","v":153.5}]
[6706,"肖琴英",361215107004,154210300311,1,{"$f":"VLOOKUP(C6707,Sheet2!A:B,2,FALSE)","v":146}]
[6707,"彭锦怡",361215107004,154210300407,2,{"$f":"VLOOKUP(C6708,Sheet2!A:B,2,FALSE)","v":146}]
[6708,"饶子琦",361215107004,154210300207,3,{"$f":"VLOOKUP(C6709,Sheet2!A:B,2,FALSE)","v":146}]
[6709,"孙泰林",361215107004,154210301013,4,{"$f":"VLOOKUP(C6710,Sheet2!A:B,2,FALSE)","v":146}]
[6710,"林晓咪",361215107004,154210301510,5,{"$f":"VLOOKUP(C6711,Sheet2!A:B,2,FALSE)","v":146}]
[6711,"彭金金",361215107004,154242500706,6,{"$f":"VLOOKUP(C6712,Sheet2!A:B,2,FALSE)","v":146}]
[6712,"谢晨",361215107004,154210300729,7,{"$f":"VLOOKUP(C6713,Sheet2!A:B,2,FALSE)","v":146}]
[6713,"谢良鑫",361215107004,154210300126,8,{"$f":"VLOOKUP(C6714,Sheet2!A:B,2,FALSE)","v":146}]
[6714,"刘世冰",361215107004,154012502901,9,{"$f":"VLOOKUP(C6715,Sheet2!A:B,2,FALSE)","v":146}]
[6715,"王清红",361215107004,154012502909,10,{"$f":"VLOOKUP(C6716,Sheet2!A:B,2,FALSE)","v":146}]
[6716,"龚婷",361215107004,154210300129,11,{"$f":"VLOOKUP(C6717,Sheet2!A:B,2,FALSE)","v":146}]
[6717,"邓岚",361215107004,154210300519,14,{"$f":"VLOOKUP(C6718,Sheet2!A:B,2,FALSE)","v":146}]
[6718,"赖允美",361215107004,154210300909,13,{"$f":"VLOOKUP(C6719,Sheet2!A:B,2,FALSE)","v":146}]
[6719,"张皓焮",361215107004,154210301314,12,{"$f":"VLOOKUP(C6720,Sheet2!A:B,2,FALSE)","v":146}]
[6720,"游雯琦",361215114002,154250104909,1,{"$f":"VLOOKUP(C6721,Sheet2!A:B,2,FALSE)","v":185}]
[6721,"黄慧玲",361215114002,154211000125,2,{"$f":"VLOOKUP(C6722,Sheet2!A:B,2,FALSE)","v":185}]
[6722,"赖龙丰",361215114002,154211000311,3,{"$f":"VLOOKUP(C6723,Sheet2!A:B,2,FALSE)","v":185}]
[6723,"何婷",361215114002,154012404601,5,{"$f":"VLOOKUP(C6724,Sheet2!A:B,2,FALSE)","v":185}]
[6724,"李钰珍",361215114002,154211000110,4,{"$f":"VLOOKUP(C6725,Sheet2!A:B,2,FALSE)","v":185}]
[6725,"王雨欣",361215114002,154242501111,7,{"$f":"VLOOKUP(C6726,Sheet2!A:B,2,FALSE)","v":185}]
[6726,"温容轩",361215114002,154012404608,6,{"$f":"VLOOKUP(C6727,Sheet2!A:B,2,FALSE)","v":185}]
[6727,"邹婷婷",361215201002,154221404318,1,{"$f":"VLOOKUP(C6728,Sheet2!A:B,2,FALSE)","v":157}]
[6728,"陈洁",361215201002,154210900406,2,{"$f":"VLOOKUP(C6729,Sheet2!A:B,2,FALSE)","v":157}]
[6729,"刘卡",361215201002,154030304919,3,{"$f":"VLOOKUP(C6730,Sheet2!A:B,2,FALSE)","v":157}]
[6730,"罗霞",361215201002,154012700101,4,{"$f":"VLOOKUP(C6731,Sheet2!A:B,2,FALSE)","v":157}]
[6731,"孙鸿丽",361215201002,154210901822,5,{"$f":"VLOOKUP(C6732,Sheet2!A:B,2,FALSE)","v":157}]
[6732,"张燕燕",361215201002,154210900924,6,{"$f":"VLOOKUP(C6733,Sheet2!A:B,2,FALSE)","v":157}]
[6733,"段磊",361215202003,154210200725,1,{"$f":"VLOOKUP(C6734,Sheet2!A:B,2,FALSE)","v":144}]
[6734,"曾小菁",361215202003,154210201930,2,{"$f":"VLOOKUP(C6735,Sheet2!A:B,2,FALSE)","v":144}]
[6735,"钟春红",361215202003,154210200411,3,{"$f":"VLOOKUP(C6736,Sheet2!A:B,2,FALSE)","v":144}]
[6736,"肖青芹",361215202003,154210201915,4,{"$f":"VLOOKUP(C6737,Sheet2!A:B,2,FALSE)","v":144}]
[6737,"赖丽玲",361215202003,154210200704,5,{"$f":"VLOOKUP(C6738,Sheet2!A:B,2,FALSE)","v":144}]
[6738,"刘石秀",361215202003,154250105511,6,{"$f":"VLOOKUP(C6739,Sheet2!A:B,2,FALSE)","v":144}]
[6739,"曹臻巍",361215202003,154030305421,7,{"$f":"VLOOKUP(C6740,Sheet2!A:B,2,FALSE)","v":144}]
[6740,"孙明",361215202003,154221405119,8,{"$f":"VLOOKUP(C6741,Sheet2!A:B,2,FALSE)","v":144}]
[6741,"谢诗财",361215202003,154210200822,9,{"$f":"VLOOKUP(C6742,Sheet2!A:B,2,FALSE)","v":144}]
[6742,"陈小华",361215204001,154030306308,1,{"$f":"VLOOKUP(C6743,Sheet2!A:B,2,FALSE)","v":121}]
[6743,"钟成龙",361215208002,154030307407,1,{"$f":"VLOOKUP(C6744,Sheet2!A:B,2,FALSE)","v":124}]
[6744,"吴文伟",361215208002,154030307420,2,{"$f":"VLOOKUP(C6745,Sheet2!A:B,2,FALSE)","v":124}]
[6745,"王美玲",361215208002,154210303430,3,{"$f":"VLOOKUP(C6746,Sheet2!A:B,2,FALSE)","v":124}]
[6746,"周红莲",361215208002,154210303714,4,{"$f":"VLOOKUP(C6747,Sheet2!A:B,2,FALSE)","v":124}]
[6747,"黄伟",361215208002,154210303106,5,{"$f":"VLOOKUP(C6748,Sheet2!A:B,2,FALSE)","v":124}]
[6748,"刘丽萍",361215210002,154231504911,1,{"$f":"VLOOKUP(C6749,Sheet2!A:B,2,FALSE)","v":128.5}]
[6749,"李青",361215210002,154210303929,2,{"$f":"VLOOKUP(C6750,Sheet2!A:B,2,FALSE)","v":128.5}]
[6750,"舒远萌",361215210002,154210304107,3,{"$f":"VLOOKUP(C6751,Sheet2!A:B,2,FALSE)","v":128.5}]
[6751,"段文慧",361215210002,154210304012,4,{"$f":"VLOOKUP(C6752,Sheet2!A:B,2,FALSE)","v":128.5}]
[6752,"谢紫琪",361215210002,154210304110,5,{"$f":"VLOOKUP(C6753,Sheet2!A:B,2,FALSE)","v":128.5}]
[6753,"谢子豪",361215210002,154221408814,6,{"$f":"VLOOKUP(C6754,Sheet2!A:B,2,FALSE)","v":128.5}]
[6754,"郭玉林",361215211004,154211001013,1,{"$f":"VLOOKUP(C6755,Sheet2!A:B,2,FALSE)","v":65}]
[6755,"舒雅婷",361215211004,154242704029,2,{"$f":"VLOOKUP(C6756,Sheet2!A:B,2,FALSE)","v":65}]
[6756,"王艳梅",361215211004,154211001012,3,{"$f":"VLOOKUP(C6757,Sheet2!A:B,2,FALSE)","v":65}]
[6757,"刘权",361215211004,154211001002,5,{"$f":"VLOOKUP(C6758,Sheet2!A:B,2,FALSE)","v":65}]
[6758,"丁声妍",361215211004,154211000616,4,{"$f":"VLOOKUP(C6759,Sheet2!A:B,2,FALSE)","v":65}]
[6759,"刘慧珍",361215211004,154211000912,6,{"$f":"VLOOKUP(C6760,Sheet2!A:B,2,FALSE)","v":65}]
[6760,"成洪龙",361215211004,154211000524,7,{"$f":"VLOOKUP(C6761,Sheet2!A:B,2,FALSE)","v":65}]
[6761,"张兆伟",361215211004,154012803712,8,{"$f":"VLOOKUP(C6762,Sheet2!A:B,2,FALSE)","v":65}]
[6762,"谢婷",361215212002,154210800720,1,{"$f":"VLOOKUP(C6763,Sheet2!A:B,2,FALSE)","v":151}]
[6763,"王晓珊",361215212002,154210800829,2,{"$f":"VLOOKUP(C6764,Sheet2!A:B,2,FALSE)","v":151}]
[6764,"谢勇",361215212002,154210801011,3,{"$f":"VLOOKUP(C6765,Sheet2!A:B,2,FALSE)","v":151}]
[6765,"王勇",361215212002,154210801109,4,{"$f":"VLOOKUP(C6766,Sheet2!A:B,2,FALSE)","v":151}]
[6766,"谢上芳",361215212002,154210801027,5,{"$f":"VLOOKUP(C6767,Sheet2!A:B,2,FALSE)","v":151}]
[6767,"袁辉",361215212002,154210800826,6,{"$f":"VLOOKUP(C6768,Sheet2!A:B,2,FALSE)","v":151}]
[6768,"刘珺",361215213001,154211001216,1,{"$f":"VLOOKUP(C6769,Sheet2!A:B,2,FALSE)","v":147.5}]
[6769,"刘阳",361215213001,154211001225,2,{"$f":"VLOOKUP(C6770,Sheet2!A:B,2,FALSE)","v":147.5}]
[6770,"曾慧鹏",361215213001,154211001326,3,{"$f":"VLOOKUP(C6771,Sheet2!A:B,2,FALSE)","v":147.5}]
[6771,"谢秀群",361215214002,154231505601,1,{"$f":"VLOOKUP(C6772,Sheet2!A:B,2,FALSE)","v":118}]
[6772,"蔡磊红",361215214002,154012407603,2,{"$f":"VLOOKUP(C6773,Sheet2!A:B,2,FALSE)","v":118}]
[6773,"何俊杰",361215214002,154210604612,3,{"$f":"VLOOKUP(C6774,Sheet2!A:B,2,FALSE)","v":118}]
[6774,"钟雪情",361215214002,154210604614,4,{"$f":"VLOOKUP(C6775,Sheet2!A:B,2,FALSE)","v":118}]
[6775,"曾茜",361216101012,154012101112,1,{"$f":"VLOOKUP(C6776,Sheet2!A:B,2,FALSE)","v":195.5}]
[6776,"曾葳",361216101012,154012301120,2,{"$f":"VLOOKUP(C6777,Sheet2!A:B,2,FALSE)","v":195.5}]
[6777,"傅云",361216101012,154210106706,3,{"$f":"VLOOKUP(C6778,Sheet2!A:B,2,FALSE)","v":195.5}]
[6778,"李燕",361216101012,154210100107,4,{"$f":"VLOOKUP(C6779,Sheet2!A:B,2,FALSE)","v":195.5}]
[6779,"胡夏琳",361216101012,154242401720,5,{"$f":"VLOOKUP(C6780,Sheet2!A:B,2,FALSE)","v":195.5}]
[6780,"李文婷",361216101012,154210104211,7,{"$f":"VLOOKUP(C6781,Sheet2!A:B,2,FALSE)","v":195.5}]
[6781,"焦丹丹",361216101012,154242402724,6,{"$f":"VLOOKUP(C6782,Sheet2!A:B,2,FALSE)","v":195.5}]
[6782,"罗艳萍",361216101012,154242402311,8,{"$f":"VLOOKUP(C6783,Sheet2!A:B,2,FALSE)","v":195.5}]
[6783,"章思梦",361216101012,154012300325,9,{"$f":"VLOOKUP(C6784,Sheet2!A:B,2,FALSE)","v":195.5}]
[6784,"邓雯英",361216101012,154012101101,10,{"$f":"VLOOKUP(C6785,Sheet2!A:B,2,FALSE)","v":195.5}]
[6785,"焦姝芸",361216101012,154242401029,11,{"$f":"VLOOKUP(C6786,Sheet2!A:B,2,FALSE)","v":195.5}]
[6786,"李艳秋",361216101012,154210105610,12,{"$f":"VLOOKUP(C6787,Sheet2!A:B,2,FALSE)","v":195.5}]
[6787,"覃育琪",361216101012,154012302114,13,{"$f":"VLOOKUP(C6788,Sheet2!A:B,2,FALSE)","v":195.5}]
[6788,"王玥",361216101012,154210105712,14,{"$f":"VLOOKUP(C6789,Sheet2!A:B,2,FALSE)","v":195.5}]
[6789,"宋志晶",361216101012,154012302807,15,{"$f":"VLOOKUP(C6790,Sheet2!A:B,2,FALSE)","v":195.5}]
[6790,"肖群红",361216101012,154242400928,16,{"$f":"VLOOKUP(C6791,Sheet2!A:B,2,FALSE)","v":195.5}]
[6791,"付玲燕",361216101012,154012101405,17,{"$f":"VLOOKUP(C6792,Sheet2!A:B,2,FALSE)","v":195.5}]
[6792,"肖毓",361216101012,154242401603,18,{"$f":"VLOOKUP(C6793,Sheet2!A:B,2,FALSE)","v":195.5}]
[6793,"黄玉梅",361216101012,154210100703,19,{"$f":"VLOOKUP(C6794,Sheet2!A:B,2,FALSE)","v":195.5}]
[6794,"江芳",361216101012,154210107306,20,{"$f":"VLOOKUP(C6795,Sheet2!A:B,2,FALSE)","v":195.5}]
[6795,"陈文静",361216101012,154050313121,21,{"$f":"VLOOKUP(C6796,Sheet2!A:B,2,FALSE)","v":195.5}]
[6796,"邱庆红",361216101012,154210103106,22,{"$f":"VLOOKUP(C6797,Sheet2!A:B,2,FALSE)","v":195.5}]
[6797,"谢玉兰",361216101012,154210104206,23,{"$f":"VLOOKUP(C6798,Sheet2!A:B,2,FALSE)","v":195.5}]
[6798,"肖世红",361216101012,154242400106,26,{"$f":"VLOOKUP(C6799,Sheet2!A:B,2,FALSE)","v":195.5}]
[6799,"刘腊梅",361216101012,154242402117,25,{"$f":"VLOOKUP(C6800,Sheet2!A:B,2,FALSE)","v":195.5}]
[6800,"邓柳",361216101012,154210600606,24,{"$f":"VLOOKUP(C6801,Sheet2!A:B,2,FALSE)","v":195.5}]
[6801,"唐金花",361216102012,154242701101,1,{"$f":"VLOOKUP(C6802,Sheet2!A:B,2,FALSE)","v":192.5}]
[6802,"雷隆",361216102012,154211202510,2,{"$f":"VLOOKUP(C6803,Sheet2!A:B,2,FALSE)","v":192.5}]
[6803,"钟和英",361216102012,154210802530,3,{"$f":"VLOOKUP(C6804,Sheet2!A:B,2,FALSE)","v":192.5}]
[6804,"徐海丽",361216102012,154012202512,4,{"$f":"VLOOKUP(C6805,Sheet2!A:B,2,FALSE)","v":192.5}]
[6805,"肖薇",361216102012,154012201825,5,{"$f":"VLOOKUP(C6806,Sheet2!A:B,2,FALSE)","v":192.5}]
[6806,"谢雨欣",361216102012,154012303125,6,{"$f":"VLOOKUP(C6807,Sheet2!A:B,2,FALSE)","v":192.5}]
[6807,"万慧",361216102012,154012303426,7,{"$f":"VLOOKUP(C6808,Sheet2!A:B,2,FALSE)","v":192.5}]
[6808,"张婷",361216102012,154210802423,8,{"$f":"VLOOKUP(C6809,Sheet2!A:B,2,FALSE)","v":192.5}]
[6809,"袁敏",361216102012,154242700805,9,{"$f":"VLOOKUP(C6810,Sheet2!A:B,2,FALSE)","v":192.5}]
[6810,"肖绍灿",361216102012,154210801803,10,{"$f":"VLOOKUP(C6811,Sheet2!A:B,2,FALSE)","v":192.5}]
[6811,"周艳萍",361216102012,154012201724,11,{"$f":"VLOOKUP(C6812,Sheet2!A:B,2,FALSE)","v":192.5}]
[6812,"王金平",361216102012,154210802017,12,{"$f":"VLOOKUP(C6813,Sheet2!A:B,2,FALSE)","v":192.5}]
[6813,"刘小君",361216102012,154012203912,13,{"$f":"VLOOKUP(C6814,Sheet2!A:B,2,FALSE)","v":192.5}]
[6814,"刘金燕",361216102012,154210801826,14,{"$f":"VLOOKUP(C6815,Sheet2!A:B,2,FALSE)","v":192.5}]
[6815,"戴艺丹",361216102012,154012202207,16,{"$f":"VLOOKUP(C6816,Sheet2!A:B,2,FALSE)","v":192.5}]
[6816,"邹佩静",361216102012,154012201516,15,{"$f":"VLOOKUP(C6817,Sheet2!A:B,2,FALSE)","v":192.5}]
[6817,"邹影",361216102012,154242701714,17,{"$f":"VLOOKUP(C6818,Sheet2!A:B,2,FALSE)","v":192.5}]
[6818,"胡玉青",361216102012,154012303314,18,{"$f":"VLOOKUP(C6819,Sheet2!A:B,2,FALSE)","v":192.5}]
[6819,"刘夫圳",361216102012,154242701319,20,{"$f":"VLOOKUP(C6820,Sheet2!A:B,2,FALSE)","v":192.5}]
[6820,"王晨",361216102012,154211203801,19,{"$f":"VLOOKUP(C6821,Sheet2!A:B,2,FALSE)","v":192.5}]
[6821,"赖丽雅",361216102012,154211202307,21,{"$f":"VLOOKUP(C6822,Sheet2!A:B,2,FALSE)","v":192.5}]
[6822,"谢瑜",361216102012,154242700703,22,{"$f":"VLOOKUP(C6823,Sheet2!A:B,2,FALSE)","v":192.5}]
[6823,"黄承慧",361216102012,154012203701,23,{"$f":"VLOOKUP(C6824,Sheet2!A:B,2,FALSE)","v":192.5}]
[6824,"刘根兰",361216102012,154012203126,24,{"$f":"VLOOKUP(C6825,Sheet2!A:B,2,FALSE)","v":192.5}]
[6825,"谭健辉",361216103008,154210604403,1,{"$f":"VLOOKUP(C6826,Sheet2!A:B,2,FALSE)","v":174.5}]
[6826,"宋安林",361216103008,154012501505,2,{"$f":"VLOOKUP(C6827,Sheet2!A:B,2,FALSE)","v":174.5}]
[6827,"刘佳",361216103008,154242503607,3,{"$f":"VLOOKUP(C6828,Sheet2!A:B,2,FALSE)","v":174.5}]
[6828,"刘扬",361216103008,154242503928,4,{"$f":"VLOOKUP(C6829,Sheet2!A:B,2,FALSE)","v":174.5}]
[6829,"曾静文",361216103008,154242503818,6,{"$f":"VLOOKUP(C6830,Sheet2!A:B,2,FALSE)","v":174.5}]
[6830,"万莉娟",361216103008,154210603008,5,{"$f":"VLOOKUP(C6831,Sheet2!A:B,2,FALSE)","v":174.5}]
[6831,"吕晓诗",361216103008,154210601016,7,{"$f":"VLOOKUP(C6832,Sheet2!A:B,2,FALSE)","v":174.5}]
[6832,"郑心怡",361216103008,154012501218,8,{"$f":"VLOOKUP(C6833,Sheet2!A:B,2,FALSE)","v":174.5}]
[6833,"吴雪梅",361216103008,154012500506,9,{"$f":"VLOOKUP(C6834,Sheet2!A:B,2,FALSE)","v":174.5}]
[6834,"杨缘",361216103008,154012500921,10,{"$f":"VLOOKUP(C6835,Sheet2!A:B,2,FALSE)","v":174.5}]
[6835,"刘龙美",361216103008,154210602317,12,{"$f":"VLOOKUP(C6836,Sheet2!A:B,2,FALSE)","v":174.5}]
[6836,"彭乐仪",361216103008,154210601810,13,{"$f":"VLOOKUP(C6837,Sheet2!A:B,2,FALSE)","v":174.5}]
[6837,"高海花",361216103008,154242504002,11,{"$f":"VLOOKUP(C6838,Sheet2!A:B,2,FALSE)","v":174.5}]
[6838,"黄盈",361216103008,154210601427,14,{"$f":"VLOOKUP(C6839,Sheet2!A:B,2,FALSE)","v":174.5}]
[6839,"钟庭庭",361216103008,154210601528,16,{"$f":"VLOOKUP(C6840,Sheet2!A:B,2,FALSE)","v":174.5}]
[6840,"刘艳",361216103008,154012501509,15,{"$f":"VLOOKUP(C6841,Sheet2!A:B,2,FALSE)","v":174.5}]
[6841,"张惠珍",361216103008,154210603408,17,{"$f":"VLOOKUP(C6842,Sheet2!A:B,2,FALSE)","v":174.5}]
[6842,"方香花",361216103008,154012500402,18,{"$f":"VLOOKUP(C6843,Sheet2!A:B,2,FALSE)","v":174.5}]
[6843,"杨慧琪",361216103008,154012501424,19,{"$f":"VLOOKUP(C6844,Sheet2!A:B,2,FALSE)","v":174.5}]
[6844,"卢飘",361216103008,154012501402,20,{"$f":"VLOOKUP(C6845,Sheet2!A:B,2,FALSE)","v":174.5}]
[6845,"曾琳",361216104008,154242500511,1,{"$f":"VLOOKUP(C6846,Sheet2!A:B,2,FALSE)","v":198.5}]
[6846,"罗佳梅",361216104008,154012600314,2,{"$f":"VLOOKUP(C6847,Sheet2!A:B,2,FALSE)","v":198.5}]
[6847,"黄曦瑶",361216104008,154210302821,3,{"$f":"VLOOKUP(C6848,Sheet2!A:B,2,FALSE)","v":198.5}]
[6848,"彭慧琳",361216104008,154012600502,4,{"$f":"VLOOKUP(C6849,Sheet2!A:B,2,FALSE)","v":198.5}]
[6849,"乐亚辉",361216104008,154060602301,5,{"$f":"VLOOKUP(C6850,Sheet2!A:B,2,FALSE)","v":198.5}]
[6850,"张丽平",361216104008,154210302904,6,{"$f":"VLOOKUP(C6851,Sheet2!A:B,2,FALSE)","v":198.5}]
[6851,"陈禄福",361216104008,154012600506,7,{"$f":"VLOOKUP(C6852,Sheet2!A:B,2,FALSE)","v":198.5}]
[6852,"姜惠婷",361216104008,154012600429,8,{"$f":"VLOOKUP(C6853,Sheet2!A:B,2,FALSE)","v":198.5}]
[6853,"谢礼倩",361216104008,154210400617,10,{"$f":"VLOOKUP(C6854,Sheet2!A:B,2,FALSE)","v":198.5}]
[6854,"冷艳丽",361216104008,154040702613,9,{"$f":"VLOOKUP(C6855,Sheet2!A:B,2,FALSE)","v":198.5}]
[6855,"黄艳珍",361216104008,154210400709,11,{"$f":"VLOOKUP(C6856,Sheet2!A:B,2,FALSE)","v":198.5}]
[6856,"李小花",361216104008,154210302510,12,{"$f":"VLOOKUP(C6857,Sheet2!A:B,2,FALSE)","v":198.5}]
[6857,"刘晨姝",361216104008,154012601005,13,{"$f":"VLOOKUP(C6858,Sheet2!A:B,2,FALSE)","v":198.5}]
[6858,"胡根珍",361216104008,154210302911,14,{"$f":"VLOOKUP(C6859,Sheet2!A:B,2,FALSE)","v":198.5}]
[6859,"肖婵",361216104008,154210400822,15,{"$f":"VLOOKUP(C6860,Sheet2!A:B,2,FALSE)","v":198.5}]
[6860,"李卓君",361216104008,154210302520,17,{"$f":"VLOOKUP(C6861,Sheet2!A:B,2,FALSE)","v":198.5}]
[6861,"尹菲",361216104008,154242500110,16,{"$f":"VLOOKUP(C6862,Sheet2!A:B,2,FALSE)","v":198.5}]
[6862,"谢梦楠",361216104008,154210303010,18,{"$f":"VLOOKUP(C6863,Sheet2!A:B,2,FALSE)","v":198.5}]
[6863,"黄倩",361216104008,154012600823,19,{"$f":"VLOOKUP(C6864,Sheet2!A:B,2,FALSE)","v":198.5}]
[6864,"陈雯慧",361216104008,154210302830,20,{"$f":"VLOOKUP(C6865,Sheet2!A:B,2,FALSE)","v":198.5}]
[6865,"肖国文",361216105010,154242600417,1,{"$f":"VLOOKUP(C6866,Sheet2!A:B,2,FALSE)","v":142}]
[6866,"李源",361216105010,154012601501,2,{"$f":"VLOOKUP(C6867,Sheet2!A:B,2,FALSE)","v":142}]
[6867,"毛彬华",361216105010,154030303712,3,{"$f":"VLOOKUP(C6868,Sheet2!A:B,2,FALSE)","v":142}]
[6868,"黄源",361216105010,154012602208,4,{"$f":"VLOOKUP(C6869,Sheet2!A:B,2,FALSE)","v":142}]
[6869,"陈凤",361216105010,154210502918,5,{"$f":"VLOOKUP(C6870,Sheet2!A:B,2,FALSE)","v":142}]
[6870,"姚书华",361216105010,154012602018,6,{"$f":"VLOOKUP(C6871,Sheet2!A:B,2,FALSE)","v":142}]
[6871,"邹金龙",361216105010,154012601803,7,{"$f":"VLOOKUP(C6872,Sheet2!A:B,2,FALSE)","v":142}]
[6872,"曾璠",361216105010,154242600506,8,{"$f":"VLOOKUP(C6873,Sheet2!A:B,2,FALSE)","v":142}]
[6873,"刘红梅",361216105010,154012601425,10,{"$f":"VLOOKUP(C6874,Sheet2!A:B,2,FALSE)","v":142}]
[6874,"杨圣涵",361216105010,154012601806,9,{"$f":"VLOOKUP(C6875,Sheet2!A:B,2,FALSE)","v":142}]
[6875,"吴吉珠",361216105010,154242600515,11,{"$f":"VLOOKUP(C6876,Sheet2!A:B,2,FALSE)","v":142}]
[6876,"巫永明",361216105010,154210503904,12,{"$f":"VLOOKUP(C6877,Sheet2!A:B,2,FALSE)","v":142}]
[6877,"董甜爱",361216105010,154030303629,13,{"$f":"VLOOKUP(C6878,Sheet2!A:B,2,FALSE)","v":142}]
[6878,"钟万根",361216105010,154210503001,14,{"$f":"VLOOKUP(C6879,Sheet2!A:B,2,FALSE)","v":142}]
[6879,"邓自鹏",361216105010,154210605012,15,{"$f":"VLOOKUP(C6880,Sheet2!A:B,2,FALSE)","v":142}]
[6880,"邓鑫",361216105010,154210604704,16,{"$f":"VLOOKUP(C6881,Sheet2!A:B,2,FALSE)","v":142}]
[6881,"陈晓华",361216105010,154210604715,17,{"$f":"VLOOKUP(C6882,Sheet2!A:B,2,FALSE)","v":142}]
[6882,"罗紫芹",361216105010,154210504024,18,{"$f":"VLOOKUP(C6883,Sheet2!A:B,2,FALSE)","v":142}]
[6883,"胡峰",361216105010,154050313909,19,{"$f":"VLOOKUP(C6884,Sheet2!A:B,2,FALSE)","v":142}]
[6884,"张艳",361216105010,154210604915,20,{"$f":"VLOOKUP(C6885,Sheet2!A:B,2,FALSE)","v":142}]
[6885,"万立鹏",361216105010,154242600424,21,{"$f":"VLOOKUP(C6886,Sheet2!A:B,2,FALSE)","v":142}]
[6886,"吴卫平",361216105010,154210503430,23,{"$f":"VLOOKUP(C6887,Sheet2!A:B,2,FALSE)","v":142}]
[6887,"凌慧",361216105010,154210502926,22,{"$f":"VLOOKUP(C6888,Sheet2!A:B,2,FALSE)","v":142}]
[6888,"周誉",361216105010,154012601224,24,{"$f":"VLOOKUP(C6889,Sheet2!A:B,2,FALSE)","v":142}]
[6889,"谢礼林",361216105010,154210503502,25,{"$f":"VLOOKUP(C6890,Sheet2!A:B,2,FALSE)","v":142}]
[6890,"孙雪梅",361216106006,154211102114,1,{"$f":"VLOOKUP(C6891,Sheet2!A:B,2,FALSE)","v":164}]
[6891,"肖周香",361216106006,154211101929,2,{"$f":"VLOOKUP(C6892,Sheet2!A:B,2,FALSE)","v":164}]
[6892,"刘达",361216106006,154030303918,3,{"$f":"VLOOKUP(C6893,Sheet2!A:B,2,FALSE)","v":164}]
[6893,"谢爽",361216106006,154211102109,4,{"$f":"VLOOKUP(C6894,Sheet2!A:B,2,FALSE)","v":164}]
[6894,"刘青",361216106006,154012602603,6,{"$f":"VLOOKUP(C6895,Sheet2!A:B,2,FALSE)","v":164}]
[6895,"李祎",361216106006,154242600721,5,{"$f":"VLOOKUP(C6896,Sheet2!A:B,2,FALSE)","v":164}]
[6896,"王俊莹",361216106006,154211101324,7,{"$f":"VLOOKUP(C6897,Sheet2!A:B,2,FALSE)","v":164}]
[6897,"侯玉珊",361216106006,154012602301,8,{"$f":"VLOOKUP(C6898,Sheet2!A:B,2,FALSE)","v":164}]
[6898,"冯冰琳",361216106006,154012603010,11,{"$f":"VLOOKUP(C6899,Sheet2!A:B,2,FALSE)","v":164}]
[6899,"吴逸轩",361216106006,154242600624,10,{"$f":"VLOOKUP(C6900,Sheet2!A:B,2,FALSE)","v":164}]
[6900,"陈敏",361216106006,154211102418,9,{"$f":"VLOOKUP(C6901,Sheet2!A:B,2,FALSE)","v":164}]
[6901,"廖瑶",361216106006,154211102426,12,{"$f":"VLOOKUP(C6902,Sheet2!A:B,2,FALSE)","v":164}]
[6902,"胡美燕",361216106006,154242600704,13,{"$f":"VLOOKUP(C6903,Sheet2!A:B,2,FALSE)","v":164}]
[6903,"曾天姿",361216106006,154211101026,14,{"$f":"VLOOKUP(C6904,Sheet2!A:B,2,FALSE)","v":164}]
[6904,"尹霞晖",361216106006,154012603011,15,{"$f":"VLOOKUP(C6905,Sheet2!A:B,2,FALSE)","v":164}]
[6905,"刘招兰",361216107007,154012503026,1,{"$f":"VLOOKUP(C6906,Sheet2!A:B,2,FALSE)","v":146.5}]
[6906,"秦莹",361216107007,154242501017,2,{"$f":"VLOOKUP(C6907,Sheet2!A:B,2,FALSE)","v":146.5}]
[6907,"张美晶",361216107007,154012404126,3,{"$f":"VLOOKUP(C6908,Sheet2!A:B,2,FALSE)","v":146.5}]
[6908,"熊小芳",361216107007,154210300520,4,{"$f":"VLOOKUP(C6909,Sheet2!A:B,2,FALSE)","v":146.5}]
[6909,"胡彩虹",361216107007,154242500910,5,{"$f":"VLOOKUP(C6910,Sheet2!A:B,2,FALSE)","v":146.5}]
[6910,"王欣",361216107007,154242500714,6,{"$f":"VLOOKUP(C6911,Sheet2!A:B,2,FALSE)","v":146.5}]
[6911,"张萍",361216107007,154210300314,7,{"$f":"VLOOKUP(C6912,Sheet2!A:B,2,FALSE)","v":146.5}]
[6912,"胡灵蓉",361216107007,154242500825,8,{"$f":"VLOOKUP(C6913,Sheet2!A:B,2,FALSE)","v":146.5}]
[6913,"林诗卉",361216107007,154250104625,9,{"$f":"VLOOKUP(C6914,Sheet2!A:B,2,FALSE)","v":146.5}]
[6914,"杨欣",361216107007,154242500817,10,{"$f":"VLOOKUP(C6915,Sheet2!A:B,2,FALSE)","v":146.5}]
[6915,"李雨芯",361216107007,154210300804,11,{"$f":"VLOOKUP(C6916,Sheet2!A:B,2,FALSE)","v":146.5}]
[6916,"刘嘉欣",361216107007,154012502611,12,{"$f":"VLOOKUP(C6917,Sheet2!A:B,2,FALSE)","v":146.5}]
[6917,"邹宇",361216107007,154210300130,13,{"$f":"VLOOKUP(C6918,Sheet2!A:B,2,FALSE)","v":146.5}]
[6918,"袁家琪",361216107007,154242500701,14,{"$f":"VLOOKUP(C6919,Sheet2!A:B,2,FALSE)","v":146.5}]
[6919,"邓匆匆",361216107007,154012503009,15,{"$f":"VLOOKUP(C6920,Sheet2!A:B,2,FALSE)","v":146.5}]
[6920,"钟惠婷",361216107007,154210301515,16,{"$f":"VLOOKUP(C6921,Sheet2!A:B,2,FALSE)","v":146.5}]
[6921,"代诺兰",361216107007,154242500810,17,{"$f":"VLOOKUP(C6922,Sheet2!A:B,2,FALSE)","v":146.5}]
[6922,"阮雯婧",361216107007,154242500819,18,{"$f":"VLOOKUP(C6923,Sheet2!A:B,2,FALSE)","v":146.5}]
[6923,"石欣",361216114008,154211000218,1,{"$f":"VLOOKUP(C6924,Sheet2!A:B,2,FALSE)","v":190}]
[6924,"袁诗艳",361216114008,154012404524,2,{"$f":"VLOOKUP(C6925,Sheet2!A:B,2,FALSE)","v":190}]
[6925,"黄国芳",361216114008,154012404612,3,{"$f":"VLOOKUP(C6926,Sheet2!A:B,2,FALSE)","v":190}]
[6926,"桂艺婕",361216114008,154060602801,4,{"$f":"VLOOKUP(C6927,Sheet2!A:B,2,FALSE)","v":190}]
[6927,"芦恒梦",361216114008,154012404406,5,{"$f":"VLOOKUP(C6928,Sheet2!A:B,2,FALSE)","v":190}]
[6928,"李芳玲",361216114008,154012404425,6,{"$f":"VLOOKUP(C6929,Sheet2!A:B,2,FALSE)","v":190}]
[6929,"邓红",361216114008,154242501108,7,{"$f":"VLOOKUP(C6930,Sheet2!A:B,2,FALSE)","v":190}]
[6930,"邓苏亭",361216114008,154242501114,8,{"$f":"VLOOKUP(C6931,Sheet2!A:B,2,FALSE)","v":190}]
[6931,"黄晶",361216114008,154211000205,9,{"$f":"VLOOKUP(C6932,Sheet2!A:B,2,FALSE)","v":190}]
[6932,"江艳群",361216114008,154211000302,10,{"$f":"VLOOKUP(C6933,Sheet2!A:B,2,FALSE)","v":190}]
[6933,"黄玫",361216114008,154012404420,11,{"$f":"VLOOKUP(C6934,Sheet2!A:B,2,FALSE)","v":190}]
[6934,"李英",361216114008,154211000326,12,{"$f":"VLOOKUP(C6935,Sheet2!A:B,2,FALSE)","v":190}]
[6935,"钟小凤",361216114008,154012404418,13,{"$f":"VLOOKUP(C6936,Sheet2!A:B,2,FALSE)","v":190}]
[6936,"古诚锋",361216114008,154242501101,14,{"$f":"VLOOKUP(C6937,Sheet2!A:B,2,FALSE)","v":190}]
[6937,"章雨",361216114008,154250104907,15,{"$f":"VLOOKUP(C6938,Sheet2!A:B,2,FALSE)","v":190}]
[6938,"余金华",361216114008,154012404528,16,{"$f":"VLOOKUP(C6939,Sheet2!A:B,2,FALSE)","v":190}]
[6939,"宁霞",361216114008,154012404426,17,{"$f":"VLOOKUP(C6940,Sheet2!A:B,2,FALSE)","v":190}]
[6940,"吕坤",361216114008,154012404505,18,{"$f":"VLOOKUP(C6941,Sheet2!A:B,2,FALSE)","v":190}]
[6941,"顾青青",361216114008,154012404428,19,{"$f":"VLOOKUP(C6942,Sheet2!A:B,2,FALSE)","v":190}]
[6942,"刘佳",361216114008,154211000221,20,{"$f":"VLOOKUP(C6943,Sheet2!A:B,2,FALSE)","v":190}]
[6943,"钟鑫",361216115003,154211103213,1,{"$f":"VLOOKUP(C6944,Sheet2!A:B,2,FALSE)","v":179.5}]
[6944,"胡婷婷",361216115003,154211103416,2,{"$f":"VLOOKUP(C6945,Sheet2!A:B,2,FALSE)","v":179.5}]
[6945,"郭乐",361216115003,154012404723,3,{"$f":"VLOOKUP(C6946,Sheet2!A:B,2,FALSE)","v":179.5}]
[6946,"严春华",361216115003,154211103211,4,{"$f":"VLOOKUP(C6947,Sheet2!A:B,2,FALSE)","v":179.5}]
[6947,"刘雅雯",361216115003,154242403008,5,{"$f":"VLOOKUP(C6948,Sheet2!A:B,2,FALSE)","v":179.5}]
[6948,"颜惠",361216115003,154211103415,6,{"$f":"VLOOKUP(C6949,Sheet2!A:B,2,FALSE)","v":179.5}]
[6949,"朱小玲",361216115003,154040802507,7,{"$f":"VLOOKUP(C6950,Sheet2!A:B,2,FALSE)","v":179.5}]
[6950,"张国华",361216115003,154012404702,8,{"$f":"VLOOKUP(C6951,Sheet2!A:B,2,FALSE)","v":179.5}]
[6951,"邹艳萍",361216115003,154012404806,9,{"$f":"VLOOKUP(C6952,Sheet2!A:B,2,FALSE)","v":179.5}]
[6952,"吴婉丽",361216116006,154030304705,1,{"$f":"VLOOKUP(C6953,Sheet2!A:B,2,FALSE)","v":187.5}]
[6953,"张琦",361216116006,154210301727,2,{"$f":"VLOOKUP(C6954,Sheet2!A:B,2,FALSE)","v":187.5}]
[6954,"刘洁",361216116006,154012405030,3,{"$f":"VLOOKUP(C6955,Sheet2!A:B,2,FALSE)","v":187.5}]
[6955,"王啊琴",361216116006,154250105103,4,{"$f":"VLOOKUP(C6956,Sheet2!A:B,2,FALSE)","v":187.5}]
[6956,"罗海华",361216116006,154242403205,5,{"$f":"VLOOKUP(C6957,Sheet2!A:B,2,FALSE)","v":187.5}]
[6957,"周慧",361216116006,154012405402,6,{"$f":"VLOOKUP(C6958,Sheet2!A:B,2,FALSE)","v":187.5}]
[6958,"周子恬",361216116006,154242403111,7,{"$f":"VLOOKUP(C6959,Sheet2!A:B,2,FALSE)","v":187.5}]
[6959,"王雨琳",361216116006,154210301730,8,{"$f":"VLOOKUP(C6960,Sheet2!A:B,2,FALSE)","v":187.5}]
[6960,"黄译",361216116006,154050314607,9,{"$f":"VLOOKUP(C6961,Sheet2!A:B,2,FALSE)","v":187.5}]
[6961,"杨梓",361216116006,154250105113,10,{"$f":"VLOOKUP(C6962,Sheet2!A:B,2,FALSE)","v":187.5}]
[6962,"陶紫萱",361216116006,154012405325,12,{"$f":"VLOOKUP(C6963,Sheet2!A:B,2,FALSE)","v":187.5}]
[6963,"林琴琴",361216116006,154012405020,11,{"$f":"VLOOKUP(C6964,Sheet2!A:B,2,FALSE)","v":187.5}]
[6964,"谢冰雁",361216116006,154012405105,13,{"$f":"VLOOKUP(C6965,Sheet2!A:B,2,FALSE)","v":187.5}]
[6965,"谢童",361216116006,154242403102,15,{"$f":"VLOOKUP(C6966,Sheet2!A:B,2,FALSE)","v":187.5}]
[6966,"廖强",361216116006,154210301922,14,{"$f":"VLOOKUP(C6967,Sheet2!A:B,2,FALSE)","v":187.5}]
[6967,"杨然",361216201012,154040601923,1,{"$f":"VLOOKUP(C6968,Sheet2!A:B,2,FALSE)","v":155.5}]
[6968,"范英杰",361216201012,154242601309,2,{"$f":"VLOOKUP(C6969,Sheet2!A:B,2,FALSE)","v":155.5}]
[6969,"钟雪琴",361216201012,154210901317,3,{"$f":"VLOOKUP(C6970,Sheet2!A:B,2,FALSE)","v":155.5}]
[6970,"刘冬萍",361216201012,154210902830,4,{"$f":"VLOOKUP(C6971,Sheet2!A:B,2,FALSE)","v":155.5}]
[6971,"谢聪",361216201012,154210902604,5,{"$f":"VLOOKUP(C6972,Sheet2!A:B,2,FALSE)","v":155.5}]
[6972,"刘婷",361216201012,154012700412,6,{"$f":"VLOOKUP(C6973,Sheet2!A:B,2,FALSE)","v":155.5}]
[6973,"黄秋宇",361216201012,154210902524,7,{"$f":"VLOOKUP(C6974,Sheet2!A:B,2,FALSE)","v":155.5}]
[6974,"戴星星",361216201012,154210901004,8,{"$f":"VLOOKUP(C6975,Sheet2!A:B,2,FALSE)","v":155.5}]
[6975,"王林香",361216201012,154012700415,9,{"$f":"VLOOKUP(C6976,Sheet2!A:B,2,FALSE)","v":155.5}]
[6976,"王丽娇",361216201012,154210902630,10,{"$f":"VLOOKUP(C6977,Sheet2!A:B,2,FALSE)","v":155.5}]
[6977,"王小梅",361216201012,154210901505,11,{"$f":"VLOOKUP(C6978,Sheet2!A:B,2,FALSE)","v":155.5}]
[6978,"谢彩佩",361216201012,154210903028,12,{"$f":"VLOOKUP(C6979,Sheet2!A:B,2,FALSE)","v":155.5}]
[6979,"黄琴",361216201012,154012700102,13,{"$f":"VLOOKUP(C6980,Sheet2!A:B,2,FALSE)","v":155.5}]
[6980,"许华妹",361216201012,154210902917,15,{"$f":"VLOOKUP(C6981,Sheet2!A:B,2,FALSE)","v":155.5}]
[6981,"郭阳",361216201012,154210900223,14,{"$f":"VLOOKUP(C6982,Sheet2!A:B,2,FALSE)","v":155.5}]
[6982,"谢妍",361216201012,154210901624,17,{"$f":"VLOOKUP(C6983,Sheet2!A:B,2,FALSE)","v":155.5}]
[6983,"梁良",361216201012,154012701404,16,{"$f":"VLOOKUP(C6984,Sheet2!A:B,2,FALSE)","v":155.5}]
[6984,"刘圆圆",361216201012,154210900409,18,{"$f":"VLOOKUP(C6985,Sheet2!A:B,2,FALSE)","v":155.5}]
[6985,"朱琳",361216201012,154210902217,19,{"$f":"VLOOKUP(C6986,Sheet2!A:B,2,FALSE)","v":155.5}]
[6986,"王宇娟",361216201012,154012701204,20,{"$f":"VLOOKUP(C6987,Sheet2!A:B,2,FALSE)","v":155.5}]
[6987,"赖珍",361216201012,154210902903,21,{"$f":"VLOOKUP(C6988,Sheet2!A:B,2,FALSE)","v":155.5}]
[6988,"张晶",361216201012,154210902919,22,{"$f":"VLOOKUP(C6989,Sheet2!A:B,2,FALSE)","v":155.5}]
[6989,"涂海云",361216201012,154210902702,23,{"$f":"VLOOKUP(C6990,Sheet2!A:B,2,FALSE)","v":155.5}]
[6990,"谢金水",361216201012,154210900603,24,{"$f":"VLOOKUP(C6991,Sheet2!A:B,2,FALSE)","v":155.5}]
[6991,"郑欣",361216202016,154050315114,1,{"$f":"VLOOKUP(C6992,Sheet2!A:B,2,FALSE)","v":144.5}]
[6992,"刘见昇",361216202016,154242702925,2,{"$f":"VLOOKUP(C6993,Sheet2!A:B,2,FALSE)","v":144.5}]
[6993,"陈琳",361216202016,154030305311,3,{"$f":"VLOOKUP(C6994,Sheet2!A:B,2,FALSE)","v":144.5}]
[6994,"谢丽君",361216202016,154210200206,4,{"$f":"VLOOKUP(C6995,Sheet2!A:B,2,FALSE)","v":144.5}]
[6995,"尧梦琴",361216202016,154210201722,6,{"$f":"VLOOKUP(C6996,Sheet2!A:B,2,FALSE)","v":144.5}]
[6996,"曾美英",361216202016,154210200917,7,{"$f":"VLOOKUP(C6997,Sheet2!A:B,2,FALSE)","v":144.5}]
[6997,"龚林秀",361216202016,154210200115,5,{"$f":"VLOOKUP(C6998,Sheet2!A:B,2,FALSE)","v":144.5}]
[6998,"丁慧",361216202016,154210200415,8,{"$f":"VLOOKUP(C6999,Sheet2!A:B,2,FALSE)","v":144.5}]
[6999,"陈淑敏",361216202016,154210700118,9,{"$f":"VLOOKUP(C7000,Sheet2!A:B,2,FALSE)","v":144.5}]
[7000,"刘思敏",361216202016,154210201825,10,{"$f":"VLOOKUP(C7001,Sheet2!A:B,2,FALSE)","v":144.5}]
[7001,"刘龙斌",361216202016,154210200620,11,{"$f":"VLOOKUP(C7002,Sheet2!A:B,2,FALSE)","v":144.5}]
[7002,"冯祖敏",361216202016,154050315028,12,{"$f":"VLOOKUP(C7003,Sheet2!A:B,2,FALSE)","v":144.5}]
[7003,"钟楚",361216202016,154210201725,13,{"$f":"VLOOKUP(C7004,Sheet2!A:B,2,FALSE)","v":144.5}]
[7004,"邓福英",361216202016,154210200103,14,{"$f":"VLOOKUP(C7005,Sheet2!A:B,2,FALSE)","v":144.5}]
[7005,"曾根华",361216202016,154012907227,15,{"$f":"VLOOKUP(C7006,Sheet2!A:B,2,FALSE)","v":144.5}]
[7006,"钟鑫",361216202016,154210200125,16,{"$f":"VLOOKUP(C7007,Sheet2!A:B,2,FALSE)","v":144.5}]
[7007,"赖艳萍",361216202016,154242703217,17,{"$f":"VLOOKUP(C7008,Sheet2!A:B,2,FALSE)","v":144.5}]
[7008,"蓝珠",361216202016,154012906730,18,{"$f":"VLOOKUP(C7009,Sheet2!A:B,2,FALSE)","v":144.5}]
[7009,"肖祝艳",361216202016,154242702516,19,{"$f":"VLOOKUP(C7010,Sheet2!A:B,2,FALSE)","v":144.5}]
[7010,"辛维",361216202016,154242703218,20,{"$f":"VLOOKUP(C7011,Sheet2!A:B,2,FALSE)","v":144.5}]
[7011,"林永瑞",361216202016,154210201323,21,{"$f":"VLOOKUP(C7012,Sheet2!A:B,2,FALSE)","v":144.5}]
[7012,"张建梅",361216202016,154210200906,22,{"$f":"VLOOKUP(C7013,Sheet2!A:B,2,FALSE)","v":144.5}]
[7013,"刘水莲",361216202016,154210200304,23,{"$f":"VLOOKUP(C7014,Sheet2!A:B,2,FALSE)","v":144.5}]
[7014,"侯乐燊",361216202016,154210201114,24,{"$f":"VLOOKUP(C7015,Sheet2!A:B,2,FALSE)","v":144.5}]
[7015,"李文",361216202016,154210201612,25,{"$f":"VLOOKUP(C7016,Sheet2!A:B,2,FALSE)","v":144.5}]
[7016,"陶德",361216202016,154210201926,26,{"$f":"VLOOKUP(C7017,Sheet2!A:B,2,FALSE)","v":144.5}]
[7017,"严钟琴",361216202016,154221405328,27,{"$f":"VLOOKUP(C7018,Sheet2!A:B,2,FALSE)","v":144.5}]
[7018,"方仕荣",361216202016,154210201416,28,{"$f":"VLOOKUP(C7019,Sheet2!A:B,2,FALSE)","v":144.5}]
[7019,"朱韵倩",361216202016,154012906819,29,{"$f":"VLOOKUP(C7020,Sheet2!A:B,2,FALSE)","v":144.5}]
[7020,"周则波",361216202016,154231501121,30,{"$f":"VLOOKUP(C7021,Sheet2!A:B,2,FALSE)","v":144.5}]
[7021,"王理香",361216202016,154210200324,31,{"$f":"VLOOKUP(C7022,Sheet2!A:B,2,FALSE)","v":144.5}]
[7022,"孙小红",361216202016,154012906807,32,{"$f":"VLOOKUP(C7023,Sheet2!A:B,2,FALSE)","v":144.5}]
[7023,"张齐凤",361216203010,154012907829,1,{"$f":"VLOOKUP(C7024,Sheet2!A:B,2,FALSE)","v":176.5}]
[7024,"曾惠敏",361216203010,154210700726,2,{"$f":"VLOOKUP(C7025,Sheet2!A:B,2,FALSE)","v":176.5}]
[7025,"陈美玲",361216203010,154012805308,3,{"$f":"VLOOKUP(C7026,Sheet2!A:B,2,FALSE)","v":176.5}]
[7026,"温娟",361216203010,154210701519,4,{"$f":"VLOOKUP(C7027,Sheet2!A:B,2,FALSE)","v":176.5}]
[7027,"李声悦",361216203010,154210701414,5,{"$f":"VLOOKUP(C7028,Sheet2!A:B,2,FALSE)","v":176.5}]
[7028,"廖明娟",361216203010,154210702610,6,{"$f":"VLOOKUP(C7029,Sheet2!A:B,2,FALSE)","v":176.5}]
[7029,"江林凤",361216203010,154012804524,7,{"$f":"VLOOKUP(C7030,Sheet2!A:B,2,FALSE)","v":176.5}]
[7030,"刘思",361216203010,154210702707,8,{"$f":"VLOOKUP(C7031,Sheet2!A:B,2,FALSE)","v":176.5}]
[7031,"凌雄英",361216203010,154210700824,9,{"$f":"VLOOKUP(C7032,Sheet2!A:B,2,FALSE)","v":176.5}]
[7032,"许燕玲",361216203010,154012907910,10,{"$f":"VLOOKUP(C7033,Sheet2!A:B,2,FALSE)","v":176.5}]
[7033,"曾淑芬",361216203010,154210703618,11,{"$f":"VLOOKUP(C7034,Sheet2!A:B,2,FALSE)","v":176.5}]
[7034,"胡依玲",361216203010,154040602325,13,{"$f":"VLOOKUP(C7035,Sheet2!A:B,2,FALSE)","v":176.5}]
[7035,"吴根梅",361216203010,154210702422,12,{"$f":"VLOOKUP(C7036,Sheet2!A:B,2,FALSE)","v":176.5}]
[7036,"潘燕桦",361216203010,154210702423,14,{"$f":"VLOOKUP(C7037,Sheet2!A:B,2,FALSE)","v":176.5}]
[7037,"曾财发",361216203010,154242502108,15,{"$f":"VLOOKUP(C7038,Sheet2!A:B,2,FALSE)","v":176.5}]
[7038,"严普秀",361216203010,154210701026,16,{"$f":"VLOOKUP(C7039,Sheet2!A:B,2,FALSE)","v":176.5}]
[7039,"周逸娟",361216203010,154210700819,17,{"$f":"VLOOKUP(C7040,Sheet2!A:B,2,FALSE)","v":176.5}]
[7040,"李昕",361216203010,154242502605,18,{"$f":"VLOOKUP(C7041,Sheet2!A:B,2,FALSE)","v":176.5}]
[7041,"谢婷",361216203010,154210702110,19,{"$f":"VLOOKUP(C7042,Sheet2!A:B,2,FALSE)","v":176.5}]
[7042,"兰芳",361216203010,154210700805,20,{"$f":"VLOOKUP(C7043,Sheet2!A:B,2,FALSE)","v":176.5}]
[7043,"曾燕平",361216203010,154210700719,21,{"$f":"VLOOKUP(C7044,Sheet2!A:B,2,FALSE)","v":176.5}]
[7044,"王琳",361216203010,154210701815,22,{"$f":"VLOOKUP(C7045,Sheet2!A:B,2,FALSE)","v":176.5}]
[7045,"王小梅",361216203010,154242501410,23,{"$f":"VLOOKUP(C7046,Sheet2!A:B,2,FALSE)","v":176.5}]
[7046,"杨微华",361216203010,154210700601,27,{"$f":"VLOOKUP(C7047,Sheet2!A:B,2,FALSE)","v":176.5}]
[7047,"罗素清",361216203010,154210702902,26,{"$f":"VLOOKUP(C7048,Sheet2!A:B,2,FALSE)","v":176.5}]
[7048,"谢国琴",361216203010,154012908504,29,{"$f":"VLOOKUP(C7049,Sheet2!A:B,2,FALSE)","v":176.5}]
[7049,"阙钰丹",361216203010,154210703205,28,{"$f":"VLOOKUP(C7050,Sheet2!A:B,2,FALSE)","v":176.5}]
[7050,"张盛",361216203010,154210701710,24,{"$f":"VLOOKUP(C7051,Sheet2!A:B,2,FALSE)","v":176.5}]
[7051,"谢慧娟",361216203010,154012804613,25,{"$f":"VLOOKUP(C7052,Sheet2!A:B,2,FALSE)","v":176.5}]
[7052,"谢曼玉",361216204010,154030306213,1,{"$f":"VLOOKUP(C7053,Sheet2!A:B,2,FALSE)","v":182}]
[7053,"刘艳萍",361216204010,154210203011,2,{"$f":"VLOOKUP(C7054,Sheet2!A:B,2,FALSE)","v":182}]
[7054,"邓鹏钰",361216204010,154210202012,3,{"$f":"VLOOKUP(C7055,Sheet2!A:B,2,FALSE)","v":182}]
[7055,"黄志芳",361216204010,154210203024,4,{"$f":"VLOOKUP(C7056,Sheet2!A:B,2,FALSE)","v":182}]
[7056,"张磊",361216204010,154242403426,5,{"$f":"VLOOKUP(C7057,Sheet2!A:B,2,FALSE)","v":182}]
[7057,"肖倩",361216204010,154210202121,6,{"$f":"VLOOKUP(C7058,Sheet2!A:B,2,FALSE)","v":182}]
[7058,"游淑慧",361216204010,154012909003,7,{"$f":"VLOOKUP(C7059,Sheet2!A:B,2,FALSE)","v":182}]
[7059,"李秋梅",361216204010,154210202714,8,{"$f":"VLOOKUP(C7060,Sheet2!A:B,2,FALSE)","v":182}]
[7060,"曾庆玲",361216204010,154210202001,10,{"$f":"VLOOKUP(C7061,Sheet2!A:B,2,FALSE)","v":182}]
[7061,"陈小春",361216204010,154210202516,9,{"$f":"VLOOKUP(C7062,Sheet2!A:B,2,FALSE)","v":182}]
[7062,"吕桂金",361216204010,154012908915,11,{"$f":"VLOOKUP(C7063,Sheet2!A:B,2,FALSE)","v":182}]
[7063,"黄艳秀",361216204010,154210202307,12,{"$f":"VLOOKUP(C7064,Sheet2!A:B,2,FALSE)","v":182}]
[7064,"李人兴",361216204010,154210202417,13,{"$f":"VLOOKUP(C7065,Sheet2!A:B,2,FALSE)","v":182}]
[7065,"刘声通",361216204010,154210202006,14,{"$f":"VLOOKUP(C7066,Sheet2!A:B,2,FALSE)","v":182}]
[7066,"徐欢",361216204010,154012908827,16,{"$f":"VLOOKUP(C7067,Sheet2!A:B,2,FALSE)","v":182}]
[7067,"蓝康珍",361216204010,154210202915,15,{"$f":"VLOOKUP(C7068,Sheet2!A:B,2,FALSE)","v":182}]
[7068,"曾艳婷",361216204010,154210202223,17,{"$f":"VLOOKUP(C7069,Sheet2!A:B,2,FALSE)","v":182}]
[7069,"钟维明",361216204010,154210202910,18,{"$f":"VLOOKUP(C7070,Sheet2!A:B,2,FALSE)","v":182}]
[7070,"曾美晨",361216204010,154242403306,19,{"$f":"VLOOKUP(C7071,Sheet2!A:B,2,FALSE)","v":182}]
[7071,"陈海琳",361216204010,154210203020,20,{"$f":"VLOOKUP(C7072,Sheet2!A:B,2,FALSE)","v":182}]
[7072,"王小艺",361216204010,154210202422,21,{"$f":"VLOOKUP(C7073,Sheet2!A:B,2,FALSE)","v":182}]
[7073,"刘丽华",361216204010,154210202911,22,{"$f":"VLOOKUP(C7074,Sheet2!A:B,2,FALSE)","v":182}]
[7074,"李娟",361216204010,154242403402,23,{"$f":"VLOOKUP(C7075,Sheet2!A:B,2,FALSE)","v":182}]
[7075,"肖正谦",361216204010,154242403418,24,{"$f":"VLOOKUP(C7076,Sheet2!A:B,2,FALSE)","v":182}]
[7076,"刘玉珍",361216204010,154210202528,25,{"$f":"VLOOKUP(C7077,Sheet2!A:B,2,FALSE)","v":182}]
[7077,"何烈翔",361216205006,154211002913,1,{"$f":"VLOOKUP(C7078,Sheet2!A:B,2,FALSE)","v":159}]
[7078,"邱海飞",361216205006,154211002605,2,{"$f":"VLOOKUP(C7079,Sheet2!A:B,2,FALSE)","v":159}]
[7079,"曾淋",361216205006,154211001917,3,{"$f":"VLOOKUP(C7080,Sheet2!A:B,2,FALSE)","v":159}]
[7080,"施崇琦",361216205006,154012405714,4,{"$f":"VLOOKUP(C7081,Sheet2!A:B,2,FALSE)","v":159}]
[7081,"谭小燕",361216205006,154211003002,5,{"$f":"VLOOKUP(C7082,Sheet2!A:B,2,FALSE)","v":159}]
[7082,"黄俊",361216205006,154012405724,6,{"$f":"VLOOKUP(C7083,Sheet2!A:B,2,FALSE)","v":159}]
[7083,"谭检英",361216205006,154211002618,7,{"$f":"VLOOKUP(C7084,Sheet2!A:B,2,FALSE)","v":159}]
[7084,"肖文娟",361216205006,154012405814,8,{"$f":"VLOOKUP(C7085,Sheet2!A:B,2,FALSE)","v":159}]
[7085,"李红",361216205006,154211002307,9,{"$f":"VLOOKUP(C7086,Sheet2!A:B,2,FALSE)","v":159}]
[7086,"李桂祯",361216205006,154211001512,10,{"$f":"VLOOKUP(C7087,Sheet2!A:B,2,FALSE)","v":159}]
[7087,"刘发秀",361216205006,154211002806,11,{"$f":"VLOOKUP(C7088,Sheet2!A:B,2,FALSE)","v":159}]
[7088,"王上彬",361216205006,154211002211,12,{"$f":"VLOOKUP(C7089,Sheet2!A:B,2,FALSE)","v":159}]
[7089,"蔡顺梅",361216205006,154231503318,13,{"$f":"VLOOKUP(C7090,Sheet2!A:B,2,FALSE)","v":159}]
[7090,"肖鑫",361216205006,154231503312,14,{"$f":"VLOOKUP(C7091,Sheet2!A:B,2,FALSE)","v":159}]
[7091,"田丰源",361216205006,154012406119,15,{"$f":"VLOOKUP(C7092,Sheet2!A:B,2,FALSE)","v":159}]
[7092,"温明",361216206002,154012702830,1,{"$f":"VLOOKUP(C7093,Sheet2!A:B,2,FALSE)","v":174}]
[7093,"李志琴",361216206002,154012702217,2,{"$f":"VLOOKUP(C7094,Sheet2!A:B,2,FALSE)","v":174}]
[7094,"张琴",361216206002,154210500228,3,{"$f":"VLOOKUP(C7095,Sheet2!A:B,2,FALSE)","v":174}]
[7095,"邓幽美",361216206002,154210500313,4,{"$f":"VLOOKUP(C7096,Sheet2!A:B,2,FALSE)","v":174}]
[7096,"李金林",361216206002,154210502405,5,{"$f":"VLOOKUP(C7097,Sheet2!A:B,2,FALSE)","v":174}]
[7097,"曾妍",361216206002,154210502213,6,{"$f":"VLOOKUP(C7098,Sheet2!A:B,2,FALSE)","v":174}]
[7098,"康婷",361216207002,154012406401,1,{"$f":"VLOOKUP(C7099,Sheet2!A:B,2,FALSE)","v":138}]
[7099,"谢园",361216207002,154210401315,2,{"$f":"VLOOKUP(C7100,Sheet2!A:B,2,FALSE)","v":138}]
[7100,"吴丛曦",361216207002,154231504208,3,{"$f":"VLOOKUP(C7101,Sheet2!A:B,2,FALSE)","v":138}]
[7101,"徐紫荆",361216207002,154012406302,4,{"$f":"VLOOKUP(C7102,Sheet2!A:B,2,FALSE)","v":138}]
[7102,"刘海玲",361216207002,154210401422,5,{"$f":"VLOOKUP(C7103,Sheet2!A:B,2,FALSE)","v":138}]
[7103,"曾洋",361216207002,154210402219,6,{"$f":"VLOOKUP(C7104,Sheet2!A:B,2,FALSE)","v":138}]
[7104,"王文锋",361216208008,154210303114,1,{"$f":"VLOOKUP(C7105,Sheet2!A:B,2,FALSE)","v":149}]
[7105,"郭小娟",361216208008,154210303712,2,{"$f":"VLOOKUP(C7106,Sheet2!A:B,2,FALSE)","v":149}]
[7106,"刘小青",361216208008,154210303111,3,{"$f":"VLOOKUP(C7107,Sheet2!A:B,2,FALSE)","v":149}]
[7107,"刘磊",361216208008,154210303219,4,{"$f":"VLOOKUP(C7108,Sheet2!A:B,2,FALSE)","v":149}]
[7108,"谢苇林",361216208008,154210303715,5,{"$f":"VLOOKUP(C7109,Sheet2!A:B,2,FALSE)","v":149}]
[7109,"杨婷",361216208008,154210303710,6,{"$f":"VLOOKUP(C7110,Sheet2!A:B,2,FALSE)","v":149}]
[7110,"王富民",361216208008,154231504403,7,{"$f":"VLOOKUP(C7111,Sheet2!A:B,2,FALSE)","v":149}]
[7111,"钟钢",361216208008,154210303606,8,{"$f":"VLOOKUP(C7112,Sheet2!A:B,2,FALSE)","v":149}]
[7112,"宋观音",361216208008,154210303417,9,{"$f":"VLOOKUP(C7113,Sheet2!A:B,2,FALSE)","v":149}]
[7113,"应林燕",361216208008,154210303325,10,{"$f":"VLOOKUP(C7114,Sheet2!A:B,2,FALSE)","v":149}]
[7114,"刘桂金",361216208008,154231504516,11,{"$f":"VLOOKUP(C7115,Sheet2!A:B,2,FALSE)","v":149}]
[7115,"欧阳娟",361216208008,154210303504,12,{"$f":"VLOOKUP(C7116,Sheet2!A:B,2,FALSE)","v":149}]
[7116,"赖雅婷",361216208008,154210303216,13,{"$f":"VLOOKUP(C7117,Sheet2!A:B,2,FALSE)","v":149}]
[7117,"廖石秀",361216208008,154210303630,14,{"$f":"VLOOKUP(C7118,Sheet2!A:B,2,FALSE)","v":149}]
[7118,"王秤峰",361216208008,154210303318,15,{"$f":"VLOOKUP(C7119,Sheet2!A:B,2,FALSE)","v":149}]
[7119,"曾竹君",361216208008,154210303624,16,{"$f":"VLOOKUP(C7120,Sheet2!A:B,2,FALSE)","v":149}]
[7120,"王云",361216208008,154210303209,17,{"$f":"VLOOKUP(C7121,Sheet2!A:B,2,FALSE)","v":149}]
[7121,"吴淑隆",361216208008,154210303530,18,{"$f":"VLOOKUP(C7122,Sheet2!A:B,2,FALSE)","v":149}]
[7122,"黄丽春",361216208008,154210303503,19,{"$f":"VLOOKUP(C7123,Sheet2!A:B,2,FALSE)","v":149}]
[7123,"钟浩",361216208008,154210303527,20,{"$f":"VLOOKUP(C7124,Sheet2!A:B,2,FALSE)","v":149}]
[7124,"李春香",361216209010,154012406901,1,{"$f":"VLOOKUP(C7125,Sheet2!A:B,2,FALSE)","v":176}]
[7125,"方美琴",361216209010,154210403020,2,{"$f":"VLOOKUP(C7126,Sheet2!A:B,2,FALSE)","v":176}]
[7126,"黄诗梅",361216209010,154210402825,3,{"$f":"VLOOKUP(C7127,Sheet2!A:B,2,FALSE)","v":176}]
[7127,"黄倩",361216209010,154210402609,4,{"$f":"VLOOKUP(C7128,Sheet2!A:B,2,FALSE)","v":176}]
[7128,"王灿霞",361216209010,154242603920,5,{"$f":"VLOOKUP(C7129,Sheet2!A:B,2,FALSE)","v":176}]
[7129,"胡云萍",361216209010,154030307503,6,{"$f":"VLOOKUP(C7130,Sheet2!A:B,2,FALSE)","v":176}]
[7130,"朱艺",361216209010,154210403118,8,{"$f":"VLOOKUP(C7131,Sheet2!A:B,2,FALSE)","v":176}]
[7131,"肖燕",361216209010,154210402903,7,{"$f":"VLOOKUP(C7132,Sheet2!A:B,2,FALSE)","v":176}]
[7132,"刘媛",361216209010,154242604003,9,{"$f":"VLOOKUP(C7133,Sheet2!A:B,2,FALSE)","v":176}]
[7133,"刘雅棋",361216209010,154210403214,10,{"$f":"VLOOKUP(C7134,Sheet2!A:B,2,FALSE)","v":176}]
[7134,"邱静",361216209010,154210402513,11,{"$f":"VLOOKUP(C7135,Sheet2!A:B,2,FALSE)","v":176}]
[7135,"汤东君",361216209010,154210402920,12,{"$f":"VLOOKUP(C7136,Sheet2!A:B,2,FALSE)","v":176}]
[7136,"万丹",361216209010,154210402816,13,{"$f":"VLOOKUP(C7137,Sheet2!A:B,2,FALSE)","v":176}]
[7137,"肖思梅",361216209010,154210403220,14,{"$f":"VLOOKUP(C7138,Sheet2!A:B,2,FALSE)","v":176}]
[7138,"王福香",361216209010,154210402820,15,{"$f":"VLOOKUP(C7139,Sheet2!A:B,2,FALSE)","v":176}]
[7139,"江雨薇",361216209010,154210403028,16,{"$f":"VLOOKUP(C7140,Sheet2!A:B,2,FALSE)","v":176}]
[7140,"郭兰",361216209010,154210402527,17,{"$f":"VLOOKUP(C7141,Sheet2!A:B,2,FALSE)","v":176}]
[7141,"刘莉娟",361216209010,154210403211,18,{"$f":"VLOOKUP(C7142,Sheet2!A:B,2,FALSE)","v":176}]
[7142,"张祖金",361216209010,154210402606,19,{"$f":"VLOOKUP(C7143,Sheet2!A:B,2,FALSE)","v":176}]
[7143,"朱伟平",361216209010,154210402721,20,{"$f":"VLOOKUP(C7144,Sheet2!A:B,2,FALSE)","v":176}]
[7144,"胡瑞霞",361216209010,154210402514,21,{"$f":"VLOOKUP(C7145,Sheet2!A:B,2,FALSE)","v":176}]
[7145,"张新凤",361216209010,154210402615,22,{"$f":"VLOOKUP(C7146,Sheet2!A:B,2,FALSE)","v":176}]
[7146,"罗新英",361216209010,154210402929,23,{"$f":"VLOOKUP(C7147,Sheet2!A:B,2,FALSE)","v":176}]
[7147,"曾婷",361216209010,154210402909,24,{"$f":"VLOOKUP(C7148,Sheet2!A:B,2,FALSE)","v":176}]
[7148,"刘帮顺",361216209010,154210402520,25,{"$f":"VLOOKUP(C7149,Sheet2!A:B,2,FALSE)","v":176}]
[7149,"邓港英",361216210004,154210304228,1,{"$f":"VLOOKUP(C7150,Sheet2!A:B,2,FALSE)","v":91.5}]
[7150,"姚建强",361216210004,154210303925,2,{"$f":"VLOOKUP(C7151,Sheet2!A:B,2,FALSE)","v":91.5}]
[7151,"洪雨",361216210004,154210304212,3,{"$f":"VLOOKUP(C7152,Sheet2!A:B,2,FALSE)","v":91.5}]
[7152,"黄智洋",361216210004,154210303928,4,{"$f":"VLOOKUP(C7153,Sheet2!A:B,2,FALSE)","v":91.5}]
[7153,"姚恬瑾",361216210004,154210304122,5,{"$f":"VLOOKUP(C7154,Sheet2!A:B,2,FALSE)","v":91.5}]
[7154,"陈鹭",361216210004,154231504927,6,{"$f":"VLOOKUP(C7155,Sheet2!A:B,2,FALSE)","v":91.5}]
[7155,"黄家金",361216210004,154210304002,7,{"$f":"VLOOKUP(C7156,Sheet2!A:B,2,FALSE)","v":91.5}]
[7156,"黄明",361216210004,154210304202,8,{"$f":"VLOOKUP(C7157,Sheet2!A:B,2,FALSE)","v":91.5}]
[7157,"林海燕",361216210004,154210304008,9,{"$f":"VLOOKUP(C7158,Sheet2!A:B,2,FALSE)","v":91.5}]
[7158,"何承钰",361216210004,154210304123,10,{"$f":"VLOOKUP(C7159,Sheet2!A:B,2,FALSE)","v":91.5}]
[7159,"温迎洁",361216211014,154211000611,1,{"$f":"VLOOKUP(C7160,Sheet2!A:B,2,FALSE)","v":61.5}]
[7160,"曾婷婷",361216211014,154211000523,2,{"$f":"VLOOKUP(C7161,Sheet2!A:B,2,FALSE)","v":61.5}]
[7161,"罗艳",361216211014,154211000706,3,{"$f":"VLOOKUP(C7162,Sheet2!A:B,2,FALSE)","v":61.5}]
[7162,"刘子欢",361216211014,154211000503,4,{"$f":"VLOOKUP(C7163,Sheet2!A:B,2,FALSE)","v":61.5}]
[7163,"赖伟",361216211014,154211000827,5,{"$f":"VLOOKUP(C7164,Sheet2!A:B,2,FALSE)","v":61.5}]
[7164,"曹良",361216211014,154012803824,6,{"$f":"VLOOKUP(C7165,Sheet2!A:B,2,FALSE)","v":61.5}]
[7165,"郑振兴",361216211014,154211000820,7,{"$f":"VLOOKUP(C7166,Sheet2!A:B,2,FALSE)","v":61.5}]
[7166,"欧阳玉莹",361216211014,154242704013,8,{"$f":"VLOOKUP(C7167,Sheet2!A:B,2,FALSE)","v":61.5}]
[7167,"刘清燕",361216211014,154211001015,9,{"$f":"VLOOKUP(C7168,Sheet2!A:B,2,FALSE)","v":61.5}]
[7168,"赖声海",361216211014,154211000623,10,{"$f":"VLOOKUP(C7169,Sheet2!A:B,2,FALSE)","v":61.5}]
[7169,"钟齐浩",361216211014,154211000709,11,{"$f":"VLOOKUP(C7170,Sheet2!A:B,2,FALSE)","v":61.5}]
[7170,"刘伟",361216211014,154242704114,12,{"$f":"VLOOKUP(C7171,Sheet2!A:B,2,FALSE)","v":61.5}]
[7171,"陈美招",361216211014,154211000925,13,{"$f":"VLOOKUP(C7172,Sheet2!A:B,2,FALSE)","v":61.5}]
[7172,"陈先招",361216211014,154211000823,14,{"$f":"VLOOKUP(C7173,Sheet2!A:B,2,FALSE)","v":61.5}]
[7173,"张文泉",361216211014,154211000816,15,{"$f":"VLOOKUP(C7174,Sheet2!A:B,2,FALSE)","v":61.5}]
[7174,"黄亮",361216211014,154211000713,16,{"$f":"VLOOKUP(C7175,Sheet2!A:B,2,FALSE)","v":61.5}]
[7175,"陈远秀",361216211014,154211000703,17,{"$f":"VLOOKUP(C7176,Sheet2!A:B,2,FALSE)","v":61.5}]
[7176,"邓听",361216211014,154242704018,18,{"$f":"VLOOKUP(C7177,Sheet2!A:B,2,FALSE)","v":61.5}]
[7177,"洪启春",361216211014,154211000714,19,{"$f":"VLOOKUP(C7178,Sheet2!A:B,2,FALSE)","v":61.5}]
[7178,"刘晓林",361216211014,154211000610,20,{"$f":"VLOOKUP(C7179,Sheet2!A:B,2,FALSE)","v":61.5}]
[7179,"胡俊伟",361216211014,154012803728,21,{"$f":"VLOOKUP(C7180,Sheet2!A:B,2,FALSE)","v":61.5}]
[7180,"钟运平",361216211014,154211001006,22,{"$f":"VLOOKUP(C7181,Sheet2!A:B,2,FALSE)","v":61.5}]
[7181,"廖小敏",361216212008,154040803915,1,{"$f":"VLOOKUP(C7182,Sheet2!A:B,2,FALSE)","v":129}]
[7182,"邱芳玲",361216212008,154210800712,2,{"$f":"VLOOKUP(C7183,Sheet2!A:B,2,FALSE)","v":129}]
[7183,"曾福源",361216212008,154210800726,3,{"$f":"VLOOKUP(C7184,Sheet2!A:B,2,FALSE)","v":129}]
[7184,"曾路春",361216212008,154050316503,4,{"$f":"VLOOKUP(C7185,Sheet2!A:B,2,FALSE)","v":129}]
[7185,"张梅",361216212008,154210800623,5,{"$f":"VLOOKUP(C7186,Sheet2!A:B,2,FALSE)","v":129}]
[7186,"肖欣",361216212008,154210800807,6,{"$f":"VLOOKUP(C7187,Sheet2!A:B,2,FALSE)","v":129}]
[7187,"刘菊梅",361216212008,154210800817,7,{"$f":"VLOOKUP(C7188,Sheet2!A:B,2,FALSE)","v":129}]
[7188,"王莹",361216212008,154210800825,8,{"$f":"VLOOKUP(C7189,Sheet2!A:B,2,FALSE)","v":129}]
[7189,"胡诗雨",361216212008,154012407118,9,{"$f":"VLOOKUP(C7190,Sheet2!A:B,2,FALSE)","v":129}]
[7190,"幸仁雪",361216212008,154012407223,10,{"$f":"VLOOKUP(C7191,Sheet2!A:B,2,FALSE)","v":129}]
[7191,"肖娟",361216212008,154210801007,11,{"$f":"VLOOKUP(C7192,Sheet2!A:B,2,FALSE)","v":129}]
[7192,"朱莉玲",361216212008,154210800618,12,{"$f":"VLOOKUP(C7193,Sheet2!A:B,2,FALSE)","v":129}]
[7193,"陈素萍",361216212008,154210800602,13,{"$f":"VLOOKUP(C7194,Sheet2!A:B,2,FALSE)","v":129}]
[7194,"肖水莲",361216212008,154210800729,14,{"$f":"VLOOKUP(C7195,Sheet2!A:B,2,FALSE)","v":129}]
[7195,"刘哲",361216212008,154210801025,15,{"$f":"VLOOKUP(C7196,Sheet2!A:B,2,FALSE)","v":129}]
[7196,"李景浩",361216212008,154210800727,16,{"$f":"VLOOKUP(C7197,Sheet2!A:B,2,FALSE)","v":129}]
[7197,"刘倩",361216212008,154210801105,17,{"$f":"VLOOKUP(C7198,Sheet2!A:B,2,FALSE)","v":129}]
[7198,"钟玉婷",361216212008,154210801008,18,{"$f":"VLOOKUP(C7199,Sheet2!A:B,2,FALSE)","v":129}]
[7199,"李吕建",361216212008,154210800707,19,{"$f":"VLOOKUP(C7200,Sheet2!A:B,2,FALSE)","v":129}]
[7200,"黄斌",361216212008,154210800619,20,{"$f":"VLOOKUP(C7201,Sheet2!A:B,2,FALSE)","v":129}]
[7201,"彭婷芳",361216214005,154060604901,1,{"$f":"VLOOKUP(C7202,Sheet2!A:B,2,FALSE)","v":123.5}]
[7202,"刘萍",361216214005,154012407602,2,{"$f":"VLOOKUP(C7203,Sheet2!A:B,2,FALSE)","v":123.5}]
[7203,"邓瑞婷",361216214005,154012407605,3,{"$f":"VLOOKUP(C7204,Sheet2!A:B,2,FALSE)","v":123.5}]
[7204,"董夏惠",361216214005,154210604601,4,{"$f":"VLOOKUP(C7205,Sheet2!A:B,2,FALSE)","v":123.5}]
[7205,"胡璐娜",361216214005,154012407604,5,{"$f":"VLOOKUP(C7206,Sheet2!A:B,2,FALSE)","v":123.5}]
[7206,"赖水媛",361216214005,154210604611,6,{"$f":"VLOOKUP(C7207,Sheet2!A:B,2,FALSE)","v":123.5}]
[7207,"孙国荣",361216214005,154210604607,7,{"$f":"VLOOKUP(C7208,Sheet2!A:B,2,FALSE)","v":123.5}]
[7208,"徐霞",361216214005,154012407601,8,{"$f":"VLOOKUP(C7209,Sheet2!A:B,2,FALSE)","v":123.5}]
[7209,"李林霏",361216214005,154012407606,9,{"$f":"VLOOKUP(C7210,Sheet2!A:B,2,FALSE)","v":123.5}]
[7210,"何玉红",361216214005,154210604617,10,{"$f":"VLOOKUP(C7211,Sheet2!A:B,2,FALSE)","v":123.5}]
[7211,"杨琦",361216214005,154210604604,11,{"$f":"VLOOKUP(C7212,Sheet2!A:B,2,FALSE)","v":123.5}]
[7212,"石兆强",361216214005,154012407608,12,{"$f":"VLOOKUP(C7213,Sheet2!A:B,2,FALSE)","v":123.5}]
[7213,"刘芳源",361216214005,154210604613,13,{"$f":"VLOOKUP(C7214,Sheet2!A:B,2,FALSE)","v":123.5}]
[7214,"李丽",361216214005,154210604609,14,{"$f":"VLOOKUP(C7215,Sheet2!A:B,2,FALSE)","v":123.5}]
[7215,"邱政",361216214005,154210604603,15,{"$f":"VLOOKUP(C7216,Sheet2!A:B,2,FALSE)","v":123.5}]
[7216,"王怡萌",361216215003,154210903415,1,{"$f":"VLOOKUP(C7217,Sheet2!A:B,2,FALSE)","v":176}]
[7217,"钟玉洁",361216215003,154210903427,2,{"$f":"VLOOKUP(C7218,Sheet2!A:B,2,FALSE)","v":176}]
[7218,"罗丽艳",361216215003,154210903403,3,{"$f":"VLOOKUP(C7219,Sheet2!A:B,2,FALSE)","v":176}]
[7219,"欧阳云媛",361216215003,154210903417,4,{"$f":"VLOOKUP(C7220,Sheet2!A:B,2,FALSE)","v":176}]
[7220,"蔡舒雅",361216215003,154210903520,5,{"$f":"VLOOKUP(C7221,Sheet2!A:B,2,FALSE)","v":176}]
[7221,"潘莹",361216215003,154210903510,6,{"$f":"VLOOKUP(C7222,Sheet2!A:B,2,FALSE)","v":176}]
[7222,"喻晨",361216215003,154050316604,8,{"$f":"VLOOKUP(C7223,Sheet2!A:B,2,FALSE)","v":176}]
[7223,"段鲜花",361216215003,154210903506,7,{"$f":"VLOOKUP(C7224,Sheet2!A:B,2,FALSE)","v":176}]
[7224,"刘燕",361216215003,154210903525,9,{"$f":"VLOOKUP(C7225,Sheet2!A:B,2,FALSE)","v":176}]
[7225,"赵绮雯",361217101007,154210105220,1,{"$f":"VLOOKUP(C7226,Sheet2!A:B,2,FALSE)","v":194.5}]
[7226,"郭梦",361217101007,154012302111,2,{"$f":"VLOOKUP(C7227,Sheet2!A:B,2,FALSE)","v":194.5}]
[7227,"郭小红",361217101007,154210103722,3,{"$f":"VLOOKUP(C7228,Sheet2!A:B,2,FALSE)","v":194.5}]
[7228,"胡宝文",361217101007,154210105429,4,{"$f":"VLOOKUP(C7229,Sheet2!A:B,2,FALSE)","v":194.5}]
[7229,"赖雨芳",361217101007,154210102104,5,{"$f":"VLOOKUP(C7230,Sheet2!A:B,2,FALSE)","v":194.5}]
[7230,"罗安玲",361217101007,154210101603,6,{"$f":"VLOOKUP(C7231,Sheet2!A:B,2,FALSE)","v":194.5}]
[7231,"陈晶",361217101007,154210104616,7,{"$f":"VLOOKUP(C7232,Sheet2!A:B,2,FALSE)","v":194.5}]
[7232,"邹灵芳",361217101007,154012100429,9,{"$f":"VLOOKUP(C7233,Sheet2!A:B,2,FALSE)","v":194.5}]
[7233,"赖小霞",361217101007,154210106625,8,{"$f":"VLOOKUP(C7234,Sheet2!A:B,2,FALSE)","v":194.5}]
[7234,"曾宪英",361217101007,154210103903,11,{"$f":"VLOOKUP(C7235,Sheet2!A:B,2,FALSE)","v":194.5}]
[7235,"刘金英",361217101007,154210103516,10,{"$f":"VLOOKUP(C7236,Sheet2!A:B,2,FALSE)","v":194.5}]
[7236,"曾聪",361217101007,154210105102,13,{"$f":"VLOOKUP(C7237,Sheet2!A:B,2,FALSE)","v":194.5}]
[7237,"杨吉芳",361217101007,154210104002,12,{"$f":"VLOOKUP(C7238,Sheet2!A:B,2,FALSE)","v":194.5}]
[7238,"王悦",361217101007,154210102410,14,{"$f":"VLOOKUP(C7239,Sheet2!A:B,2,FALSE)","v":194.5}]
[7239,"林琴",361217101007,154012102318,16,{"$f":"VLOOKUP(C7240,Sheet2!A:B,2,FALSE)","v":194.5}]
[7240,"彭思敏",361217101007,154210101520,15,{"$f":"VLOOKUP(C7241,Sheet2!A:B,2,FALSE)","v":194.5}]
[7241,"曾小丽",361217101007,154210104209,17,{"$f":"VLOOKUP(C7242,Sheet2!A:B,2,FALSE)","v":194.5}]
[7242,"陈艳艳",361217101007,154012102622,18,{"$f":"VLOOKUP(C7243,Sheet2!A:B,2,FALSE)","v":194.5}]
[7243,"郭欣",361217102007,154242701704,1,{"$f":"VLOOKUP(C7244,Sheet2!A:B,2,FALSE)","v":193.5}]
[7244,"王晨璐",361217102007,154242700112,2,{"$f":"VLOOKUP(C7245,Sheet2!A:B,2,FALSE)","v":193.5}]
[7245,"钟荞",361217102007,154232402509,3,{"$f":"VLOOKUP(C7246,Sheet2!A:B,2,FALSE)","v":193.5}]
[7246,"刘玲",361217102007,154211202316,4,{"$f":"VLOOKUP(C7247,Sheet2!A:B,2,FALSE)","v":193.5}]
[7247,"刘奕扬",361217102007,154210801527,5,{"$f":"VLOOKUP(C7248,Sheet2!A:B,2,FALSE)","v":193.5}]
[7248,"郭木兰",361217102007,154211200723,6,{"$f":"VLOOKUP(C7249,Sheet2!A:B,2,FALSE)","v":193.5}]
[7249,"罗志文",361217102007,154012203818,7,{"$f":"VLOOKUP(C7250,Sheet2!A:B,2,FALSE)","v":193.5}]
[7250,"黄春",361217102007,154211200319,8,{"$f":"VLOOKUP(C7251,Sheet2!A:B,2,FALSE)","v":193.5}]
[7251,"廖璇",361217102007,154012202628,9,{"$f":"VLOOKUP(C7252,Sheet2!A:B,2,FALSE)","v":193.5}]
[7252,"江玉蜂",361217102007,154012201923,10,{"$f":"VLOOKUP(C7253,Sheet2!A:B,2,FALSE)","v":193.5}]
[7253,"王敏祺",361217102007,154211201118,11,{"$f":"VLOOKUP(C7254,Sheet2!A:B,2,FALSE)","v":193.5}]
[7254,"伍子霞",361217102007,154012303501,12,{"$f":"VLOOKUP(C7255,Sheet2!A:B,2,FALSE)","v":193.5}]
[7255,"徐秋婷",361217102007,154211203813,14,{"$f":"VLOOKUP(C7256,Sheet2!A:B,2,FALSE)","v":193.5}]
[7256,"陈静",361217102007,154242702407,13,{"$f":"VLOOKUP(C7257,Sheet2!A:B,2,FALSE)","v":193.5}]
[7257,"刘红",361217102007,154210802718,15,{"$f":"VLOOKUP(C7258,Sheet2!A:B,2,FALSE)","v":193.5}]
[7258,"孙菊华",361217102007,154242701428,16,{"$f":"VLOOKUP(C7259,Sheet2!A:B,2,FALSE)","v":193.5}]
[7259,"赖中微",361217102007,154211203720,19,{"$f":"VLOOKUP(C7260,Sheet2!A:B,2,FALSE)","v":193.5}]
[7260,"曾市芳",361217102007,154012201918,17,{"$f":"VLOOKUP(C7261,Sheet2!A:B,2,FALSE)","v":193.5}]
[7261,"彭芸",361217102007,154012202501,18,{"$f":"VLOOKUP(C7262,Sheet2!A:B,2,FALSE)","v":193.5}]
[7262,"赖会萍",361217104004,154210400613,2,{"$f":"VLOOKUP(C7263,Sheet2!A:B,2,FALSE)","v":187.5}]
[7263,"林璐",361217104004,154210400720,1,{"$f":"VLOOKUP(C7264,Sheet2!A:B,2,FALSE)","v":187.5}]
[7264,"杨欣",361217104004,154012600808,3,{"$f":"VLOOKUP(C7265,Sheet2!A:B,2,FALSE)","v":187.5}]
[7265,"吴成康",361217104004,154210302609,4,{"$f":"VLOOKUP(C7266,Sheet2!A:B,2,FALSE)","v":187.5}]
[7266,"肖玮明",361217104004,154242500604,5,{"$f":"VLOOKUP(C7267,Sheet2!A:B,2,FALSE)","v":187.5}]
[7267,"周美春",361217104004,154040702615,6,{"$f":"VLOOKUP(C7268,Sheet2!A:B,2,FALSE)","v":187.5}]
[7268,"林容",361217104004,154210400303,7,{"$f":"VLOOKUP(C7269,Sheet2!A:B,2,FALSE)","v":187.5}]
[7269,"肖景来",361217104004,154012600301,8,{"$f":"VLOOKUP(C7270,Sheet2!A:B,2,FALSE)","v":187.5}]
[7270,"赖玉鑫",361217104004,154210400925,9,{"$f":"VLOOKUP(C7271,Sheet2!A:B,2,FALSE)","v":187.5}]
[7271,"谢萍",361217104004,154210302819,10,{"$f":"VLOOKUP(C7272,Sheet2!A:B,2,FALSE)","v":187.5}]
[7272,"郭辉",361217104004,154242500125,11,{"$f":"VLOOKUP(C7273,Sheet2!A:B,2,FALSE)","v":187.5}]
[7273,"邓辉",361217104004,154210302626,12,{"$f":"VLOOKUP(C7274,Sheet2!A:B,2,FALSE)","v":187.5}]
[7274,"刘检发",361217105008,154232406526,1,{"$f":"VLOOKUP(C7275,Sheet2!A:B,2,FALSE)","v":158}]
[7275,"刘王馨",361217105008,154210604914,2,{"$f":"VLOOKUP(C7276,Sheet2!A:B,2,FALSE)","v":158}]
[7276,"陈海娟",361217105008,154210604717,3,{"$f":"VLOOKUP(C7277,Sheet2!A:B,2,FALSE)","v":158}]
[7277,"陈宇杰",361217105008,154210604921,4,{"$f":"VLOOKUP(C7278,Sheet2!A:B,2,FALSE)","v":158}]
[7278,"郑江",361217105008,154012602106,5,{"$f":"VLOOKUP(C7279,Sheet2!A:B,2,FALSE)","v":158}]
[7279,"黄玉霞",361217105008,154221403319,7,{"$f":"VLOOKUP(C7280,Sheet2!A:B,2,FALSE)","v":158}]
[7280,"彭龙飞",361217105008,154221403111,6,{"$f":"VLOOKUP(C7281,Sheet2!A:B,2,FALSE)","v":158}]
[7281,"刘兴旺",361217105008,154210503403,8,{"$f":"VLOOKUP(C7282,Sheet2!A:B,2,FALSE)","v":158}]
[7282,"张新玲",361217105008,154242600122,9,{"$f":"VLOOKUP(C7283,Sheet2!A:B,2,FALSE)","v":158}]
[7283,"余雯",361217105008,154242600208,10,{"$f":"VLOOKUP(C7284,Sheet2!A:B,2,FALSE)","v":158}]
[7284,"游凤",361217105008,154012601315,11,{"$f":"VLOOKUP(C7285,Sheet2!A:B,2,FALSE)","v":158}]
[7285,"龚娟",361217105008,154050313907,12,{"$f":"VLOOKUP(C7286,Sheet2!A:B,2,FALSE)","v":158}]
[7286,"连宏",361217105008,154210502927,13,{"$f":"VLOOKUP(C7287,Sheet2!A:B,2,FALSE)","v":158}]
[7287,"罗芳婷",361217105008,154242600427,14,{"$f":"VLOOKUP(C7288,Sheet2!A:B,2,FALSE)","v":158}]
[7288,"叶金英",361217105008,154210503601,15,{"$f":"VLOOKUP(C7289,Sheet2!A:B,2,FALSE)","v":158}]
[7289,"张媛",361217105008,154210503727,16,{"$f":"VLOOKUP(C7290,Sheet2!A:B,2,FALSE)","v":158}]
[7290,"彭春蓦",361217105008,154050313904,17,{"$f":"VLOOKUP(C7291,Sheet2!A:B,2,FALSE)","v":158}]
[7291,"杨晶晶",361217105008,154210502816,18,{"$f":"VLOOKUP(C7292,Sheet2!A:B,2,FALSE)","v":158}]
[7292,"温涛铮",361217105008,154210503305,19,{"$f":"VLOOKUP(C7293,Sheet2!A:B,2,FALSE)","v":158}]
[7293,"邓梅林",361217105008,154210503002,20,{"$f":"VLOOKUP(C7294,Sheet2!A:B,2,FALSE)","v":158}]
[7294,"张微",361217106005,154211102916,1,{"$f":"VLOOKUP(C7295,Sheet2!A:B,2,FALSE)","v":168.5}]
[7295,"赖丽丽",361217106005,154211100802,2,{"$f":"VLOOKUP(C7296,Sheet2!A:B,2,FALSE)","v":168.5}]
[7296,"钟慧",361217106005,154211100502,3,{"$f":"VLOOKUP(C7297,Sheet2!A:B,2,FALSE)","v":168.5}]
[7297,"欧阳秋芳",361217106005,154232407421,4,{"$f":"VLOOKUP(C7298,Sheet2!A:B,2,FALSE)","v":168.5}]
[7298,"宋美晨",361217106005,154211100101,5,{"$f":"VLOOKUP(C7299,Sheet2!A:B,2,FALSE)","v":168.5}]
[7299,"林书春",361217106005,154211102501,6,{"$f":"VLOOKUP(C7300,Sheet2!A:B,2,FALSE)","v":168.5}]
[7300,"万成",361217106005,154012603429,7,{"$f":"VLOOKUP(C7301,Sheet2!A:B,2,FALSE)","v":168.5}]
[7301,"饶美春",361217106005,154211100903,8,{"$f":"VLOOKUP(C7302,Sheet2!A:B,2,FALSE)","v":168.5}]
[7302,"刘红萍",361217106005,154211101829,9,{"$f":"VLOOKUP(C7303,Sheet2!A:B,2,FALSE)","v":168.5}]
[7303,"俞景楠",361217106005,154211102307,10,{"$f":"VLOOKUP(C7304,Sheet2!A:B,2,FALSE)","v":168.5}]
[7304,"李荷燕",361217106005,154242600810,11,{"$f":"VLOOKUP(C7305,Sheet2!A:B,2,FALSE)","v":168.5}]
[7305,"汪美华",361217106005,154211102116,12,{"$f":"VLOOKUP(C7306,Sheet2!A:B,2,FALSE)","v":168.5}]
[7306,"池浩天",361217106005,154211100608,13,{"$f":"VLOOKUP(C7307,Sheet2!A:B,2,FALSE)","v":168.5}]
[7307,"钟慧敏",361217106005,154211101116,14,{"$f":"VLOOKUP(C7308,Sheet2!A:B,2,FALSE)","v":168.5}]
[7308,"何诗坤",361217106005,154211102018,15,{"$f":"VLOOKUP(C7309,Sheet2!A:B,2,FALSE)","v":168.5}]
[7309,"胡晶",361217107005,154210301017,1,{"$f":"VLOOKUP(C7310,Sheet2!A:B,2,FALSE)","v":155.5}]
[7310,"文俞拿",361217107005,154012502930,2,{"$f":"VLOOKUP(C7311,Sheet2!A:B,2,FALSE)","v":155.5}]
[7311,"曾子悦",361217107005,154210301430,3,{"$f":"VLOOKUP(C7312,Sheet2!A:B,2,FALSE)","v":155.5}]
[7312,"曹译文",361217107005,154012502612,4,{"$f":"VLOOKUP(C7313,Sheet2!A:B,2,FALSE)","v":155.5}]
[7313,"肖婷",361217107005,154210300213,5,{"$f":"VLOOKUP(C7314,Sheet2!A:B,2,FALSE)","v":155.5}]
[7314,"朱晋萍",361217107005,154210300628,6,{"$f":"VLOOKUP(C7315,Sheet2!A:B,2,FALSE)","v":155.5}]
[7315,"谢亚婷",361217107005,154210301516,7,{"$f":"VLOOKUP(C7316,Sheet2!A:B,2,FALSE)","v":155.5}]
[7316,"吴金香",361217107005,154210300323,8,{"$f":"VLOOKUP(C7317,Sheet2!A:B,2,FALSE)","v":155.5}]
[7317,"吴佩蓁",361217107005,154210300117,9,{"$f":"VLOOKUP(C7318,Sheet2!A:B,2,FALSE)","v":155.5}]
[7318,"余婷",361217107005,154050314217,10,{"$f":"VLOOKUP(C7319,Sheet2!A:B,2,FALSE)","v":155.5}]
[7319,"张丽妹",361217107005,154210301329,11,{"$f":"VLOOKUP(C7320,Sheet2!A:B,2,FALSE)","v":155.5}]
[7320,"邹丽珠",361217107005,154210301010,14,{"$f":"VLOOKUP(C7321,Sheet2!A:B,2,FALSE)","v":155.5}]
[7321,"王颖",361217107005,154210300914,12,{"$f":"VLOOKUP(C7322,Sheet2!A:B,2,FALSE)","v":155.5}]
[7322,"余舒娴",361217107005,154210300517,13,{"$f":"VLOOKUP(C7323,Sheet2!A:B,2,FALSE)","v":155.5}]
[7323,"巫炎艳",361217107005,154210300223,15,{"$f":"VLOOKUP(C7324,Sheet2!A:B,2,FALSE)","v":155.5}]
[7324,"罗倩",361217113006,154210800206,1,{"$f":"VLOOKUP(C7325,Sheet2!A:B,2,FALSE)","v":151}]
[7325,"饶玉婷",361217113006,154210800502,2,{"$f":"VLOOKUP(C7326,Sheet2!A:B,2,FALSE)","v":151}]
[7326,"熊江昆",361217113006,154250104730,3,{"$f":"VLOOKUP(C7327,Sheet2!A:B,2,FALSE)","v":151}]
[7327,"张萌",361217113006,154012404230,4,{"$f":"VLOOKUP(C7328,Sheet2!A:B,2,FALSE)","v":151}]
[7328,"彭国聪",361217113006,154020404007,5,{"$f":"VLOOKUP(C7329,Sheet2!A:B,2,FALSE)","v":151}]
[7329,"彭玲",361217113006,154242601015,6,{"$f":"VLOOKUP(C7330,Sheet2!A:B,2,FALSE)","v":151}]
[7330,"邱陈佳",361217113006,154012404205,7,{"$f":"VLOOKUP(C7331,Sheet2!A:B,2,FALSE)","v":151}]
[7331,"吕如意",361217113006,154210800325,8,{"$f":"VLOOKUP(C7332,Sheet2!A:B,2,FALSE)","v":151}]
[7332,"林小惠",361217113006,154210800506,9,{"$f":"VLOOKUP(C7333,Sheet2!A:B,2,FALSE)","v":151}]
[7333,"李芳",361217113006,154012603822,10,{"$f":"VLOOKUP(C7334,Sheet2!A:B,2,FALSE)","v":151}]
[7334,"曾秀玲",361217113006,154210800213,11,{"$f":"VLOOKUP(C7335,Sheet2!A:B,2,FALSE)","v":151}]
[7335,"康平平",361217113006,154210800505,12,{"$f":"VLOOKUP(C7336,Sheet2!A:B,2,FALSE)","v":151}]
[7336,"易彬",361217113006,154210800318,13,{"$f":"VLOOKUP(C7337,Sheet2!A:B,2,FALSE)","v":151}]
[7337,"温泽胤",361217113006,154210800117,14,{"$f":"VLOOKUP(C7338,Sheet2!A:B,2,FALSE)","v":151}]
[7338,"王婉媛",361217113006,154232408520,15,{"$f":"VLOOKUP(C7339,Sheet2!A:B,2,FALSE)","v":151}]
[7339,"邓世鸿",361217116005,154210301907,1,{"$f":"VLOOKUP(C7340,Sheet2!A:B,2,FALSE)","v":179.5}]
[7340,"俞梓文",361217116005,154012405107,2,{"$f":"VLOOKUP(C7341,Sheet2!A:B,2,FALSE)","v":179.5}]
[7341,"钟波",361217116005,154210301902,3,{"$f":"VLOOKUP(C7342,Sheet2!A:B,2,FALSE)","v":179.5}]
[7342,"王大庆",361217116005,154012405308,4,{"$f":"VLOOKUP(C7343,Sheet2!A:B,2,FALSE)","v":179.5}]
[7343,"李艳琪",361217116005,154210301726,5,{"$f":"VLOOKUP(C7344,Sheet2!A:B,2,FALSE)","v":179.5}]
[7344,"曾鑫",361217116005,154012405024,6,{"$f":"VLOOKUP(C7345,Sheet2!A:B,2,FALSE)","v":179.5}]
[7345,"刘翔玲",361217116005,154210302127,7,{"$f":"VLOOKUP(C7346,Sheet2!A:B,2,FALSE)","v":179.5}]
[7346,"钟粤琴",361217116005,154210301927,8,{"$f":"VLOOKUP(C7347,Sheet2!A:B,2,FALSE)","v":179.5}]
[7347,"邹林英",361217116005,154210301918,9,{"$f":"VLOOKUP(C7348,Sheet2!A:B,2,FALSE)","v":179.5}]
[7348,"刘婷婷",361217116005,154210302202,10,{"$f":"VLOOKUP(C7349,Sheet2!A:B,2,FALSE)","v":179.5}]
[7349,"刘树红",361217116005,154012405221,11,{"$f":"VLOOKUP(C7350,Sheet2!A:B,2,FALSE)","v":179.5}]
[7350,"罗玉芳",361217116005,154210301908,12,{"$f":"VLOOKUP(C7351,Sheet2!A:B,2,FALSE)","v":179.5}]
[7351,"卢慧黎",361217116005,154040802726,13,{"$f":"VLOOKUP(C7352,Sheet2!A:B,2,FALSE)","v":179.5}]
[7352,"郭林英",361217116005,154210302118,14,{"$f":"VLOOKUP(C7353,Sheet2!A:B,2,FALSE)","v":179.5}]
[7353,"肖馨",361217116005,154012405318,15,{"$f":"VLOOKUP(C7354,Sheet2!A:B,2,FALSE)","v":179.5}]
[7354,"郭婷",361217201007,154210900525,1,{"$f":"VLOOKUP(C7355,Sheet2!A:B,2,FALSE)","v":140.5}]
[7355,"陈瑶",361217201007,154210902707,2,{"$f":"VLOOKUP(C7356,Sheet2!A:B,2,FALSE)","v":140.5}]
[7356,"王婷",361217201007,154250105302,4,{"$f":"VLOOKUP(C7357,Sheet2!A:B,2,FALSE)","v":140.5}]
[7357,"沈发秀",361217201007,154210901819,3,{"$f":"VLOOKUP(C7358,Sheet2!A:B,2,FALSE)","v":140.5}]
[7358,"王霞",361217201007,154210900611,5,{"$f":"VLOOKUP(C7359,Sheet2!A:B,2,FALSE)","v":140.5}]
[7359,"李敏",361217201007,154012701208,6,{"$f":"VLOOKUP(C7360,Sheet2!A:B,2,FALSE)","v":140.5}]
[7360,"刘海兰",361217201007,154242601315,7,{"$f":"VLOOKUP(C7361,Sheet2!A:B,2,FALSE)","v":140.5}]
[7361,"刘敏芳",361217201007,154210902527,8,{"$f":"VLOOKUP(C7362,Sheet2!A:B,2,FALSE)","v":140.5}]
[7362,"曾祯",361217201007,154040602101,9,{"$f":"VLOOKUP(C7363,Sheet2!A:B,2,FALSE)","v":140.5}]
[7363,"宋丹丹",361217201007,154210900819,10,{"$f":"VLOOKUP(C7364,Sheet2!A:B,2,FALSE)","v":140.5}]
[7364,"刘素",361217201007,154210902721,11,{"$f":"VLOOKUP(C7365,Sheet2!A:B,2,FALSE)","v":140.5}]
[7365,"曾钰琳",361217201007,154210902714,12,{"$f":"VLOOKUP(C7366,Sheet2!A:B,2,FALSE)","v":140.5}]
[7366,"赖丽萍",361217201007,154012700308,13,{"$f":"VLOOKUP(C7367,Sheet2!A:B,2,FALSE)","v":140.5}]
[7367,"邹珍",361217201007,154210902109,14,{"$f":"VLOOKUP(C7368,Sheet2!A:B,2,FALSE)","v":140.5}]
[7368,"刘丹",361217201007,154050314726,15,{"$f":"VLOOKUP(C7369,Sheet2!A:B,2,FALSE)","v":140.5}]
[7369,"刘梅兰",361217201007,154012700315,16,{"$f":"VLOOKUP(C7370,Sheet2!A:B,2,FALSE)","v":140.5}]
[7370,"李淑琴",361217201007,154242601529,17,{"$f":"VLOOKUP(C7371,Sheet2!A:B,2,FALSE)","v":140.5}]
[7371,"林春敏",361217201007,154210903110,18,{"$f":"VLOOKUP(C7372,Sheet2!A:B,2,FALSE)","v":140.5}]
[7372,"刘巧连",361217202006,154210200501,1,{"$f":"VLOOKUP(C7373,Sheet2!A:B,2,FALSE)","v":139.5}]
[7373,"曾卫红",361217202006,154210200512,2,{"$f":"VLOOKUP(C7374,Sheet2!A:B,2,FALSE)","v":139.5}]
[7374,"叶毅成",361217202006,154210201025,3,{"$f":"VLOOKUP(C7375,Sheet2!A:B,2,FALSE)","v":139.5}]
[7375,"胡荣慧",361217202006,154210201203,4,{"$f":"VLOOKUP(C7376,Sheet2!A:B,2,FALSE)","v":139.5}]
[7376," 郭会芳",361217202006,154210200301,5,{"$f":"VLOOKUP(C7377,Sheet2!A:B,2,FALSE)","v":139.5}]
[7377,"陈仪锋",361217202006,154210201623,6,{"$f":"VLOOKUP(C7378,Sheet2!A:B,2,FALSE)","v":139.5}]
[7378,"吴金萍",361217202006,154210201307,7,{"$f":"VLOOKUP(C7379,Sheet2!A:B,2,FALSE)","v":139.5}]
[7379,"陈琼",361217202006,154210201002,8,{"$f":"VLOOKUP(C7380,Sheet2!A:B,2,FALSE)","v":139.5}]
[7380,"范赣平",361217202006,154210200205,9,{"$f":"VLOOKUP(C7381,Sheet2!A:B,2,FALSE)","v":139.5}]
[7381,"丁霞",361217202006,154210201325,10,{"$f":"VLOOKUP(C7382,Sheet2!A:B,2,FALSE)","v":139.5}]
[7382,"吴秋萍",361217202006,154012906106,11,{"$f":"VLOOKUP(C7383,Sheet2!A:B,2,FALSE)","v":139.5}]
[7383,"邹华清",361217202006,154210201625,12,{"$f":"VLOOKUP(C7384,Sheet2!A:B,2,FALSE)","v":139.5}]
[7384,"陈良勇",361217202006,154210200817,13,{"$f":"VLOOKUP(C7385,Sheet2!A:B,2,FALSE)","v":139.5}]
[7385,"叶惠婷",361217202006,154210200701,14,{"$f":"VLOOKUP(C7386,Sheet2!A:B,2,FALSE)","v":139.5}]
[7386,"李福莲",361217202006,154210200610,15,{"$f":"VLOOKUP(C7387,Sheet2!A:B,2,FALSE)","v":139.5}]
[7387,"刘丽婷",361217203004,154210702307,1,{"$f":"VLOOKUP(C7388,Sheet2!A:B,2,FALSE)","v":164}]
[7388,"顾浣珍",361217203004,154210701605,2,{"$f":"VLOOKUP(C7389,Sheet2!A:B,2,FALSE)","v":164}]
[7389,"邹欢",361217203004,154210703428,3,{"$f":"VLOOKUP(C7390,Sheet2!A:B,2,FALSE)","v":164}]
[7390,"凌慧娟",361217203004,154210700915,4,{"$f":"VLOOKUP(C7391,Sheet2!A:B,2,FALSE)","v":164}]
[7391,"廖娉婷",361217203004,154210702302,5,{"$f":"VLOOKUP(C7392,Sheet2!A:B,2,FALSE)","v":164}]
[7392,"钟晴",361217203004,154210702024,6,{"$f":"VLOOKUP(C7393,Sheet2!A:B,2,FALSE)","v":164}]
[7393,"陈闽华",361217203004,154012907718,7,{"$f":"VLOOKUP(C7394,Sheet2!A:B,2,FALSE)","v":164}]
[7394,"邹林芳",361217203004,154210701013,8,{"$f":"VLOOKUP(C7395,Sheet2!A:B,2,FALSE)","v":164}]
[7395,"戴鸿",361217203004,154210703619,9,{"$f":"VLOOKUP(C7396,Sheet2!A:B,2,FALSE)","v":164}]
[7396,"刘兴",361217203004,154210701814,10,{"$f":"VLOOKUP(C7397,Sheet2!A:B,2,FALSE)","v":164}]
[7397,"康草凤",361217203004,154210703422,11,{"$f":"VLOOKUP(C7398,Sheet2!A:B,2,FALSE)","v":164}]
[7398,"潘泽娣",361217203004,154210700920,12,{"$f":"VLOOKUP(C7399,Sheet2!A:B,2,FALSE)","v":164}]
[7399,"杨甜",361217204004,154210202722,1,{"$f":"VLOOKUP(C7400,Sheet2!A:B,2,FALSE)","v":161}]
[7400,"李佳欢",361217204004,154012405611,2,{"$f":"VLOOKUP(C7401,Sheet2!A:B,2,FALSE)","v":161}]
[7401,"吴春林",361217204004,154210202630,3,{"$f":"VLOOKUP(C7402,Sheet2!A:B,2,FALSE)","v":161}]
[7402,"王丹",361217204004,154210202212,4,{"$f":"VLOOKUP(C7403,Sheet2!A:B,2,FALSE)","v":161}]
[7403,"李淑珍",361217204004,154012908711,5,{"$f":"VLOOKUP(C7404,Sheet2!A:B,2,FALSE)","v":161}]
[7404,"赖敏珍",361217204004,154020501909,6,{"$f":"VLOOKUP(C7405,Sheet2!A:B,2,FALSE)","v":161}]
[7405,"曾瑞玉",361217204004,154210202016,7,{"$f":"VLOOKUP(C7406,Sheet2!A:B,2,FALSE)","v":161}]
[7406,"赖迎帆",361217204004,154210203107,8,{"$f":"VLOOKUP(C7407,Sheet2!A:B,2,FALSE)","v":161}]
[7407,"李淑兰",361217204004,154210202127,9,{"$f":"VLOOKUP(C7408,Sheet2!A:B,2,FALSE)","v":161}]
[7408,"文京",361217204004,154210202508,10,{"$f":"VLOOKUP(C7409,Sheet2!A:B,2,FALSE)","v":161}]
[7409,"彭秀",361217204004,154210202725,12,{"$f":"VLOOKUP(C7410,Sheet2!A:B,2,FALSE)","v":161}]
[7410,"林福琴",361217204004,154040603108,11,{"$f":"VLOOKUP(C7411,Sheet2!A:B,2,FALSE)","v":161}]
[7411,"林素芳",361217208006,154231504511,1,{"$f":"VLOOKUP(C7412,Sheet2!A:B,2,FALSE)","v":168.5}]
[7412,"谢婷",361217208006,154210303619,2,{"$f":"VLOOKUP(C7413,Sheet2!A:B,2,FALSE)","v":168.5}]
[7413,"许如平",361217208006,154210303108,3,{"$f":"VLOOKUP(C7414,Sheet2!A:B,2,FALSE)","v":168.5}]
[7414,"钟慧枝",361217208006,154210303623,4,{"$f":"VLOOKUP(C7415,Sheet2!A:B,2,FALSE)","v":168.5}]
[7415,"钟菲菲",361217208006,154210303613,5,{"$f":"VLOOKUP(C7416,Sheet2!A:B,2,FALSE)","v":168.5}]
[7416,"赖丹敏",361217208006,154210303521,6,{"$f":"VLOOKUP(C7417,Sheet2!A:B,2,FALSE)","v":168.5}]
[7417,"陈福泉",361217208006,154210303501,7,{"$f":"VLOOKUP(C7418,Sheet2!A:B,2,FALSE)","v":168.5}]
[7418,"朱卉",361217208006,154210303722,8,{"$f":"VLOOKUP(C7419,Sheet2!A:B,2,FALSE)","v":168.5}]
[7419,"罗叶灵",361217208006,154210303311,9,{"$f":"VLOOKUP(C7420,Sheet2!A:B,2,FALSE)","v":168.5}]
[7420,"蓝珊",361217208006,154012406507,10,{"$f":"VLOOKUP(C7421,Sheet2!A:B,2,FALSE)","v":168.5}]
[7421,"黄艳香",361217208006,154210303406,11,{"$f":"VLOOKUP(C7422,Sheet2!A:B,2,FALSE)","v":168.5}]
[7422,"潘红",361217208006,154210303528,12,{"$f":"VLOOKUP(C7423,Sheet2!A:B,2,FALSE)","v":168.5}]
[7423,"严文婧",361217208006,154210303505,13,{"$f":"VLOOKUP(C7424,Sheet2!A:B,2,FALSE)","v":168.5}]
[7424,"曾祥妍",361217208006,154231504411,14,{"$f":"VLOOKUP(C7425,Sheet2!A:B,2,FALSE)","v":168.5}]
[7425,"朱宏民",361217208006,154210303127,15,{"$f":"VLOOKUP(C7426,Sheet2!A:B,2,FALSE)","v":168.5}]
[7426,"刘小霞",361217210006,154242703803,1,{"$f":"VLOOKUP(C7427,Sheet2!A:B,2,FALSE)","v":70.5}]
[7427,"曾德华",361217210006,154210304104,2,{"$f":"VLOOKUP(C7428,Sheet2!A:B,2,FALSE)","v":70.5}]
[7428,"袁康",361217210006,154210304214,3,{"$f":"VLOOKUP(C7429,Sheet2!A:B,2,FALSE)","v":70.5}]
[7429,"彭冲",361217210006,154210304119,4,{"$f":"VLOOKUP(C7430,Sheet2!A:B,2,FALSE)","v":70.5}]
[7430,"许春林",361217210006,154221408824,5,{"$f":"VLOOKUP(C7431,Sheet2!A:B,2,FALSE)","v":70.5}]
[7431,"凌欣亮",361217210006,154050316303,6,{"$f":"VLOOKUP(C7432,Sheet2!A:B,2,FALSE)","v":70.5}]
[7432,"陈福清",361217210006,154012803115,7,{"$f":"VLOOKUP(C7433,Sheet2!A:B,2,FALSE)","v":70.5}]
[7433,"吴卫兵",361217210006,154210304120,8,{"$f":"VLOOKUP(C7434,Sheet2!A:B,2,FALSE)","v":70.5}]
[7434,"肖霖珍",361217210006,154012803310,9,{"$f":"VLOOKUP(C7435,Sheet2!A:B,2,FALSE)","v":70.5}]
[7435,"郑志鹏",361217210006,154210304018,10,{"$f":"VLOOKUP(C7436,Sheet2!A:B,2,FALSE)","v":70.5}]
[7436,"文智敏",361217210006,154012803112,11,{"$f":"VLOOKUP(C7437,Sheet2!A:B,2,FALSE)","v":70.5}]
[7437,"何倩",361217210006,154012803320,12,{"$f":"VLOOKUP(C7438,Sheet2!A:B,2,FALSE)","v":70.5}]
[7438,"刘庆友",361217210006,154012803126,13,{"$f":"VLOOKUP(C7439,Sheet2!A:B,2,FALSE)","v":70.5}]
[7439,"潘茜",361217211004,154231505202,1,{"$f":"VLOOKUP(C7440,Sheet2!A:B,2,FALSE)","v":101}]
[7440,"曾良华",361217211004,154211000719,2,{"$f":"VLOOKUP(C7441,Sheet2!A:B,2,FALSE)","v":101}]
[7441,"陈兴华",361217211004,154050316408,3,{"$f":"VLOOKUP(C7442,Sheet2!A:B,2,FALSE)","v":101}]
[7442,"钟扬",361217211004,154211000621,4,{"$f":"VLOOKUP(C7443,Sheet2!A:B,2,FALSE)","v":101}]
[7443,"饶静",361217211004,154211000518,5,{"$f":"VLOOKUP(C7444,Sheet2!A:B,2,FALSE)","v":101}]
[7444,"樊书书",361217213006,154012407411,1,{"$f":"VLOOKUP(C7445,Sheet2!A:B,2,FALSE)","v":133}]
[7445,"付林强",361217213006,154012407427,2,{"$f":"VLOOKUP(C7446,Sheet2!A:B,2,FALSE)","v":133}]
[7446,"吴杨微",361217213006,154211001324,3,{"$f":"VLOOKUP(C7447,Sheet2!A:B,2,FALSE)","v":133}]
[7447,"廖海芳",361217213006,154211001214,4,{"$f":"VLOOKUP(C7448,Sheet2!A:B,2,FALSE)","v":133}]
[7448,"李荷香",361217213006,154040604703,5,{"$f":"VLOOKUP(C7449,Sheet2!A:B,2,FALSE)","v":133}]
[7449,"池丽萍",361217213006,154211001317,6,{"$f":"VLOOKUP(C7450,Sheet2!A:B,2,FALSE)","v":133}]
[7450,"刘红娣",361217213006,154211001208,7,{"$f":"VLOOKUP(C7451,Sheet2!A:B,2,FALSE)","v":133}]
[7451,"邹米红",361217213006,154211001107,8,{"$f":"VLOOKUP(C7452,Sheet2!A:B,2,FALSE)","v":133}]
[7452,"刘丽欣",361217213006,154211001203,9,{"$f":"VLOOKUP(C7453,Sheet2!A:B,2,FALSE)","v":133}]
[7453,"易祖康",361217213006,154012407406,10,{"$f":"VLOOKUP(C7454,Sheet2!A:B,2,FALSE)","v":133}]
[7454,"段龙辉",361217213006,154040604702,11,{"$f":"VLOOKUP(C7455,Sheet2!A:B,2,FALSE)","v":133}]
[7455,"宋民",361217213006,154012407412,12,{"$f":"VLOOKUP(C7456,Sheet2!A:B,2,FALSE)","v":133}]
[7456,"崔志薇",361217213006,154211001224,13,{"$f":"VLOOKUP(C7457,Sheet2!A:B,2,FALSE)","v":133}]
[7457,"刘伟琴",361217213006,154040604701,14,{"$f":"VLOOKUP(C7458,Sheet2!A:B,2,FALSE)","v":133}]
[7458,"黄娟",361217213006,154012407426,15,{"$f":"VLOOKUP(C7459,Sheet2!A:B,2,FALSE)","v":133}]

{"sheet":"Sheet2","index":1,"n_rows":670,"n_cols":2,"rows_kept":670}
["岗位代码","入闱最低成绩"]
[360105206001,188.5]
[360105205001,144]
[360105203001,185.5]
[360122106003,177.5]
[360122102008,184.5]
[360122105003,141.5]
[360122107003,147.5]
[360122103004,182.5]
[360122101009,188]
[360426204001,147]
[360426209001,196]
[360426210003,64]
[360426208001,147.5]
[360426212001,176.5]
[360426202002,106]
[360426205001,59.5]
[360426211003,91]
[360426203002,184.5]
[360426201002,127.5]
[360426102001,156.5]
[360426103001,167]
[360426101001,189]
[360428204002,126.5]
[360428210004,50.5]
[360428206005,159]
[360428202004,145]
[360428205005,96]
[360428211005,101]
[360428215001,132.5]
[360428207005,91]
[360428203004,180.5]
[360428201002,117]
[360428104003,202.5]
[360428116001,152]
[360428106006,160]
[360428102017,186]
[360428105006,148]
[360428107006,109]
[360428103007,183]
[360428101017,188.5]
[360430210001,124]
[360430206002,146]
[360430205001,88]
[360430211001,135]
[360430207002,94.5]
[360430106002,109.5]
[360430102002,182.5]
[360430105001,166.5]
[360430107002,127]
[360430103001,180]
[360430101002,173.5]
[360481204002,148.5]
[360481209002,187]
[360481210001,142]
[360481206003,175]
[360481202006,147]
[360481205002,111.5]
[360481211001,121.5]
[360481207001,113]
[360481203003,188]
[360481201004,152.5]
[360481104002,196]
[360481116001,184]
[360481106003,146.5]
[360481102009,192.5]
[360481105002,159]
[360481115001,210.5]
[360481113001,170]
[360481107001,128.5]
[360481103006,181]
[360481101009,189]
[360425204002,200.5]
[360425209001,198]
[360425208001,177.5]
[360425212001,168]
[360425202005,178.5]
[360425205003,83.5]
[360425211003,102.5]
[360425203004,187.5]
[360425201003,142.5]
[360425104001,168.5]
[360425116001,184]
[360425106002,172]
[360425102002,192.5]
[360425105002,149]
[360425107001,162.5]
[360425103001,171.5]
[360425101002,190]
[360425114001,199]
[360202204003,160.5]
[360202209001,137]
[360202210003,135]
[360202212001,161.5]
[360202202002,173]
[360202211003,147.5]
[360202203001,161]
[360202201001,157]
[360202104002,208.5]
[360202106001,171]
[360202105001,133]
[360202101001,182.5]
[360281204002,97.5]
[360281210005,152]
[360281212001,160.5]
[360281202015,168]
[360281205005,122]
[360281211007,113.5]
[360281203016,182.5]
[360281201015,149.5]
[360281116001,166.5]
[360281106002,131]
[360281102002,179.5]
[360281105003,149.5]
[360281107002,104]
[360281103002,172]
[360281101002,189]
[360321204003,143.5]
[360321209002,139]
[360321210003,101]
[360321208002,158.5]
[360321206002,156.5]
[360321212003,123.5]
[360321202003,158.5]
[360321205002,121.5]
[360321211003,107.5]
[360321207002,122.5]
[360321203002,183]
[360321201003,122.5]
[360323204003,110]
[360323210002,141]
[360323208003,145.5]
[360323212002,165]
[360323202004,155]
[360323211003,130]
[360323201003,151]
[360323116002,172]
[360323102002,193.5]
[360323105002,115.5]
[360323107002,155.5]
[360323103002,180.5]
[360322204002,138.5]
[360322209002,135.5]
[360322210002,128]
[360322212002,161.5]
[360322202003,149.5]
[360322205002,167.5]
[360322211002,137]
[360322203002,167]
[360322201003,134]
[360322106004,158]
[360322102006,190.5]
[360322105006,151]
[360322107004,157]
[360322103004,180.5]
[360322101006,195.5]
[360681204002,136]
[360681209001,143.5]
[360681210003,147]
[360681208001,112]
[360681212001,142]
[360681202005,151.5]
[360681205002,117]
[360681211003,109]
[360681213001,122.5]
[360681203002,173.5]
[360681201005,143]
[360681106002,147.5]
[360681102004,189]
[360681107001,117]
[360681103001,166.5]
[360681101001,177.5]
[360622204002,177]
[360622206002,168.5]
[360622205002,80.5]
[360622207002,108]
[360622203003,182.5]
[360622106001,134]
[360622102004,189.5]
[360622105001,137.5]
[360622113003,165.5]
[360622107001,123.5]
[360622101004,186.5]
[361210204010,131]
[361210209011,162]
[361210208004,130]
[361210212003,124.5]
[361210202010,59]
[361210211011,77]
[361210201005,141]
[361210214001,105.5]
[361210116005,172.5]
[361210103015,170.5]
[361209204002,116]
[361209210001,0]
[361209206002,168.5]
[361209205002,143.5]
[361209211001,157]
[361209207002,110.5]
[361212210001,0]
[361212208001,0]
[361212206001,169.5]
[361212202002,136.5]
[361212205001,112.5]
[361212211001,0]
[361212207001,96.5]
[361212203002,168.5]
[361212201002,123]
[361204204010,99]
[361204210005,130.5]
[361204208005,128.5]
[361204206005,178]
[361204212005,119]
[361204202015,161]
[361204205005,131.5]
[361204211005,104]
[361204207005,159.5]
[361204203010,175]
[361204201010,151.5]
[361204104010,206]
[361204106010,162]
[361204105010,145]
[361204113005,156.5]
[361204103005,176.5]
[361202204005,145]
[361202209004,176]
[361202210002,164.5]
[361202208006,182]
[361202206001,181]
[361202212007,171.5]
[361202202020,167.5]
[361202205004,161]
[361202211009,140]
[361202213001,187.5]
[361202207001,164]
[361202203018,186]
[361202201024,164]
[361202104002,204]
[361202106005,167]
[361202105006,131.5]
[361202107005,150]
[361217204004,161]
[361217210006,70.5]
[361217208006,168.5]
[361217202006,139.5]
[361217211004,101]
[361217213006,133]
[361217203004,164]
[361217201007,140.5]
[361217104004,187.5]
[361217116005,179.5]
[361217106005,168.5]
[361217102007,193.5]
[361217105008,158]
[361217113006,151]
[361217107005,155.5]
[361217101007,194.5]
[361211206002,175.5]
[361211205002,132.5]
[361211207003,141.5]
[361211203006,172.5]
[361211201010,143.5]
[361211106002,156]
[361211102008,193.5]
[361211105011,160]
[361211113004,134]
[361211107004,120]
[361211103004,173]
[361211101010,194]
[361214204006,172]
[361214209003,150]
[361214210004,103]
[361214208002,156.5]
[361214206006,174]
[361214212003,123]
[361214202005,147.5]
[361214205020,145]
[361214211004,89]
[361214215001,168]
[361214213001,128.5]
[361214207006,143]
[361214203004,162.5]
[361214201005,153.5]
[361214104003,205]
[361214116001,185]
[361214106002,138.5]
[361214102005,191.5]
[361214105004,143]
[361214113002,157]
[361214107003,123.5]
[361214103005,174.5]
[361214101005,189]
[361213204002,145.5]
[361213206002,157]
[361213205004,100.5]
[361213207002,89]
[361207204003,159]
[361207209002,176]
[361207210004,108.5]
[361207208003,153.5]
[361207212003,154.5]
[361207205001,166]
[361207211004,99]
[361206204010,166.5]
[361206209006,179.5]
[361206210005,75]
[361206208006,150]
[361206206005,170.5]
[361206212005,147.5]
[361206202015,170.5]
[361206211006,102]
[361206215004,164]
[361206213003,134]
[361206207005,138]
[361206203015,177.5]
[361206201015,153]
[361206104008,204]
[361206116002,175]
[361206106008,154]
[361206102015,196.5]
[361206105004,146.5]
[361206115008,198]
[361206113002,154]
[361206107008,137]
[361206103010,177]
[361206101015,188]
[361216204010,182]
[361216209010,176]
[361216210004,91.5]
[361216208008,149]
[361216206002,174]
[361216212008,129]
[361216202016,144.5]
[361216205006,159]
[361216211014,61.5]
[361216215003,176]
[361216207002,138]
[361216203010,176.5]
[361216201012,155.5]
[361216214005,123.5]
[361216104008,198.5]
[361216116006,187.5]
[361216106006,164]
[361216102012,192.5]
[361216105010,142]
[361216115003,179.5]
[361216107007,146.5]
[361216103008,174.5]
[361216101012,195.5]
[361216114008,190]
[361215204001,121]
[361215209001,0]
[361215210002,128.5]
[361215208002,124]
[361215212002,151]
[361215202003,144]
[361215211004,65]
[361215213001,147.5]
[361215201002,157]
[361215214002,118]
[361215104004,199.5]
[361215106004,153.5]
[361215102005,183.5]
[361215107004,146]
[361215103006,175]
[361215101005,189]
[361215114002,185]
[360120204005,118]
[360120209002,145]
[360120210002,98]
[360120208002,133]
[360120206002,179.5]
[360120212002,130.5]
[360120202008,127.5]
[360120205005,128]
[360120211004,122]
[360120207002,161.5]
[360120203008,168.5]
[360120201008,137]
[360983204010,107.5]
[360983208010,106]
[360983202010,138]
[360983211010,120]
[360983203010,184.5]
[360983201010,149]
[360925204003,167.5]
[360925210002,67.5]
[360925208002,114]
[360925202001,165]
[360925211002,96.5]
[360925203001,163.5]
[360925201001,138.5]
[360923204002,178.5]
[360923209006,0]
[360923210001,118.5]
[360923208004,0]
[360923206002,159.5]
[360923212006,90]
[360923202002,120.5]
[360923205005,100.5]
[360923211005,123]
[360923207002,58.5]
[360923203002,154]
[360923201005,110]
[360923104001,150.5]
[360923106001,162]
[360923105004,162.5]
[360923113001,149.5]
[360923107001,142.5]
[360926204002,120]
[360926209002,135.5]
[360926210001,111]
[360926208002,140.5]
[360926206004,169]
[360926202002,116.5]
[360926205004,100.5]
[360926211001,126]
[360926207003,101]
[360926203002,168.5]
[360926201002,128.5]
[360922204012,169]
[360922209008,175]
[360922210010,122.5]
[360922208012,165.5]
[360922206007,169]
[360922212009,143.5]
[360922202028,169.5]
[360922205010,107.5]
[360922211010,78.5]
[360922215004,176]
[360922207007,129]
[360922203021,184.5]
[360922201022,152]
[360924204002,0]
[360924208002,0]
[360924206001,171.5]
[360924212001,168.5]
[360924202002,128]
[360924211002,124]
[360924215001,126]
[360924207001,114]
[360924203003,188]
[360902204006,104.5]
[360902209004,137.5]
[360902210003,138]
[360902208004,156.5]
[360902206002,177]
[360902212004,87]
[360902202012,154]
[360902205005,101]
[360902211006,103.5]
[360902207002,142]
[360902203010,186]
[360902201012,156.5]
[360982204004,130]
[360982210002,140.5]
[360982202004,111.5]
[360982211003,97]
[360982215002,139]
[360982104003,206]
[360982106002,165]
[360982102003,192]
[360982105003,177.5]
[360982107002,129]
[360982101002,185]
[361181204002,192.5]
[361181210002,112]
[361181206002,163]
[361181205001,90.5]
[361181211003,83]
[361181213002,169]
[361181207001,102.5]
[361181201002,144]
[361181104002,206]
[361181116002,170.5]
[361104204005,129.5]
[361104209005,174.5]
[361104210005,144]
[361104208005,154]
[361104212005,135.5]
[361104202010,175]
[361104211005,139.5]
[361104213005,133]
[361104203010,182.5]
[361104201010,151]
[361104106005,145]
[361104102005,174.5]
[361104105005,157.5]
[361104113005,131.5]
[361104107005,131]
[361104103005,179]
[361104101005,188.5]
[361125204002,0]
[361125209003,0]
[361125210002,151.5]
[361125208002,0]
[361125212003,132.5]
[361125202002,129]
[361125211002,129]
[361125203002,159]
[361125201002,114.5]
[361129204004,145.5]
[361129206002,157.5]
[361129202004,154]
[361129205002,125]
[361129211002,70.5]
[361129215002,165]
[361129207002,78]
[361129201002,98]
[361129106007,168.5]
[361129105005,166.5]
[361129115004,195]
[361129113005,128]
[361129107006,130]
[361129114003,187]
[361126204005,155]
[361126209005,174]
[361126208005,143]
[361126206005,163.5]
[361126212005,127.5]
[361126205005,126.5]
[361126207005,135]
[361127204003,115.5]
[361127209004,124.5]
[361127210004,102]
[361127208004,122]
[361127206005,166]
[361127212004,117.5]
[361127202010,170]
[361127205005,122]
[361127211005,76.5]
[361127213003,112.5]
[361127207005,99.5]
[361127203008,182]
[361127201010,139]
[361127104008,204.5]
[361127106008,163.5]
[361127102050,193]
[361127105008,126]
[361127113008,154]
[361127107008,123.5]
[361127103030,180.5]
[361127101050,192]
[361128204006,83]
[361128209006,151.5]
[361128210005,111]
[361128208006,144.5]
[361128206004,177]
[361128212005,122.5]
[361128202009,141]
[361128205004,90.5]
[361128211008,97.5]
[361128215001,201.5]
[361128213001,127.5]
[361128207002,103.5]
[361128203009,163.5]
[361128201020,125]
[361128104009,193.5]
[361128116010,181.5]
[361128106015,169.5]
[361128102044,190]
[361128105016,132]
[361128115002,183.5]
[361128113010,125]
[361128107014,124.5]
[361128103040,176]
[361128101044,190.5]
[360821204005,193]
[360821209002,153.5]
[360821210003,121.5]
[360821208003,133]
[360821206003,175.5]
[360821212002,133]
[360821202008,157]
[360821205007,137]
[360821211003,116.5]
[360821215003,167]
[360821213002,144]
[360821207003,141]
[360821203004,180]
[360821201007,151.5]
[360822204002,168.5]
[360822209003,143]
[360822208003,127]
[360822206002,170]
[360822212003,117.5]
[360822202004,82]
[360822205002,121]
[360822211002,127]
[360822215002,180.5]
[360822213002,144]
[360822207002,145.5]
[360822201003,163]
[360802204002,147.5]
[360802208001,77]
[360802212001,137]
[360802202001,59]
[360802205001,97.5]
[360802211001,98]
[360802215001,128]
[360802203001,168.5]
[360802201001,114]
[360802106002,157]
[360802102004,193.5]
[360802105004,121]
[360802115001,192]
[360802107002,154]
[360802103002,189.5]
[360802101005,190.5]
[360803204007,141]
[360803206003,181.5]
[360803202010,159.5]
[360803205005,124]
[360803215001,175]
[360803213001,128.5]
[360803207003,123]
[360803203010,165]
[360803201010,155]
[360826204005,162.5]
[360826206005,169.5]
[360826202008,140.5]
[360826205005,110]
[360826215004,154]
[360826207005,127]
[360826203008,177.5]
[360828204002,173]
[360828210003,136]
[360828212002,174]
[360828202004,133]
[360828205003,83]
[360828211003,89.5]
[360828207001,98.5]
[360828203002,150.5]
[360824204005,116.5]
[360824209003,0]
[360824208005,151]
[360824206002,181.5]
[360824212005,96.5]
[360824202005,121]
[360824205004,93]
[360824211004,115.5]
[360824207004,94.5]
[360824203003,177.5]
[360824201006,144]
[360825209002,181.5]
[360825206002,121.5]
[360825212002,97.5]
[360825202002,115.5]
[360825205003,119.5]
[360825211003,114]
[360825207002,123.5]
[360825203002,136.5]
[360825201002,133]
[360830210004,69]
[360830202002,131.5]
[360830205003,71.5]
[360830211003,129.5]
[360830203005,159]
[360830201003,144]
[361023204002,156]
[361023209002,123.5]
[361023210002,108.5]
[361023206002,138.5]
[361023212002,144]
[361023202006,145.5]
[361023205002,93.5]
[361023211004,89.5]
[361023207002,64.5]
[361023203003,173.5]
[361023201003,138.5]