Workbook

Sheet 小学组
A1: 小学组手工艺
A2: 序号 | B2: 学校 | C2: 学生姓名 | D2: 节目名称 | E2: 指导教师 | F2: 得分 | G2: 备注
A3: 1 | B3: 阜南县龙泉路玉泉小学 | C3: 王鸿乐 | D3: 《科教兴国》 | E3: 王雪枝 | F3: 274.85
A4: 2 | B4: 阜南县正宏学校 | C4: 张奇 | D4: 《龙行大运》 | E4: 刘玉侠 | F4: 272.56
A5: 3 | B5: 阜南县城关镇中心学校 | C5: 王小于 | D5: 《凤凰飞舞》 | E5: 高彦飞 | F5: 272.24
A6: 4 | B6: 阜南县城关镇中心学校 | C6: 张梓涵 | D6: 《齐天大圣》 | E6: 朱燕燕 | F6: 271.5
A7: 5 | B7: 阜南县王店孜乡中心学校 | C7: 张羽 | D7: 《纸上生花》 | E7: 张曼曼 | F7: 271.33
A8: 6 | B8: 阜南县第九小学 | C8: 孙锦言 | D8: 《路虽远 行则至》 | E8: 马利云 | F8: 269.43
A9: 7 | B9: 阜南县正宏学校 | C9: 于新宇 | D9: 《连年有余》 | E9: 刘玉侠 | F9: 267.85
A10: 8 | B10: 阜南县龙王乡中心学校 | C10: 刘欣钰 | D10: 《中国梦》 | E10: 冷冰洁 | F10: 264.52
A11: 9 | B11: 阜南县城关镇中心学校 | C11: 冯思雨 | D11: 《强国有我》 | E11: 冷林莉 | F11: 262.43
A12: 10 | B12: 阜南县方集镇中心学校 | C12: 马蕙琳 | D12: 《强国有我》 | E12: 梅媛媛 | F12: 262.31
A13: 11 | B13: 阜南县肥光小学 | C13: 杜雅馨 | D13: 《瓶花》 | E13: 韩甜甜 | F13: 262.25
A14: 12 | B14: 阜南县城关镇中心学校 | C14: 李雪纯 | D14: 《祝福祖国》 | E14: 冷林莉 | F14: 262.11
... A49: 47 | B49: 阜南县方集镇中心学校 | C49: 杨慕晴 | D49: 《最可爱的人》 | E49: 张良 | F49: 168.6
A50: 48 | B50: 阜南县王化镇中心学校 | C50: 张梦 | D50: 《中华民族魂》 | E50: 韩小雨 | F50: 246.68 | G50: 尺寸不符，不予设奖
A51: 49 | B51: 阜南县阜濛学校 | C51: 张雅彤 | D51: 《童年·故里》 | E51: 潘静怡 | F51: 245 | G51: 尺寸不符，不予设奖
A52: 50 | B52: 阜南县城关镇中心学校 | C52: 赵奕冉 | D52: 《中华龙》 | E52: 孙慧 | F52: 0 | G52: 未见作品
A53: 小学组绘画
A54: 序号 | B54: 学校 | C54: 学生姓名 | D54: 节目名称 | E54: 指导教师 | F54: 得分 | G54: 备注
A55: 1 | B55: 阜南县朱寨镇中心学校 | C55: 刘玉林 | D55: 《水墨戏曲·书画未来》 | E55: 李翔翔 | F55: 282.33
A56: 2 | B56: 阜南县朱寨镇中心学校 | C56: 朱梦芸 | D56: 《美人鱼》 | E56: 鹿亭亭 | F56: 282.19
A57: 3 | B57: 阜南县城关镇中心学校 | C57: 张萧雅 | D57: 《中国情》 | E57: 邵恒源 | F57: 280.95
A58: 4 | B58: 阜南县焦陂镇中心学校 | C58: 沈雨晴 | D58: 《尽开颜》 | E58: 何琳琳 | F58: 280.62
A59: 5 | B59: 阜南县经开区中心学校 | C59: 王纯纯 | D59: 《荷塘清趣》 | E59: 李雪 | F59: 280.12
A60: 6 | B60: 阜南县城关镇中心学校 | C60: 唐语嫣 | D60: 《科技引领时代》 | E60: 邵恒源 | F60: 278.23
A61: 7 | B61: 阜南县龙泉路玉泉小学 | C61: 吴怡霏 | D61: 《筑梦中华》 | E61: 刘菲菲 | F61: 278.1
A62: 8 | B62: 阜南县阜濛学校 | C62: 郭芷晗 | D62: 《清风荷韵》 | E62: 朱培培 | F62: 277.7
A63: 9 | B63: 阜南县公桥乡中心学校 | C63: 魏雅欣 | D63: 《少年逐梦 复兴有我》 | E63: 冯宇 | F63: 277.01
A64: 10 | B64: 阜南县经开区中心学校 | C64: 张晨曦 | D64: 《幸福人家》 | E64: 孙鑫鑫 | F64: 276.78
A65: 11 | B65: 阜南县中岗镇中心学校 | C65: 邱筱轩 | D65: 《龙腾盛世》 | E65: 戎雪婷 | F65: 275.7
A66: 12 | B66: 阜南县龙泉路玉泉小学 | C66: 陈靖茹 | D66: 《重峦叠嶂中的诵声》 | E66: 李娜娜 | F66: 275.5
... A164: 110 | B164: 阜南老观中心校 | C164: 薛雨晴 | D164: 《强国有我》 | E164: 乔珍丽 | F164: 241.56
A165: 111 | B165: 阜南县经开区中心学校 | C165: 王涵 | D165: 《蝶遇》 | E165: 余晖 | F165: 256.74 | G165: 不符要求，不予设奖
A166: 112 | B166: 阜南县王堰镇中心学校 | C166: 朱雨涵 | D166: 《传承非遗》 | E166: 李典典 | F166: 252.82 | G166: 尺寸不符，不予设奖
A167: 113 | B167: 阜南县王堰镇中心学校 | C167: 高荣荣 | D167: 《雅韵清风 瓷韵幽兰》 | E167: 吴诗莹 | F167: 237.98 | G167: 尺寸不符，不予设奖
A168: 小学组硬笔书法
A169: 序号 | B169: 学校 | C169: 学生姓名 | D169: 节目名称 | E169: 指导教师 | F169: 得分 | G169: 备注
A170: 1 | B170: 王堰镇中心学校 | C170: 王雅婷 | D170: 我们是新时代好少年 | E170: 丁淑艳 | F170: =SUM([1]小学组!H42:J42) -> 182.7
A171: 2 | B171: 王堰镇中心学校 | C171: 朱前至 | D171: 强国有我 | E171: 丁淑艳 | F171: =SUM([1]小学组!H43:J43) -> 181.1
A172: 3 | B172: 焦陂中心学校 | C172: 焦梓航 | D172: 凉州词 | E172: 付甜甜 | F172: =SUM([1]小学组!H44:J44) -> 180.3
A173: 4 | B173: 王堰镇中心学校 | C173: 王梦瑶 | D173: 新时代少年说 | E173: 丁淑艳 | F173: =SUM([1]小学组!H45:J45) -> 179.3
A174: 5 | B174: 王堰镇中心学校 | C174: 魏子琪 | D174: 少年中国说 | E174: 丁淑艳 | F174: =SUM([1]小学组!H46:J46) -> 179.2
A175: 6 | B175: 王堰镇中心学校 | C175: 闫梦缘 | D175: 目光所致皆为华夏 | E175: 丁淑艳 | F175: =SUM([1]小学组!H47:J47) -> 177.6
A176: 7 | B176: 龙王中心学校 | C176: 王欣然 | D176: 沁园春.雪 | E176: 张苗苗 | F176: =SUM([1]小学组!H48:J48) -> 177.4
A177: 8 | B177: 龙王中心学校 | C177: 张润哲 | D177: 少年中国说 | E177: 张苗苗 | F177: =SUM([1]小学组!H49:J49) -> 175.5
A178: 9 | B178: 王堰镇中心学校 | C178: 张晶晶 | D178: 国富民强 | E178: 丁淑艳 | F178: =SUM([1]小学组!H50:J50) -> 174.9
A179: 10 | B179: 龙王中心学校 | C179: 杨旭晨 | D179: 春江花月夜 | E179: 周琪 | F179: =SUM([1]小学组!H51:J51) -> 174
A180: 11 | B180: 王堰镇中心学校 | C180: 胡梓涵 | D180: 强国有我 | E180: 丁淑艳 | F180: =SUM([1]小学组!H52:J52) -> 171.1
A181: 12 | B181: 王堰镇中心学校 | C181: 朱雨泽 | D181: 强国有我 | E181: 丁淑艳 | F181: =SUM([1]小学组!H53:J53) -> 170.1
... A183: 14 | B183: 王堰镇中心学校 | C183: 廖如玉 | D183: 神州谣 | E183: 丁淑艳 | F183: =SUM([1]小学组!H55:J55) -> 167.3
A184: 小学组软笔书法
A185: 序号 | B185: 学校 | C185: 学生姓名 | D185: 节目名称 | E185: 指导教师 | F185: 得分 | G185: 备注
A186: 1 | B186: 阜南玉泉小学 | C186: 魏圣纲 | D186: 小石潭记 | E186: 杨智慧 | F186: 285.2
A187: 2 | B187: 阜南肥光小学 | C187: 黄宁熙 | D187: 动地对联 | E187: 刘玮玮 | F187: 272.4
A188: 3 | B188: 洪河桥中心学校 | C188: 叶子琪 | D188: 寻隐者不遇 | E188: 张莉君 | F188: 270.7
A189: 4 | B189: 焦陂中心学校 | C189: 张晨 | D189: 登鹳雀楼 | E189: 张金玲 | F189: 269.7
A190: 5 | B190: 阜南肥光小学 | C190: 苗文姸 | D190: 凉州词 | E190: 刘玮玮 | F190: 269.5
A191: 6 | B191: 洪河桥中心学校 | C191: 叶语露 | D191: 春夜洛城闻笛 | E191: 张莉君 | F191: 268.3
A192: 7 | B192: 阜南肥光小学 | C192: 周懿茹 | D192: 古诗两首 | E192: 刘玮玮 | F192: 266.3
A193: 8 | B193: 焦陂中心学校 | C193: 林玉林 | D193: 嫦娥 | E193: 张晶晶 | F193: 264.1
A194: 9 | B194: 焦陂中心学校 | C194: 杨梦梦 | D194: 格言警句 | E194: 谢利侠 | F194: 264
A195: 10 | B195: 焦陂中心学校 | C195: 张宇轩 | D195: 出塞二首 | E195: 孙鹏 | F195: 263
A196: 11 | B196: 张寨中心学校 | C196: 戴星辰 | D196: 唐诗一首 | E196: 阎岩 | F196: 262.3
A197: 12 | B197: 阜南九小 | C197: 席卓雅 | D197: 嫦娥 | E197: 吴华 | F197: 262.3
... A224: 39 | B224: 阜兴路玉泉小学 | C224: 李梦婷 | D224: 田园乐七首.其六 | E224: 余涛 | F224: 214
A225: 40 | B225: 老观中心学校 | C225: 廖仁雨 | D225: 盛世中华 | E225: 廖仁雨 | F225: 0 | G225: 教师作品，不予参评
A226: 41 | B226: 老观中心学校 | C226: 廖仁雨 | D226: 强国有我 | E226: 廖仁雨 | F226: 0 | G226: 教师作品，不予参评
A227: 42 | B227: 老观中心学校 | C227: 陈如中 | D227: 高歌奋进新时代 | E227: 陈如中 | F227: 0 | G227: 教师作品，不予参评
A228: 小学组篆刻
A229: 序号 | B229: 学校 | C229: 学生姓名 | D229: 节目名称 | E229: 指导教师 | F229: 得分 | G229: 备注
A230: 1 | B230: 地城中心学校 | C230: 王一凡 | D230: 知己 | E230: 陈莹莹 | F230: =SUM([2]小学组!H8:J8) -> 267.7 | G230: 作品设奖比例不够，不予设奖

Sheet 中学组
A1: 中学组手工艺
A2: 序号 | B2: 学校 | C2: 学生姓名 | D2: 节目名称 | E2: 指导教师 | F2: 得分 | G2: 备注
A3: 1 | B3: 阜南县第六初级中学 | C3: 赵雨帆 | D3: 国泰民安 硕果累累 | E3: 李良钰 | F3: 283.45
A4: 2 | B4: 阜南县经开区中心学校 | C4: 崔悦、肖新雯、刘春雨 | D4: 以舞献礼 致敬祖国——扎染组图 | E4: 刘洋 | F4: 274.05
A5: 3 | B5: 阜南县第三中学 | C5: 胡平平 | D5: 古镇一角 | E5: 朱媛媛 | F5: 277.71
A6: 4 | B6: 阜南县赵集镇中心学校 | C6: 王悦悦 | D6: 巨龙 | E6: 陈翠 | F6: 276.96
A7: 5 | B7: 阜南县第六初级中学 | C7: 庞俊熙 | D7: 红梅花儿开 朵朵放光彩 | E7: 李良钰 | F7: 265.66
A8: 6 | B8: 阜南县第三中学 | C8: 李晶晶 | D8: 中药与中国 | E8: 朱媛媛 | F8: 253.19
A9: 7 | B9: 阜南县科技艺术学校 | C9: 刘雯舒 于微微 | D9: 科技强国 | E9: 胡彩洋 | F9: 251.14
A10: 8 | B10: 阜南县焦陂镇中心学校 | C10: 马思雅 | D10: 放飞梦想 | E10: 朱婷婷 | F10: 250.68
A11: 9 | B11: 阜南县经开区中心学校 | C11: 安筱慧、王族 | D11: 探索未知 延续传奇 | E11: 刘洋 | F11: 250.27
A12: 10 | B12: 阜南县段郢乡中心学校 | C12: 王思琪、金雪 | D12: 我的小屋 | E12: 侯倩倩 | F12: 247.58
A13: 11 | B13: 阜南县苗集镇中心学校 | C13: 代思悦 | D13: 和谐-繁荣 | E13: 徐中艳 | F13: 247.45
A14: 12 | B14: 阜南县科技艺术学校 | C14: 余梦婷 穆薇慧 | D14: 民族团结 | E14: 宁宁 | F14: 244.53
... A29: 27 | B29: 阜南县经开区中心学校 | C29: 张诺 | D29: 皮影戏——光影下传承的华夏韵味 | E29: 刘洋 | F29: 229.15
A30: 28 | B30: 阜南县王堰镇中心学校 | C30: 马念念 | D30: 京剧剪纸 | E30: 吴诗莹 | F30: 226.79 | G30: 作品雷同，不予设奖
A31: 中学组绘画
A32: 序号 | B32: 学校 | C32: 学生姓名 | D32: 节目名称 | E32: 指导教师 | F32: 得分 | G32: 备注
A33: 1 | B33: 阜南县第一中学 | C33: 李玟 | D33: 我家乡的非遗之美 | E33: 张芷璇 | F33: 283.67
A34: 2 | B34: 阜南县玉泉中学 | C34: 白心雨 | D34: 绽放艺术风采——我心中的中国美 | E34: 李贺 | F34: 280.76
A35: 3 | B35: 阜南县第三中学 | C35: 刘玉锦 | D35: 欢喜 | E35: 白霜 | F35: 279.75
A36: 4 | B36: 阜南县实验中学 | C36: 刘皖婷 | D36: 鸟语花香 | E36: 朱前峰 | F36: 277.33
A37: 5 | B37: 阜南县第二中学 | C37: 杨慧茹 | D37: 强国梦我的梦 | E37: 王慧 | F37: 277.29
A38: 6 | B38: 阜南县科技艺术学校 | C38: 姜士梅 | D38: 国强少年 | E38: 李蒙蒙 | F38: 271.67
A39: 7 | B39: 黄岗镇中心学校 | C39: 杨彤彤 | D39: 荷塘雅趣 | E39: 郭智文 | F39: 271.63
A40: 8 | B40: 阜南县玉泉中学 | C40: 朱玺谕 | D40: 时和年丰 | E40: 时雅君 | F40: 278.07
A41: 9 | B41: 朱寨镇中心学校 | C41: 吴古玥 | D41: 防溺水从我做起 | E41: 李剑 | F41: 277.28
A42: 10 | B42: 阜南县第三中学 | C42: 代奥茹 | D42: 非遗——兔儿爷 | E42: 朱媛媛 | F42: 271.43
A43: 11 | B43: 新村镇中心学校 | C43: 孙悦 | D43: 绿色生活 | E43: 刘思源 | F43: 271.22
A44: 12 | B44: 阜南县农林科技学校 | C44: 常玉静 | D44: 时空人 | E44: 杨俊红 | F44: 271.2
... A112: 80 | B112: 阜南县王化镇中心学校 | C112: 李皖湘 | D112: 防校园霸凌 | E112: 马丽丽 | F112: 222.7
A113: 81 | B113: 地城镇中心学校 | C113: 赵玉婷、马亚慧 | D113: 非遗簪花围 | E113: 朱晨晨 | F113: 267.7 | G113: 作品装裱，不予设奖
A114: 82 | B114: 阜南县地城镇中心学校 | C114: 王家欣 | D114: 时光轻浅处 | E114: 安悦 | F114: 247.31 | G114: 作品装裱，不予设奖
A115: 83 | B115: 阜南县第一中学 | C115: 丁书宸 | D115: 国泰民安 | E115: 张芷璇 | F115: 244.66 | G115: 作品装裱，不予设奖
A116: 84 | B116: 阜南县王堰镇中心学校 | C116: 高荣荣 | D116: 雅蕴清风 | E116: 吴诗莹 | F116: 237.98 | G116: 尺寸不符，不予设奖
A117: 85 | B117: 阜南县王化镇中心学校 | C117: 宁冰冰 | D117: 网聚文明--点亮未来 | E117: 马丽丽 | F117: 220.8 | G117: 尺寸不符，不予设奖
A118: 86 | B118: 阜南县王化镇中心学校 | C118: 熊丽君 | D118: 文明读书：走进缤纷世界 | E118: 马丽丽 | F118: 220.76 | G118: 尺寸不符，不予设奖
A119: 87 | B119: 阜南县王化镇中心学校 | C119: 李闫 | D119: 世界读书日：常知经典，读书绽芳华 | E119: 马丽丽 | F119: 220.3 | G119: 尺寸不符，不予设奖
A120: 88 | B120: 阜南县焦陂镇中心学校 | C120: 宋俊欢 | D120: 林卧愁春尽开轩览物华 | E120: 薛影 | F120: 220.07 | G120: 尺寸不符，不予设奖
A121: 89 | B121: 阜南县老观乡中心学校 | C121: 薛雨晴 | D121: 强国有我 | E121: 乔玲丽 | F121: 0 | G121: 未见作品
A122: 90 | B122: 阜南县老观乡中心学校 | C122: 李佳有晴 | D122: 绿色环保 | E122: 乔玲丽 | F122: 0 | G122: 未见作品
A123: 中学组硬笔书法
A124: 序号 | B124: 学校 | C124: 学生姓名 | D124: 节目名称 | E124: 指导教师 | F124: 得分 | G124: 备注
A125: 1 | B125: 阜南一中 | C125: 冯雯宇 | D125: 《沁园春 长沙》 | E125: 张芷璇 | F125: =SUM([1]中学组!H25:J25) -> 181.9
A126: 2 | B126: 朱寨镇中心学校 | C126: 温欣妍 | D126: 《戒子书》 | E126: 姚倩倩 | F126: =SUM([1]中学组!H26:J26) -> 179.1
A127: 3 | B127: 朱寨镇中心学校 | C127: 田锦悦 | D127: 《湖心亭看雪》 | E127: 时元庆 | F127: =SUM([1]中学组!H27:J27) -> 178.1
A128: 4 | B128: 阜南科技艺术学校 | C128: 方悦 | D128: 《渭城曲》 | E128: 闫辉 | F128: =SUM([1]中学组!H28:J28) -> 175.9
A129: 5 | B129: 阜南一中 | C129: 张紫怡 | D129: 《存赤诚爱国心》 | E129: 张芷璇 | F129: =SUM([1]中学组!H29:J29) -> 175.5
A130: 6 | B130: 阜南科技艺术学校 | C130: 孙恬恬 | D130: 《少年中国说》节录 | E130: 闫辉 | F130: =SUM([1]中学组!H30:J30) -> 175.3
A131: 7 | B131: 阜南一中 | C131: 乔乐 | D131: 《强国有我》 | E131: 张芷璇 | F131: =SUM([1]中学组!H31:J31) -> 173.4
A132: 8 | B132: 阜南科技艺术学校 | C132: 孙湘湘 | D132: 《春江花月夜》 | E132: 闫辉 | F132: =SUM([1]中学组!H32:J32) -> 172.7
A133: 9 | B133: 阜南一中 | C133: 姜慧茹 | D133: 《百年征程》 | E133: 张芷璇 | F133: =SUM([1]中学组!H33:J33) -> 172
A134: 10 | B134: 朱寨镇中心学校 | C134: 李雨薇 | D134: 《大道之行也》 | E134: 姚倩倩 | F134: =SUM([1]中学组!H34:J34) -> 171.7
A135: 11 | B135: 阜南一中 | C135: 李玟 | D135: 《少年中国说》 | E135: 张芷璇 | F135: =SUM([1]中学组!H35:J35) -> 171.5
A136: 12 | B136: 阜南科技艺术学校 | C136: 张金金 | D136: 《烛之武退秦师》节选 | E136: 陈小龙 | F136: =SUM([1]中学组!H37:J37) -> 169.2
A137: 13 | B137: 朱寨镇中心学校 | C137: 朱雅汝 | D137: 《生于忧患死于安乐》 | E137: 姚倩倩 | F137: =SUM([1]中学组!H38:J38) -> 168.9
A138: 中学组软笔书法
A139: 序号 | B139: 学校 | C139: 学生姓名 | D139: 节目名称 | E139: 指导教师 | F139: 得分 | G139: 备注
A140: 1 | B140: 阜南三中 | C140: 耿茂林 | D140: 春晓 | E140: 朱媛媛 | F140: 280.8
A141: 2 | B141: 实验中学 | C141: 杜婉婷 | D141: 李白二首 | E141: 郭长琦 | F141: 276.7
A142: 3 | B142: 焦陂中心学校 | C142: 黄嫚丽 | D142: 芙蓉楼送辛渐 | E142: 薛影 | F142: 270.7
A143: 4 | B143: 地城中心学校 | C143: 陈思思 | D143: 少年中国说 | E143: 朱晨晨 | F143: 270.7
A144: 5 | B144: 张寨中心学校 | C144: 王宇 | D144: 劝学 | E144: 王新岩 | F144: 267.6
A145: 6 | B145: 实验中学 | C145: 熊森豪 | D145: 将进酒 | E145: 孙岩 | F145: 265.4
A146: 7 | B146: 地城中心学校 | C146: 刘诗懿 | D146: 桃花源记 | E146: 崔家保 | F146: 263.9
A147: 8 | B147: 张寨中心学校 | C147: 高文慧 | D147: 陋室铭 | E147: 王新岩 | F147: 263.2
A148: 9 | B148: 阜南三中 | C148: 刘玉锦 | D148: 书法 | E148: 白霜 | F148: 263
A149: 10 | B149: 阜南玉泉中学 | C149: 李遨 | D149: 论诗 | E149: 武强 | F149: 257.8
A150: 11 | B150: 阜南五初 | C150: 王承哲 | D150: 笔墨传心 | E150: 赫婉丽 | F150: 256.8
A151: 12 | B151: 阜南玉泉中学 | C151: 张晓男 | D151: 早发白帝城 | E151: 武强 | F151: 250.9
... A159: 20 | B159: 阜南科技艺术学校 | C159: 姜广亮 | D159: 《软笔·对联》 | E159: 闫辉 | F159: 230.2
A160: 21 | B160: 阜南科技艺术学校 | C160: 夏杉杉 | E160: 陈小龙 | F160: 0 | G160: 教师作品，不予设奖
A161: 22 | B161: 阜南科技艺术学校 | C161: 郑梦雪 | E161: 陈小龙 | F161: 0 | G161: 教师作品，不予设奖
A162: 中学组篆刻
A163: 序号 | B163: 学校 | C163: 学生姓名 | D163: 节目名称 | E163: 指导教师 | F163: 得分 | G163: 备注
A164: 1 | B164: 阜南一中 | C164: 吴欣悦 | D164: 坚持 | E164: 刘德卫 | F164: 268.9 | G164: 作品设奖比例不够，不予设奖

Sheet 摄影类
A1: 影视作品（含数字媒体艺术）成绩汇总表
A2: 序号 | B2: 学校 | C2: 姓名 | D2: 作品类型 | E2: 节目名称 | F2: 指导教师 (限1名) | G2: 得分 | H2: 备注
A3: 1 | B3: 阜南九小 | C3: 冷易诺 | D3: 摄影作品 | E3: 《午后》 | F3: 蔡晓倩 | G3: 90.35
A4: 2 | B4: 阜南三中 | C4: 刘玉锦 | D4: 摄影 | E4: 《中国美》 | F4: 白霜 | G4: 90.12
A5: 6 | B5: 阜南十一小 | C5: 王一涵、赵雨芯、刘学宇、李威豪、刘漫妮、张雨涵、陈依一、潘亦致 | D5: 摄影作品 | E5: 《正确使用网络，从我做起》 | F5: 张琳 | G5: 88.51
A6: 5 | B6: 城关镇中心学校 | C6: 赵精艳 | D6: 摄影作品 | E6: 《奔跑吧少年》 | F6: 高彦飞 | G6: 88.26
A7: 3 | B7: 阜南三中 | C7: 刘玉锦 | D7: 摄影 | E7: 《每个人的父亲》 | F7: 白霜 | G7: 87.64
A8: 4 | B8: 实验中学 | C8: 杨春桦 | D8: 视频 | E8: 《不做揉纸团的人》 | F8: 曹红艳 | G8: 87.2
A9: 7 | B9: 阜南三中 | C9: 席思雨 | D9: 摄影 | E9: 《小时候的理想》 | F9: 白霜 | G9: 87
