Workbook

Sheet Sheet1
A1: 校园文化艺术展演美育改革创新优秀成果成绩汇总表
A2: 序号 | B2: 学校 | C2: 姓名 | D2: 作品类型 | E2: 作品名称 | F2: 得分 | G2: 备注
A3: 1 | B3: 阜南县第一中学 | C3: 张芷璇 | D3: 教学案例 | E3: 《光色变奏》 | F3: =SUM([1]评分表!G3:J3) -> 374.05
A4: 2 | B4: 阜南县玉泉小学 | C4: 王伟伟 | D4: 教学案例 | E4: 《报灯名》 | F4: =SUM([1]评分表!G4:J4) -> 372.95
A5: 3 | B5: 阜南县经济开发区中心学校 | C5: 刘洋 | D5: 教学案例 | E5: 《方寸钤记--藏书印》 | F5: =SUM([1]评分表!G5:J5) -> 370.89
A6: 4 | B6: 阜南县玉泉小学 | C6: 杨智慧 | D6: 教学研究 | E6: 《基于核心素养小学美术教学中“非遗”课程的创新与实践》 | F6: =SUM([1]评分表!G6:J6) -> 364.86
A7: 5 | B7: 阜南县第一中学 | C7: 黄玉露 | D7: 教学案例 | E7: 《丝竹相和》 | F7: 363.17
A8: 6 | B8: 阜南县第四小学 | C8: 孙慧 | D8: 教学案例 | E8: 《非遗剪纸展魅力、五育并举促传承》 | F8: =SUM([1]评分表!G8:J8) -> 356.36
A9: 7 | B9: 阜南县第四小学 | C9: 陆晶晶 | D9: 教学研究 | E9: 《自制人体动态教具在美术课堂的教学实践》 | F9: =SUM([1]评分表!G9:J9) -> 355.18
A10: 8 | B10: 阜南县焦陂镇中心学校 | C10: 朱婷婷、薛影 | D10: 校园文化 | E10: 《剪纸》 | F10: =SUM([1]评分表!G10:J10) -> 353.89
A11: 9 | B11: 阜南县柳沟镇大徐小学 | C11: 李梦梦 | D11: 教学研究 | E11: 《抓、设、创、构--让小学音乐深度学习自然发生》 | F11: =SUM([1]评分表!G11:J11) -> 352.9
A12: 10 | B12: 阜南县柳沟镇大徐小学 | C12: 李梦梦、贾蕊 | D12: 教学案例 | E12: 《走进戏曲——画脸谱》 | F12: =SUM([1]评分表!G12:J12) -> 349.61
A13: 11 | B13: 阜南县公桥乡中心学校 | C13: 冯宇 | D13: 教学研究 | E13: 《戏出东方 绘出文化》 | F13: =SUM([1]评分表!G13:J13) -> 348.76
A14: 12 | B14: 阜南县第一中学 | C14: 王雅慧 | D14: 校园文化 | E14: 《向阳生长 心有花开》 | F14: =SUM([1]评分表!G14:J14) -> 348.22
A15: 13 | B15: 阜南县第四小学 | C15: 李少青 | D15: 教学研究 | E15: 《新课程标准视域下的社团电钢琴弱指训练教学活动》 | F15: =SUM([1]评分表!G15:J15) -> 348.15
A16: 14 | B16: 阜南县经济开发区第一小学 | C16: 孙玲艳 | D16: 教学案例 | E16: 《端午节》 | F16: =SUM([1]评分表!G16:J16) -> 347.5
A17: 15 | B17: 阜南县第九小学 | C17: 李倩倩 | D17: 校园文化 | E17: 《阜南九小校园文化建设案例》 | F17: 346.59
A18: 16 | B18: 阜南县第一中学 | C18: 马晓龙 | D18: 教学研究 | E18: 《关于新课标背景下高中生书法课程教学方法创新的探究》 | F18: =SUM([1]评分表!G18:J18) -> 343.81
A19: 17 | B19: 阜南县科技艺术学校 | C19: 胡彩洋 | D19: 教学研究 | E19: 《立德树人视角下中职美术与劳动教育的融合路径》 | F19: =SUM([1]评分表!G19:J19) -> 342.18
A20: 18 | B20: 阜南县许堂乡新集小学 | C20: 焦穹浩 | D20: 教学研究 | E20: 《心理健康教育寓于美术学科核心素养之中》 | F20: =SUM([1]评分表!G20:J20) -> 337.36
A21: 19 | B21: 阜南县实验中学 | C21: 王文倩 | D21: 教学案例 | E21: 《鼓乐铿锵》 | F21: =SUM([1]评分表!G21:J21) -> 334.94
A22: 20 | B22: 阜南县苗集镇中心学校 | C22: 藏迎迎 | D22: 教学研究 | E22: 《美中蕴心——中学美术教学中融入心理健康教育的实践研究》 | F22: =SUM([1]评分表!G22:J22) -> 328.68
A23: 21 | B23: 阜南县经济开发区第一小学 | C23: 张雨 | D23: 实践活动 | E23: 《陶艺手工坊》 | F23: =SUM([1]评分表!G23:J23) -> 326.87
A24: 22 | B24: 阜南县段郢乡马大小学 | C24: 周丹阳 | D24: 教学研究 | E24: 《素养导向下的“大单元”教学探究》 ——以小学美术水墨画为例 | F24: =SUM([1]评分表!G24:J24) -> 325.44
A25: 23 | B25: 阜南县第十一小学 | C25: 邢梅梅 | D25: 教学案例 | E25: 《勇敢的鄂伦春》 | F25: =SUM([1]评分表!G25:J25) -> 325.13
A26: 24 | B26: 阜南县第九小学 | C26: 马利云 | D26: 教学案例 | E26: 《线的表现力》 | F26: =SUM([1]评分表!G26:J26) -> 324.45
A27: 25 | B27: 阜南县第十一小学 | C27: 余晖 | D27: 教学研究 | E27: 《让美育自然发生：美术与自然融合的教学探索》 | F27: =SUM([1]评分表!G27:J27) -> 324.1
A28: 26 | B28: 阜南县龙泉路玉泉小学 | C28: 刘菲菲 | D28: 教学案例 | E28: 《小老虎》 | F28: =SUM([1]评分表!G28:J28) -> 310.67
A29: 27 | B29: 阜南县第十二小学 | C29: 时稳稳 | D29: 实践活动 | E29: 《美育改革创新优秀成果》 | F29: =SUM([1]评分表!G29:J29) -> 303.95
... A33: 31 | B33: 阜南县许堂乡中心学校 | C33: 李丽 | D33: 教学案例 | E33: 《设计纹样》 | F33: =SUM([1]评分表!G33:J33) -> 294.4
