Workbook

Sheet Sheet1
A1: 浏阳市2024年公开引进教育系统高层次人才 入围资格复审人员名单
A2: 报名序号 | B2: 姓名 | C2: 岗位 | D2: 备注
A3: 205652 | B3: 屈元兵 | C3: 高中地理
A4: 205667 | B4: 喻兴洁 | C4: 高中地理
A5: 205758 | B5: 邓慧玉 | C5: 高中地理
A6: 205760 | B6: 刘晶晶 | C6: 高中地理
A7: 205827 | B7: 刘乾慧 | C7: 高中地理
A8: =VLOOKUP(B8,[1]高中化学!$A$2:$B$27,2,0) -> 205742 | B8: 陈意平 | C8: 高中化学
A9: =VLOOKUP(B9,[1]高中化学!$A$2:$B$27,2,0) -> 205589 | B9: 向炳森 | C9: 高中化学
A10: =VLOOKUP(B10,[1]高中化学!$A$2:$B$27,2,0) -> 205601 | B10: 刘妍 | C10: 高中化学
A11: =VLOOKUP(B11,[1]高中化学!$A$2:$B$27,2,0) -> 205616 | B11: 徐陈欣雨 | C11: 高中化学
A12: =VLOOKUP(B12,[1]高中化学!$A$2:$B$27,2,0) -> 205634 | B12: 印芳林 | C12: 高中化学
A13: =VLOOKUP(B13,[1]高中化学!$A$2:$B$27,2,0) -> 205647 | B13: 李金玲 | C13: 高中化学
A14: =VLOOKUP(B14,[1]高中化学!$A$2:$B$27,2,0) -> 205702 | B14: 王芝茹 | C14: 高中化学
A15: =VLOOKUP(B15,[1]高中化学!$A$2:$B$27,2,0) -> 205728 | B15: 吴潇 | C15: 高中化学
A16: =VLOOKUP(B16,[1]高中化学!$A$2:$B$27,2,0) -> 205732 | B16: 吴敏 | C16: 高中化学
A17: =VLOOKUP(B17,[1]高中化学!$A$2:$B$27,2,0) -> 205748 | B17: 李冠中 | C17: 高中化学
A18: =VLOOKUP(B18,[1]高中化学!$A$2:$B$27,2,0) -> 205787 | B18: 巫晓婷 | C18: 高中化学
A19: =VLOOKUP(B19,[1]高中化学!$A$2:$B$27,2,0) -> 205819 | B19: 邓瑞 | C19: 高中化学
... A22: =VLOOKUP(B22,[1]高中化学!$A$2:$B$27,2,0) -> 205855 | B22: 李嘉欣 | C22: 高中化学
A23: 205588 | B23: 田滕滕 | C23: 高中生物
A24: 205591 | B24: 龙瑶 | C24: 高中生物
A25: 205637 | B25: 林钰洁 | C25: 高中生物
A26: 205650 | B26: 于梦婕 | C26: 高中生物
A27: 205653 | B27: 暨双辉 | C27: 高中生物
A28: 205656 | B28: 李宁晰 | C28: 高中生物
A29: 205659 | B29: 唐巧玉 | C29: 高中生物
A30: 205683 | B30: 李望清 | C30: 高中生物
A31: 205692 | B31: 陈粮 | C31: 高中生物
A32: 205703 | B32: 苏娜 | C32: 高中生物
A33: 205711 | B33: 邹雅 | C33: 高中生物
A34: 205751 | B34: 湛益 | C34: 高中生物
... A53: 205854 | B53: 余婷 | C53: 高中数学
A54: 205604 | B54: 沈菁菁 | C54: 高中物理
A55: 205618 | B55: 沈娅蓉 | C55: 高中物理
A56: 205687 | B56: 赖骄阳 | C56: 高中物理
A57: 205770 | B57: 孙晔 | C57: 高中物理
A58: 205857 | B58: 陈舞雨 | C58: 高中物理
A59: 205773 | B59: 刘茂林 | C59: 高中物理
A60: =VLOOKUP(B60,[1]高中英语!$A$2:$B$87,2,0) -> 205583 | B60: 吉溪 | C60: 高中英语
...

Sheet Sheet2

Sheet Sheet3
